{"text_format":"1","workbook":"xlsx","n_sheets":6,"sheets":["Road only","Rail only","Synchromodal lower bound method","Synchromodal optimal","artwork","Demand"],"not_rendered":{"charts":7,"images":0,"macros":1,"external_links":0,"defined_names":0,"comments":0,"pivot_tables":0},"unopened":[],"bounds":{"document_bytes":16777216,"sheet_cells":100000,"rows_first":2000,"rows_last":500,"rows_between":2000,"halvings":0,"cell_chars":16384,"cell_head_chars":4096},"cells_cut":0,"cells_raw":0,"read":"whole","date_system":"1900"}

{"sheet":"Road only","index":0,"n_rows":2001,"n_cols":16,"rows_kept":2001,"cut":false,"hidden":false,"merged":[]}
["Period","Start Inv","Arrival","Inv before demand","Demand","Inv after demand","Order (ROAD)"]
[1,15,0,{"$f":"B2+C2","v":15},{"$f":"RANDBETWEEN(1,6)+RANDBETWEEN(1,6)+RANDBETWEEN(1,6)","v":9},{"$f":"D2-E2","v":6},{"$f":"MAX($B$2-F2,0)","v":9},null,null,"Costs"]
[2,{"$f":"F2","v":6},{"$f":"G2","v":9},{"$f":"B3+C3","v":15},{"$f":"RANDBETWEEN(1,6)+RANDBETWEEN(1,6)+RANDBETWEEN(1,6)","v":13},{"$f":"D3-E3","v":2},{"$f":"MAX($B$2-F3,0)","v":13},null,null,"Unit inventory holding cost",null,null,136]
[3,{"$f":"F3","v":2},{"$f":"G3","v":13},15,10,5,10,null,null,"Unit inventory back order cost",null,null,{"$f":"M3*19","v":2584}]
[4,5,10,15,7,8,7]
[5,8,7,15,11,4,11,null,null,"Unit transport cost Road",null,null,400]
[6,4,11,15,12,3,12,null,null,"Unit transport cost Rail",null,null,350]
[7,3,12,15,8,7,8]
[8,7,8,15,7,8,7,null,null,"Avg Tsp Cost per period",null,null,{"$f":"SUM(G2:G2001)/2000*M6","v":4207.8}]
[9,8,7,15,15,0,15,null,null,"Avg Inv holding cst per period",null,null,{"$f":"SUMIF(F2:F2002,\">0\")/2000*M3","v":617.50799999999992}]
[10,0,15,15,16,-1,16,null,null,"Avg Inv backorder cst per period",null,null,{"$f":"SUMIF(F2:F2001,\"<0\")/2000*M4*(-1)","v":155.04}]
[11,-1,16,15,7,8,7]
[12,8,7,15,10,5,10]
[13,5,10,15,10,5,10,null,null,"Avg ttl cost per period",null,null,{"$f":"SUM(M9:M12)","v":4980.348}]
[14,5,10,15,9,6,9]
[15,6,9,15,8,7,8]
[16,7,8,15,14,1,14,null,null,"Emissions"]
[17,1,14,15,8,7,8,null,null,"Unit emission Road",null,null,0.72]
[18,7,8,15,9,6,9,null,null,"Unit emission Rail",null,null,0.2]
[19,6,9,15,11,4,11]
[20,4,11,15,16,-1,16,null,null,"Avg emission per period (road)",null,null,{"$f":"SUM(G2:G2001)*M18/2000","v":7.5740400000000001}]
[21,-1,16,15,12,3,12]
[22,3,12,15,12,3,12]
[23,3,12,15,16,-1,16,null,null,"Service level"]
[24,-1,16,15,10,5,10,null,null,"In-stock Probability at the DC",null,null,{"$f":"1-COUNTIF(F2:F2001,\"<0\")/2000","v":0.95899999999999996}]
[25,5,10,15,11,4,11]
[26,4,11,15,11,4,11]
[27,4,11,15,11,4,11,null,null,"Demand Histogram"]
[28,4,11,15,10,5,10,null,null,"Bin","Frequency","Cumulative %"]
[29,5,10,15,8,7,8,null,null,3,{"$f":"COUNTIF($E$2:$E$2001,J30)","v":9},{"$f":"K30/2000","v":4.4999999999999997E-3}]
[30,7,8,15,9,6,9,null,null,4,{"$f":"COUNTIF($E$2:$E$2001,J31)","v":32},{"$f":"K31/2000+L30","v":2.0500000000000001E-2}]
[31,6,9,15,6,9,6,null,null,5,{"$f":"COUNTIF($E$2:$E$2001,J32)","v":48},{"$f":"K32/2000+L31","v":4.4499999999999998E-2},null,null,null,{"$f":"STDEV(E2:E2001)","v":2.9352900561710977}]
[32,9,6,15,9,6,9,null,null,6,{"$f":"COUNTIF($E$2:$E$2001,J33)","v":91},0.09]
[33,6,9,15,13,2,13,null,null,7,129,0.1545]
[34,2,13,15,9,6,9,null,null,8,209,0.25900000000000001]
[35,6,9,15,7,8,7,null,null,9,235,0.3765]
[36,8,7,15,5,10,5,null,null,10,243,0.498]
[37,10,5,15,11,4,11,null,null,11,232,0.61399999999999999]
[38,4,11,15,11,4,11,null,null,12,227,0.72750000000000004]
[39,4,11,15,14,1,14,null,null,13,220,0.83750000000000002]
[40,1,14,15,5,10,5,null,null,14,153,0.91400000000000003]
[41,10,5,15,7,8,7,null,null,15,90,0.95900000000000007]
[42,8,7,15,11,4,11,null,null,16,53,0.98550000000000004]
[43,4,11,15,10,5,10,null,null,17,20,0.99550000000000005]
[44,5,10,15,3,12,3,null,null,18,{"$f":"COUNTIF($E$2:$E$2001,J45)","v":9},{"$f":"K45/2000+L44","v":1}]
[45,12,3,15,13,2,13]
[46,2,13,15,8,7,8]
[47,7,8,15,15,0,15]
[48,0,15,15,8,7,8]
[49,7,8,15,16,-1,16]
[50,-1,16,15,13,2,13]
[51,2,13,15,7,8,7]
[52,8,7,15,10,5,10]
[53,5,10,15,7,8,7]
[54,8,7,15,9,6,9]
[55,6,9,15,8,7,8]
[56,7,8,15,11,4,11]
[57,4,11,15,8,7,8]
[58,7,8,15,8,7,8]
[59,7,8,15,14,1,14]
[60,1,14,15,9,6,9]
[61,6,9,15,8,7,8]
[62,7,8,15,7,8,7]
[63,8,7,15,12,3,12]
[64,3,12,15,14,1,14]
[65,1,14,15,6,9,6]
[66,9,6,{"$f":"B67+C67","v":15},{"$f":"RANDBETWEEN(1,6)+RANDBETWEEN(1,6)+RANDBETWEEN(1,6)","v":6},{"$f":"D67-E67","v":9},{"$f":"MAX($B$2-F67,0)","v":6}]
[67,{"$f":"F67","v":9},{"$f":"G67","v":6},15,6,9,6]
[68,9,6,15,7,8,7]
[69,8,7,15,16,-1,16]
[70,-1,16,15,9,6,9]
[71,6,9,15,15,0,15]
[72,0,15,15,7,8,7]
[73,8,7,15,14,1,14]
[74,1,14,15,9,6,9]
[75,6,9,15,14,1,14]
[76,1,14,15,11,4,11]
[77,4,11,15,15,0,15]
[78,0,15,15,10,5,10]
[79,5,10,15,8,7,8]
[80,7,8,15,13,2,13]
[81,2,13,15,9,6,9]
[82,6,9,15,13,2,13]
[83,2,13,15,11,4,11]
[84,4,11,15,10,5,10]
[85,5,10,15,8,7,8]
[86,7,8,15,11,4,11]
[87,4,11,15,14,1,14]
[88,1,14,15,11,4,11]
[89,4,11,15,12,3,12]
[90,3,12,15,14,1,14]
[91,1,14,15,15,0,15]
[92,0,15,15,6,9,6]
[93,9,6,15,12,3,12]
[94,3,12,15,9,6,9]
[95,6,9,15,14,1,14]
[96,1,14,15,13,2,13]
[97,2,13,15,13,2,13]
[98,2,13,15,8,7,8]
[99,7,8,15,15,0,15]
[100,0,15,15,14,1,14]
[101,1,14,15,5,10,5]
[102,10,5,15,9,6,9]
[103,6,9,15,7,8,7]
[104,8,7,15,10,5,10]
[105,5,10,15,9,6,9]
[106,6,9,15,9,6,9]
[107,6,9,15,10,5,10]
[108,5,10,15,14,1,14]
[109,1,14,15,15,0,15]
[110,0,15,15,11,4,11]
[111,4,11,15,7,8,7]
[112,8,7,15,13,2,13]
[113,2,13,15,4,11,4]
[114,11,4,15,9,6,9]
[115,6,9,15,12,3,12]
[116,3,12,15,18,-3,18]
[117,-3,18,15,7,8,7]
[118,8,7,15,5,10,5]
[119,10,5,15,9,6,9]
[120,6,9,15,16,-1,16]
[121,-1,16,15,10,5,10]
[122,5,10,15,10,5,10]
[123,5,10,15,8,7,8]
[124,7,8,15,13,2,13]
[125,2,13,15,12,3,12]
[126,3,12,15,10,5,10]
[127,5,10,15,14,1,14]
[128,1,14,15,6,9,6]
[129,9,6,15,13,2,13]
[130,2,13,{"$f":"B131+C131","v":15},{"$f":"RANDBETWEEN(1,6)+RANDBETWEEN(1,6)+RANDBETWEEN(1,6)","v":9},{"$f":"D131-E131","v":6},{"$f":"MAX($B$2-F131,0)","v":9}]
[131,{"$f":"F131","v":6},{"$f":"G131","v":9},15,9,6,9]
[132,6,9,15,8,7,8]
[133,7,8,15,12,3,12]
[134,3,12,15,11,4,11]
[135,4,11,15,16,-1,16]
[136,-1,16,15,11,4,11]
[137,4,11,15,14,1,14]
[138,1,14,15,8,7,8]
[139,7,8,15,9,6,9]
[140,6,9,15,10,5,10]
[141,5,10,15,13,2,13]
[142,2,13,15,5,10,5]
[143,10,5,15,13,2,13]
[144,2,13,15,12,3,12]
[145,3,12,15,12,3,12]
[146,3,12,15,8,7,8]
[147,7,8,15,8,7,8]
[148,7,8,15,15,0,15]
[149,0,15,15,11,4,11]
[150,4,11,15,11,4,11]
[151,4,11,15,15,0,15]
[152,0,15,15,8,7,8]
[153,7,8,15,12,3,12]
[154,3,12,15,13,2,13]
[155,2,13,15,9,6,9]
[156,6,9,15,13,2,13]
[157,2,13,15,11,4,11]
[158,4,11,15,8,7,8]
[159,7,8,15,7,8,7]
[160,8,7,15,14,1,14]
[161,1,14,15,11,4,11]
[162,4,11,15,12,3,12]
[163,3,12,15,12,3,12]
[164,3,12,15,15,0,15]
[165,0,15,15,9,6,9]
[166,6,9,15,13,2,13]
[167,2,13,15,8,7,8]
[168,7,8,15,13,2,13]
[169,2,13,15,11,4,11]
[170,4,11,15,16,-1,16]
[171,-1,16,15,12,3,12]
[172,3,12,15,11,4,11]
[173,4,11,15,9,6,9]
[174,6,9,15,7,8,7]
[175,8,7,15,12,3,12]
[176,3,12,15,12,3,12]
[177,3,12,15,11,4,11]
[178,4,11,15,18,-3,18]
[179,-3,18,15,15,0,15]
[180,0,15,15,11,4,11]
[181,4,11,15,11,4,11]
[182,4,11,15,12,3,12]
[183,3,12,15,9,6,9]
[184,6,9,15,13,2,13]
[185,2,13,15,11,4,11]
[186,4,11,15,11,4,11]
[187,4,11,15,14,1,14]
[188,1,14,15,7,8,7]
[189,8,7,15,9,6,9]
[190,6,9,15,9,6,9]
[191,6,9,15,12,3,12]
[192,3,12,15,13,2,13]
[193,2,13,15,13,2,13]
[194,2,13,{"$f":"B195+C195","v":15},{"$f":"RANDBETWEEN(1,6)+RANDBETWEEN(1,6)+RANDBETWEEN(1,6)","v":8},{"$f":"D195-E195","v":7},{"$f":"MAX($B$2-F195,0)","v":8}]
[195,{"$f":"F195","v":7},{"$f":"G195","v":8},15,13,2,13]
[196,2,13,15,10,5,10]
[197,5,10,15,11,4,11]
[198,4,11,15,12,3,12]
[199,3,12,15,8,7,8]
[200,7,8,15,10,5,10]
[201,5,10,15,7,8,7]
[202,8,7,15,11,4,11]
[203,4,11,15,8,7,8]
[204,7,8,15,17,-2,17]
[205,-2,17,15,13,2,13]
[206,2,13,15,14,1,14]
[207,1,14,15,9,6,9]
[208,6,9,15,9,6,9]
[209,6,9,15,7,8,7]
[210,8,7,15,12,3,12]
[211,3,12,15,13,2,13]
[212,2,13,15,9,6,9]
[213,6,9,15,10,5,10]
[214,5,10,15,11,4,11]
[215,4,11,15,17,-2,17]
[216,-2,17,15,8,7,8]
[217,7,8,15,10,5,10]
[218,5,10,15,11,4,11]
[219,4,11,15,9,6,9]
[220,6,9,15,10,5,10]
[221,5,10,15,13,2,13]
[222,2,13,15,8,7,8]
[223,7,8,15,9,6,9]
[224,6,9,15,9,6,9]
[225,6,9,15,9,6,9]
[226,6,9,15,7,8,7]
[227,8,7,15,11,4,11]
[228,4,11,15,11,4,11]
[229,4,11,15,13,2,13]
[230,2,13,15,6,9,6]
[231,9,6,15,13,2,13]
[232,2,13,15,12,3,12]
[233,3,12,15,10,5,10]
[234,5,10,15,9,6,9]
[235,6,9,15,10,5,10]
[236,5,10,15,5,10,5]
[237,10,5,15,10,5,10]
[238,5,10,15,10,5,10]
[239,5,10,15,6,9,6]
[240,9,6,15,5,10,5]
[241,10,5,15,8,7,8]
[242,7,8,15,11,4,11]
[243,4,11,15,11,4,11]
[244,4,11,15,13,2,13]
[245,2,13,15,13,2,13]
[246,2,13,15,8,7,8]
[247,7,8,15,12,3,12]
[248,3,12,15,10,5,10]
[249,5,10,15,8,7,8]
[250,7,8,15,6,9,6]
[251,9,6,15,11,4,11]
[252,4,11,15,12,3,12]
[253,3,12,15,9,6,9]
[254,6,9,15,13,2,13]
[255,2,13,15,9,6,9]
[256,6,9,15,14,1,14]
[257,1,14,15,8,7,8]
[258,7,8,{"$f":"B259+C259","v":15},{"$f":"RANDBETWEEN(1,6)+RANDBETWEEN(1,6)+RANDBETWEEN(1,6)","v":3},{"$f":"D259-E259","v":12},{"$f":"MAX($B$2-F259,0)","v":3}]
[259,{"$f":"F259","v":12},{"$f":"G259","v":3},15,14,1,14]
[260,1,14,15,14,1,14]
[261,1,14,15,8,7,8]
[262,7,8,15,11,4,11]
[263,4,11,15,7,8,7]
[264,8,7,15,13,2,13]
[265,2,13,15,12,3,12]
[266,3,12,15,10,5,10]
[267,5,10,15,8,7,8]
[268,7,8,15,6,9,6]
[269,9,6,15,13,2,13]
[270,2,13,15,11,4,11]
[271,4,11,15,9,6,9]
[272,6,9,15,12,3,12]
[273,3,12,15,11,4,11]
[274,4,11,15,10,5,10]
[275,5,10,15,7,8,7]
[276,8,7,15,9,6,9]
[277,6,9,15,12,3,12]
[278,3,12,15,11,4,11]
[279,4,11,15,11,4,11]
[280,4,11,15,15,0,15]
[281,0,15,15,8,7,8]
[282,7,8,15,9,6,9]
[283,6,9,15,8,7,8]
[284,7,8,15,6,9,6]
[285,9,6,15,8,7,8]
[286,7,8,15,10,5,10]
[287,5,10,15,13,2,13]
[288,2,13,15,5,10,5]
[289,10,5,15,4,11,4]
[290,11,4,15,11,4,11]
[291,4,11,15,13,2,13]
[292,2,13,15,15,0,15]
[293,0,15,15,15,0,15]
[294,0,15,15,14,1,14]
[295,1,14,15,10,5,10]
[296,5,10,15,14,1,14]
[297,1,14,15,10,5,10]
[298,5,10,15,11,4,11]
[299,4,11,15,6,9,6]
[300,9,6,15,10,5,10]
[301,5,10,15,12,3,12]
[302,3,12,15,14,1,14]
[303,1,14,15,10,5,10]
[304,5,10,15,10,5,10]
[305,5,10,15,12,3,12]
[306,3,12,15,12,3,12]
[307,3,12,15,13,2,13]
[308,2,13,15,13,2,13]
[309,2,13,15,10,5,10]
[310,5,10,15,13,2,13]
[311,2,13,15,10,5,10]
[312,5,10,15,11,4,11]
[313,4,11,15,14,1,14]
[314,1,14,15,12,3,12]
[315,3,12,15,14,1,14]
[316,1,14,15,8,7,8]
[317,7,8,15,10,5,10]
[318,5,10,15,8,7,8]
[319,7,8,15,12,3,12]
[320,3,12,15,12,3,12]
[321,3,12,15,12,3,12]
[322,3,12,{"$f":"B323+C323","v":15},{"$f":"RANDBETWEEN(1,6)+RANDBETWEEN(1,6)+RANDBETWEEN(1,6)","v":14},{"$f":"D323-E323","v":1},{"$f":"MAX($B$2-F323,0)","v":14}]
[323,{"$f":"F323","v":1},{"$f":"G323","v":14},15,5,10,5]
[324,10,5,15,9,6,9]
[325,6,9,15,10,5,10]
[326,5,10,15,9,6,9]
[327,6,9,15,12,3,12]
[328,3,12,15,8,7,8]
[329,7,8,15,9,6,9]
[330,6,9,15,9,6,9]
[331,6,9,15,14,1,14]
[332,1,14,15,9,6,9]
[333,6,9,15,11,4,11]
[334,4,11,15,15,0,15]
[335,0,15,15,13,2,13]
[336,2,13,15,13,2,13]
[337,2,13,15,6,9,6]
[338,9,6,15,17,-2,17]
[339,-2,17,15,7,8,7]
[340,8,7,15,15,0,15]
[341,0,15,15,12,3,12]
[342,3,12,15,13,2,13]
[343,2,13,15,9,6,9]
[344,6,9,15,8,7,8]
[345,7,8,15,9,6,9]
[346,6,9,15,10,5,10]
[347,5,10,15,9,6,9]
[348,6,9,15,7,8,7]
[349,8,7,15,7,8,7]
[350,8,7,15,9,6,9]
[351,6,9,15,10,5,10]
[352,5,10,15,11,4,11]
[353,4,11,15,5,10,5]
[354,10,5,15,9,6,9]
[355,6,9,15,7,8,7]
[356,8,7,15,9,6,9]
[357,6,9,15,11,4,11]
[358,4,11,15,10,5,10]
[359,5,10,15,10,5,10]
[360,5,10,15,6,9,6]
[361,9,6,15,14,1,14]
[362,1,14,15,13,2,13]
[363,2,13,15,11,4,11]
[364,4,11,15,13,2,13]
[365,2,13,15,13,2,13]
[366,2,13,15,15,0,15]
[367,0,15,15,10,5,10]
[368,5,10,15,13,2,13]
[369,2,13,15,12,3,12]
[370,3,12,15,10,5,10]
[371,5,10,15,13,2,13]
[372,2,13,15,9,6,9]
[373,6,9,15,8,7,8]
[374,7,8,15,11,4,11]
[375,4,11,15,11,4,11]
[376,4,11,15,5,10,5]
[377,10,5,15,8,7,8]
[378,7,8,15,9,6,9]
[379,6,9,15,10,5,10]
[380,5,10,15,8,7,8]
[381,7,8,15,12,3,12]
[382,3,12,15,8,7,8]
[383,7,8,15,10,5,10]
[384,5,10,15,7,8,7]
[385,8,7,15,12,3,12]
[386,3,12,{"$f":"B387+C387","v":15},{"$f":"RANDBETWEEN(1,6)+RANDBETWEEN(1,6)+RANDBETWEEN(1,6)","v":10},{"$f":"D387-E387","v":5},{"$f":"MAX($B$2-F387,0)","v":10}]
[387,{"$f":"F387","v":5},{"$f":"G387","v":10},15,11,4,11]
[388,4,11,15,13,2,13]
[389,2,13,15,12,3,12]
[390,3,12,15,12,3,12]
[391,3,12,15,14,1,14]
[392,1,14,15,11,4,11]
[393,4,11,15,4,11,4]
[394,11,4,15,10,5,10]
[395,5,10,15,11,4,11]
[396,4,11,15,10,5,10]
[397,5,10,15,7,8,7]
[398,8,7,15,15,0,15]
[399,0,15,15,7,8,7]
[400,8,7,15,8,7,8]
[401,7,8,15,14,1,14]
[402,1,14,15,13,2,13]
[403,2,13,15,7,8,7]
[404,8,7,15,10,5,10]
[405,5,10,15,13,2,13]
[406,2,13,15,9,6,9]
[407,6,9,15,11,4,11]
[408,4,11,15,14,1,14]
[409,1,14,15,8,7,8]
[410,7,8,15,15,0,15]
[411,0,15,15,15,0,15]
[412,0,15,15,11,4,11]
[413,4,11,15,9,6,9]
[414,6,9,15,13,2,13]
[415,2,13,15,9,6,9]
[416,6,9,15,10,5,10]
[417,5,10,15,13,2,13]
[418,2,13,15,9,6,9]
[419,6,9,15,12,3,12]
[420,3,12,15,6,9,6]
[421,9,6,15,11,4,11]
[422,4,11,15,4,11,4]
[423,11,4,15,12,3,12]
[424,3,12,15,10,5,10]
[425,5,10,15,9,6,9]
[426,6,9,15,10,5,10]
[427,5,10,15,12,3,12]
[428,3,12,15,8,7,8]
[429,7,8,15,10,5,10]
[430,5,10,15,9,6,9]
[431,6,9,15,8,7,8]
[432,7,8,15,14,1,14]
[433,1,14,15,16,-1,16]
[434,-1,16,15,11,4,11]
[435,4,11,15,13,2,13]
[436,2,13,15,17,-2,17]
[437,-2,17,15,8,7,8]
[438,7,8,15,15,0,15]
[439,0,15,15,4,11,4]
[440,11,4,15,4,11,4]
[441,11,4,15,9,6,9]
[442,6,9,15,13,2,13]
[443,2,13,15,10,5,10]
[444,5,10,15,13,2,13]
[445,2,13,15,12,3,12]
[446,3,12,15,9,6,9]
[447,6,9,15,14,1,14]
[448,1,14,15,13,2,13]
[449,2,13,15,5,10,5]
[450,10,5,{"$f":"B451+C451","v":15},{"$f":"RANDBETWEEN(1,6)+RANDBETWEEN(1,6)+RANDBETWEEN(1,6)","v":8},{"$f":"D451-E451","v":7},{"$f":"MAX($B$2-F451,0)","v":8}]
[451,{"$f":"F451","v":7},{"$f":"G451","v":8},15,12,3,12]
[452,3,12,15,10,5,10]
[453,5,10,15,10,5,10]
[454,5,10,15,10,5,10]
[455,5,10,15,13,2,13]
[456,2,13,15,15,0,15]
[457,0,15,15,11,4,11]
[458,4,11,15,7,8,7]
[459,8,7,15,9,6,9]
[460,6,9,15,11,4,11]
[461,4,11,15,13,2,13]
[462,2,13,15,14,1,14]
[463,1,14,15,9,6,9]
[464,6,9,15,10,5,10]
[465,5,10,15,13,2,13]
[466,2,13,15,12,3,12]
[467,3,12,15,9,6,9]
[468,6,9,15,16,-1,16]
[469,-1,16,15,13,2,13]
[470,2,13,15,14,1,14]
[471,1,14,15,14,1,14]
[472,1,14,15,5,10,5]
[473,10,5,15,9,6,9]
[474,6,9,15,9,6,9]
[475,6,9,15,10,5,10]
[476,5,10,15,13,2,13]
[477,2,13,15,12,3,12]
[478,3,12,15,7,8,7]
[479,8,7,15,14,1,14]
[480,1,14,15,10,5,10]
[481,5,10,15,15,0,15]
[482,0,15,15,13,2,13]
[483,2,13,15,12,3,12]
[484,3,12,15,7,8,7]
[485,8,7,15,11,4,11]
[486,4,11,15,14,1,14]
[487,1,14,15,9,6,9]
[488,6,9,15,9,6,9]
[489,6,9,15,6,9,6]
[490,9,6,15,12,3,12]
[491,3,12,15,14,1,14]
[492,1,14,15,14,1,14]
[493,1,14,15,12,3,12]
[494,3,12,15,11,4,11]
[495,4,11,15,10,5,10]
[496,5,10,15,13,2,13]
[497,2,13,15,13,2,13]
[498,2,13,15,8,7,8]
[499,7,8,15,12,3,12]
[500,3,12,15,14,1,14]
[501,1,14,15,6,9,6]
[502,9,6,15,10,5,10]
[503,5,10,15,7,8,7]
[504,8,7,15,10,5,10]
[505,5,10,15,15,0,15]
[506,0,15,15,13,2,13]
[507,2,13,15,13,2,13]
[508,2,13,15,10,5,10]
[509,5,10,15,12,3,12]
[510,3,12,15,7,8,7]
[511,8,7,15,14,1,14]
[512,1,14,15,11,4,11]
[513,4,11,15,11,4,11]
[514,4,11,{"$f":"B515+C515","v":15},{"$f":"RANDBETWEEN(1,6)+RANDBETWEEN(1,6)+RANDBETWEEN(1,6)","v":9},{"$f":"D515-E515","v":6},{"$f":"MAX($B$2-F515,0)","v":9}]
[515,{"$f":"F515","v":6},{"$f":"G515","v":9},15,16,-1,16]
[516,-1,16,15,10,5,10]
[517,5,10,15,14,1,14]
[518,1,14,15,11,4,11]
[519,4,11,15,11,4,11]
[520,4,11,15,9,6,9]
[521,6,9,15,5,10,5]
[522,10,5,15,4,11,4]
[523,11,4,15,9,6,9]
[524,6,9,15,4,11,4]
[525,11,4,15,10,5,10]
[526,5,10,15,5,10,5]
[527,10,5,15,7,8,7]
[528,8,7,15,9,6,9]
[529,6,9,15,15,0,15]
[530,0,15,15,4,11,4]
[531,11,4,15,9,6,9]
[532,6,9,15,11,4,11]
[533,4,11,15,12,3,12]
[534,3,12,15,4,11,4]
[535,11,4,15,12,3,12]
[536,3,12,15,12,3,12]
[537,3,12,15,14,1,14]
[538,1,14,15,12,3,12]
[539,3,12,15,15,0,15]
[540,0,15,15,10,5,10]
[541,5,10,15,14,1,14]
[542,1,14,15,5,10,5]
[543,10,5,15,9,6,9]
[544,6,9,15,8,7,8]
[545,7,8,15,10,5,10]
[546,5,10,15,7,8,7]
[547,8,7,15,10,5,10]
[548,5,10,15,9,6,9]
[549,6,9,15,12,3,12]
[550,3,12,15,9,6,9]
[551,6,9,15,17,-2,17]
[552,-2,17,15,5,10,5]
[553,10,5,15,6,9,6]
[554,9,6,15,12,3,12]
[555,3,12,15,12,3,12]
[556,3,12,15,8,7,8]
[557,7,8,15,6,9,6]
[558,9,6,15,12,3,12]
[559,3,12,15,12,3,12]
[560,3,12,15,14,1,14]
[561,1,14,15,9,6,9]
[562,6,9,15,8,7,8]
[563,7,8,15,11,4,11]
[564,4,11,15,13,2,13]
[565,2,13,15,6,9,6]
[566,9,6,15,6,9,6]
[567,9,6,15,11,4,11]
[568,4,11,15,9,6,9]
[569,6,9,15,17,-2,17]
[570,-2,17,15,12,3,12]
[571,3,12,15,14,1,14]
[572,1,14,15,9,6,9]
[573,6,9,15,7,8,7]
[574,8,7,15,6,9,6]
[575,9,6,15,12,3,12]
[576,3,12,15,10,5,10]
[577,5,10,15,10,5,10]
[578,5,10,{"$f":"B579+C579","v":15},{"$f":"RANDBETWEEN(1,6)+RANDBETWEEN(1,6)+RANDBETWEEN(1,6)","v":11},{"$f":"D579-E579","v":4},{"$f":"MAX($B$2-F579,0)","v":11}]
[579,{"$f":"F579","v":4},{"$f":"G579","v":11},15,10,5,10]
[580,5,10,15,12,3,12]
[581,3,12,15,8,7,8]
[582,7,8,15,18,-3,18]
[583,-3,18,15,5,10,5]
[584,10,5,15,13,2,13]
[585,2,13,15,11,4,11]
[586,4,11,15,10,5,10]
[587,5,10,15,16,-1,16]
[588,-1,16,15,12,3,12]
[589,3,12,15,14,1,14]
[590,1,14,15,16,-1,16]
[591,-1,16,15,7,8,7]
[592,8,7,15,8,7,8]
[593,7,8,15,9,6,9]
[594,6,9,15,14,1,14]
[595,1,14,15,14,1,14]
[596,1,14,15,7,8,7]
[597,8,7,15,13,2,13]
[598,2,13,15,10,5,10]
[599,5,10,15,9,6,9]
[600,6,9,15,13,2,13]
[601,2,13,15,10,5,10]
[602,5,10,15,10,5,10]
[603,5,10,15,8,7,8]
[604,7,8,15,13,2,13]
[605,2,13,15,11,4,11]
[606,4,11,15,11,4,11]
[607,4,11,15,8,7,8]
[608,7,8,15,13,2,13]
[609,2,13,15,7,8,7]
[610,8,7,15,11,4,11]
[611,4,11,15,12,3,12]
[612,3,12,15,12,3,12]
[613,3,12,15,14,1,14]
[614,1,14,15,11,4,11]
[615,4,11,15,10,5,10]
[616,5,10,15,15,0,15]
[617,0,15,15,12,3,12]
[618,3,12,15,6,9,6]
[619,9,6,15,15,0,15]
[620,0,15,15,10,5,10]
[621,5,10,15,10,5,10]
[622,5,10,15,12,3,12]
[623,3,12,15,6,9,6]
[624,9,6,15,13,2,13]
[625,2,13,15,13,2,13]
[626,2,13,15,8,7,8]
[627,7,8,15,12,3,12]
[628,3,12,15,16,-1,16]
[629,-1,16,15,8,7,8]
[630,7,8,15,14,1,14]
[631,1,14,15,9,6,9]
[632,6,9,15,10,5,10]
[633,5,10,15,10,5,10]
[634,5,10,15,13,2,13]
[635,2,13,15,9,6,9]
[636,6,9,15,9,6,9]
[637,6,9,15,12,3,12]
[638,3,12,15,11,4,11]
[639,4,11,15,16,-1,16]
[640,-1,16,15,7,8,7]
[641,8,7,15,12,3,12]
[642,3,12,{"$f":"B643+C643","v":15},{"$f":"RANDBETWEEN(1,6)+RANDBETWEEN(1,6)+RANDBETWEEN(1,6)","v":9},{"$f":"D643-E643","v":6},{"$f":"MAX($B$2-F643,0)","v":9}]
[643,{"$f":"F643","v":6},{"$f":"G643","v":9},15,10,5,10]
[644,5,10,15,10,5,10]
[645,5,10,15,11,4,11]
[646,4,11,15,12,3,12]
[647,3,12,15,12,3,12]
[648,3,12,15,9,6,9]
[649,6,9,15,6,9,6]
[650,9,6,15,13,2,13]
[651,2,13,15,9,6,9]
[652,6,9,15,12,3,12]
[653,3,12,15,8,7,8]
[654,7,8,15,11,4,11]
[655,4,11,15,14,1,14]
[656,1,14,15,13,2,13]
[657,2,13,15,11,4,11]
[658,4,11,15,5,10,5]
[659,10,5,15,10,5,10]
[660,5,10,15,6,9,6]
[661,9,6,15,13,2,13]
[662,2,13,15,13,2,13]
[663,2,13,15,13,2,13]
[664,2,13,15,14,1,14]
[665,1,14,15,7,8,7]
[666,8,7,15,15,0,15]
[667,0,15,15,10,5,10]
[668,5,10,15,13,2,13]
[669,2,13,15,10,5,10]
[670,5,10,15,15,0,15]
[671,0,15,15,14,1,14]
[672,1,14,15,13,2,13]
[673,2,13,15,13,2,13]
[674,2,13,15,7,8,7]
[675,8,7,15,9,6,9]
[676,6,9,15,7,8,7]
[677,8,7,15,13,2,13]
[678,2,13,15,11,4,11]
[679,4,11,15,11,4,11]
[680,4,11,15,15,0,15]
[681,0,15,15,8,7,8]
[682,7,8,15,13,2,13]
[683,2,13,15,3,12,3]
[684,12,3,15,6,9,6]
[685,9,6,15,14,1,14]
[686,1,14,15,12,3,12]
[687,3,12,15,8,7,8]
[688,7,8,15,8,7,8]
[689,7,8,15,9,6,9]
[690,6,9,15,6,9,6]
[691,9,6,15,11,4,11]
[692,4,11,15,15,0,15]
[693,0,15,15,8,7,8]
[694,7,8,15,13,2,13]
[695,2,13,15,10,5,10]
[696,5,10,15,7,8,7]
[697,8,7,15,12,3,12]
[698,3,12,15,13,2,13]
[699,2,13,15,13,2,13]
[700,2,13,15,13,2,13]
[701,2,13,15,9,6,9]
[702,6,9,15,8,7,8]
[703,7,8,15,13,2,13]
[704,2,13,15,7,8,7]
[705,8,7,15,10,5,10]
[706,5,10,{"$f":"B707+C707","v":15},{"$f":"RANDBETWEEN(1,6)+RANDBETWEEN(1,6)+RANDBETWEEN(1,6)","v":5},{"$f":"D707-E707","v":10},{"$f":"MAX($B$2-F707,0)","v":5}]
[707,{"$f":"F707","v":10},{"$f":"G707","v":5},15,10,5,10]
[708,5,10,15,13,2,13]
[709,2,13,15,14,1,14]
[710,1,14,15,9,6,9]
[711,6,9,15,12,3,12]
[712,3,12,15,11,4,11]
[713,4,11,15,13,2,13]
[714,2,13,15,6,9,6]
[715,9,6,15,11,4,11]
[716,4,11,15,9,6,9]
[717,6,9,15,11,4,11]
[718,4,11,15,8,7,8]
[719,7,8,15,9,6,9]
[720,6,9,15,11,4,11]
[721,4,11,15,12,3,12]
[722,3,12,15,18,-3,18]
[723,-3,18,15,5,10,5]
[724,10,5,15,9,6,9]
[725,6,9,15,7,8,7]
[726,8,7,15,14,1,14]
[727,1,14,15,10,5,10]
[728,5,10,15,13,2,13]
[729,2,13,15,16,-1,16]
[730,-1,16,15,9,6,9]
[731,6,9,15,13,2,13]
[732,2,13,15,7,8,7]
[733,8,7,15,10,5,10]
[734,5,10,15,16,-1,16]
[735,-1,16,15,8,7,8]
[736,7,8,15,11,4,11]
[737,4,11,15,17,-2,17]
[738,-2,17,15,12,3,12]
[739,3,12,15,13,2,13]
[740,2,13,15,13,2,13]
[741,2,13,15,11,4,11]
[742,4,11,15,4,11,4]
[743,11,4,15,13,2,13]
[744,2,13,15,12,3,12]
[745,3,12,15,13,2,13]
[746,2,13,15,9,6,9]
[747,6,9,15,10,5,10]
[748,5,10,15,11,4,11]
[749,4,11,15,14,1,14]
[750,1,14,15,7,8,7]
[751,8,7,15,8,7,8]
[752,7,8,15,13,2,13]
[753,2,13,15,11,4,11]
[754,4,11,15,8,7,8]
[755,7,8,15,8,7,8]
[756,7,8,15,12,3,12]
[757,3,12,15,11,4,11]
[758,4,11,15,11,4,11]
[759,4,11,15,8,7,8]
[760,7,8,15,4,11,4]
[761,11,4,15,16,-1,16]
[762,-1,16,15,8,7,8]
[763,7,8,15,11,4,11]
[764,4,11,15,13,2,13]
[765,2,13,15,11,4,11]
[766,4,11,15,15,0,15]
[767,0,15,15,15,0,15]
[768,0,15,15,10,5,10]
[769,5,10,15,12,3,12]
[770,3,12,{"$f":"B771+C771","v":15},{"$f":"RANDBETWEEN(1,6)+RANDBETWEEN(1,6)+RANDBETWEEN(1,6)","v":11},{"$f":"D771-E771","v":4},{"$f":"MAX($B$2-F771,0)","v":11}]
[771,{"$f":"F771","v":4},{"$f":"G771","v":11},15,13,2,13]
[772,2,13,15,10,5,10]
[773,5,10,15,7,8,7]
[774,8,7,15,14,1,14]
[775,1,14,15,8,7,8]
[776,7,8,15,11,4,11]
[777,4,11,15,18,-3,18]
[778,-3,18,15,9,6,9]
[779,6,9,15,7,8,7]
[780,8,7,15,9,6,9]
[781,6,9,15,10,5,10]
[782,5,10,15,10,5,10]
[783,5,10,15,8,7,8]
[784,7,8,15,9,6,9]
[785,6,9,15,9,6,9]
[786,6,9,15,14,1,14]
[787,1,14,15,9,6,9]
[788,6,9,15,5,10,5]
[789,10,5,15,7,8,7]
[790,8,7,15,16,-1,16]
[791,-1,16,15,10,5,10]
[792,5,10,15,12,3,12]
[793,3,12,15,12,3,12]
[794,3,12,15,13,2,13]
[795,2,13,15,15,0,15]
[796,0,15,15,13,2,13]
[797,2,13,15,10,5,10]
[798,5,10,15,12,3,12]
[799,3,12,15,12,3,12]
[800,3,12,15,14,1,14]
[801,1,14,15,15,0,15]
[802,0,15,15,9,6,9]
[803,6,9,15,9,6,9]
[804,6,9,15,11,4,11]
[805,4,11,15,12,3,12]
[806,3,12,15,11,4,11]
[807,4,11,15,7,8,7]
[808,8,7,15,11,4,11]
[809,4,11,15,15,0,15]
[810,0,15,15,8,7,8]
[811,7,8,15,14,1,14]
[812,1,14,15,9,6,9]
[813,6,9,15,12,3,12]
[814,3,12,15,9,6,9]
[815,6,9,15,11,4,11]
[816,4,11,15,7,8,7]
[817,8,7,15,9,6,9]
[818,6,9,15,10,5,10]
[819,5,10,15,10,5,10]
[820,5,10,15,12,3,12]
[821,3,12,15,10,5,10]
[822,5,10,15,8,7,8]
[823,7,8,15,9,6,9]
[824,6,9,15,13,2,13]
[825,2,13,15,13,2,13]
[826,2,13,15,9,6,9]
[827,6,9,15,11,4,11]
[828,4,11,15,7,8,7]
[829,8,7,15,16,-1,16]
[830,-1,16,15,10,5,10]
[831,5,10,15,12,3,12]
[832,3,12,15,14,1,14]
[833,1,14,15,12,3,12]
[834,3,12,{"$f":"B835+C835","v":15},{"$f":"RANDBETWEEN(1,6)+RANDBETWEEN(1,6)+RANDBETWEEN(1,6)","v":11},{"$f":"D835-E835","v":4},{"$f":"MAX($B$2-F835,0)","v":11}]
[835,{"$f":"F835","v":4},{"$f":"G835","v":11},15,11,4,11]
[836,4,11,15,15,0,15]
[837,0,15,15,13,2,13]
[838,2,13,15,8,7,8]
[839,7,8,15,10,5,10]
[840,5,10,15,6,9,6]
[841,9,6,15,10,5,10]
[842,5,10,15,12,3,12]
[843,3,12,15,15,0,15]
[844,0,15,15,12,3,12]
[845,3,12,15,4,11,4]
[846,11,4,15,9,6,9]
[847,6,9,15,11,4,11]
[848,4,11,15,10,5,10]
[849,5,10,15,15,0,15]
[850,0,15,15,11,4,11]
[851,4,11,15,8,7,8]
[852,7,8,15,9,6,9]
[853,6,9,15,17,-2,17]
[854,-2,17,15,7,8,7]
[855,8,7,15,11,4,11]
[856,4,11,15,10,5,10]
[857,5,10,15,13,2,13]
[858,2,13,15,10,5,10]
[859,5,10,15,16,-1,16]
[860,-1,16,15,14,1,14]
[861,1,14,15,10,5,10]
[862,5,10,15,14,1,14]
[863,1,14,15,12,3,12]
[864,3,12,15,14,1,14]
[865,1,14,15,7,8,7]
[866,8,7,15,13,2,13]
[867,2,13,15,14,1,14]
[868,1,14,15,10,5,10]
[869,5,10,15,9,6,9]
[870,6,9,15,4,11,4]
[871,11,4,15,10,5,10]
[872,5,10,15,13,2,13]
[873,2,13,15,14,1,14]
[874,1,14,15,9,6,9]
[875,6,9,15,10,5,10]
[876,5,10,15,15,0,15]
[877,0,15,15,12,3,12]
[878,3,12,15,8,7,8]
[879,7,8,15,7,8,7]
[880,8,7,15,11,4,11]
[881,4,11,15,11,4,11]
[882,4,11,15,8,7,8]
[883,7,8,15,17,-2,17]
[884,-2,17,15,15,0,15]
[885,0,15,15,14,1,14]
[886,1,14,15,10,5,10]
[887,5,10,15,12,3,12]
[888,3,12,15,12,3,12]
[889,3,12,15,13,2,13]
[890,2,13,15,11,4,11]
[891,4,11,15,6,9,6]
[892,9,6,15,9,6,9]
[893,6,9,15,10,5,10]
[894,5,10,15,7,8,7]
[895,8,7,15,3,12,3]
[896,12,3,15,12,3,12]
[897,3,12,15,12,3,12]
[898,3,12,{"$f":"B899+C899","v":15},{"$f":"RANDBETWEEN(1,6)+RANDBETWEEN(1,6)+RANDBETWEEN(1,6)","v":9},{"$f":"D899-E899","v":6},{"$f":"MAX($B$2-F899,0)","v":9}]
[899,{"$f":"F899","v":6},{"$f":"G899","v":9},15,11,4,11]
[900,4,11,15,9,6,9]
[901,6,9,15,10,5,10]
[902,5,10,15,8,7,8]
[903,7,8,15,6,9,6]
[904,9,6,15,7,8,7]
[905,8,7,15,14,1,14]
[906,1,14,15,10,5,10]
[907,5,10,15,8,7,8]
[908,7,8,15,11,4,11]
[909,4,11,15,17,-2,17]
[910,-2,17,15,14,1,14]
[911,1,14,15,10,5,10]
[912,5,10,15,4,11,4]
[913,11,4,15,8,7,8]
[914,7,8,15,15,0,15]
[915,0,15,15,11,4,11]
[916,4,11,15,11,4,11]
[917,4,11,15,4,11,4]
[918,11,4,15,9,6,9]
[919,6,9,15,7,8,7]
[920,8,7,15,10,5,10]
[921,5,10,15,15,0,15]
[922,0,15,15,10,5,10]
[923,5,10,15,8,7,8]
[924,7,8,15,7,8,7]
[925,8,7,15,8,7,8]
[926,7,8,15,13,2,13]
[927,2,13,15,9,6,9]
[928,6,9,15,8,7,8]
[929,7,8,15,11,4,11]
[930,4,11,15,15,0,15]
[931,0,15,15,9,6,9]
[932,6,9,15,13,2,13]
[933,2,13,15,8,7,8]
[934,7,8,15,11,4,11]
[935,4,11,15,16,-1,16]
[936,-1,16,15,10,5,10]
[937,5,10,15,8,7,8]
[938,7,8,15,6,9,6]
[939,9,6,15,10,5,10]
[940,5,10,15,7,8,7]
[941,8,7,15,12,3,12]
[942,3,12,15,9,6,9]
[943,6,9,15,7,8,7]
[944,8,7,15,8,7,8]
[945,7,8,15,9,6,9]
[946,6,9,15,14,1,14]
[947,1,14,15,10,5,10]
[948,5,10,15,13,2,13]
[949,2,13,15,10,5,10]
[950,5,10,15,7,8,7]
[951,8,7,15,7,8,7]
[952,8,7,15,10,5,10]
[953,5,10,15,6,9,6]
[954,9,6,15,7,8,7]
[955,8,7,15,8,7,8]
[956,7,8,15,8,7,8]
[957,7,8,15,10,5,10]
[958,5,10,15,13,2,13]
[959,2,13,15,6,9,6]
[960,9,6,15,14,1,14]
[961,1,14,15,7,8,7]
[962,8,7,{"$f":"B963+C963","v":15},{"$f":"RANDBETWEEN(1,6)+RANDBETWEEN(1,6)+RANDBETWEEN(1,6)","v":14},{"$f":"D963-E963","v":1},{"$f":"MAX($B$2-F963,0)","v":14}]
[963,{"$f":"F963","v":1},{"$f":"G963","v":14},15,14,1,14]
[964,1,14,15,4,11,4]
[965,11,4,15,15,0,15]
[966,0,15,15,7,8,7]
[967,8,7,15,9,6,9]
[968,6,9,15,16,-1,16]
[969,-1,16,15,8,7,8]
[970,7,8,15,14,1,14]
[971,1,14,15,11,4,11]
[972,4,11,15,14,1,14]
[973,1,14,15,16,-1,16]
[974,-1,16,15,9,6,9]
[975,6,9,15,17,-2,17]
[976,-2,17,15,12,3,12]
[977,3,12,15,12,3,12]
[978,3,12,15,15,0,15]
[979,0,15,15,9,6,9]
[980,6,9,15,9,6,9]
[981,6,9,15,9,6,9]
[982,6,9,15,8,7,8]
[983,7,8,15,4,11,4]
[984,11,4,15,10,5,10]
[985,5,10,15,7,8,7]
[986,8,7,15,13,2,13]
[987,2,13,15,14,1,14]
[988,1,14,15,13,2,13]
[989,2,13,15,13,2,13]
[990,2,13,15,10,5,10]
[991,5,10,15,16,-1,16]
[992,-1,16,15,10,5,10]
[993,5,10,15,10,5,10]
[994,5,10,15,3,12,3]
[995,12,3,15,13,2,13]
[996,2,13,15,11,4,11]
[997,4,11,15,11,4,11]
[998,4,11,15,9,6,9]
[999,6,9,15,9,6,9]
[1000,6,9,15,10,5,10]
[1001,5,10,15,14,1,14]
[1002,1,14,15,11,4,11]
[1003,4,11,15,9,6,9]
[1004,6,9,15,10,5,10]
[1005,5,10,15,10,5,10]
[1006,5,10,15,9,6,9]
[1007,6,9,15,9,6,9]
[1008,6,9,15,7,8,7]
[1009,8,7,15,10,5,10]
[1010,5,10,15,8,7,8]
[1011,7,8,15,7,8,7]
[1012,8,7,15,11,4,11]
[1013,4,11,15,11,4,11]
[1014,4,11,15,13,2,13]
[1015,2,13,15,9,6,9]
[1016,6,9,15,7,8,7]
[1017,8,7,15,9,6,9]
[1018,6,9,15,10,5,10]
[1019,5,10,15,8,7,8]
[1020,7,8,15,14,1,14]
[1021,1,14,15,14,1,14]
[1022,1,14,15,11,4,11]
[1023,4,11,15,8,7,8]
[1024,7,8,15,7,8,7]
[1025,8,7,15,11,4,11]
[1026,4,11,{"$f":"B1027+C1027","v":15},{"$f":"RANDBETWEEN(1,6)+RANDBETWEEN(1,6)+RANDBETWEEN(1,6)","v":12},{"$f":"D1027-E1027","v":3},{"$f":"MAX($B$2-F1027,0)","v":12}]
[1027,{"$f":"F1027","v":3},12,15,12,3,12]
[1028,3,12,15,10,5,10]
[1029,5,10,15,10,5,10]
[1030,5,10,15,10,5,10]
[1031,5,10,15,17,-2,17]
[1032,-2,17,15,11,4,11]
[1033,4,11,15,3,12,3]
[1034,12,3,15,12,3,12]
[1035,3,12,15,9,6,9]
[1036,6,9,15,13,2,13]
[1037,2,13,15,6,9,6]
[1038,9,6,15,6,9,6]
[1039,9,6,15,10,5,10]
[1040,5,10,15,14,1,14]
[1041,1,14,15,17,-2,17]
[1042,-2,17,15,12,3,12]
[1043,3,12,15,11,4,11]
[1044,4,11,15,7,8,7]
[1045,8,7,15,10,5,10]
[1046,5,10,15,13,2,13]
[1047,2,13,15,14,1,14]
[1048,1,14,15,14,1,14]
[1049,1,14,15,10,5,10]
[1050,5,10,15,8,7,8]
[1051,7,8,15,12,3,12]
[1052,3,12,15,10,5,10]
[1053,5,10,15,8,7,8]
[1054,7,8,15,11,4,11]
[1055,4,11,15,8,7,8]
[1056,7,8,15,12,3,12]
[1057,3,12,15,8,7,8]
[1058,7,8,15,11,4,11]
[1059,4,11,15,11,4,11]
[1060,4,11,15,11,4,11]
[1061,4,11,15,15,0,15]
[1062,0,15,15,8,7,8]
[1063,7,8,15,12,3,12]
[1064,3,12,15,10,5,10]
[1065,5,10,15,7,8,7]
[1066,8,7,15,9,6,9]
[1067,6,9,15,9,6,9]
[1068,6,9,15,10,5,10]
[1069,5,10,15,5,10,5]
[1070,10,5,15,10,5,10]
[1071,5,10,15,10,5,10]
[1072,5,10,15,6,9,6]
[1073,9,6,15,12,3,12]
[1074,3,12,15,8,7,8]
[1075,7,8,15,6,9,6]
[1076,9,6,15,8,7,8]
[1077,7,8,15,6,9,6]
[1078,9,6,15,12,3,12]
[1079,3,12,15,9,6,9]
[1080,6,9,15,13,2,13]
[1081,2,13,15,6,9,6]
[1082,9,6,15,12,3,12]
[1083,3,12,15,8,7,8]
[1084,7,8,15,14,1,14]
[1085,1,14,15,13,2,13]
[1086,2,13,15,7,8,7]
[1087,8,7,15,13,2,13]
[1088,2,13,15,7,8,7]
[1089,8,7,15,13,2,13]
[1090,2,13,{"$f":"B1091+C1091","v":15},{"$f":"RANDBETWEEN(1,6)+RANDBETWEEN(1,6)+RANDBETWEEN(1,6)","v":8},{"$f":"D1091-E1091","v":7},{"$f":"MAX($B$2-F1091,0)","v":8}]
[1091,{"$f":"F1091","v":7},8,15,6,9,6]
[1092,9,6,15,13,2,13]
[1093,2,13,15,13,2,13]
[1094,2,13,15,12,3,12]
[1095,3,12,15,8,7,8]
[1096,7,8,15,13,2,13]
[1097,2,13,15,7,8,7]
[1098,8,7,15,7,8,7]
[1099,8,7,15,16,-1,16]
[1100,-1,16,15,11,4,11]
[1101,4,11,15,5,10,5]
[1102,10,5,15,12,3,12]
[1103,3,12,15,12,3,12]
[1104,3,12,15,12,3,12]
[1105,3,12,15,12,3,12]
[1106,3,12,15,12,3,12]
[1107,3,12,15,8,7,8]
[1108,7,8,15,13,2,13]
[1109,2,13,15,14,1,14]
[1110,1,14,15,9,6,9]
[1111,6,9,15,10,5,10]
[1112,5,10,15,13,2,13]
[1113,2,13,15,12,3,12]
[1114,3,12,15,9,6,9]
[1115,6,9,15,16,-1,16]
[1116,-1,16,15,11,4,11]
[1117,4,11,15,9,6,9]
[1118,6,9,15,11,4,11]
[1119,4,11,15,14,1,14]
[1120,1,14,15,13,2,13]
[1121,2,13,15,15,0,15]
[1122,0,15,15,8,7,8]
[1123,7,8,15,11,4,11]
[1124,4,11,15,8,7,8]
[1125,7,8,15,15,0,15]
[1126,0,15,15,15,0,15]
[1127,0,15,15,12,3,12]
[1128,3,12,15,8,7,8]
[1129,7,8,15,12,3,12]
[1130,3,12,15,5,10,5]
[1131,10,5,15,14,1,14]
[1132,1,14,15,7,8,7]
[1133,8,7,15,10,5,10]
[1134,5,10,15,4,11,4]
[1135,11,4,15,9,6,9]
[1136,6,9,15,15,0,15]
[1137,0,15,15,8,7,8]
[1138,7,8,15,8,7,8]
[1139,7,8,15,16,-1,16]
[1140,-1,16,15,8,7,8]
[1141,7,8,15,10,5,10]
[1142,5,10,15,12,3,12]
[1143,3,12,15,10,5,10]
[1144,5,10,15,8,7,8]
[1145,7,8,15,15,0,15]
[1146,0,15,15,11,4,11]
[1147,4,11,15,14,1,14]
[1148,1,14,15,18,-3,18]
[1149,-3,18,15,11,4,11]
[1150,4,11,15,10,5,10]
[1151,5,10,15,9,6,9]
[1152,6,9,15,11,4,11]
[1153,4,11,15,9,6,9]
[1154,6,9,{"$f":"B1155+C1155","v":15},{"$f":"RANDBETWEEN(1,6)+RANDBETWEEN(1,6)+RANDBETWEEN(1,6)","v":9},{"$f":"D1155-E1155","v":6},{"$f":"MAX($B$2-F1155,0)","v":9}]
[1155,{"$f":"F1155","v":6},9,15,14,1,14]
[1156,1,14,15,8,7,8]
[1157,7,8,15,12,3,12]
[1158,3,12,15,10,5,10]
[1159,5,10,15,7,8,7]
[1160,8,7,15,11,4,11]
[1161,4,11,15,12,3,12]
[1162,3,12,15,9,6,9]
[1163,6,9,15,11,4,11]
[1164,4,11,15,9,6,9]
[1165,6,9,15,16,-1,16]
[1166,-1,16,15,12,3,12]
[1167,3,12,15,13,2,13]
[1168,2,13,15,5,10,5]
[1169,10,5,15,14,1,14]
[1170,1,14,15,14,1,14]
[1171,1,14,15,12,3,12]
[1172,3,12,15,15,0,15]
[1173,0,15,15,10,5,10]
[1174,5,10,15,13,2,13]
[1175,2,13,15,15,0,15]
[1176,0,15,15,4,11,4]
[1177,11,4,15,13,2,13]
[1178,2,13,15,10,5,10]
[1179,5,10,15,14,1,14]
[1180,1,14,15,5,10,5]
[1181,10,5,15,13,2,13]
[1182,2,13,15,14,1,14]
[1183,1,14,15,9,6,9]
[1184,6,9,15,13,2,13]
[1185,2,13,15,10,5,10]
[1186,5,10,15,12,3,12]
[1187,3,12,15,15,0,15]
[1188,0,15,15,10,5,10]
[1189,5,10,15,11,4,11]
[1190,4,11,15,11,4,11]
[1191,4,11,15,8,7,8]
[1192,7,8,15,16,-1,16]
[1193,-1,16,15,8,7,8]
[1194,7,8,15,5,10,5]
[1195,10,5,15,10,5,10]
[1196,5,10,15,13,2,13]
[1197,2,13,15,11,4,11]
[1198,4,11,15,16,-1,16]
[1199,-1,16,15,14,1,14]
[1200,1,14,15,9,6,9]
[1201,6,9,15,13,2,13]
[1202,2,13,15,8,7,8]
[1203,7,8,15,11,4,11]
[1204,4,11,15,10,5,10]
[1205,5,10,15,13,2,13]
[1206,2,13,15,12,3,12]
[1207,3,12,15,7,8,7]
[1208,8,7,15,11,4,11]
[1209,4,11,15,8,7,8]
[1210,7,8,15,8,7,8]
[1211,7,8,15,8,7,8]
[1212,7,8,15,12,3,12]
[1213,3,12,15,12,3,12]
[1214,3,12,15,9,6,9]
[1215,6,9,15,5,10,5]
[1216,10,5,15,12,3,12]
[1217,3,12,15,8,7,8]
[1218,7,8,{"$f":"B1219+C1219","v":15},{"$f":"RANDBETWEEN(1,6)+RANDBETWEEN(1,6)+RANDBETWEEN(1,6)","v":12},{"$f":"D1219-E1219","v":3},{"$f":"MAX($B$2-F1219,0)","v":12}]
[1219,{"$f":"F1219","v":3},12,15,8,7,8]
[1220,7,8,15,10,5,10]
[1221,5,10,15,6,9,6]
[1222,9,6,15,11,4,11]
[1223,4,11,15,8,7,8]
[1224,7,8,15,10,5,10]
[1225,5,10,15,18,-3,18]
[1226,-3,18,15,16,-1,16]
[1227,-1,16,15,13,2,13]
[1228,2,13,15,10,5,10]
[1229,5,10,15,12,3,12]
[1230,3,12,15,15,0,15]
[1231,0,15,15,11,4,11]
[1232,4,11,15,8,7,8]
[1233,7,8,15,13,2,13]
[1234,2,13,15,17,-2,17]
[1235,-2,17,15,11,4,11]
[1236,4,11,15,12,3,12]
[1237,3,12,15,11,4,11]
[1238,4,11,15,9,6,9]
[1239,6,9,15,12,3,12]
[1240,3,12,15,9,6,9]
[1241,6,9,15,4,11,4]
[1242,11,4,15,11,4,11]
[1243,4,11,15,14,1,14]
[1244,1,14,15,13,2,13]
[1245,2,13,15,9,6,9]
[1246,6,9,15,16,-1,16]
[1247,-1,16,15,12,3,12]
[1248,3,12,15,11,4,11]
[1249,4,11,15,9,6,9]
[1250,6,9,15,9,6,9]
[1251,6,9,15,9,6,9]
[1252,6,9,15,10,5,10]
[1253,5,10,15,13,2,13]
[1254,2,13,15,9,6,9]
[1255,6,9,15,8,7,8]
[1256,7,8,15,6,9,6]
[1257,9,6,15,12,3,12]
[1258,3,12,15,7,8,7]
[1259,8,7,15,10,5,10]
[1260,5,10,15,9,6,9]
[1261,6,9,15,4,11,4]
[1262,11,4,15,4,11,4]
[1263,11,4,15,10,5,10]
[1264,5,10,15,13,2,13]
[1265,2,13,15,12,3,12]
[1266,3,12,15,7,8,7]
[1267,8,7,15,11,4,11]
[1268,4,11,15,12,3,12]
[1269,3,12,15,13,2,13]
[1270,2,13,15,9,6,9]
[1271,6,9,15,8,7,8]
[1272,7,8,15,12,3,12]
[1273,3,12,15,12,3,12]
[1274,3,12,15,12,3,12]
[1275,3,12,15,6,9,6]
[1276,9,6,15,14,1,14]
[1277,1,14,15,12,3,12]
[1278,3,12,15,10,5,10]
[1279,5,10,15,14,1,14]
[1280,1,14,15,13,2,13]
[1281,2,13,15,6,9,6]
[1282,9,6,{"$f":"B1283+C1283","v":15},{"$f":"RANDBETWEEN(1,6)+RANDBETWEEN(1,6)+RANDBETWEEN(1,6)","v":12},{"$f":"D1283-E1283","v":3},{"$f":"MAX($B$2-F1283,0)","v":12}]
[1283,{"$f":"F1283","v":3},12,15,7,8,7]
[1284,8,7,15,6,9,6]
[1285,9,6,15,10,5,10]
[1286,5,10,15,13,2,13]
[1287,2,13,15,14,1,14]
[1288,1,14,15,15,0,15]
[1289,0,15,15,10,5,10]
[1290,5,10,15,11,4,11]
[1291,4,11,15,11,4,11]
[1292,4,11,15,15,0,15]
[1293,0,15,15,13,2,13]
[1294,2,13,15,13,2,13]
[1295,2,13,15,12,3,12]
[1296,3,12,15,8,7,8]
[1297,7,8,15,14,1,14]
[1298,1,14,15,8,7,8]
[1299,7,8,15,8,7,8]
[1300,7,8,15,13,2,13]
[1301,2,13,15,9,6,9]
[1302,6,9,15,10,5,10]
[1303,5,10,15,10,5,10]
[1304,5,10,15,13,2,13]
[1305,2,13,15,6,9,6]
[1306,9,6,15,14,1,14]
[1307,1,14,15,11,4,11]
[1308,4,11,15,10,5,10]
[1309,5,10,15,12,3,12]
[1310,3,12,15,9,6,9]
[1311,6,9,15,16,-1,16]
[1312,-1,16,15,9,6,9]
[1313,6,9,15,12,3,12]
[1314,3,12,15,10,5,10]
[1315,5,10,15,8,7,8]
[1316,7,8,15,9,6,9]
[1317,6,9,15,10,5,10]
[1318,5,10,15,13,2,13]
[1319,2,13,15,12,3,12]
[1320,3,12,15,10,5,10]
[1321,5,10,15,13,2,13]
[1322,2,13,15,8,7,8]
[1323,7,8,15,11,4,11]
[1324,4,11,15,11,4,11]
[1325,4,11,15,13,2,13]
[1326,2,13,15,7,8,7]
[1327,8,7,15,8,7,8]
[1328,7,8,15,7,8,7]
[1329,8,7,15,13,2,13]
[1330,2,13,15,12,3,12]
[1331,3,12,15,13,2,13]
[1332,2,13,15,9,6,9]
[1333,6,9,15,11,4,11]
[1334,4,11,15,13,2,13]
[1335,2,13,15,7,8,7]
[1336,8,7,15,14,1,14]
[1337,1,14,15,6,9,6]
[1338,9,6,15,9,6,9]
[1339,6,9,15,13,2,13]
[1340,2,13,15,12,3,12]
[1341,3,12,15,8,7,8]
[1342,7,8,15,13,2,13]
[1343,2,13,15,12,3,12]
[1344,3,12,15,9,6,9]
[1345,6,9,15,12,3,12]
[1346,3,12,{"$f":"B1347+C1347","v":15},{"$f":"RANDBETWEEN(1,6)+RANDBETWEEN(1,6)+RANDBETWEEN(1,6)","v":10},{"$f":"D1347-E1347","v":5},{"$f":"MAX($B$2-F1347,0)","v":10}]
[1347,{"$f":"F1347","v":5},10,15,10,5,10]
[1348,5,10,15,12,3,12]
[1349,3,12,15,7,8,7]
[1350,8,7,15,13,2,13]
[1351,2,13,15,14,1,14]
[1352,1,14,15,8,7,8]
[1353,7,8,15,9,6,9]
[1354,6,9,15,8,7,8]
[1355,7,8,15,9,6,9]
[1356,6,9,15,15,0,15]
[1357,0,15,15,12,3,12]
[1358,3,12,15,13,2,13]
[1359,2,13,15,9,6,9]
[1360,6,9,15,10,5,10]
[1361,5,10,15,11,4,11]
[1362,4,11,15,12,3,12]
[1363,3,12,15,11,4,11]
[1364,4,11,15,6,9,6]
[1365,9,6,15,10,5,10]
[1366,5,10,15,8,7,8]
[1367,7,8,15,10,5,10]
[1368,5,10,15,10,5,10]
[1369,5,10,15,9,6,9]
[1370,6,9,15,11,4,11]
[1371,4,11,15,11,4,11]
[1372,4,11,15,7,8,7]
[1373,8,7,15,11,4,11]
[1374,4,11,15,16,-1,16]
[1375,-1,16,15,12,3,12]
[1376,3,12,15,4,11,4]
[1377,11,4,15,13,2,13]
[1378,2,13,15,5,10,5]
[1379,10,5,15,16,-1,16]
[1380,-1,16,15,8,7,8]
[1381,7,8,15,12,3,12]
[1382,3,12,15,9,6,9]
[1383,6,9,15,8,7,8]
[1384,7,8,15,3,12,3]
[1385,12,3,15,12,3,12]
[1386,3,12,15,12,3,12]
[1387,3,12,15,9,6,9]
[1388,6,9,15,9,6,9]
[1389,6,9,15,11,4,11]
[1390,4,11,15,6,9,6]
[1391,9,6,15,9,6,9]
[1392,6,9,15,7,8,7]
[1393,8,7,15,12,3,12]
[1394,3,12,15,13,2,13]
[1395,2,13,15,11,4,11]
[1396,4,11,15,12,3,12]
[1397,3,12,15,10,5,10]
[1398,5,10,15,13,2,13]
[1399,2,13,15,9,6,9]
[1400,6,9,15,8,7,8]
[1401,7,8,15,13,2,13]
[1402,2,13,15,15,0,15]
[1403,0,15,15,13,2,13]
[1404,2,13,15,6,9,6]
[1405,9,6,15,11,4,11]
[1406,4,11,15,8,7,8]
[1407,7,8,15,8,7,8]
[1408,7,8,15,7,8,7]
[1409,8,7,15,9,6,9]
[1410,6,9,{"$f":"B1411+C1411","v":15},{"$f":"RANDBETWEEN(1,6)+RANDBETWEEN(1,6)+RANDBETWEEN(1,6)","v":12},{"$f":"D1411-E1411","v":3},{"$f":"MAX($B$2-F1411,0)","v":12}]
[1411,{"$f":"F1411","v":3},12,15,8,7,8]
[1412,7,8,15,11,4,11]
[1413,4,11,15,14,1,14]
[1414,1,14,15,9,6,9]
[1415,6,9,15,12,3,12]
[1416,3,12,15,9,6,9]
[1417,6,9,15,3,12,3]
[1418,12,3,15,7,8,7]
[1419,8,7,15,9,6,9]
[1420,6,9,15,12,3,12]
[1421,3,12,15,13,2,13]
[1422,2,13,15,8,7,8]
[1423,7,8,15,11,4,11]
[1424,4,11,15,14,1,14]
[1425,1,14,15,15,0,15]
[1426,0,15,15,11,4,11]
[1427,4,11,15,7,8,7]
[1428,8,7,15,12,3,12]
[1429,3,12,15,11,4,11]
[1430,4,11,15,14,1,14]
[1431,1,14,15,9,6,9]
[1432,6,9,15,8,7,8]
[1433,7,8,15,14,1,14]
[1434,1,14,15,15,0,15]
[1435,0,15,15,13,2,13]
[1436,2,13,15,13,2,13]
[1437,2,13,15,10,5,10]
[1438,5,10,15,14,1,14]
[1439,1,14,15,9,6,9]
[1440,6,9,15,8,7,8]
[1441,7,8,15,6,9,6]
[1442,9,6,15,17,-2,17]
[1443,-2,17,15,7,8,7]
[1444,8,7,15,8,7,8]
[1445,7,8,15,17,-2,17]
[1446,-2,17,15,10,5,10]
[1447,5,10,15,12,3,12]
[1448,3,12,15,14,1,14]
[1449,1,14,15,13,2,13]
[1450,2,13,15,11,4,11]
[1451,4,11,15,10,5,10]
[1452,5,10,15,14,1,14]
[1453,1,14,15,16,-1,16]
[1454,-1,16,15,8,7,8]
[1455,7,8,15,10,5,10]
[1456,5,10,15,11,4,11]
[1457,4,11,15,12,3,12]
[1458,3,12,15,7,8,7]
[1459,8,7,15,14,1,14]
[1460,1,14,15,10,5,10]
[1461,5,10,15,8,7,8]
[1462,7,8,15,6,9,6]
[1463,9,6,15,6,9,6]
[1464,9,6,15,10,5,10]
[1465,5,10,15,8,7,8]
[1466,7,8,15,8,7,8]
[1467,7,8,15,10,5,10]
[1468,5,10,15,14,1,14]
[1469,1,14,15,10,5,10]
[1470,5,10,15,12,3,12]
[1471,3,12,15,12,3,12]
[1472,3,12,15,8,7,8]
[1473,7,8,15,10,5,10]
[1474,5,10,{"$f":"B1475+C1475","v":15},{"$f":"RANDBETWEEN(1,6)+RANDBETWEEN(1,6)+RANDBETWEEN(1,6)","v":10},{"$f":"D1475-E1475","v":5},{"$f":"MAX($B$2-F1475,0)","v":10}]
[1475,{"$f":"F1475","v":5},10,15,7,8,7]
[1476,8,7,15,16,-1,16]
[1477,-1,16,15,11,4,11]
[1478,4,11,15,11,4,11]
[1479,4,11,15,11,4,11]
[1480,4,11,15,10,5,10]
[1481,5,10,15,10,5,10]
[1482,5,10,15,4,11,4]
[1483,11,4,15,8,7,8]
[1484,7,8,15,10,5,10]
[1485,5,10,15,9,6,9]
[1486,6,9,15,8,7,8]
[1487,7,8,15,15,0,15]
[1488,0,15,15,12,3,12]
[1489,3,12,15,15,0,15]
[1490,0,15,15,8,7,8]
[1491,7,8,15,9,6,9]
[1492,6,9,15,10,5,10]
[1493,5,10,15,13,2,13]
[1494,2,13,15,9,6,9]
[1495,6,9,15,6,9,6]
[1496,9,6,15,8,7,8]
[1497,7,8,15,10,5,10]
[1498,5,10,15,8,7,8]
[1499,7,8,15,6,9,6]
[1500,9,6,15,11,4,11]
[1501,4,11,15,14,1,14]
[1502,1,14,15,13,2,13]
[1503,2,13,15,9,6,9]
[1504,6,9,15,8,7,8]
[1505,7,8,15,8,7,8]
[1506,7,8,15,14,1,14]
[1507,1,14,15,8,7,8]
[1508,7,8,15,6,9,6]
[1509,9,6,15,6,9,6]
[1510,9,6,15,12,3,12]
[1511,3,12,15,15,0,15]
[1512,0,15,15,12,3,12]
[1513,3,12,15,11,4,11]
[1514,4,11,15,15,0,15]
[1515,0,15,15,7,8,7]
[1516,8,7,15,11,4,11]
[1517,4,11,15,8,7,8]
[1518,7,8,15,8,7,8]
[1519,7,8,15,11,4,11]
[1520,4,11,15,8,7,8]
[1521,7,8,15,4,11,4]
[1522,11,4,15,10,5,10]
[1523,5,10,15,15,0,15]
[1524,0,15,15,16,-1,16]
[1525,-1,16,15,10,5,10]
[1526,5,10,15,8,7,8]
[1527,7,8,15,12,3,12]
[1528,3,12,15,8,7,8]
[1529,7,8,15,14,1,14]
[1530,1,14,15,6,9,6]
[1531,9,6,15,13,2,13]
[1532,2,13,15,12,3,12]
[1533,3,12,15,16,-1,16]
[1534,-1,16,15,13,2,13]
[1535,2,13,15,9,6,9]
[1536,6,9,15,12,3,12]
[1537,3,12,15,12,3,12]
[1538,3,12,{"$f":"B1539+C1539","v":15},{"$f":"RANDBETWEEN(1,6)+RANDBETWEEN(1,6)+RANDBETWEEN(1,6)","v":11},{"$f":"D1539-E1539","v":4},{"$f":"MAX($B$2-F1539,0)","v":11}]
[1539,{"$f":"F1539","v":4},11,15,6,9,6]
[1540,9,6,15,11,4,11]
[1541,4,11,15,11,4,11]
[1542,4,11,15,3,12,3]
[1543,12,3,15,9,6,9]
[1544,6,9,15,14,1,14]
[1545,1,14,15,15,0,15]
[1546,0,15,15,14,1,14]
[1547,1,14,15,13,2,13]
[1548,2,13,15,12,3,12]
[1549,3,12,15,14,1,14]
[1550,1,14,15,5,10,5]
[1551,10,5,15,15,0,15]
[1552,0,15,15,12,3,12]
[1553,3,12,15,10,5,10]
[1554,5,10,15,10,5,10]
[1555,5,10,15,9,6,9]
[1556,6,9,15,14,1,14]
[1557,1,14,15,11,4,11]
[1558,4,11,15,8,7,8]
[1559,7,8,15,14,1,14]
[1560,1,14,15,11,4,11]
[1561,4,11,15,7,8,7]
[1562,8,7,15,10,5,10]
[1563,5,10,15,15,0,15]
[1564,0,15,15,9,6,9]
[1565,6,9,15,14,1,14]
[1566,1,14,15,11,4,11]
[1567,4,11,15,14,1,14]
[1568,1,14,15,9,6,9]
[1569,6,9,15,9,6,9]
[1570,6,9,15,7,8,7]
[1571,8,7,15,14,1,14]
[1572,1,14,15,10,5,10]
[1573,5,10,15,10,5,10]
[1574,5,10,15,8,7,8]
[1575,7,8,15,14,1,14]
[1576,1,14,15,16,-1,16]
[1577,-1,16,15,7,8,7]
[1578,8,7,15,10,5,10]
[1579,5,10,15,13,2,13]
[1580,2,13,15,9,6,9]
[1581,6,9,15,13,2,13]
[1582,2,13,15,9,6,9]
[1583,6,9,15,13,2,13]
[1584,2,13,15,14,1,14]
[1585,1,14,15,11,4,11]
[1586,4,11,15,11,4,11]
[1587,4,11,15,10,5,10]
[1588,5,10,15,12,3,12]
[1589,3,12,15,9,6,9]
[1590,6,9,15,10,5,10]
[1591,5,10,15,15,0,15]
[1592,0,15,15,11,4,11]
[1593,4,11,15,10,5,10]
[1594,5,10,15,11,4,11]
[1595,4,11,15,5,10,5]
[1596,10,5,15,11,4,11]
[1597,4,11,15,12,3,12]
[1598,3,12,15,14,1,14]
[1599,1,14,15,10,5,10]
[1600,5,10,15,8,7,8]
[1601,7,8,15,6,9,6]
[1602,9,6,{"$f":"B1603+C1603","v":15},{"$f":"RANDBETWEEN(1,6)+RANDBETWEEN(1,6)+RANDBETWEEN(1,6)","v":10},{"$f":"D1603-E1603","v":5},{"$f":"MAX($B$2-F1603,0)","v":10}]
[1603,{"$f":"F1603","v":5},10,15,10,5,10]
[1604,5,10,15,14,1,14]
[1605,1,14,15,14,1,14]
[1606,1,14,15,12,3,12]
[1607,3,12,15,16,-1,16]
[1608,-1,16,15,13,2,13]
[1609,2,13,15,9,6,9]
[1610,6,9,15,10,5,10]
[1611,5,10,15,9,6,9]
[1612,6,9,15,9,6,9]
[1613,6,9,15,12,3,12]
[1614,3,12,15,9,6,9]
[1615,6,9,15,6,9,6]
[1616,9,6,15,14,1,14]
[1617,1,14,15,9,6,9]
[1618,6,9,15,14,1,14]
[1619,1,14,15,9,6,9]
[1620,6,9,15,5,10,5]
[1621,10,5,15,7,8,7]
[1622,8,7,15,9,6,9]
[1623,6,9,15,13,2,13]
[1624,2,13,15,10,5,10]
[1625,5,10,15,14,1,14]
[1626,1,14,15,6,9,6]
[1627,9,6,15,8,7,8]
[1628,7,8,15,13,2,13]
[1629,2,13,15,11,4,11]
[1630,4,11,15,7,8,7]
[1631,8,7,15,12,3,12]
[1632,3,12,15,13,2,13]
[1633,2,13,15,8,7,8]
[1634,7,8,15,6,9,6]
[1635,9,6,15,16,-1,16]
[1636,-1,16,15,6,9,6]
[1637,9,6,15,16,-1,16]
[1638,-1,16,15,12,3,12]
[1639,3,12,15,8,7,8]
[1640,7,8,15,8,7,8]
[1641,7,8,15,10,5,10]
[1642,5,10,15,13,2,13]
[1643,2,13,15,6,9,6]
[1644,9,6,15,11,4,11]
[1645,4,11,15,9,6,9]
[1646,6,9,15,12,3,12]
[1647,3,12,15,11,4,11]
[1648,4,11,15,12,3,12]
[1649,3,12,15,9,6,9]
[1650,6,9,15,7,8,7]
[1651,8,7,15,10,5,10]
[1652,5,10,15,17,-2,17]
[1653,-2,17,15,8,7,8]
[1654,7,8,15,13,2,13]
[1655,2,13,15,16,-1,16]
[1656,-1,16,15,10,5,10]
[1657,5,10,15,11,4,11]
[1658,4,11,15,8,7,8]
[1659,7,8,15,11,4,11]
[1660,4,11,15,10,5,10]
[1661,5,10,15,8,7,8]
[1662,7,8,15,13,2,13]
[1663,2,13,15,16,-1,16]
[1664,-1,16,15,9,6,9]
[1665,6,9,15,15,0,15]
[1666,0,15,{"$f":"B1667+C1667","v":15},{"$f":"RANDBETWEEN(1,6)+RANDBETWEEN(1,6)+RANDBETWEEN(1,6)","v":8},{"$f":"D1667-E1667","v":7},{"$f":"MAX($B$2-F1667,0)","v":8}]
[1667,{"$f":"F1667","v":7},8,15,8,7,8]
[1668,7,8,15,9,6,9]
[1669,6,9,15,9,6,9]
[1670,6,9,15,15,0,15]
[1671,0,15,15,9,6,9]
[1672,6,9,15,9,6,9]
[1673,6,9,15,14,1,14]
[1674,1,14,15,13,2,13]
[1675,2,13,15,8,7,8]
[1676,7,8,15,11,4,11]
[1677,4,11,15,13,2,13]
[1678,2,13,15,13,2,13]
[1679,2,13,15,6,9,6]
[1680,9,6,15,11,4,11]
[1681,4,11,15,16,-1,16]
[1682,-1,16,15,8,7,8]
[1683,7,8,15,9,6,9]
[1684,6,9,15,9,6,9]
[1685,6,9,15,11,4,11]
[1686,4,11,15,6,9,6]
[1687,9,6,15,12,3,12]
[1688,3,12,15,12,3,12]
[1689,3,12,15,16,-1,16]
[1690,-1,16,15,10,5,10]
[1691,5,10,15,15,0,15]
[1692,0,15,15,12,3,12]
[1693,3,12,15,14,1,14]
[1694,1,14,15,12,3,12]
[1695,3,12,15,7,8,7]
[1696,8,7,15,6,9,6]
[1697,9,6,15,7,8,7]
[1698,8,7,15,14,1,14]
[1699,1,14,15,12,3,12]
[1700,3,12,15,12,3,12]
[1701,3,12,15,14,1,14]
[1702,1,14,15,12,3,12]
[1703,3,12,15,15,0,15]
[1704,0,15,15,5,10,5]
[1705,10,5,15,6,9,6]
[1706,9,6,15,6,9,6]
[1707,9,6,15,11,4,11]
[1708,4,11,15,10,5,10]
[1709,5,10,15,5,10,5]
[1710,10,5,15,8,7,8]
[1711,7,8,15,7,8,7]
[1712,8,7,15,8,7,8]
[1713,7,8,15,8,7,8]
[1714,7,8,15,15,0,15]
[1715,0,15,15,16,-1,16]
[1716,-1,16,15,8,7,8]
[1717,7,8,15,13,2,13]
[1718,2,13,15,9,6,9]
[1719,6,9,15,13,2,13]
[1720,2,13,15,12,3,12]
[1721,3,12,15,9,6,9]
[1722,6,9,15,4,11,4]
[1723,11,4,15,11,4,11]
[1724,4,11,15,9,6,9]
[1725,6,9,15,10,5,10]
[1726,5,10,15,10,5,10]
[1727,5,10,15,14,1,14]
[1728,1,14,15,14,1,14]
[1729,1,14,15,11,4,11]
[1730,4,11,{"$f":"B1731+C1731","v":15},{"$f":"RANDBETWEEN(1,6)+RANDBETWEEN(1,6)+RANDBETWEEN(1,6)","v":13},{"$f":"D1731-E1731","v":2},{"$f":"MAX($B$2-F1731,0)","v":13}]
[1731,{"$f":"F1731","v":2},13,15,13,2,13]
[1732,2,13,15,18,-3,18]
[1733,-3,18,15,8,7,8]
[1734,7,8,15,11,4,11]
[1735,4,11,15,13,2,13]
[1736,2,13,15,6,9,6]
[1737,9,6,15,13,2,13]
[1738,2,13,15,16,-1,16]
[1739,-1,16,15,9,6,9]
[1740,6,9,15,9,6,9]
[1741,6,9,15,4,11,4]
[1742,11,4,15,6,9,6]
[1743,9,6,15,13,2,13]
[1744,2,13,15,8,7,8]
[1745,7,8,15,12,3,12]
[1746,3,12,15,17,-2,17]
[1747,-2,17,15,7,8,7]
[1748,8,7,15,5,10,5]
[1749,10,5,15,10,5,10]
[1750,5,10,15,10,5,10]
[1751,5,10,15,11,4,11]
[1752,4,11,15,12,3,12]
[1753,3,12,15,11,4,11]
[1754,4,11,15,9,6,9]
[1755,6,9,15,17,-2,17]
[1756,-2,17,15,5,10,5]
[1757,10,5,15,10,5,10]
[1758,5,10,15,14,1,14]
[1759,1,14,15,12,3,12]
[1760,3,12,15,7,8,7]
[1761,8,7,15,11,4,11]
[1762,4,11,15,11,4,11]
[1763,4,11,15,7,8,7]
[1764,8,7,15,7,8,7]
[1765,8,7,15,9,6,9]
[1766,6,9,15,15,0,15]
[1767,0,15,15,9,6,9]
[1768,6,9,15,11,4,11]
[1769,4,11,15,10,5,10]
[1770,5,10,15,12,3,12]
[1771,3,12,15,16,-1,16]
[1772,-1,16,15,10,5,10]
[1773,5,10,15,9,6,9]
[1774,6,9,15,5,10,5]
[1775,10,5,15,14,1,14]
[1776,1,14,15,5,10,5]
[1777,10,5,15,11,4,11]
[1778,4,11,15,14,1,14]
[1779,1,14,15,7,8,7]
[1780,8,7,15,13,2,13]
[1781,2,13,15,8,7,8]
[1782,7,8,15,15,0,15]
[1783,0,15,15,6,9,6]
[1784,9,6,15,8,7,8]
[1785,7,8,15,12,3,12]
[1786,3,12,15,12,3,12]
[1787,3,12,15,12,3,12]
[1788,3,12,15,12,3,12]
[1789,3,12,15,11,4,11]
[1790,4,11,15,7,8,7]
[1791,8,7,15,15,0,15]
[1792,0,15,15,13,2,13]
[1793,2,13,15,12,3,12]
[1794,3,12,{"$f":"B1795+C1795","v":15},{"$f":"RANDBETWEEN(1,6)+RANDBETWEEN(1,6)+RANDBETWEEN(1,6)","v":7},{"$f":"D1795-E1795","v":8},{"$f":"MAX($B$2-F1795,0)","v":7}]
[1795,{"$f":"F1795","v":8},7,15,13,2,13]
[1796,2,13,15,14,1,14]
[1797,1,14,15,6,9,6]
[1798,9,6,15,10,5,10]
[1799,5,10,15,11,4,11]
[1800,4,11,15,13,2,13]
[1801,2,13,15,6,9,6]
[1802,9,6,15,11,4,11]
[1803,4,11,15,8,7,8]
[1804,7,8,15,13,2,13]
[1805,2,13,15,11,4,11]
[1806,4,11,15,13,2,13]
[1807,2,13,15,15,0,15]
[1808,0,15,15,9,6,9]
[1809,6,9,15,4,11,4]
[1810,11,4,15,14,1,14]
[1811,1,14,15,9,6,9]
[1812,6,9,15,13,2,13]
[1813,2,13,15,8,7,8]
[1814,7,8,15,6,9,6]
[1815,9,6,15,8,7,8]
[1816,7,8,15,14,1,14]
[1817,1,14,15,7,8,7]
[1818,8,7,15,16,-1,16]
[1819,-1,16,15,13,2,13]
[1820,2,13,15,8,7,8]
[1821,7,8,15,7,8,7]
[1822,8,7,15,8,7,8]
[1823,7,8,15,8,7,8]
[1824,7,8,15,10,5,10]
[1825,5,10,15,11,4,11]
[1826,4,11,15,13,2,13]
[1827,2,13,15,6,9,6]
[1828,9,6,15,18,-3,18]
[1829,-3,18,15,11,4,11]
[1830,4,11,15,12,3,12]
[1831,3,12,15,13,2,13]
[1832,2,13,15,5,10,5]
[1833,10,5,15,13,2,13]
[1834,2,13,15,15,0,15]
[1835,0,15,15,13,2,13]
[1836,2,13,15,9,6,9]
[1837,6,9,15,11,4,11]
[1838,4,11,15,10,5,10]
[1839,5,10,15,7,8,7]
[1840,8,7,15,11,4,11]
[1841,4,11,15,12,3,12]
[1842,3,12,15,8,7,8]
[1843,7,8,15,13,2,13]
[1844,2,13,15,5,10,5]
[1845,10,5,15,12,3,12]
[1846,3,12,15,13,2,13]
[1847,2,13,15,7,8,7]
[1848,8,7,15,8,7,8]
[1849,7,8,15,13,2,13]
[1850,2,13,15,12,3,12]
[1851,3,12,15,8,7,8]
[1852,7,8,15,8,7,8]
[1853,7,8,15,14,1,14]
[1854,1,14,15,8,7,8]
[1855,7,8,15,12,3,12]
[1856,3,12,15,14,1,14]
[1857,1,14,15,12,3,12]
[1858,3,12,{"$f":"B1859+C1859","v":15},{"$f":"RANDBETWEEN(1,6)+RANDBETWEEN(1,6)+RANDBETWEEN(1,6)","v":10},{"$f":"D1859-E1859","v":5},{"$f":"MAX($B$2-F1859,0)","v":10}]
[1859,{"$f":"F1859","v":5},10,15,8,7,8]
[1860,7,8,15,12,3,12]
[1861,3,12,15,9,6,9]
[1862,6,9,15,10,5,10]
[1863,5,10,15,11,4,11]
[1864,4,11,15,6,9,6]
[1865,9,6,15,6,9,6]
[1866,9,6,15,10,5,10]
[1867,5,10,15,11,4,11]
[1868,4,11,15,13,2,13]
[1869,2,13,15,13,2,13]
[1870,2,13,15,11,4,11]
[1871,4,11,15,5,10,5]
[1872,10,5,15,11,4,11]
[1873,4,11,15,9,6,9]
[1874,6,9,15,6,9,6]
[1875,9,6,15,11,4,11]
[1876,4,11,15,7,8,7]
[1877,8,7,15,8,7,8]
[1878,7,8,15,11,4,11]
[1879,4,11,15,12,3,12]
[1880,3,12,15,10,5,10]
[1881,5,10,15,7,8,7]
[1882,8,7,15,9,6,9]
[1883,6,9,15,15,0,15]
[1884,0,15,15,13,2,13]
[1885,2,13,15,15,0,15]
[1886,0,15,15,12,3,12]
[1887,3,12,15,14,1,14]
[1888,1,14,15,13,2,13]
[1889,2,13,15,11,4,11]
[1890,4,11,15,7,8,7]
[1891,8,7,15,6,9,6]
[1892,9,6,15,14,1,14]
[1893,1,14,15,11,4,11]
[1894,4,11,15,9,6,9]
[1895,6,9,15,14,1,14]
[1896,1,14,15,6,9,6]
[1897,9,6,15,6,9,6]
[1898,9,6,15,8,7,8]
[1899,7,8,15,12,3,12]
[1900,3,12,15,12,3,12]
[1901,3,12,15,7,8,7]
[1902,8,7,15,13,2,13]
[1903,2,13,15,7,8,7]
[1904,8,7,15,10,5,10]
[1905,5,10,15,5,10,5]
[1906,10,5,15,15,0,15]
[1907,0,15,15,8,7,8]
[1908,7,8,15,9,6,9]
[1909,6,9,15,8,7,8]
[1910,7,8,15,12,3,12]
[1911,3,12,15,17,-2,17]
[1912,-2,17,15,14,1,14]
[1913,1,14,15,5,10,5]
[1914,10,5,15,5,10,5]
[1915,10,5,15,12,3,12]
[1916,3,12,15,12,3,12]
[1917,3,12,15,9,6,9]
[1918,6,9,15,15,0,15]
[1919,0,15,15,15,0,15]
[1920,0,15,15,6,9,6]
[1921,9,6,15,14,1,14]
[1922,1,14,{"$f":"B1923+C1923","v":15},{"$f":"RANDBETWEEN(1,6)+RANDBETWEEN(1,6)+RANDBETWEEN(1,6)","v":8},{"$f":"D1923-E1923","v":7},{"$f":"MAX($B$2-F1923,0)","v":8}]
[1923,{"$f":"F1923","v":7},8,15,11,4,11]
[1924,4,11,15,6,9,6]
[1925,9,6,15,4,11,4]
[1926,11,4,15,6,9,6]
[1927,9,6,15,11,4,11]
[1928,4,11,15,10,5,10]
[1929,5,10,15,6,9,6]
[1930,9,6,15,14,1,14]
[1931,1,14,15,11,4,11]
[1932,4,11,15,9,6,9]
[1933,6,9,15,7,8,7]
[1934,8,7,15,8,7,8]
[1935,7,8,15,12,3,12]
[1936,3,12,15,9,6,9]
[1937,6,9,15,9,6,9]
[1938,6,9,15,10,5,10]
[1939,5,10,15,9,6,9]
[1940,6,9,15,12,3,12]
[1941,3,12,15,13,2,13]
[1942,2,13,15,11,4,11]
[1943,4,11,15,6,9,6]
[1944,9,6,15,15,0,15]
[1945,0,15,15,6,9,6]
[1946,9,6,15,13,2,13]
[1947,2,13,15,14,1,14]
[1948,1,14,15,9,6,9]
[1949,6,9,15,11,4,11]
[1950,4,11,15,15,0,15]
[1951,0,15,15,5,10,5]
[1952,10,5,15,10,5,10]
[1953,5,10,15,9,6,9]
[1954,6,9,15,5,10,5]
[1955,10,5,15,8,7,8]
[1956,7,8,15,9,6,9]
[1957,6,9,15,11,4,11]
[1958,4,11,15,12,3,12]
[1959,3,12,15,15,0,15]
[1960,0,15,15,11,4,11]
[1961,4,11,15,10,5,10]
[1962,5,10,15,11,4,11]
[1963,4,11,15,5,10,5]
[1964,10,5,15,12,3,12]
[1965,3,12,15,10,5,10]
[1966,5,10,15,13,2,13]
[1967,2,13,15,13,2,13]
[1968,2,13,15,13,2,13]
[1969,2,13,15,11,4,11]
[1970,4,11,15,13,2,13]
[1971,2,13,15,10,5,10]
[1972,5,10,15,11,4,11]
[1973,4,11,15,12,3,12]
[1974,3,12,15,9,6,9]
[1975,6,9,15,11,4,11]
[1976,4,11,15,10,5,10]
[1977,5,10,15,7,8,7]
[1978,8,7,15,13,2,13]
[1979,2,13,15,9,6,9]
[1980,6,9,15,16,-1,16]
[1981,-1,16,15,10,5,10]
[1982,5,10,15,10,5,10]
[1983,5,10,15,10,5,10]
[1984,5,10,15,7,8,7]
[1985,8,7,15,9,6,9]
[1986,6,9,{"$f":"B1987+C1987","v":15},{"$f":"RANDBETWEEN(1,6)+RANDBETWEEN(1,6)+RANDBETWEEN(1,6)","v":8},{"$f":"D1987-E1987","v":7},{"$f":"MAX($B$2-F1987,0)","v":8}]
[1987,{"$f":"F1987","v":7},8,15,12,3,12]
[1988,3,12,15,12,3,12]
[1989,3,12,15,8,7,8]
[1990,7,8,15,10,5,10]
[1991,5,10,15,4,11,4]
[1992,11,4,15,7,8,7]
[1993,8,7,15,4,11,4]
[1994,11,4,15,14,1,14]
[1995,1,14,15,8,7,8]
[1996,7,8,15,12,3,12]
[1997,3,12,15,10,5,10]
[1998,5,10,15,7,8,7]
[1999,8,7,15,13,2,13]
[2000,2,13,15,10,5,10]

{"sheet":"Rail only","index":1,"n_rows":2001,"n_cols":13,"rows_kept":2001,"cut":false,"hidden":false,"merged":[]}
["Period","Start Inv","Arrival","Inv before demand","Demand","Inv after demand","Order (RAIL)"]
[1,{"$f":"'Road only'!B2","v":15},0,{"$f":"B2+C2","v":15},{"$f":"'Road only'!E2","v":9},{"$f":"D2-E2","v":6},{"$f":"AVERAGE($E$2:$E$1001)*2","v":21.138000000000002},null,null,"Costs"]
[2,{"$f":"F2","v":6},{"$f":"G2","v":21.138000000000002},{"$f":"B3+C3","v":27.138000000000002},{"$f":"'Road only'!E3","v":13},{"$f":"D3-E3","v":14.138000000000002},null,null,null,"Unit inventory holding cost",null,null,{"$f":"'Road only'!M3","v":136}]
[3,{"$f":"F3","v":14.138000000000002},{"$f":"G3","v":0},14.138000000000002,{"$f":"'Road only'!E4","v":10},4.1380000000000017,{"$f":"AVERAGE($E$2:$E$1001)*2","v":21.138000000000002},null,null,"Unit inventory back order cost",null,null,{"$f":"'Road only'!M4","v":2584}]
[4,4.1380000000000017,21.138000000000002,25.276000000000003,{"$f":"'Road only'!E5","v":7},18.276000000000003]
[5,18.276000000000003,0,18.276000000000003,{"$f":"'Road only'!E6","v":11},7.2760000000000034,{"$f":"AVERAGE($E$2:$E$1001)*2","v":21.138000000000002},null,null,"Unit transport cost Road",null,null,{"$f":"'Road only'!M6","v":400}]
[6,7.2760000000000034,21.138000000000002,28.414000000000005,{"$f":"'Road only'!E7","v":12},16.414000000000005,null,null,null,"Unit transport cost Rail",null,null,{"$f":"'Road only'!M7","v":350}]
[7,16.414000000000005,0,16.414000000000005,{"$f":"'Road only'!E8","v":8},8.414000000000005,{"$f":"AVERAGE($E$2:$E$1001)*2","v":21.138000000000002}]
[8,8.414000000000005,21.138000000000002,29.552000000000007,{"$f":"'Road only'!E9","v":7},22.552000000000007,null,null,null,"Avg Tsp Cost per period",null,null,{"$f":"SUM(G2:G2001)/2000*M7","v":3699.1500000000128}]
[9,22.552000000000007,0,22.552000000000007,{"$f":"'Road only'!E10","v":15},7.5520000000000067,{"$f":"AVERAGE($E$2:$E$1001)*2","v":21.138000000000002},null,null,"Avg Inv holding cst per period",null,null,{"$f":"SUMIF(F2:F2002,\">0\")/2000*M3","v":3645.5928800002398}]
[10,7.5520000000000067,21.138000000000002,28.690000000000008,{"$f":"'Road only'!E11","v":16},12.690000000000008,null,null,null,"Avg Inv backorder cst per period",null,null,{"$f":"SUMIF(F2:F2001,\"<0\")/2000*M4*(-1)","v":3994.4247199994747}]
[11,12.690000000000008,0,12.690000000000008,{"$f":"'Road only'!E12","v":7},5.6900000000000084,{"$f":"AVERAGE($E$2:$E$1001)*2","v":21.138000000000002}]
[12,5.6900000000000084,21.138000000000002,26.82800000000001,{"$f":"'Road only'!E13","v":10},16.82800000000001]
[13,16.82800000000001,0,16.82800000000001,{"$f":"'Road only'!E14","v":10},6.8280000000000101,{"$f":"AVERAGE($E$2:$E$1001)*2","v":21.138000000000002},null,null,"Avg ttl cost per period",null,null,{"$f":"SUM(M9:M12)","v":11339.167599999728}]
[14,6.8280000000000101,21.138000000000002,27.966000000000012,{"$f":"'Road only'!E15","v":9},18.966000000000012]
[15,18.966000000000012,0,18.966000000000012,{"$f":"'Road only'!E16","v":8},10.966000000000012,{"$f":"AVERAGE($E$2:$E$1001)*2","v":21.138000000000002}]
[16,10.966000000000012,21.138000000000002,32.104000000000013,{"$f":"'Road only'!E17","v":14},18.104000000000013,null,null,null,"Emissions"]
[17,18.104000000000013,0,18.104000000000013,{"$f":"'Road only'!E18","v":8},10.104000000000013,{"$f":"AVERAGE($E$2:$E$1001)*2","v":21.138000000000002},null,null,"Unit emission Road",null,null,{"$f":"'Road only'!M18","v":0.72}]
[18,10.104000000000013,21.138000000000002,31.242000000000015,{"$f":"'Road only'!E19","v":9},22.242000000000015,null,null,null,"Unit emission Rail",null,null,{"$f":"'Road only'!M19","v":0.2}]
[19,22.242000000000015,0,22.242000000000015,{"$f":"'Road only'!E20","v":11},11.242000000000015,{"$f":"AVERAGE($E$2:$E$1001)*2","v":21.138000000000002}]
[20,11.242000000000015,21.138000000000002,32.380000000000017,{"$f":"'Road only'!E21","v":16},16.380000000000017,null,null,null,"Avg emission per period (rail)",null,null,{"$f":"SUM(G2:G2001)*M19/2000","v":2.1138000000000075}]
[21,16.380000000000017,0,16.380000000000017,{"$f":"'Road only'!E22","v":12},4.3800000000000168,{"$f":"AVERAGE($E$2:$E$1001)*2","v":21.138000000000002}]
[22,4.3800000000000168,21.138000000000002,25.518000000000018,{"$f":"'Road only'!E23","v":12},13.518000000000018]
[23,13.518000000000018,0,13.518000000000018,{"$f":"'Road only'!E24","v":16},-2.4819999999999816,{"$f":"AVERAGE($E$2:$E$1001)*2","v":21.138000000000002},null,null,"Service level"]
[24,-2.4819999999999816,21.138000000000002,18.65600000000002,{"$f":"'Road only'!E25","v":10},8.6560000000000201,null,null,null,"In-stock Probability at the DC",null,null,{"$f":"1-COUNTIF(F2:F2001,\"<0\")/2000","v":0.876}]
[25,8.6560000000000201,0,8.6560000000000201,{"$f":"'Road only'!E26","v":11},-2.3439999999999799,{"$f":"AVERAGE($E$2:$E$1001)*2","v":21.138000000000002}]
[26,-2.3439999999999799,21.138000000000002,18.794000000000022,{"$f":"'Road only'!E27","v":11},7.7940000000000218]
[27,7.7940000000000218,0,7.7940000000000218,{"$f":"'Road only'!E28","v":11},-3.2059999999999782,{"$f":"AVERAGE($E$2:$E$1001)*2","v":21.138000000000002},null,null,"Demand Histogram"]
[28,-3.2059999999999782,21.138000000000002,17.932000000000023,{"$f":"'Road only'!E29","v":10},7.9320000000000235,null,null,null,"Bin","Frequency","Cumulative %"]
[29,7.9320000000000235,0,7.9320000000000235,{"$f":"'Road only'!E30","v":8},-6.7999999999976524E-2,{"$f":"AVERAGE($E$2:$E$1001)*2","v":21.138000000000002},null,null,3,{"$f":"COUNTIF($E$2:$E$2001,J30)","v":9},{"$f":"K30/2000","v":4.4999999999999997E-3}]
[30,-6.7999999999976524E-2,21.138000000000002,21.070000000000025,{"$f":"'Road only'!E31","v":9},12.070000000000025,null,null,null,4,{"$f":"COUNTIF($E$2:$E$2001,J31)","v":32},{"$f":"K31/2000+L30","v":2.0500000000000001E-2}]
[31,12.070000000000025,0,12.070000000000025,{"$f":"'Road only'!E32","v":6},6.0700000000000252,{"$f":"AVERAGE($E$2:$E$1001)*2","v":21.138000000000002},null,null,5,48,{"$f":"K32/2000+L31","v":4.4499999999999998E-2}]
[32,6.0700000000000252,21.138000000000002,27.208000000000027,{"$f":"'Road only'!E33","v":9},18.208000000000027,null,null,null,6,91,0.09]
[33,18.208000000000027,0,18.208000000000027,{"$f":"'Road only'!E34","v":13},5.2080000000000268,{"$f":"AVERAGE($E$2:$E$1001)*2","v":21.138000000000002},null,null,7,129,0.1545]
[34,5.2080000000000268,21.138000000000002,26.346000000000029,{"$f":"'Road only'!E35","v":9},17.346000000000029,null,null,null,8,209,0.25900000000000001]
[35,17.346000000000029,0,17.346000000000029,{"$f":"'Road only'!E36","v":7},10.346000000000029,{"$f":"AVERAGE($E$2:$E$1001)*2","v":21.138000000000002},null,null,9,235,0.3765]
[36,10.346000000000029,21.138000000000002,31.48400000000003,{"$f":"'Road only'!E37","v":5},26.48400000000003,null,null,null,10,243,0.498]
[37,26.48400000000003,0,26.48400000000003,{"$f":"'Road only'!E38","v":11},15.48400000000003,{"$f":"AVERAGE($E$2:$E$1001)*2","v":21.138000000000002},null,null,11,232,0.61399999999999999]
[38,15.48400000000003,21.138000000000002,36.622000000000028,{"$f":"'Road only'!E39","v":11},25.622000000000028,null,null,null,12,227,0.72750000000000004]
[39,25.622000000000028,0,25.622000000000028,{"$f":"'Road only'!E40","v":14},11.622000000000028,{"$f":"AVERAGE($E$2:$E$1001)*2","v":21.138000000000002},null,null,13,220,0.83750000000000002]
[40,11.622000000000028,21.138000000000002,32.760000000000034,{"$f":"'Road only'!E41","v":5},27.760000000000034,null,null,null,14,153,0.91400000000000003]
[41,27.760000000000034,0,27.760000000000034,{"$f":"'Road only'!E42","v":7},20.760000000000034,{"$f":"AVERAGE($E$2:$E$1001)*2","v":21.138000000000002},null,null,15,90,0.95900000000000007]
[42,20.760000000000034,21.138000000000002,41.898000000000039,{"$f":"'Road only'!E43","v":11},30.898000000000039,null,null,null,16,53,0.98550000000000004]
[43,30.898000000000039,0,30.898000000000039,{"$f":"'Road only'!E44","v":10},20.898000000000039,{"$f":"AVERAGE($E$2:$E$1001)*2","v":21.138000000000002},null,null,17,20,0.99550000000000005]
[44,20.898000000000039,21.138000000000002,42.036000000000044,{"$f":"'Road only'!E45","v":3},39.036000000000044,null,null,null,18,{"$f":"COUNTIF($E$2:$E$2001,J45)","v":9},{"$f":"K45/2000+L44","v":1}]
[45,39.036000000000044,0,39.036000000000044,{"$f":"'Road only'!E46","v":13},26.036000000000044,{"$f":"AVERAGE($E$2:$E$1001)*2","v":21.138000000000002}]
[46,26.036000000000044,21.138000000000002,47.174000000000049,{"$f":"'Road only'!E47","v":8},39.174000000000049]
[47,39.174000000000049,0,39.174000000000049,{"$f":"'Road only'!E48","v":15},24.174000000000049,{"$f":"AVERAGE($E$2:$E$1001)*2","v":21.138000000000002}]
[48,24.174000000000049,21.138000000000002,45.312000000000054,{"$f":"'Road only'!E49","v":8},37.312000000000054]
[49,37.312000000000054,0,37.312000000000054,{"$f":"'Road only'!E50","v":16},21.312000000000054,{"$f":"AVERAGE($E$2:$E$1001)*2","v":21.138000000000002}]
[50,21.312000000000054,21.138000000000002,42.45000000000006,{"$f":"'Road only'!E51","v":13},29.45000000000006]
[51,29.45000000000006,0,29.45000000000006,{"$f":"'Road only'!E52","v":7},22.45000000000006,{"$f":"AVERAGE($E$2:$E$1001)*2","v":21.138000000000002}]
[52,22.45000000000006,21.138000000000002,43.588000000000065,{"$f":"'Road only'!E53","v":10},33.588000000000065]
[53,33.588000000000065,0,33.588000000000065,{"$f":"'Road only'!E54","v":7},26.588000000000065,{"$f":"AVERAGE($E$2:$E$1001)*2","v":21.138000000000002}]
[54,26.588000000000065,21.138000000000002,47.72600000000007,{"$f":"'Road only'!E55","v":9},38.72600000000007]
[55,38.72600000000007,0,38.72600000000007,{"$f":"'Road only'!E56","v":8},30.72600000000007,{"$f":"AVERAGE($E$2:$E$1001)*2","v":21.138000000000002}]
[56,30.72600000000007,21.138000000000002,51.864000000000075,{"$f":"'Road only'!E57","v":11},40.864000000000075]
[57,40.864000000000075,0,40.864000000000075,{"$f":"'Road only'!E58","v":8},32.864000000000075,{"$f":"AVERAGE($E$2:$E$1001)*2","v":21.138000000000002}]
[58,32.864000000000075,21.138000000000002,54.002000000000081,{"$f":"'Road only'!E59","v":8},46.002000000000081]
[59,46.002000000000081,0,46.002000000000081,{"$f":"'Road only'!E60","v":14},32.002000000000081,{"$f":"AVERAGE($E$2:$E$1001)*2","v":21.138000000000002}]
[60,32.002000000000081,21.138000000000002,53.140000000000086,{"$f":"'Road only'!E61","v":9},44.140000000000086]
[61,44.140000000000086,0,44.140000000000086,{"$f":"'Road only'!E62","v":8},36.140000000000086,{"$f":"AVERAGE($E$2:$E$1001)*2","v":21.138000000000002}]
[62,36.140000000000086,21.138000000000002,57.278000000000091,{"$f":"'Road only'!E63","v":7},50.278000000000091]
[63,50.278000000000091,0,50.278000000000091,{"$f":"'Road only'!E64","v":12},38.278000000000091,{"$f":"AVERAGE($E$2:$E$1001)*2","v":21.138000000000002}]
[64,38.278000000000091,21.138000000000002,59.416000000000096,{"$f":"'Road only'!E65","v":14},45.416000000000096]
[65,45.416000000000096,0,45.416000000000096,{"$f":"'Road only'!E66","v":6},39.416000000000096,{"$f":"AVERAGE($E$2:$E$1001)*2","v":21.138000000000002}]
[66,39.416000000000096,21.138000000000002,{"$f":"B67+C67","v":60.554000000000102},{"$f":"'Road only'!E67","v":6},{"$f":"D67-E67","v":54.554000000000102}]
[67,{"$f":"F67","v":54.554000000000102},{"$f":"G67","v":0},54.554000000000102,{"$f":"'Road only'!E68","v":6},48.554000000000102,{"$f":"AVERAGE($E$2:$E$1001)*2","v":21.138000000000002}]
[68,48.554000000000102,21.138000000000002,69.692000000000107,{"$f":"'Road only'!E69","v":7},62.692000000000107]
[69,62.692000000000107,0,62.692000000000107,{"$f":"'Road only'!E70","v":16},46.692000000000107,{"$f":"AVERAGE($E$2:$E$1001)*2","v":21.138000000000002}]
[70,46.692000000000107,21.138000000000002,67.830000000000112,{"$f":"'Road only'!E71","v":9},58.830000000000112]
[71,58.830000000000112,0,58.830000000000112,{"$f":"'Road only'!E72","v":15},43.830000000000112,{"$f":"AVERAGE($E$2:$E$1001)*2","v":21.138000000000002}]
[72,43.830000000000112,21.138000000000002,64.968000000000117,{"$f":"'Road only'!E73","v":7},57.968000000000117]
[73,57.968000000000117,0,57.968000000000117,{"$f":"'Road only'!E74","v":14},43.968000000000117,{"$f":"AVERAGE($E$2:$E$1001)*2","v":21.138000000000002}]
[74,43.968000000000117,21.138000000000002,65.106000000000122,{"$f":"'Road only'!E75","v":9},56.106000000000122]
[75,56.106000000000122,0,56.106000000000122,{"$f":"'Road only'!E76","v":14},42.106000000000122,{"$f":"AVERAGE($E$2:$E$1001)*2","v":21.138000000000002}]
[76,42.106000000000122,21.138000000000002,63.244000000000128,{"$f":"'Road only'!E77","v":11},52.244000000000128]
[77,52.244000000000128,0,52.244000000000128,{"$f":"'Road only'!E78","v":15},37.244000000000128,{"$f":"AVERAGE($E$2:$E$1001)*2","v":21.138000000000002}]
[78,37.244000000000128,21.138000000000002,58.382000000000133,{"$f":"'Road only'!E79","v":10},48.382000000000133]
[79,48.382000000000133,0,48.382000000000133,{"$f":"'Road only'!E80","v":8},40.382000000000133,{"$f":"AVERAGE($E$2:$E$1001)*2","v":21.138000000000002}]
[80,40.382000000000133,21.138000000000002,61.520000000000138,{"$f":"'Road only'!E81","v":13},48.520000000000138]
[81,48.520000000000138,0,48.520000000000138,{"$f":"'Road only'!E82","v":9},39.520000000000138,{"$f":"AVERAGE($E$2:$E$1001)*2","v":21.138000000000002}]
[82,39.520000000000138,21.138000000000002,60.658000000000143,{"$f":"'Road only'!E83","v":13},47.658000000000143]
[83,47.658000000000143,0,47.658000000000143,{"$f":"'Road only'!E84","v":11},36.658000000000143,{"$f":"AVERAGE($E$2:$E$1001)*2","v":21.138000000000002}]
[84,36.658000000000143,21.138000000000002,57.796000000000149,{"$f":"'Road only'!E85","v":10},47.796000000000149]
[85,47.796000000000149,0,47.796000000000149,{"$f":"'Road only'!E86","v":8},39.796000000000149,{"$f":"AVERAGE($E$2:$E$1001)*2","v":21.138000000000002}]
[86,39.796000000000149,21.138000000000002,60.934000000000154,{"$f":"'Road only'!E87","v":11},49.934000000000154]
[87,49.934000000000154,0,49.934000000000154,{"$f":"'Road only'!E88","v":14},35.934000000000154,{"$f":"AVERAGE($E$2:$E$1001)*2","v":21.138000000000002}]
[88,35.934000000000154,21.138000000000002,57.072000000000159,{"$f":"'Road only'!E89","v":11},46.072000000000159]
[89,46.072000000000159,0,46.072000000000159,{"$f":"'Road only'!E90","v":12},34.072000000000159,{"$f":"AVERAGE($E$2:$E$1001)*2","v":21.138000000000002}]
[90,34.072000000000159,21.138000000000002,55.210000000000164,{"$f":"'Road only'!E91","v":14},41.210000000000164]
[91,41.210000000000164,0,41.210000000000164,{"$f":"'Road only'!E92","v":15},26.210000000000164,{"$f":"AVERAGE($E$2:$E$1001)*2","v":21.138000000000002}]
[92,26.210000000000164,21.138000000000002,47.34800000000017,{"$f":"'Road only'!E93","v":6},41.34800000000017]
[93,41.34800000000017,0,41.34800000000017,{"$f":"'Road only'!E94","v":12},29.34800000000017,{"$f":"AVERAGE($E$2:$E$1001)*2","v":21.138000000000002}]
[94,29.34800000000017,21.138000000000002,50.486000000000175,{"$f":"'Road only'!E95","v":9},41.486000000000175]
[95,41.486000000000175,0,41.486000000000175,{"$f":"'Road only'!E96","v":14},27.486000000000175,{"$f":"AVERAGE($E$2:$E$1001)*2","v":21.138000000000002}]
[96,27.486000000000175,21.138000000000002,48.62400000000018,{"$f":"'Road only'!E97","v":13},35.62400000000018]
[97,35.62400000000018,0,35.62400000000018,{"$f":"'Road only'!E98","v":13},22.62400000000018,{"$f":"AVERAGE($E$2:$E$1001)*2","v":21.138000000000002}]
[98,22.62400000000018,21.138000000000002,43.762000000000185,{"$f":"'Road only'!E99","v":8},35.762000000000185]
[99,35.762000000000185,0,35.762000000000185,{"$f":"'Road only'!E100","v":15},20.762000000000185,{"$f":"AVERAGE($E$2:$E$1001)*2","v":21.138000000000002}]
[100,20.762000000000185,21.138000000000002,41.90000000000019,{"$f":"'Road only'!E101","v":14},27.90000000000019]
[101,{"$f":"F101","v":27.90000000000019},0,27.90000000000019,{"$f":"'Road only'!E102","v":5},22.90000000000019,{"$f":"AVERAGE($E$2:$E$1001)*2","v":21.138000000000002}]
[102,22.90000000000019,21.138000000000002,44.038000000000196,{"$f":"'Road only'!E103","v":9},35.038000000000196]
[103,35.038000000000196,0,35.038000000000196,{"$f":"'Road only'!E104","v":7},28.038000000000196,{"$f":"AVERAGE($E$2:$E$1001)*2","v":21.138000000000002}]
[104,28.038000000000196,21.138000000000002,49.176000000000201,{"$f":"'Road only'!E105","v":10},39.176000000000201]
[105,39.176000000000201,0,39.176000000000201,{"$f":"'Road only'!E106","v":9},30.176000000000201,{"$f":"AVERAGE($E$2:$E$1001)*2","v":21.138000000000002}]
[106,30.176000000000201,21.138000000000002,51.314000000000206,{"$f":"'Road only'!E107","v":9},42.314000000000206]
[107,42.314000000000206,0,42.314000000000206,{"$f":"'Road only'!E108","v":10},32.314000000000206,{"$f":"AVERAGE($E$2:$E$1001)*2","v":21.138000000000002}]
[108,32.314000000000206,21.138000000000002,53.452000000000211,{"$f":"'Road only'!E109","v":14},39.452000000000211]
[109,39.452000000000211,0,39.452000000000211,{"$f":"'Road only'!E110","v":15},24.452000000000211,{"$f":"AVERAGE($E$2:$E$1001)*2","v":21.138000000000002}]
[110,24.452000000000211,21.138000000000002,45.590000000000217,{"$f":"'Road only'!E111","v":11},34.590000000000217]
[111,34.590000000000217,0,34.590000000000217,{"$f":"'Road only'!E112","v":7},27.590000000000217,{"$f":"AVERAGE($E$2:$E$1001)*2","v":21.138000000000002}]
[112,27.590000000000217,21.138000000000002,48.728000000000222,{"$f":"'Road only'!E113","v":13},35.728000000000222]
[113,35.728000000000222,0,35.728000000000222,{"$f":"'Road only'!E114","v":4},31.728000000000222,{"$f":"AVERAGE($E$2:$E$1001)*2","v":21.138000000000002}]
[114,31.728000000000222,21.138000000000002,52.866000000000227,{"$f":"'Road only'!E115","v":9},43.866000000000227]
[115,43.866000000000227,0,43.866000000000227,{"$f":"'Road only'!E116","v":12},31.866000000000227,{"$f":"AVERAGE($E$2:$E$1001)*2","v":21.138000000000002}]
[116,31.866000000000227,21.138000000000002,53.004000000000232,{"$f":"'Road only'!E117","v":18},35.004000000000232]
[117,35.004000000000232,0,35.004000000000232,{"$f":"'Road only'!E118","v":7},28.004000000000232,{"$f":"AVERAGE($E$2:$E$1001)*2","v":21.138000000000002}]
[118,28.004000000000232,21.138000000000002,49.142000000000237,{"$f":"'Road only'!E119","v":5},44.142000000000237]
[119,44.142000000000237,0,44.142000000000237,{"$f":"'Road only'!E120","v":9},35.142000000000237,{"$f":"AVERAGE($E$2:$E$1001)*2","v":21.138000000000002}]
[120,35.142000000000237,21.138000000000002,56.280000000000243,{"$f":"'Road only'!E121","v":16},40.280000000000243]
[121,40.280000000000243,0,40.280000000000243,{"$f":"'Road only'!E122","v":10},30.280000000000243,{"$f":"AVERAGE($E$2:$E$1001)*2","v":21.138000000000002}]
[122,30.280000000000243,21.138000000000002,51.418000000000248,{"$f":"'Road only'!E123","v":10},41.418000000000248]
[123,41.418000000000248,0,41.418000000000248,{"$f":"'Road only'!E124","v":8},33.418000000000248,{"$f":"AVERAGE($E$2:$E$1001)*2","v":21.138000000000002}]
[124,33.418000000000248,21.138000000000002,54.556000000000253,{"$f":"'Road only'!E125","v":13},41.556000000000253]
[125,41.556000000000253,0,41.556000000000253,{"$f":"'Road only'!E126","v":12},29.556000000000253,{"$f":"AVERAGE($E$2:$E$1001)*2","v":21.138000000000002}]
[126,29.556000000000253,21.138000000000002,50.694000000000258,{"$f":"'Road only'!E127","v":10},40.694000000000258]
[127,40.694000000000258,0,40.694000000000258,{"$f":"'Road only'!E128","v":14},26.694000000000258,{"$f":"AVERAGE($E$2:$E$1001)*2","v":21.138000000000002}]
[128,26.694000000000258,21.138000000000002,47.832000000000264,{"$f":"'Road only'!E129","v":6},41.832000000000264]
[129,41.832000000000264,0,41.832000000000264,{"$f":"'Road only'!E130","v":13},28.832000000000264,{"$f":"AVERAGE($E$2:$E$1001)*2","v":21.138000000000002}]
[130,28.832000000000264,21.138000000000002,{"$f":"B131+C131","v":49.970000000000269},{"$f":"'Road only'!E131","v":9},{"$f":"D131-E131","v":40.970000000000269}]
[131,40.970000000000269,{"$f":"G131","v":0},40.970000000000269,{"$f":"'Road only'!E132","v":9},31.970000000000269,{"$f":"AVERAGE($E$2:$E$1001)*2","v":21.138000000000002}]
[132,31.970000000000269,21.138000000000002,53.108000000000274,{"$f":"'Road only'!E133","v":8},45.108000000000274]
[133,45.108000000000274,0,45.108000000000274,{"$f":"'Road only'!E134","v":12},33.108000000000274,{"$f":"AVERAGE($E$2:$E$1001)*2","v":21.138000000000002}]
[134,33.108000000000274,21.138000000000002,54.246000000000279,{"$f":"'Road only'!E135","v":11},43.246000000000279]
[135,43.246000000000279,0,43.246000000000279,{"$f":"'Road only'!E136","v":16},27.246000000000279,{"$f":"AVERAGE($E$2:$E$1001)*2","v":21.138000000000002}]
[136,27.246000000000279,21.138000000000002,48.384000000000285,{"$f":"'Road only'!E137","v":11},37.384000000000285]
[137,37.384000000000285,0,37.384000000000285,{"$f":"'Road only'!E138","v":14},23.384000000000285,{"$f":"AVERAGE($E$2:$E$1001)*2","v":21.138000000000002}]
[138,23.384000000000285,21.138000000000002,44.52200000000029,{"$f":"'Road only'!E139","v":8},36.52200000000029]
[139,36.52200000000029,0,36.52200000000029,{"$f":"'Road only'!E140","v":9},27.52200000000029,{"$f":"AVERAGE($E$2:$E$1001)*2","v":21.138000000000002}]
[140,27.52200000000029,21.138000000000002,48.660000000000295,{"$f":"'Road only'!E141","v":10},38.660000000000295]
[141,38.660000000000295,0,38.660000000000295,{"$f":"'Road only'!E142","v":13},25.660000000000295,{"$f":"AVERAGE($E$2:$E$1001)*2","v":21.138000000000002}]
[142,25.660000000000295,21.138000000000002,46.7980000000003,{"$f":"'Road only'!E143","v":5},41.7980000000003]
[143,41.7980000000003,0,41.7980000000003,{"$f":"'Road only'!E144","v":13},28.7980000000003,{"$f":"AVERAGE($E$2:$E$1001)*2","v":21.138000000000002}]
[144,28.7980000000003,21.138000000000002,49.936000000000305,{"$f":"'Road only'!E145","v":12},37.936000000000305]
[145,37.936000000000305,0,37.936000000000305,{"$f":"'Road only'!E146","v":12},25.936000000000305,{"$f":"AVERAGE($E$2:$E$1001)*2","v":21.138000000000002}]
[146,25.936000000000305,21.138000000000002,47.074000000000311,{"$f":"'Road only'!E147","v":8},39.074000000000311]
[147,39.074000000000311,0,39.074000000000311,{"$f":"'Road only'!E148","v":8},31.074000000000311,{"$f":"AVERAGE($E$2:$E$1001)*2","v":21.138000000000002}]
[148,31.074000000000311,21.138000000000002,52.212000000000316,{"$f":"'Road only'!E149","v":15},37.212000000000316]
[149,37.212000000000316,0,37.212000000000316,{"$f":"'Road only'!E150","v":11},26.212000000000316,{"$f":"AVERAGE($E$2:$E$1001)*2","v":21.138000000000002}]
[150,26.212000000000316,21.138000000000002,47.350000000000321,{"$f":"'Road only'!E151","v":11},36.350000000000321]
[151,36.350000000000321,0,36.350000000000321,{"$f":"'Road only'!E152","v":15},21.350000000000321,{"$f":"AVERAGE($E$2:$E$1001)*2","v":21.138000000000002}]
[152,21.350000000000321,21.138000000000002,42.488000000000326,{"$f":"'Road only'!E153","v":8},34.488000000000326]
[153,34.488000000000326,0,34.488000000000326,{"$f":"'Road only'!E154","v":12},22.488000000000326,{"$f":"AVERAGE($E$2:$E$1001)*2","v":21.138000000000002}]
[154,22.488000000000326,21.138000000000002,43.626000000000332,{"$f":"'Road only'!E155","v":13},30.626000000000332]
[155,30.626000000000332,0,30.626000000000332,{"$f":"'Road only'!E156","v":9},21.626000000000332,{"$f":"AVERAGE($E$2:$E$1001)*2","v":21.138000000000002}]
[156,21.626000000000332,21.138000000000002,42.764000000000337,{"$f":"'Road only'!E157","v":13},29.764000000000337]
[157,29.764000000000337,0,29.764000000000337,{"$f":"'Road only'!E158","v":11},18.764000000000337,{"$f":"AVERAGE($E$2:$E$1001)*2","v":21.138000000000002}]
[158,18.764000000000337,21.138000000000002,39.902000000000342,{"$f":"'Road only'!E159","v":8},31.902000000000342]
[159,31.902000000000342,0,31.902000000000342,{"$f":"'Road only'!E160","v":7},24.902000000000342,{"$f":"AVERAGE($E$2:$E$1001)*2","v":21.138000000000002}]
[160,24.902000000000342,21.138000000000002,46.040000000000347,{"$f":"'Road only'!E161","v":14},32.040000000000347]
[161,32.040000000000347,0,32.040000000000347,{"$f":"'Road only'!E162","v":11},21.040000000000347,{"$f":"AVERAGE($E$2:$E$1001)*2","v":21.138000000000002}]
[162,21.040000000000347,21.138000000000002,42.178000000000353,{"$f":"'Road only'!E163","v":12},30.178000000000353]
[163,30.178000000000353,0,30.178000000000353,{"$f":"'Road only'!E164","v":12},18.178000000000353,{"$f":"AVERAGE($E$2:$E$1001)*2","v":21.138000000000002}]
[164,18.178000000000353,21.138000000000002,39.316000000000358,{"$f":"'Road only'!E165","v":15},24.316000000000358]
[165,{"$f":"F165","v":24.316000000000358},0,24.316000000000358,{"$f":"'Road only'!E166","v":9},15.316000000000358,{"$f":"AVERAGE($E$2:$E$1001)*2","v":21.138000000000002}]
[166,15.316000000000358,21.138000000000002,36.454000000000363,{"$f":"'Road only'!E167","v":13},23.454000000000363]
[167,23.454000000000363,0,23.454000000000363,{"$f":"'Road only'!E168","v":8},15.454000000000363,{"$f":"AVERAGE($E$2:$E$1001)*2","v":21.138000000000002}]
[168,15.454000000000363,21.138000000000002,36.592000000000368,{"$f":"'Road only'!E169","v":13},23.592000000000368]
[169,23.592000000000368,0,23.592000000000368,{"$f":"'Road only'!E170","v":11},12.592000000000368,{"$f":"AVERAGE($E$2:$E$1001)*2","v":21.138000000000002}]
[170,12.592000000000368,21.138000000000002,33.730000000000373,{"$f":"'Road only'!E171","v":16},17.730000000000373]
[171,17.730000000000373,0,17.730000000000373,{"$f":"'Road only'!E172","v":12},5.7300000000003735,{"$f":"AVERAGE($E$2:$E$1001)*2","v":21.138000000000002}]
[172,5.7300000000003735,21.138000000000002,26.868000000000375,{"$f":"'Road only'!E173","v":11},15.868000000000375]
[173,15.868000000000375,0,15.868000000000375,{"$f":"'Road only'!E174","v":9},6.8680000000003751,{"$f":"AVERAGE($E$2:$E$1001)*2","v":21.138000000000002}]
[174,6.8680000000003751,21.138000000000002,28.006000000000377,{"$f":"'Road only'!E175","v":7},21.006000000000377]
[175,21.006000000000377,0,21.006000000000377,{"$f":"'Road only'!E176","v":12},9.0060000000003768,{"$f":"AVERAGE($E$2:$E$1001)*2","v":21.138000000000002}]
[176,9.0060000000003768,21.138000000000002,30.144000000000378,{"$f":"'Road only'!E177","v":12},18.144000000000378]
[177,18.144000000000378,0,18.144000000000378,{"$f":"'Road only'!E178","v":11},7.1440000000003785,{"$f":"AVERAGE($E$2:$E$1001)*2","v":21.138000000000002}]
[178,7.1440000000003785,21.138000000000002,28.28200000000038,{"$f":"'Road only'!E179","v":18},10.28200000000038]
[179,10.28200000000038,0,10.28200000000038,{"$f":"'Road only'!E180","v":15},-4.7179999999996198,{"$f":"AVERAGE($E$2:$E$1001)*2","v":21.138000000000002}]
[180,-4.7179999999996198,21.138000000000002,16.420000000000382,{"$f":"'Road only'!E181","v":11},5.4200000000003818]
[181,5.4200000000003818,0,5.4200000000003818,{"$f":"'Road only'!E182","v":11},-5.5799999999996182,{"$f":"AVERAGE($E$2:$E$1001)*2","v":21.138000000000002}]
[182,-5.5799999999996182,21.138000000000002,15.558000000000384,{"$f":"'Road only'!E183","v":12},3.5580000000003835]
[183,3.5580000000003835,0,3.5580000000003835,{"$f":"'Road only'!E184","v":9},-5.4419999999996165,{"$f":"AVERAGE($E$2:$E$1001)*2","v":21.138000000000002}]
[184,-5.4419999999996165,21.138000000000002,15.696000000000385,{"$f":"'Road only'!E185","v":13},2.6960000000003852]
[185,2.6960000000003852,0,2.6960000000003852,{"$f":"'Road only'!E186","v":11},-8.3039999999996148,{"$f":"AVERAGE($E$2:$E$1001)*2","v":21.138000000000002}]
[186,-8.3039999999996148,21.138000000000002,12.834000000000387,{"$f":"'Road only'!E187","v":11},1.8340000000003869]
[187,1.8340000000003869,0,1.8340000000003869,{"$f":"'Road only'!E188","v":14},-12.165999999999613,{"$f":"AVERAGE($E$2:$E$1001)*2","v":21.138000000000002}]
[188,-12.165999999999613,21.138000000000002,8.9720000000003886,{"$f":"'Road only'!E189","v":7},1.9720000000003886]
[189,1.9720000000003886,0,1.9720000000003886,{"$f":"'Road only'!E190","v":9},-7.0279999999996114,{"$f":"AVERAGE($E$2:$E$1001)*2","v":21.138000000000002}]
[190,-7.0279999999996114,21.138000000000002,14.11000000000039,{"$f":"'Road only'!E191","v":9},5.1100000000003902]
[191,5.1100000000003902,0,5.1100000000003902,{"$f":"'Road only'!E192","v":12},-6.8899999999996098,{"$f":"AVERAGE($E$2:$E$1001)*2","v":21.138000000000002}]
[192,-6.8899999999996098,21.138000000000002,14.248000000000392,{"$f":"'Road only'!E193","v":13},1.2480000000003919]
[193,1.2480000000003919,0,1.2480000000003919,{"$f":"'Road only'!E194","v":13},-11.751999999999608,{"$f":"AVERAGE($E$2:$E$1001)*2","v":21.138000000000002}]
[194,-11.751999999999608,21.138000000000002,{"$f":"B195+C195","v":9.3860000000003936},{"$f":"'Road only'!E195","v":8},{"$f":"D195-E195","v":1.3860000000003936}]
[195,1.3860000000003936,{"$f":"G195","v":0},1.3860000000003936,{"$f":"'Road only'!E196","v":13},-11.613999999999606,{"$f":"AVERAGE($E$2:$E$1001)*2","v":21.138000000000002}]
[196,-11.613999999999606,21.138000000000002,9.5240000000003953,{"$f":"'Road only'!E197","v":10},-0.47599999999960474]
[197,-0.47599999999960474,0,-0.47599999999960474,{"$f":"'Road only'!E198","v":11},-11.475999999999605,{"$f":"AVERAGE($E$2:$E$1001)*2","v":21.138000000000002}]
[198,-11.475999999999605,21.138000000000002,9.6620000000003969,{"$f":"'Road only'!E199","v":12},-2.3379999999996031]
[199,-2.3379999999996031,0,-2.3379999999996031,{"$f":"'Road only'!E200","v":8},-10.337999999999603,{"$f":"AVERAGE($E$2:$E$1001)*2","v":21.138000000000002}]
[200,-10.337999999999603,21.138000000000002,10.800000000000399,{"$f":"'Road only'!E201","v":10},0.80000000000039861]
[201,0.80000000000039861,0,0.80000000000039861,{"$f":"'Road only'!E202","v":7},-6.1999999999996014,{"$f":"AVERAGE($E$2:$E$1001)*2","v":21.138000000000002}]
[202,-6.1999999999996014,21.138000000000002,14.9380000000004,{"$f":"'Road only'!E203","v":11},3.9380000000004003]
[203,3.9380000000004003,0,3.9380000000004003,{"$f":"'Road only'!E204","v":8},-4.0619999999995997,{"$f":"AVERAGE($E$2:$E$1001)*2","v":21.138000000000002}]
[204,-4.0619999999995997,21.138000000000002,17.076000000000402,{"$f":"'Road only'!E205","v":17},7.6000000000401968E-2]
[205,7.6000000000401968E-2,0,7.6000000000401968E-2,{"$f":"'Road only'!E206","v":13},-12.923999999999598,{"$f":"AVERAGE($E$2:$E$1001)*2","v":21.138000000000002}]
[206,-12.923999999999598,21.138000000000002,8.2140000000004036,{"$f":"'Road only'!E207","v":14},-5.7859999999995964]
[207,-5.7859999999995964,0,-5.7859999999995964,{"$f":"'Road only'!E208","v":9},-14.785999999999596,{"$f":"AVERAGE($E$2:$E$1001)*2","v":21.138000000000002}]
[208,-14.785999999999596,21.138000000000002,6.3520000000004053,{"$f":"'Road only'!E209","v":9},-2.6479999999995947]
[209,-2.6479999999995947,0,-2.6479999999995947,{"$f":"'Road only'!E210","v":7},-9.6479999999995947,{"$f":"AVERAGE($E$2:$E$1001)*2","v":21.138000000000002}]
[210,-9.6479999999995947,21.138000000000002,11.490000000000407,{"$f":"'Road only'!E211","v":12},-0.509999999999593]
[211,-0.509999999999593,0,-0.509999999999593,{"$f":"'Road only'!E212","v":13},-13.509999999999593,{"$f":"AVERAGE($E$2:$E$1001)*2","v":21.138000000000002}]
[212,-13.509999999999593,21.138000000000002,7.6280000000004087,{"$f":"'Road only'!E213","v":9},-1.3719999999995913]
[213,-1.3719999999995913,0,-1.3719999999995913,{"$f":"'Road only'!E214","v":10},-11.371999999999591,{"$f":"AVERAGE($E$2:$E$1001)*2","v":21.138000000000002}]
[214,-11.371999999999591,21.138000000000002,9.7660000000004104,{"$f":"'Road only'!E215","v":11},-1.2339999999995896]
[215,-1.2339999999995896,0,-1.2339999999995896,{"$f":"'Road only'!E216","v":17},-18.23399999999959,{"$f":"AVERAGE($E$2:$E$1001)*2","v":21.138000000000002}]
[216,-18.23399999999959,21.138000000000002,2.904000000000412,{"$f":"'Road only'!E217","v":8},-5.095999999999588]
[217,-5.095999999999588,0,-5.095999999999588,{"$f":"'Road only'!E218","v":10},-15.095999999999588,{"$f":"AVERAGE($E$2:$E$1001)*2","v":21.138000000000002}]
[218,-15.095999999999588,21.138000000000002,6.0420000000004137,{"$f":"'Road only'!E219","v":11},-4.9579999999995863]
[219,-4.9579999999995863,0,-4.9579999999995863,{"$f":"'Road only'!E220","v":9},-13.957999999999586,{"$f":"AVERAGE($E$2:$E$1001)*2","v":21.138000000000002}]
[220,-13.957999999999586,21.138000000000002,7.1800000000004154,{"$f":"'Road only'!E221","v":10},-2.8199999999995846]
[221,-2.8199999999995846,0,-2.8199999999995846,{"$f":"'Road only'!E222","v":13},-15.819999999999585,{"$f":"AVERAGE($E$2:$E$1001)*2","v":21.138000000000002}]
[222,-15.819999999999585,21.138000000000002,5.3180000000004171,{"$f":"'Road only'!E223","v":8},-2.6819999999995829]
[223,-2.6819999999995829,0,-2.6819999999995829,{"$f":"'Road only'!E224","v":9},-11.681999999999583,{"$f":"AVERAGE($E$2:$E$1001)*2","v":21.138000000000002}]
[224,-11.681999999999583,21.138000000000002,9.4560000000004187,{"$f":"'Road only'!E225","v":9},0.45600000000041874]
[225,0.45600000000041874,0,0.45600000000041874,{"$f":"'Road only'!E226","v":9},-8.5439999999995813,{"$f":"AVERAGE($E$2:$E$1001)*2","v":21.138000000000002}]
[226,-8.5439999999995813,21.138000000000002,12.59400000000042,{"$f":"'Road only'!E227","v":7},5.5940000000004204]
[227,5.5940000000004204,0,5.5940000000004204,{"$f":"'Road only'!E228","v":11},-5.4059999999995796,{"$f":"AVERAGE($E$2:$E$1001)*2","v":21.138000000000002}]
[228,-5.4059999999995796,21.138000000000002,15.732000000000422,{"$f":"'Road only'!E229","v":11},4.7320000000004221]
[229,{"$f":"F229","v":4.7320000000004221},0,4.7320000000004221,{"$f":"'Road only'!E230","v":13},-8.2679999999995779,{"$f":"AVERAGE($E$2:$E$1001)*2","v":21.138000000000002}]
[230,-8.2679999999995779,21.138000000000002,12.870000000000424,{"$f":"'Road only'!E231","v":6},6.8700000000004238]
[231,6.8700000000004238,0,6.8700000000004238,{"$f":"'Road only'!E232","v":13},-6.1299999999995762,{"$f":"AVERAGE($E$2:$E$1001)*2","v":21.138000000000002}]
[232,-6.1299999999995762,21.138000000000002,15.008000000000425,{"$f":"'Road only'!E233","v":12},3.0080000000004254]
[233,3.0080000000004254,0,3.0080000000004254,{"$f":"'Road only'!E234","v":10},-6.9919999999995746,{"$f":"AVERAGE($E$2:$E$1001)*2","v":21.138000000000002}]
[234,-6.9919999999995746,21.138000000000002,14.146000000000427,{"$f":"'Road only'!E235","v":9},5.1460000000004271]
[235,5.1460000000004271,0,5.1460000000004271,{"$f":"'Road only'!E236","v":10},-4.8539999999995729,{"$f":"AVERAGE($E$2:$E$1001)*2","v":21.138000000000002}]
[236,-4.8539999999995729,21.138000000000002,16.284000000000429,{"$f":"'Road only'!E237","v":5},11.284000000000429]
[237,11.284000000000429,0,11.284000000000429,{"$f":"'Road only'!E238","v":10},1.2840000000004288,{"$f":"AVERAGE($E$2:$E$1001)*2","v":21.138000000000002}]
[238,1.2840000000004288,21.138000000000002,22.42200000000043,{"$f":"'Road only'!E239","v":10},12.42200000000043]
[239,12.42200000000043,0,12.42200000000043,{"$f":"'Road only'!E240","v":6},6.4220000000004305,{"$f":"AVERAGE($E$2:$E$1001)*2","v":21.138000000000002}]
[240,6.4220000000004305,21.138000000000002,27.560000000000432,{"$f":"'Road only'!E241","v":5},22.560000000000432]
[241,22.560000000000432,0,22.560000000000432,{"$f":"'Road only'!E242","v":8},14.560000000000432,{"$f":"AVERAGE($E$2:$E$1001)*2","v":21.138000000000002}]
[242,14.560000000000432,21.138000000000002,35.698000000000434,{"$f":"'Road only'!E243","v":11},24.698000000000434]
[243,24.698000000000434,0,24.698000000000434,{"$f":"'Road only'!E244","v":11},13.698000000000434,{"$f":"AVERAGE($E$2:$E$1001)*2","v":21.138000000000002}]
[244,13.698000000000434,21.138000000000002,34.836000000000439,{"$f":"'Road only'!E245","v":13},21.836000000000439]
[245,21.836000000000439,0,21.836000000000439,{"$f":"'Road only'!E246","v":13},8.8360000000004391,{"$f":"AVERAGE($E$2:$E$1001)*2","v":21.138000000000002}]
[246,8.8360000000004391,21.138000000000002,29.974000000000441,{"$f":"'Road only'!E247","v":8},21.974000000000441]
[247,21.974000000000441,0,21.974000000000441,{"$f":"'Road only'!E248","v":12},9.9740000000004407,{"$f":"AVERAGE($E$2:$E$1001)*2","v":21.138000000000002}]
[248,9.9740000000004407,21.138000000000002,31.112000000000442,{"$f":"'Road only'!E249","v":10},21.112000000000442]
[249,21.112000000000442,0,21.112000000000442,{"$f":"'Road only'!E250","v":8},13.112000000000442,{"$f":"AVERAGE($E$2:$E$1001)*2","v":21.138000000000002}]
[250,13.112000000000442,21.138000000000002,34.250000000000441,{"$f":"'Road only'!E251","v":6},28.250000000000441]
[251,28.250000000000441,0,28.250000000000441,{"$f":"'Road only'!E252","v":11},17.250000000000441,{"$f":"AVERAGE($E$2:$E$1001)*2","v":21.138000000000002}]
[252,17.250000000000441,21.138000000000002,38.388000000000446,{"$f":"'Road only'!E253","v":12},26.388000000000446]
[253,26.388000000000446,0,26.388000000000446,{"$f":"'Road only'!E254","v":9},17.388000000000446,{"$f":"AVERAGE($E$2:$E$1001)*2","v":21.138000000000002}]
[254,17.388000000000446,21.138000000000002,38.526000000000451,{"$f":"'Road only'!E255","v":13},25.526000000000451]
[255,25.526000000000451,0,25.526000000000451,{"$f":"'Road only'!E256","v":9},16.526000000000451,{"$f":"AVERAGE($E$2:$E$1001)*2","v":21.138000000000002}]
[256,16.526000000000451,21.138000000000002,37.664000000000456,{"$f":"'Road only'!E257","v":14},23.664000000000456]
[257,23.664000000000456,0,23.664000000000456,{"$f":"'Road only'!E258","v":8},15.664000000000456,{"$f":"AVERAGE($E$2:$E$1001)*2","v":21.138000000000002}]
[258,15.664000000000456,21.138000000000002,{"$f":"B259+C259","v":36.802000000000461},{"$f":"'Road only'!E259","v":3},{"$f":"D259-E259","v":33.802000000000461}]
[259,33.802000000000461,{"$f":"G259","v":0},33.802000000000461,{"$f":"'Road only'!E260","v":14},19.802000000000461,{"$f":"AVERAGE($E$2:$E$1001)*2","v":21.138000000000002}]
[260,19.802000000000461,21.138000000000002,40.940000000000467,{"$f":"'Road only'!E261","v":14},26.940000000000467]
[261,26.940000000000467,0,26.940000000000467,{"$f":"'Road only'!E262","v":8},18.940000000000467,{"$f":"AVERAGE($E$2:$E$1001)*2","v":21.138000000000002}]
[262,18.940000000000467,21.138000000000002,40.078000000000472,{"$f":"'Road only'!E263","v":11},29.078000000000472]
[263,29.078000000000472,0,29.078000000000472,{"$f":"'Road only'!E264","v":7},22.078000000000472,{"$f":"AVERAGE($E$2:$E$1001)*2","v":21.138000000000002}]
[264,22.078000000000472,21.138000000000002,43.216000000000477,{"$f":"'Road only'!E265","v":13},30.216000000000477]
[265,30.216000000000477,0,30.216000000000477,{"$f":"'Road only'!E266","v":12},18.216000000000477,{"$f":"AVERAGE($E$2:$E$1001)*2","v":21.138000000000002}]
[266,18.216000000000477,21.138000000000002,39.354000000000482,{"$f":"'Road only'!E267","v":10},29.354000000000482]
[267,29.354000000000482,0,29.354000000000482,{"$f":"'Road only'!E268","v":8},21.354000000000482,{"$f":"AVERAGE($E$2:$E$1001)*2","v":21.138000000000002}]
[268,21.354000000000482,21.138000000000002,42.492000000000488,{"$f":"'Road only'!E269","v":6},36.492000000000488]
[269,36.492000000000488,0,36.492000000000488,{"$f":"'Road only'!E270","v":13},23.492000000000488,{"$f":"AVERAGE($E$2:$E$1001)*2","v":21.138000000000002}]
[270,23.492000000000488,21.138000000000002,44.630000000000493,{"$f":"'Road only'!E271","v":11},33.630000000000493]
[271,33.630000000000493,0,33.630000000000493,{"$f":"'Road only'!E272","v":9},24.630000000000493,{"$f":"AVERAGE($E$2:$E$1001)*2","v":21.138000000000002}]
[272,24.630000000000493,21.138000000000002,45.768000000000498,{"$f":"'Road only'!E273","v":12},33.768000000000498]
[273,33.768000000000498,0,33.768000000000498,{"$f":"'Road only'!E274","v":11},22.768000000000498,{"$f":"AVERAGE($E$2:$E$1001)*2","v":21.138000000000002}]
[274,22.768000000000498,21.138000000000002,43.906000000000503,{"$f":"'Road only'!E275","v":10},33.906000000000503]
[275,33.906000000000503,0,33.906000000000503,{"$f":"'Road only'!E276","v":7},26.906000000000503,{"$f":"AVERAGE($E$2:$E$1001)*2","v":21.138000000000002}]
[276,26.906000000000503,21.138000000000002,48.044000000000509,{"$f":"'Road only'!E277","v":9},39.044000000000509]
[277,39.044000000000509,0,39.044000000000509,{"$f":"'Road only'!E278","v":12},27.044000000000509,{"$f":"AVERAGE($E$2:$E$1001)*2","v":21.138000000000002}]
[278,27.044000000000509,21.138000000000002,48.182000000000514,{"$f":"'Road only'!E279","v":11},37.182000000000514]
[279,37.182000000000514,0,37.182000000000514,{"$f":"'Road only'!E280","v":11},26.182000000000514,{"$f":"AVERAGE($E$2:$E$1001)*2","v":21.138000000000002}]
[280,26.182000000000514,21.138000000000002,47.320000000000519,{"$f":"'Road only'!E281","v":15},32.320000000000519]
[281,32.320000000000519,0,32.320000000000519,{"$f":"'Road only'!E282","v":8},24.320000000000519,{"$f":"AVERAGE($E$2:$E$1001)*2","v":21.138000000000002}]
[282,24.320000000000519,21.138000000000002,45.458000000000524,{"$f":"'Road only'!E283","v":9},36.458000000000524]
[283,36.458000000000524,0,36.458000000000524,{"$f":"'Road only'!E284","v":8},28.458000000000524,{"$f":"AVERAGE($E$2:$E$1001)*2","v":21.138000000000002}]
[284,28.458000000000524,21.138000000000002,49.596000000000529,{"$f":"'Road only'!E285","v":6},43.596000000000529]
[285,43.596000000000529,0,43.596000000000529,{"$f":"'Road only'!E286","v":8},35.596000000000529,{"$f":"AVERAGE($E$2:$E$1001)*2","v":21.138000000000002}]
[286,35.596000000000529,21.138000000000002,56.734000000000535,{"$f":"'Road only'!E287","v":10},46.734000000000535]
[287,46.734000000000535,0,46.734000000000535,{"$f":"'Road only'!E288","v":13},33.734000000000535,{"$f":"AVERAGE($E$2:$E$1001)*2","v":21.138000000000002}]
[288,33.734000000000535,21.138000000000002,54.87200000000054,{"$f":"'Road only'!E289","v":5},49.87200000000054]
[289,49.87200000000054,0,49.87200000000054,{"$f":"'Road only'!E290","v":4},45.87200000000054,{"$f":"AVERAGE($E$2:$E$1001)*2","v":21.138000000000002}]
[290,45.87200000000054,21.138000000000002,67.010000000000545,{"$f":"'Road only'!E291","v":11},56.010000000000545]
[291,56.010000000000545,0,56.010000000000545,{"$f":"'Road only'!E292","v":13},43.010000000000545,{"$f":"AVERAGE($E$2:$E$1001)*2","v":21.138000000000002}]
[292,43.010000000000545,21.138000000000002,64.14800000000055,{"$f":"'Road only'!E293","v":15},49.14800000000055]
[293,{"$f":"F293","v":49.14800000000055},0,49.14800000000055,{"$f":"'Road only'!E294","v":15},34.14800000000055,{"$f":"AVERAGE($E$2:$E$1001)*2","v":21.138000000000002}]
[294,34.14800000000055,21.138000000000002,55.286000000000556,{"$f":"'Road only'!E295","v":14},41.286000000000556]
[295,41.286000000000556,0,41.286000000000556,{"$f":"'Road only'!E296","v":10},31.286000000000556,{"$f":"AVERAGE($E$2:$E$1001)*2","v":21.138000000000002}]
[296,31.286000000000556,21.138000000000002,52.424000000000561,{"$f":"'Road only'!E297","v":14},38.424000000000561]
[297,38.424000000000561,0,38.424000000000561,{"$f":"'Road only'!E298","v":10},28.424000000000561,{"$f":"AVERAGE($E$2:$E$1001)*2","v":21.138000000000002}]
[298,28.424000000000561,21.138000000000002,49.562000000000566,{"$f":"'Road only'!E299","v":11},38.562000000000566]
[299,38.562000000000566,0,38.562000000000566,{"$f":"'Road only'!E300","v":6},32.562000000000566,{"$f":"AVERAGE($E$2:$E$1001)*2","v":21.138000000000002}]
[300,32.562000000000566,21.138000000000002,53.700000000000571,{"$f":"'Road only'!E301","v":10},43.700000000000571]
[301,43.700000000000571,0,43.700000000000571,{"$f":"'Road only'!E302","v":12},31.700000000000571,{"$f":"AVERAGE($E$2:$E$1001)*2","v":21.138000000000002}]
[302,31.700000000000571,21.138000000000002,52.838000000000577,{"$f":"'Road only'!E303","v":14},38.838000000000577]
[303,38.838000000000577,0,38.838000000000577,{"$f":"'Road only'!E304","v":10},28.838000000000577,{"$f":"AVERAGE($E$2:$E$1001)*2","v":21.138000000000002}]
[304,28.838000000000577,21.138000000000002,49.976000000000582,{"$f":"'Road only'!E305","v":10},39.976000000000582]
[305,39.976000000000582,0,39.976000000000582,{"$f":"'Road only'!E306","v":12},27.976000000000582,{"$f":"AVERAGE($E$2:$E$1001)*2","v":21.138000000000002}]
[306,27.976000000000582,21.138000000000002,49.114000000000587,{"$f":"'Road only'!E307","v":12},37.114000000000587]
[307,37.114000000000587,0,37.114000000000587,{"$f":"'Road only'!E308","v":13},24.114000000000587,{"$f":"AVERAGE($E$2:$E$1001)*2","v":21.138000000000002}]
[308,24.114000000000587,21.138000000000002,45.252000000000592,{"$f":"'Road only'!E309","v":13},32.252000000000592]
[309,32.252000000000592,0,32.252000000000592,{"$f":"'Road only'!E310","v":10},22.252000000000592,{"$f":"AVERAGE($E$2:$E$1001)*2","v":21.138000000000002}]
[310,22.252000000000592,21.138000000000002,43.390000000000597,{"$f":"'Road only'!E311","v":13},30.390000000000597]
[311,30.390000000000597,0,30.390000000000597,{"$f":"'Road only'!E312","v":10},20.390000000000597,{"$f":"AVERAGE($E$2:$E$1001)*2","v":21.138000000000002}]
[312,20.390000000000597,21.138000000000002,41.528000000000603,{"$f":"'Road only'!E313","v":11},30.528000000000603]
[313,30.528000000000603,0,30.528000000000603,{"$f":"'Road only'!E314","v":14},16.528000000000603,{"$f":"AVERAGE($E$2:$E$1001)*2","v":21.138000000000002}]
[314,16.528000000000603,21.138000000000002,37.666000000000608,{"$f":"'Road only'!E315","v":12},25.666000000000608]
[315,25.666000000000608,0,25.666000000000608,{"$f":"'Road only'!E316","v":14},11.666000000000608,{"$f":"AVERAGE($E$2:$E$1001)*2","v":21.138000000000002}]
[316,11.666000000000608,21.138000000000002,32.804000000000613,{"$f":"'Road only'!E317","v":8},24.804000000000613]
[317,24.804000000000613,0,24.804000000000613,{"$f":"'Road only'!E318","v":10},14.804000000000613,{"$f":"AVERAGE($E$2:$E$1001)*2","v":21.138000000000002}]
[318,14.804000000000613,21.138000000000002,35.942000000000618,{"$f":"'Road only'!E319","v":8},27.942000000000618]
[319,27.942000000000618,0,27.942000000000618,{"$f":"'Road only'!E320","v":12},15.942000000000618,{"$f":"AVERAGE($E$2:$E$1001)*2","v":21.138000000000002}]
[320,15.942000000000618,21.138000000000002,37.080000000000624,{"$f":"'Road only'!E321","v":12},25.080000000000624]
[321,25.080000000000624,0,25.080000000000624,{"$f":"'Road only'!E322","v":12},13.080000000000624,{"$f":"AVERAGE($E$2:$E$1001)*2","v":21.138000000000002}]
[322,13.080000000000624,21.138000000000002,{"$f":"B323+C323","v":34.218000000000629},{"$f":"'Road only'!E323","v":14},{"$f":"D323-E323","v":20.218000000000629}]
[323,20.218000000000629,{"$f":"G323","v":0},20.218000000000629,{"$f":"'Road only'!E324","v":5},15.218000000000629,{"$f":"AVERAGE($E$2:$E$1001)*2","v":21.138000000000002}]
[324,15.218000000000629,21.138000000000002,36.356000000000634,{"$f":"'Road only'!E325","v":9},27.356000000000634]
[325,27.356000000000634,0,27.356000000000634,{"$f":"'Road only'!E326","v":10},17.356000000000634,{"$f":"AVERAGE($E$2:$E$1001)*2","v":21.138000000000002}]
[326,17.356000000000634,21.138000000000002,38.494000000000639,{"$f":"'Road only'!E327","v":9},29.494000000000639]
[327,29.494000000000639,0,29.494000000000639,{"$f":"'Road only'!E328","v":12},17.494000000000639,{"$f":"AVERAGE($E$2:$E$1001)*2","v":21.138000000000002}]
[328,17.494000000000639,21.138000000000002,38.632000000000644,{"$f":"'Road only'!E329","v":8},30.632000000000644]
[329,30.632000000000644,0,30.632000000000644,{"$f":"'Road only'!E330","v":9},21.632000000000644,{"$f":"AVERAGE($E$2:$E$1001)*2","v":21.138000000000002}]
[330,21.632000000000644,21.138000000000002,42.77000000000065,{"$f":"'Road only'!E331","v":9},33.77000000000065]
[331,33.77000000000065,0,33.77000000000065,{"$f":"'Road only'!E332","v":14},19.77000000000065,{"$f":"AVERAGE($E$2:$E$1001)*2","v":21.138000000000002}]
[332,19.77000000000065,21.138000000000002,40.908000000000655,{"$f":"'Road only'!E333","v":9},31.908000000000655]
[333,31.908000000000655,0,31.908000000000655,{"$f":"'Road only'!E334","v":11},20.908000000000655,{"$f":"AVERAGE($E$2:$E$1001)*2","v":21.138000000000002}]
[334,20.908000000000655,21.138000000000002,42.04600000000066,{"$f":"'Road only'!E335","v":15},27.04600000000066]
[335,27.04600000000066,0,27.04600000000066,{"$f":"'Road only'!E336","v":13},14.04600000000066,{"$f":"AVERAGE($E$2:$E$1001)*2","v":21.138000000000002}]
[336,14.04600000000066,21.138000000000002,35.184000000000665,{"$f":"'Road only'!E337","v":13},22.184000000000665]
[337,22.184000000000665,0,22.184000000000665,{"$f":"'Road only'!E338","v":6},16.184000000000665,{"$f":"AVERAGE($E$2:$E$1001)*2","v":21.138000000000002}]
[338,16.184000000000665,21.138000000000002,37.322000000000671,{"$f":"'Road only'!E339","v":17},20.322000000000671]
[339,20.322000000000671,0,20.322000000000671,{"$f":"'Road only'!E340","v":7},13.322000000000671,{"$f":"AVERAGE($E$2:$E$1001)*2","v":21.138000000000002}]
[340,13.322000000000671,21.138000000000002,34.460000000000676,{"$f":"'Road only'!E341","v":15},19.460000000000676]
[341,19.460000000000676,0,19.460000000000676,{"$f":"'Road only'!E342","v":12},7.4600000000006759,{"$f":"AVERAGE($E$2:$E$1001)*2","v":21.138000000000002}]
[342,7.4600000000006759,21.138000000000002,28.598000000000678,{"$f":"'Road only'!E343","v":13},15.598000000000678]
[343,15.598000000000678,0,15.598000000000678,{"$f":"'Road only'!E344","v":9},6.5980000000006775,{"$f":"AVERAGE($E$2:$E$1001)*2","v":21.138000000000002}]
[344,6.5980000000006775,21.138000000000002,27.736000000000679,{"$f":"'Road only'!E345","v":8},19.736000000000679]
[345,19.736000000000679,0,19.736000000000679,{"$f":"'Road only'!E346","v":9},10.736000000000679,{"$f":"AVERAGE($E$2:$E$1001)*2","v":21.138000000000002}]
[346,10.736000000000679,21.138000000000002,31.874000000000681,{"$f":"'Road only'!E347","v":10},21.874000000000681]
[347,21.874000000000681,0,21.874000000000681,{"$f":"'Road only'!E348","v":9},12.874000000000681,{"$f":"AVERAGE($E$2:$E$1001)*2","v":21.138000000000002}]
[348,12.874000000000681,21.138000000000002,34.012000000000683,{"$f":"'Road only'!E349","v":7},27.012000000000683]
[349,27.012000000000683,0,27.012000000000683,{"$f":"'Road only'!E350","v":7},20.012000000000683,{"$f":"AVERAGE($E$2:$E$1001)*2","v":21.138000000000002}]
[350,20.012000000000683,21.138000000000002,41.150000000000688,{"$f":"'Road only'!E351","v":9},32.150000000000688]
[351,32.150000000000688,0,32.150000000000688,{"$f":"'Road only'!E352","v":10},22.150000000000688,{"$f":"AVERAGE($E$2:$E$1001)*2","v":21.138000000000002}]
[352,22.150000000000688,21.138000000000002,43.288000000000693,{"$f":"'Road only'!E353","v":11},32.288000000000693]
[353,32.288000000000693,0,32.288000000000693,{"$f":"'Road only'!E354","v":5},27.288000000000693,{"$f":"AVERAGE($E$2:$E$1001)*2","v":21.138000000000002}]
[354,27.288000000000693,21.138000000000002,48.426000000000698,{"$f":"'Road only'!E355","v":9},39.426000000000698]
[355,39.426000000000698,0,39.426000000000698,{"$f":"'Road only'!E356","v":7},32.426000000000698,{"$f":"AVERAGE($E$2:$E$1001)*2","v":21.138000000000002}]
[356,32.426000000000698,21.138000000000002,53.564000000000703,{"$f":"'Road only'!E357","v":9},44.564000000000703]
[357,{"$f":"F357","v":44.564000000000703},0,44.564000000000703,{"$f":"'Road only'!E358","v":11},33.564000000000703,{"$f":"AVERAGE($E$2:$E$1001)*2","v":21.138000000000002}]
[358,33.564000000000703,21.138000000000002,54.702000000000709,{"$f":"'Road only'!E359","v":10},44.702000000000709]
[359,44.702000000000709,0,44.702000000000709,{"$f":"'Road only'!E360","v":10},34.702000000000709,{"$f":"AVERAGE($E$2:$E$1001)*2","v":21.138000000000002}]
[360,34.702000000000709,21.138000000000002,55.840000000000714,{"$f":"'Road only'!E361","v":6},49.840000000000714]
[361,49.840000000000714,0,49.840000000000714,{"$f":"'Road only'!E362","v":14},35.840000000000714,{"$f":"AVERAGE($E$2:$E$1001)*2","v":21.138000000000002}]
[362,35.840000000000714,21.138000000000002,56.978000000000719,{"$f":"'Road only'!E363","v":13},43.978000000000719]
[363,43.978000000000719,0,43.978000000000719,{"$f":"'Road only'!E364","v":11},32.978000000000719,{"$f":"AVERAGE($E$2:$E$1001)*2","v":21.138000000000002}]
[364,32.978000000000719,21.138000000000002,54.116000000000724,{"$f":"'Road only'!E365","v":13},41.116000000000724]
[365,41.116000000000724,0,41.116000000000724,{"$f":"'Road only'!E366","v":13},28.116000000000724,{"$f":"AVERAGE($E$2:$E$1001)*2","v":21.138000000000002}]
[366,28.116000000000724,21.138000000000002,49.25400000000073,{"$f":"'Road only'!E367","v":15},34.25400000000073]
[367,34.25400000000073,0,34.25400000000073,{"$f":"'Road only'!E368","v":10},24.25400000000073,{"$f":"AVERAGE($E$2:$E$1001)*2","v":21.138000000000002}]
[368,24.25400000000073,21.138000000000002,45.392000000000735,{"$f":"'Road only'!E369","v":13},32.392000000000735]
[369,32.392000000000735,0,32.392000000000735,{"$f":"'Road only'!E370","v":12},20.392000000000735,{"$f":"AVERAGE($E$2:$E$1001)*2","v":21.138000000000002}]
[370,20.392000000000735,21.138000000000002,41.53000000000074,{"$f":"'Road only'!E371","v":10},31.53000000000074]
[371,31.53000000000074,0,31.53000000000074,{"$f":"'Road only'!E372","v":13},18.53000000000074,{"$f":"AVERAGE($E$2:$E$1001)*2","v":21.138000000000002}]
[372,18.53000000000074,21.138000000000002,39.668000000000745,{"$f":"'Road only'!E373","v":9},30.668000000000745]
[373,30.668000000000745,0,30.668000000000745,{"$f":"'Road only'!E374","v":8},22.668000000000745,{"$f":"AVERAGE($E$2:$E$1001)*2","v":21.138000000000002}]
[374,22.668000000000745,21.138000000000002,43.806000000000751,{"$f":"'Road only'!E375","v":11},32.806000000000751]
[375,32.806000000000751,0,32.806000000000751,{"$f":"'Road only'!E376","v":11},21.806000000000751,{"$f":"AVERAGE($E$2:$E$1001)*2","v":21.138000000000002}]
[376,21.806000000000751,21.138000000000002,42.944000000000756,{"$f":"'Road only'!E377","v":5},37.944000000000756]
[377,37.944000000000756,0,37.944000000000756,{"$f":"'Road only'!E378","v":8},29.944000000000756,{"$f":"AVERAGE($E$2:$E$1001)*2","v":21.138000000000002}]
[378,29.944000000000756,21.138000000000002,51.082000000000761,{"$f":"'Road only'!E379","v":9},42.082000000000761]
[379,42.082000000000761,0,42.082000000000761,{"$f":"'Road only'!E380","v":10},32.082000000000761,{"$f":"AVERAGE($E$2:$E$1001)*2","v":21.138000000000002}]
[380,32.082000000000761,21.138000000000002,53.220000000000766,{"$f":"'Road only'!E381","v":8},45.220000000000766]
[381,45.220000000000766,0,45.220000000000766,{"$f":"'Road only'!E382","v":12},33.220000000000766,{"$f":"AVERAGE($E$2:$E$1001)*2","v":21.138000000000002}]
[382,33.220000000000766,21.138000000000002,54.358000000000771,{"$f":"'Road only'!E383","v":8},46.358000000000771]
[383,46.358000000000771,0,46.358000000000771,{"$f":"'Road only'!E384","v":10},36.358000000000771,{"$f":"AVERAGE($E$2:$E$1001)*2","v":21.138000000000002}]
[384,36.358000000000771,21.138000000000002,57.496000000000777,{"$f":"'Road only'!E385","v":7},50.496000000000777]
[385,50.496000000000777,0,50.496000000000777,{"$f":"'Road only'!E386","v":12},38.496000000000777,{"$f":"AVERAGE($E$2:$E$1001)*2","v":21.138000000000002}]
[386,38.496000000000777,21.138000000000002,{"$f":"B387+C387","v":59.634000000000782},{"$f":"'Road only'!E387","v":10},{"$f":"D387-E387","v":49.634000000000782}]
[387,49.634000000000782,{"$f":"G387","v":0},49.634000000000782,{"$f":"'Road only'!E388","v":11},38.634000000000782,{"$f":"AVERAGE($E$2:$E$1001)*2","v":21.138000000000002}]
[388,38.634000000000782,21.138000000000002,59.772000000000787,{"$f":"'Road only'!E389","v":13},46.772000000000787]
[389,46.772000000000787,0,46.772000000000787,{"$f":"'Road only'!E390","v":12},34.772000000000787,{"$f":"AVERAGE($E$2:$E$1001)*2","v":21.138000000000002}]
[390,34.772000000000787,21.138000000000002,55.910000000000792,{"$f":"'Road only'!E391","v":12},43.910000000000792]
[391,43.910000000000792,0,43.910000000000792,{"$f":"'Road only'!E392","v":14},29.910000000000792,{"$f":"AVERAGE($E$2:$E$1001)*2","v":21.138000000000002}]
[392,29.910000000000792,21.138000000000002,51.048000000000798,{"$f":"'Road only'!E393","v":11},40.048000000000798]
[393,40.048000000000798,0,40.048000000000798,{"$f":"'Road only'!E394","v":4},36.048000000000798,{"$f":"AVERAGE($E$2:$E$1001)*2","v":21.138000000000002}]
[394,36.048000000000798,21.138000000000002,57.186000000000803,{"$f":"'Road only'!E395","v":10},47.186000000000803]
[395,47.186000000000803,0,47.186000000000803,{"$f":"'Road only'!E396","v":11},36.186000000000803,{"$f":"AVERAGE($E$2:$E$1001)*2","v":21.138000000000002}]
[396,36.186000000000803,21.138000000000002,57.324000000000808,{"$f":"'Road only'!E397","v":10},47.324000000000808]
[397,47.324000000000808,0,47.324000000000808,{"$f":"'Road only'!E398","v":7},40.324000000000808,{"$f":"AVERAGE($E$2:$E$1001)*2","v":21.138000000000002}]
[398,40.324000000000808,21.138000000000002,61.462000000000813,{"$f":"'Road only'!E399","v":15},46.462000000000813]
[399,46.462000000000813,0,46.462000000000813,{"$f":"'Road only'!E400","v":7},39.462000000000813,{"$f":"AVERAGE($E$2:$E$1001)*2","v":21.138000000000002}]
[400,39.462000000000813,21.138000000000002,60.600000000000819,{"$f":"'Road only'!E401","v":8},52.600000000000819]
[401,52.600000000000819,0,52.600000000000819,{"$f":"'Road only'!E402","v":14},38.600000000000819,{"$f":"AVERAGE($E$2:$E$1001)*2","v":21.138000000000002}]
[402,38.600000000000819,21.138000000000002,59.738000000000824,{"$f":"'Road only'!E403","v":13},46.738000000000824]
[403,46.738000000000824,0,46.738000000000824,{"$f":"'Road only'!E404","v":7},39.738000000000824,{"$f":"AVERAGE($E$2:$E$1001)*2","v":21.138000000000002}]
[404,39.738000000000824,21.138000000000002,60.876000000000829,{"$f":"'Road only'!E405","v":10},50.876000000000829]
[405,50.876000000000829,0,50.876000000000829,{"$f":"'Road only'!E406","v":13},37.876000000000829,{"$f":"AVERAGE($E$2:$E$1001)*2","v":21.138000000000002}]
[406,37.876000000000829,21.138000000000002,59.014000000000834,{"$f":"'Road only'!E407","v":9},50.014000000000834]
[407,50.014000000000834,0,50.014000000000834,{"$f":"'Road only'!E408","v":11},39.014000000000834,{"$f":"AVERAGE($E$2:$E$1001)*2","v":21.138000000000002}]
[408,39.014000000000834,21.138000000000002,60.152000000000839,{"$f":"'Road only'!E409","v":14},46.152000000000839]
[409,46.152000000000839,0,46.152000000000839,{"$f":"'Road only'!E410","v":8},38.152000000000839,{"$f":"AVERAGE($E$2:$E$1001)*2","v":21.138000000000002}]
[410,38.152000000000839,21.138000000000002,59.290000000000845,{"$f":"'Road only'!E411","v":15},44.290000000000845]
[411,44.290000000000845,0,44.290000000000845,{"$f":"'Road only'!E412","v":15},29.290000000000845,{"$f":"AVERAGE($E$2:$E$1001)*2","v":21.138000000000002}]
[412,29.290000000000845,21.138000000000002,50.42800000000085,{"$f":"'Road only'!E413","v":11},39.42800000000085]
[413,39.42800000000085,0,39.42800000000085,{"$f":"'Road only'!E414","v":9},30.42800000000085,{"$f":"AVERAGE($E$2:$E$1001)*2","v":21.138000000000002}]
[414,30.42800000000085,21.138000000000002,51.566000000000855,{"$f":"'Road only'!E415","v":13},38.566000000000855]
[415,38.566000000000855,0,38.566000000000855,{"$f":"'Road only'!E416","v":9},29.566000000000855,{"$f":"AVERAGE($E$2:$E$1001)*2","v":21.138000000000002}]
[416,29.566000000000855,21.138000000000002,50.70400000000086,{"$f":"'Road only'!E417","v":10},40.70400000000086]
[417,40.70400000000086,0,40.70400000000086,{"$f":"'Road only'!E418","v":13},27.70400000000086,{"$f":"AVERAGE($E$2:$E$1001)*2","v":21.138000000000002}]
[418,27.70400000000086,21.138000000000002,48.842000000000866,{"$f":"'Road only'!E419","v":9},39.842000000000866]
[419,39.842000000000866,0,39.842000000000866,{"$f":"'Road only'!E420","v":12},27.842000000000866,{"$f":"AVERAGE($E$2:$E$1001)*2","v":21.138000000000002}]
[420,27.842000000000866,21.138000000000002,48.980000000000871,{"$f":"'Road only'!E421","v":6},42.980000000000871]
[421,{"$f":"F421","v":42.980000000000871},0,42.980000000000871,{"$f":"'Road only'!E422","v":11},31.980000000000871,{"$f":"AVERAGE($E$2:$E$1001)*2","v":21.138000000000002}]
[422,31.980000000000871,21.138000000000002,53.118000000000876,{"$f":"'Road only'!E423","v":4},49.118000000000876]
[423,49.118000000000876,0,49.118000000000876,{"$f":"'Road only'!E424","v":12},37.118000000000876,{"$f":"AVERAGE($E$2:$E$1001)*2","v":21.138000000000002}]
[424,37.118000000000876,21.138000000000002,58.256000000000881,{"$f":"'Road only'!E425","v":10},48.256000000000881]
[425,48.256000000000881,0,48.256000000000881,{"$f":"'Road only'!E426","v":9},39.256000000000881,{"$f":"AVERAGE($E$2:$E$1001)*2","v":21.138000000000002}]
[426,39.256000000000881,21.138000000000002,60.394000000000887,{"$f":"'Road only'!E427","v":10},50.394000000000887]
[427,50.394000000000887,0,50.394000000000887,{"$f":"'Road only'!E428","v":12},38.394000000000887,{"$f":"AVERAGE($E$2:$E$1001)*2","v":21.138000000000002}]
[428,38.394000000000887,21.138000000000002,59.532000000000892,{"$f":"'Road only'!E429","v":8},51.532000000000892]
[429,51.532000000000892,0,51.532000000000892,{"$f":"'Road only'!E430","v":10},41.532000000000892,{"$f":"AVERAGE($E$2:$E$1001)*2","v":21.138000000000002}]
[430,41.532000000000892,21.138000000000002,62.670000000000897,{"$f":"'Road only'!E431","v":9},53.670000000000897]
[431,53.670000000000897,0,53.670000000000897,{"$f":"'Road only'!E432","v":8},45.670000000000897,{"$f":"AVERAGE($E$2:$E$1001)*2","v":21.138000000000002}]
[432,45.670000000000897,21.138000000000002,66.808000000000902,{"$f":"'Road only'!E433","v":14},52.808000000000902]
[433,52.808000000000902,0,52.808000000000902,{"$f":"'Road only'!E434","v":16},36.808000000000902,{"$f":"AVERAGE($E$2:$E$1001)*2","v":21.138000000000002}]
[434,36.808000000000902,21.138000000000002,57.946000000000907,{"$f":"'Road only'!E435","v":11},46.946000000000907]
[435,46.946000000000907,0,46.946000000000907,{"$f":"'Road only'!E436","v":13},33.946000000000907,{"$f":"AVERAGE($E$2:$E$1001)*2","v":21.138000000000002}]
[436,33.946000000000907,21.138000000000002,55.084000000000913,{"$f":"'Road only'!E437","v":17},38.084000000000913]
[437,38.084000000000913,0,38.084000000000913,{"$f":"'Road only'!E438","v":8},30.084000000000913,{"$f":"AVERAGE($E$2:$E$1001)*2","v":21.138000000000002}]
[438,30.084000000000913,21.138000000000002,51.222000000000918,{"$f":"'Road only'!E439","v":15},36.222000000000918]
[439,36.222000000000918,0,36.222000000000918,{"$f":"'Road only'!E440","v":4},32.222000000000918,{"$f":"AVERAGE($E$2:$E$1001)*2","v":21.138000000000002}]
[440,32.222000000000918,21.138000000000002,53.360000000000923,{"$f":"'Road only'!E441","v":4},49.360000000000923]
[441,49.360000000000923,0,49.360000000000923,{"$f":"'Road only'!E442","v":9},40.360000000000923,{"$f":"AVERAGE($E$2:$E$1001)*2","v":21.138000000000002}]
[442,40.360000000000923,21.138000000000002,61.498000000000928,{"$f":"'Road only'!E443","v":13},48.498000000000928]
[443,48.498000000000928,0,48.498000000000928,{"$f":"'Road only'!E444","v":10},38.498000000000928,{"$f":"AVERAGE($E$2:$E$1001)*2","v":21.138000000000002}]
[444,38.498000000000928,21.138000000000002,59.636000000000934,{"$f":"'Road only'!E445","v":13},46.636000000000934]
[445,46.636000000000934,0,46.636000000000934,{"$f":"'Road only'!E446","v":12},34.636000000000934,{"$f":"AVERAGE($E$2:$E$1001)*2","v":21.138000000000002}]
[446,34.636000000000934,21.138000000000002,55.774000000000939,{"$f":"'Road only'!E447","v":9},46.774000000000939]
[447,46.774000000000939,0,46.774000000000939,{"$f":"'Road only'!E448","v":14},32.774000000000939,{"$f":"AVERAGE($E$2:$E$1001)*2","v":21.138000000000002}]
[448,32.774000000000939,21.138000000000002,53.912000000000944,{"$f":"'Road only'!E449","v":13},40.912000000000944]
[449,40.912000000000944,0,40.912000000000944,{"$f":"'Road only'!E450","v":5},35.912000000000944,{"$f":"AVERAGE($E$2:$E$1001)*2","v":21.138000000000002}]
[450,35.912000000000944,21.138000000000002,{"$f":"B451+C451","v":57.050000000000949},{"$f":"'Road only'!E451","v":8},{"$f":"D451-E451","v":49.050000000000949}]
[451,49.050000000000949,{"$f":"G451","v":0},49.050000000000949,{"$f":"'Road only'!E452","v":12},37.050000000000949,{"$f":"AVERAGE($E$2:$E$1001)*2","v":21.138000000000002}]
[452,37.050000000000949,21.138000000000002,58.188000000000955,{"$f":"'Road only'!E453","v":10},48.188000000000955]
[453,48.188000000000955,0,48.188000000000955,{"$f":"'Road only'!E454","v":10},38.188000000000955,{"$f":"AVERAGE($E$2:$E$1001)*2","v":21.138000000000002}]
[454,38.188000000000955,21.138000000000002,59.32600000000096,{"$f":"'Road only'!E455","v":10},49.32600000000096]
[455,49.32600000000096,0,49.32600000000096,{"$f":"'Road only'!E456","v":13},36.32600000000096,{"$f":"AVERAGE($E$2:$E$1001)*2","v":21.138000000000002}]
[456,36.32600000000096,21.138000000000002,57.464000000000965,{"$f":"'Road only'!E457","v":15},42.464000000000965]
[457,42.464000000000965,0,42.464000000000965,{"$f":"'Road only'!E458","v":11},31.464000000000965,{"$f":"AVERAGE($E$2:$E$1001)*2","v":21.138000000000002}]
[458,31.464000000000965,21.138000000000002,52.60200000000097,{"$f":"'Road only'!E459","v":7},45.60200000000097]
[459,45.60200000000097,0,45.60200000000097,{"$f":"'Road only'!E460","v":9},36.60200000000097,{"$f":"AVERAGE($E$2:$E$1001)*2","v":21.138000000000002}]
[460,36.60200000000097,21.138000000000002,57.740000000000975,{"$f":"'Road only'!E461","v":11},46.740000000000975]
[461,46.740000000000975,0,46.740000000000975,{"$f":"'Road only'!E462","v":13},33.740000000000975,{"$f":"AVERAGE($E$2:$E$1001)*2","v":21.138000000000002}]
[462,33.740000000000975,21.138000000000002,54.878000000000981,{"$f":"'Road only'!E463","v":14},40.878000000000981]
[463,40.878000000000981,0,40.878000000000981,{"$f":"'Road only'!E464","v":9},31.878000000000981,{"$f":"AVERAGE($E$2:$E$1001)*2","v":21.138000000000002}]
[464,31.878000000000981,21.138000000000002,53.016000000000986,{"$f":"'Road only'!E465","v":10},43.016000000000986]
[465,43.016000000000986,0,43.016000000000986,{"$f":"'Road only'!E466","v":13},30.016000000000986,{"$f":"AVERAGE($E$2:$E$1001)*2","v":21.138000000000002}]
[466,30.016000000000986,21.138000000000002,51.154000000000991,{"$f":"'Road only'!E467","v":12},39.154000000000991]
[467,39.154000000000991,0,39.154000000000991,{"$f":"'Road only'!E468","v":9},30.154000000000991,{"$f":"AVERAGE($E$2:$E$1001)*2","v":21.138000000000002}]
[468,30.154000000000991,21.138000000000002,51.292000000000996,{"$f":"'Road only'!E469","v":16},35.292000000000996]
[469,35.292000000000996,0,35.292000000000996,{"$f":"'Road only'!E470","v":13},22.292000000000996,{"$f":"AVERAGE($E$2:$E$1001)*2","v":21.138000000000002}]
[470,22.292000000000996,21.138000000000002,43.430000000001002,{"$f":"'Road only'!E471","v":14},29.430000000001002]
[471,29.430000000001002,0,29.430000000001002,{"$f":"'Road only'!E472","v":14},15.430000000001002,{"$f":"AVERAGE($E$2:$E$1001)*2","v":21.138000000000002}]
[472,15.430000000001002,21.138000000000002,36.568000000001007,{"$f":"'Road only'!E473","v":5},31.568000000001007]
[473,31.568000000001007,0,31.568000000001007,{"$f":"'Road only'!E474","v":9},22.568000000001007,{"$f":"AVERAGE($E$2:$E$1001)*2","v":21.138000000000002}]
[474,22.568000000001007,21.138000000000002,43.706000000001012,{"$f":"'Road only'!E475","v":9},34.706000000001012]
[475,34.706000000001012,0,34.706000000001012,{"$f":"'Road only'!E476","v":10},24.706000000001012,{"$f":"AVERAGE($E$2:$E$1001)*2","v":21.138000000000002}]
[476,24.706000000001012,21.138000000000002,45.844000000001017,{"$f":"'Road only'!E477","v":13},32.844000000001017]
[477,32.844000000001017,0,32.844000000001017,{"$f":"'Road only'!E478","v":12},20.844000000001017,{"$f":"AVERAGE($E$2:$E$1001)*2","v":21.138000000000002}]
[478,20.844000000001017,21.138000000000002,41.982000000001022,{"$f":"'Road only'!E479","v":7},34.982000000001022]
[479,34.982000000001022,0,34.982000000001022,{"$f":"'Road only'!E480","v":14},20.982000000001022,{"$f":"AVERAGE($E$2:$E$1001)*2","v":21.138000000000002}]
[480,20.982000000001022,21.138000000000002,42.120000000001028,{"$f":"'Road only'!E481","v":10},32.120000000001028]
[481,32.120000000001028,0,32.120000000001028,{"$f":"'Road only'!E482","v":15},17.120000000001028,{"$f":"AVERAGE($E$2:$E$1001)*2","v":21.138000000000002}]
[482,17.120000000001028,21.138000000000002,38.258000000001033,{"$f":"'Road only'!E483","v":13},25.258000000001033]
[483,25.258000000001033,0,25.258000000001033,{"$f":"'Road only'!E484","v":12},13.258000000001033,{"$f":"AVERAGE($E$2:$E$1001)*2","v":21.138000000000002}]
[484,13.258000000001033,21.138000000000002,34.396000000001038,{"$f":"'Road only'!E485","v":7},27.396000000001038]
[485,{"$f":"F485","v":27.396000000001038},0,27.396000000001038,{"$f":"'Road only'!E486","v":11},16.396000000001038,{"$f":"AVERAGE($E$2:$E$1001)*2","v":21.138000000000002}]
[486,16.396000000001038,21.138000000000002,37.534000000001043,{"$f":"'Road only'!E487","v":14},23.534000000001043]
[487,23.534000000001043,0,23.534000000001043,{"$f":"'Road only'!E488","v":9},14.534000000001043,{"$f":"AVERAGE($E$2:$E$1001)*2","v":21.138000000000002}]
[488,14.534000000001043,21.138000000000002,35.672000000001049,{"$f":"'Road only'!E489","v":9},26.672000000001049]
[489,26.672000000001049,0,26.672000000001049,{"$f":"'Road only'!E490","v":6},20.672000000001049,{"$f":"AVERAGE($E$2:$E$1001)*2","v":21.138000000000002}]
[490,20.672000000001049,21.138000000000002,41.810000000001054,{"$f":"'Road only'!E491","v":12},29.810000000001054]
[491,29.810000000001054,0,29.810000000001054,{"$f":"'Road only'!E492","v":14},15.810000000001054,{"$f":"AVERAGE($E$2:$E$1001)*2","v":21.138000000000002}]
[492,15.810000000001054,21.138000000000002,36.948000000001059,{"$f":"'Road only'!E493","v":14},22.948000000001059]
[493,22.948000000001059,0,22.948000000001059,{"$f":"'Road only'!E494","v":12},10.948000000001059,{"$f":"AVERAGE($E$2:$E$1001)*2","v":21.138000000000002}]
[494,10.948000000001059,21.138000000000002,32.086000000001064,{"$f":"'Road only'!E495","v":11},21.086000000001064]
[495,21.086000000001064,0,21.086000000001064,{"$f":"'Road only'!E496","v":10},11.086000000001064,{"$f":"AVERAGE($E$2:$E$1001)*2","v":21.138000000000002}]
[496,11.086000000001064,21.138000000000002,32.22400000000107,{"$f":"'Road only'!E497","v":13},19.22400000000107]
[497,19.22400000000107,0,19.22400000000107,{"$f":"'Road only'!E498","v":13},6.2240000000010696,{"$f":"AVERAGE($E$2:$E$1001)*2","v":21.138000000000002}]
[498,6.2240000000010696,21.138000000000002,27.362000000001071,{"$f":"'Road only'!E499","v":8},19.362000000001071]
[499,19.362000000001071,0,19.362000000001071,{"$f":"'Road only'!E500","v":12},7.3620000000010712,{"$f":"AVERAGE($E$2:$E$1001)*2","v":21.138000000000002}]
[500,7.3620000000010712,21.138000000000002,28.500000000001073,{"$f":"'Road only'!E501","v":14},14.500000000001073]
[501,14.500000000001073,0,14.500000000001073,{"$f":"'Road only'!E502","v":6},8.5000000000010729,{"$f":"AVERAGE($E$2:$E$1001)*2","v":21.138000000000002}]
[502,8.5000000000010729,21.138000000000002,29.638000000001075,{"$f":"'Road only'!E503","v":10},19.638000000001075]
[503,19.638000000001075,0,19.638000000001075,{"$f":"'Road only'!E504","v":7},12.638000000001075,{"$f":"AVERAGE($E$2:$E$1001)*2","v":21.138000000000002}]
[504,12.638000000001075,21.138000000000002,33.776000000001076,{"$f":"'Road only'!E505","v":10},23.776000000001076]
[505,23.776000000001076,0,23.776000000001076,{"$f":"'Road only'!E506","v":15},8.7760000000010763,{"$f":"AVERAGE($E$2:$E$1001)*2","v":21.138000000000002}]
[506,8.7760000000010763,21.138000000000002,29.914000000001078,{"$f":"'Road only'!E507","v":13},16.914000000001078]
[507,16.914000000001078,0,16.914000000001078,{"$f":"'Road only'!E508","v":13},3.914000000001078,{"$f":"AVERAGE($E$2:$E$1001)*2","v":21.138000000000002}]
[508,3.914000000001078,21.138000000000002,25.05200000000108,{"$f":"'Road only'!E509","v":10},15.05200000000108]
[509,15.05200000000108,0,15.05200000000108,{"$f":"'Road only'!E510","v":12},3.0520000000010796,{"$f":"AVERAGE($E$2:$E$1001)*2","v":21.138000000000002}]
[510,3.0520000000010796,21.138000000000002,24.190000000001081,{"$f":"'Road only'!E511","v":7},17.190000000001081]
[511,17.190000000001081,0,17.190000000001081,{"$f":"'Road only'!E512","v":14},3.1900000000010813,{"$f":"AVERAGE($E$2:$E$1001)*2","v":21.138000000000002}]
[512,3.1900000000010813,21.138000000000002,24.328000000001083,{"$f":"'Road only'!E513","v":11},13.328000000001083]
[513,13.328000000001083,0,13.328000000001083,{"$f":"'Road only'!E514","v":11},2.328000000001083,{"$f":"AVERAGE($E$2:$E$1001)*2","v":21.138000000000002}]
[514,2.328000000001083,21.138000000000002,{"$f":"B515+C515","v":23.466000000001085},{"$f":"'Road only'!E515","v":9},{"$f":"D515-E515","v":14.466000000001085}]
[515,14.466000000001085,{"$f":"G515","v":0},14.466000000001085,{"$f":"'Road only'!E516","v":16},-1.5339999999989153,{"$f":"AVERAGE($E$2:$E$1001)*2","v":21.138000000000002}]
[516,-1.5339999999989153,21.138000000000002,19.604000000001086,{"$f":"'Road only'!E517","v":10},9.6040000000010863]
[517,9.6040000000010863,0,9.6040000000010863,{"$f":"'Road only'!E518","v":14},-4.3959999999989137,{"$f":"AVERAGE($E$2:$E$1001)*2","v":21.138000000000002}]
[518,-4.3959999999989137,21.138000000000002,16.742000000001088,{"$f":"'Road only'!E519","v":11},5.742000000001088]
[519,5.742000000001088,0,5.742000000001088,{"$f":"'Road only'!E520","v":11},-5.257999999998912,{"$f":"AVERAGE($E$2:$E$1001)*2","v":21.138000000000002}]
[520,-5.257999999998912,21.138000000000002,15.88000000000109,{"$f":"'Road only'!E521","v":9},6.8800000000010897]
[521,6.8800000000010897,0,6.8800000000010897,{"$f":"'Road only'!E522","v":5},1.8800000000010897,{"$f":"AVERAGE($E$2:$E$1001)*2","v":21.138000000000002}]
[522,1.8800000000010897,21.138000000000002,23.018000000001091,{"$f":"'Road only'!E523","v":4},19.018000000001091]
[523,19.018000000001091,0,19.018000000001091,{"$f":"'Road only'!E524","v":9},10.018000000001091,{"$f":"AVERAGE($E$2:$E$1001)*2","v":21.138000000000002}]
[524,10.018000000001091,21.138000000000002,31.156000000001093,{"$f":"'Road only'!E525","v":4},27.156000000001093]
[525,27.156000000001093,0,27.156000000001093,{"$f":"'Road only'!E526","v":10},17.156000000001093,{"$f":"AVERAGE($E$2:$E$1001)*2","v":21.138000000000002}]
[526,17.156000000001093,21.138000000000002,38.294000000001091,{"$f":"'Road only'!E527","v":5},33.294000000001091]
[527,33.294000000001091,0,33.294000000001091,{"$f":"'Road only'!E528","v":7},26.294000000001091,{"$f":"AVERAGE($E$2:$E$1001)*2","v":21.138000000000002}]
[528,26.294000000001091,21.138000000000002,47.432000000001096,{"$f":"'Road only'!E529","v":9},38.432000000001096]
[529,38.432000000001096,0,38.432000000001096,{"$f":"'Road only'!E530","v":15},23.432000000001096,{"$f":"AVERAGE($E$2:$E$1001)*2","v":21.138000000000002}]
[530,23.432000000001096,21.138000000000002,44.570000000001102,{"$f":"'Road only'!E531","v":4},40.570000000001102]
[531,40.570000000001102,0,40.570000000001102,{"$f":"'Road only'!E532","v":9},31.570000000001102,{"$f":"AVERAGE($E$2:$E$1001)*2","v":21.138000000000002}]
[532,31.570000000001102,21.138000000000002,52.708000000001107,{"$f":"'Road only'!E533","v":11},41.708000000001107]
[533,41.708000000001107,0,41.708000000001107,{"$f":"'Road only'!E534","v":12},29.708000000001107,{"$f":"AVERAGE($E$2:$E$1001)*2","v":21.138000000000002}]
[534,29.708000000001107,21.138000000000002,50.846000000001112,{"$f":"'Road only'!E535","v":4},46.846000000001112]
[535,46.846000000001112,0,46.846000000001112,{"$f":"'Road only'!E536","v":12},34.846000000001112,{"$f":"AVERAGE($E$2:$E$1001)*2","v":21.138000000000002}]
[536,34.846000000001112,21.138000000000002,55.984000000001117,{"$f":"'Road only'!E537","v":12},43.984000000001117]
[537,43.984000000001117,0,43.984000000001117,{"$f":"'Road only'!E538","v":14},29.984000000001117,{"$f":"AVERAGE($E$2:$E$1001)*2","v":21.138000000000002}]
[538,29.984000000001117,21.138000000000002,51.122000000001123,{"$f":"'Road only'!E539","v":12},39.122000000001123]
[539,39.122000000001123,0,39.122000000001123,{"$f":"'Road only'!E540","v":15},24.122000000001123,{"$f":"AVERAGE($E$2:$E$1001)*2","v":21.138000000000002}]
[540,24.122000000001123,21.138000000000002,45.260000000001128,{"$f":"'Road only'!E541","v":10},35.260000000001128]
[541,35.260000000001128,0,35.260000000001128,{"$f":"'Road only'!E542","v":14},21.260000000001128,{"$f":"AVERAGE($E$2:$E$1001)*2","v":21.138000000000002}]
[542,21.260000000001128,21.138000000000002,42.398000000001133,{"$f":"'Road only'!E543","v":5},37.398000000001133]
[543,37.398000000001133,0,37.398000000001133,{"$f":"'Road only'!E544","v":9},28.398000000001133,{"$f":"AVERAGE($E$2:$E$1001)*2","v":21.138000000000002}]
[544,28.398000000001133,21.138000000000002,49.536000000001138,{"$f":"'Road only'!E545","v":8},41.536000000001138]
[545,41.536000000001138,0,41.536000000001138,{"$f":"'Road only'!E546","v":10},31.536000000001138,{"$f":"AVERAGE($E$2:$E$1001)*2","v":21.138000000000002}]
[546,31.536000000001138,21.138000000000002,52.674000000001143,{"$f":"'Road only'!E547","v":7},45.674000000001143]
[547,45.674000000001143,0,45.674000000001143,{"$f":"'Road only'!E548","v":10},35.674000000001143,{"$f":"AVERAGE($E$2:$E$1001)*2","v":21.138000000000002}]
[548,35.674000000001143,21.138000000000002,56.812000000001149,{"$f":"'Road only'!E549","v":9},47.812000000001149]
[549,{"$f":"F549","v":47.812000000001149},0,47.812000000001149,{"$f":"'Road only'!E550","v":12},35.812000000001149,{"$f":"AVERAGE($E$2:$E$1001)*2","v":21.138000000000002}]
[550,35.812000000001149,21.138000000000002,56.950000000001154,{"$f":"'Road only'!E551","v":9},47.950000000001154]
[551,47.950000000001154,0,47.950000000001154,{"$f":"'Road only'!E552","v":17},30.950000000001154,{"$f":"AVERAGE($E$2:$E$1001)*2","v":21.138000000000002}]
[552,30.950000000001154,21.138000000000002,52.088000000001159,{"$f":"'Road only'!E553","v":5},47.088000000001159]
[553,47.088000000001159,0,47.088000000001159,{"$f":"'Road only'!E554","v":6},41.088000000001159,{"$f":"AVERAGE($E$2:$E$1001)*2","v":21.138000000000002}]
[554,41.088000000001159,21.138000000000002,62.226000000001164,{"$f":"'Road only'!E555","v":12},50.226000000001164]
[555,50.226000000001164,0,50.226000000001164,{"$f":"'Road only'!E556","v":12},38.226000000001164,{"$f":"AVERAGE($E$2:$E$1001)*2","v":21.138000000000002}]
[556,38.226000000001164,21.138000000000002,59.36400000000117,{"$f":"'Road only'!E557","v":8},51.36400000000117]
[557,51.36400000000117,0,51.36400000000117,{"$f":"'Road only'!E558","v":6},45.36400000000117,{"$f":"AVERAGE($E$2:$E$1001)*2","v":21.138000000000002}]
[558,45.36400000000117,21.138000000000002,66.502000000001175,{"$f":"'Road only'!E559","v":12},54.502000000001175]
[559,54.502000000001175,0,54.502000000001175,{"$f":"'Road only'!E560","v":12},42.502000000001175,{"$f":"AVERAGE($E$2:$E$1001)*2","v":21.138000000000002}]
[560,42.502000000001175,21.138000000000002,63.64000000000118,{"$f":"'Road only'!E561","v":14},49.64000000000118]
[561,49.64000000000118,0,49.64000000000118,{"$f":"'Road only'!E562","v":9},40.64000000000118,{"$f":"AVERAGE($E$2:$E$1001)*2","v":21.138000000000002}]
[562,40.64000000000118,21.138000000000002,61.778000000001185,{"$f":"'Road only'!E563","v":8},53.778000000001185]
[563,53.778000000001185,0,53.778000000001185,{"$f":"'Road only'!E564","v":11},42.778000000001185,{"$f":"AVERAGE($E$2:$E$1001)*2","v":21.138000000000002}]
[564,42.778000000001185,21.138000000000002,63.916000000001191,{"$f":"'Road only'!E565","v":13},50.916000000001191]
[565,50.916000000001191,0,50.916000000001191,{"$f":"'Road only'!E566","v":6},44.916000000001191,{"$f":"AVERAGE($E$2:$E$1001)*2","v":21.138000000000002}]
[566,44.916000000001191,21.138000000000002,66.054000000001196,{"$f":"'Road only'!E567","v":6},60.054000000001196]
[567,60.054000000001196,0,60.054000000001196,{"$f":"'Road only'!E568","v":11},49.054000000001196,{"$f":"AVERAGE($E$2:$E$1001)*2","v":21.138000000000002}]
[568,49.054000000001196,21.138000000000002,70.192000000001201,{"$f":"'Road only'!E569","v":9},61.192000000001201]
[569,61.192000000001201,0,61.192000000001201,{"$f":"'Road only'!E570","v":17},44.192000000001201,{"$f":"AVERAGE($E$2:$E$1001)*2","v":21.138000000000002}]
[570,44.192000000001201,21.138000000000002,65.330000000001206,{"$f":"'Road only'!E571","v":12},53.330000000001206]
[571,53.330000000001206,0,53.330000000001206,{"$f":"'Road only'!E572","v":14},39.330000000001206,{"$f":"AVERAGE($E$2:$E$1001)*2","v":21.138000000000002}]
[572,39.330000000001206,21.138000000000002,60.468000000001211,{"$f":"'Road only'!E573","v":9},51.468000000001211]
[573,51.468000000001211,0,51.468000000001211,{"$f":"'Road only'!E574","v":7},44.468000000001211,{"$f":"AVERAGE($E$2:$E$1001)*2","v":21.138000000000002}]
[574,44.468000000001211,21.138000000000002,65.606000000001217,{"$f":"'Road only'!E575","v":6},59.606000000001217]
[575,59.606000000001217,0,59.606000000001217,{"$f":"'Road only'!E576","v":12},47.606000000001217,{"$f":"AVERAGE($E$2:$E$1001)*2","v":21.138000000000002}]
[576,47.606000000001217,21.138000000000002,68.744000000001222,{"$f":"'Road only'!E577","v":10},58.744000000001222]
[577,58.744000000001222,0,58.744000000001222,{"$f":"'Road only'!E578","v":10},48.744000000001222,{"$f":"AVERAGE($E$2:$E$1001)*2","v":21.138000000000002}]
[578,48.744000000001222,21.138000000000002,{"$f":"B579+C579","v":69.882000000001227},{"$f":"'Road only'!E579","v":11},{"$f":"D579-E579","v":58.882000000001227}]
[579,58.882000000001227,{"$f":"G579","v":0},58.882000000001227,{"$f":"'Road only'!E580","v":10},48.882000000001227,{"$f":"AVERAGE($E$2:$E$1001)*2","v":21.138000000000002}]
[580,48.882000000001227,21.138000000000002,70.020000000001232,{"$f":"'Road only'!E581","v":12},58.020000000001232]
[581,58.020000000001232,0,58.020000000001232,{"$f":"'Road only'!E582","v":8},50.020000000001232,{"$f":"AVERAGE($E$2:$E$1001)*2","v":21.138000000000002}]
[582,50.020000000001232,21.138000000000002,71.158000000001238,{"$f":"'Road only'!E583","v":18},53.158000000001238]
[583,53.158000000001238,0,53.158000000001238,{"$f":"'Road only'!E584","v":5},48.158000000001238,{"$f":"AVERAGE($E$2:$E$1001)*2","v":21.138000000000002}]
[584,48.158000000001238,21.138000000000002,69.296000000001243,{"$f":"'Road only'!E585","v":13},56.296000000001243]
[585,56.296000000001243,0,56.296000000001243,{"$f":"'Road only'!E586","v":11},45.296000000001243,{"$f":"AVERAGE($E$2:$E$1001)*2","v":21.138000000000002}]
[586,45.296000000001243,21.138000000000002,66.434000000001248,{"$f":"'Road only'!E587","v":10},56.434000000001248]
[587,56.434000000001248,0,56.434000000001248,{"$f":"'Road only'!E588","v":16},40.434000000001248,{"$f":"AVERAGE($E$2:$E$1001)*2","v":21.138000000000002}]
[588,40.434000000001248,21.138000000000002,61.572000000001253,{"$f":"'Road only'!E589","v":12},49.572000000001253]
[589,49.572000000001253,0,49.572000000001253,{"$f":"'Road only'!E590","v":14},35.572000000001253,{"$f":"AVERAGE($E$2:$E$1001)*2","v":21.138000000000002}]
[590,35.572000000001253,21.138000000000002,56.710000000001259,{"$f":"'Road only'!E591","v":16},40.710000000001259]
[591,40.710000000001259,0,40.710000000001259,{"$f":"'Road only'!E592","v":7},33.710000000001259,{"$f":"AVERAGE($E$2:$E$1001)*2","v":21.138000000000002}]
[592,33.710000000001259,21.138000000000002,54.848000000001264,{"$f":"'Road only'!E593","v":8},46.848000000001264]
[593,46.848000000001264,0,46.848000000001264,{"$f":"'Road only'!E594","v":9},37.848000000001264,{"$f":"AVERAGE($E$2:$E$1001)*2","v":21.138000000000002}]
[594,37.848000000001264,21.138000000000002,58.986000000001269,{"$f":"'Road only'!E595","v":14},44.986000000001269]
[595,44.986000000001269,0,44.986000000001269,{"$f":"'Road only'!E596","v":14},30.986000000001269,{"$f":"AVERAGE($E$2:$E$1001)*2","v":21.138000000000002}]
[596,30.986000000001269,21.138000000000002,52.124000000001274,{"$f":"'Road only'!E597","v":7},45.124000000001274]
[597,45.124000000001274,0,45.124000000001274,{"$f":"'Road only'!E598","v":13},32.124000000001274,{"$f":"AVERAGE($E$2:$E$1001)*2","v":21.138000000000002}]
[598,32.124000000001274,21.138000000000002,53.262000000001279,{"$f":"'Road only'!E599","v":10},43.262000000001279]
[599,43.262000000001279,0,43.262000000001279,{"$f":"'Road only'!E600","v":9},34.262000000001279,{"$f":"AVERAGE($E$2:$E$1001)*2","v":21.138000000000002}]
[600,34.262000000001279,21.138000000000002,55.400000000001285,{"$f":"'Road only'!E601","v":13},42.400000000001285]
[601,42.400000000001285,0,42.400000000001285,{"$f":"'Road only'!E602","v":10},32.400000000001285,{"$f":"AVERAGE($E$2:$E$1001)*2","v":21.138000000000002}]
[602,32.400000000001285,21.138000000000002,53.53800000000129,{"$f":"'Road only'!E603","v":10},43.53800000000129]
[603,43.53800000000129,0,43.53800000000129,{"$f":"'Road only'!E604","v":8},35.53800000000129,{"$f":"AVERAGE($E$2:$E$1001)*2","v":21.138000000000002}]
[604,35.53800000000129,21.138000000000002,56.676000000001295,{"$f":"'Road only'!E605","v":13},43.676000000001295]
[605,43.676000000001295,0,43.676000000001295,{"$f":"'Road only'!E606","v":11},32.676000000001295,{"$f":"AVERAGE($E$2:$E$1001)*2","v":21.138000000000002}]
[606,32.676000000001295,21.138000000000002,53.8140000000013,{"$f":"'Road only'!E607","v":11},42.8140000000013]
[607,42.8140000000013,0,42.8140000000013,{"$f":"'Road only'!E608","v":8},34.8140000000013,{"$f":"AVERAGE($E$2:$E$1001)*2","v":21.138000000000002}]
[608,34.8140000000013,21.138000000000002,55.952000000001306,{"$f":"'Road only'!E609","v":13},42.952000000001306]
[609,42.952000000001306,0,42.952000000001306,{"$f":"'Road only'!E610","v":7},35.952000000001306,{"$f":"AVERAGE($E$2:$E$1001)*2","v":21.138000000000002}]
[610,35.952000000001306,21.138000000000002,57.090000000001311,{"$f":"'Road only'!E611","v":11},46.090000000001311]
[611,46.090000000001311,0,46.090000000001311,{"$f":"'Road only'!E612","v":12},34.090000000001311,{"$f":"AVERAGE($E$2:$E$1001)*2","v":21.138000000000002}]
[612,34.090000000001311,21.138000000000002,55.228000000001316,{"$f":"'Road only'!E613","v":12},43.228000000001316]
[613,{"$f":"F613","v":43.228000000001316},0,43.228000000001316,{"$f":"'Road only'!E614","v":14},29.228000000001316,{"$f":"AVERAGE($E$2:$E$1001)*2","v":21.138000000000002}]
[614,29.228000000001316,21.138000000000002,50.366000000001321,{"$f":"'Road only'!E615","v":11},39.366000000001321]
[615,39.366000000001321,0,39.366000000001321,{"$f":"'Road only'!E616","v":10},29.366000000001321,{"$f":"AVERAGE($E$2:$E$1001)*2","v":21.138000000000002}]
[616,29.366000000001321,21.138000000000002,50.504000000001326,{"$f":"'Road only'!E617","v":15},35.504000000001326]
[617,35.504000000001326,0,35.504000000001326,{"$f":"'Road only'!E618","v":12},23.504000000001326,{"$f":"AVERAGE($E$2:$E$1001)*2","v":21.138000000000002}]
[618,23.504000000001326,21.138000000000002,44.642000000001332,{"$f":"'Road only'!E619","v":6},38.642000000001332]
[619,38.642000000001332,0,38.642000000001332,{"$f":"'Road only'!E620","v":15},23.642000000001332,{"$f":"AVERAGE($E$2:$E$1001)*2","v":21.138000000000002}]
[620,23.642000000001332,21.138000000000002,44.780000000001337,{"$f":"'Road only'!E621","v":10},34.780000000001337]
[621,34.780000000001337,0,34.780000000001337,{"$f":"'Road only'!E622","v":10},24.780000000001337,{"$f":"AVERAGE($E$2:$E$1001)*2","v":21.138000000000002}]
[622,24.780000000001337,21.138000000000002,45.918000000001342,{"$f":"'Road only'!E623","v":12},33.918000000001342]
[623,33.918000000001342,0,33.918000000001342,{"$f":"'Road only'!E624","v":6},27.918000000001342,{"$f":"AVERAGE($E$2:$E$1001)*2","v":21.138000000000002}]
[624,27.918000000001342,21.138000000000002,49.056000000001347,{"$f":"'Road only'!E625","v":13},36.056000000001347]
[625,36.056000000001347,0,36.056000000001347,{"$f":"'Road only'!E626","v":13},23.056000000001347,{"$f":"AVERAGE($E$2:$E$1001)*2","v":21.138000000000002}]
[626,23.056000000001347,21.138000000000002,44.194000000001353,{"$f":"'Road only'!E627","v":8},36.194000000001353]
[627,36.194000000001353,0,36.194000000001353,{"$f":"'Road only'!E628","v":12},24.194000000001353,{"$f":"AVERAGE($E$2:$E$1001)*2","v":21.138000000000002}]
[628,24.194000000001353,21.138000000000002,45.332000000001358,{"$f":"'Road only'!E629","v":16},29.332000000001358]
[629,29.332000000001358,0,29.332000000001358,{"$f":"'Road only'!E630","v":8},21.332000000001358,{"$f":"AVERAGE($E$2:$E$1001)*2","v":21.138000000000002}]
[630,21.332000000001358,21.138000000000002,42.470000000001363,{"$f":"'Road only'!E631","v":14},28.470000000001363]
[631,28.470000000001363,0,28.470000000001363,{"$f":"'Road only'!E632","v":9},19.470000000001363,{"$f":"AVERAGE($E$2:$E$1001)*2","v":21.138000000000002}]
[632,19.470000000001363,21.138000000000002,40.608000000001368,{"$f":"'Road only'!E633","v":10},30.608000000001368]
[633,30.608000000001368,0,30.608000000001368,{"$f":"'Road only'!E634","v":10},20.608000000001368,{"$f":"AVERAGE($E$2:$E$1001)*2","v":21.138000000000002}]
[634,20.608000000001368,21.138000000000002,41.746000000001374,{"$f":"'Road only'!E635","v":13},28.746000000001374]
[635,28.746000000001374,0,28.746000000001374,{"$f":"'Road only'!E636","v":9},19.746000000001374,{"$f":"AVERAGE($E$2:$E$1001)*2","v":21.138000000000002}]
[636,19.746000000001374,21.138000000000002,40.884000000001379,{"$f":"'Road only'!E637","v":9},31.884000000001379]
[637,31.884000000001379,0,31.884000000001379,{"$f":"'Road only'!E638","v":12},19.884000000001379,{"$f":"AVERAGE($E$2:$E$1001)*2","v":21.138000000000002}]
[638,19.884000000001379,21.138000000000002,41.022000000001384,{"$f":"'Road only'!E639","v":11},30.022000000001384]
[639,30.022000000001384,0,30.022000000001384,{"$f":"'Road only'!E640","v":16},14.022000000001384,{"$f":"AVERAGE($E$2:$E$1001)*2","v":21.138000000000002}]
[640,14.022000000001384,21.138000000000002,35.160000000001389,{"$f":"'Road only'!E641","v":7},28.160000000001389]
[641,28.160000000001389,0,28.160000000001389,{"$f":"'Road only'!E642","v":12},16.160000000001389,{"$f":"AVERAGE($E$2:$E$1001)*2","v":21.138000000000002}]
[642,16.160000000001389,21.138000000000002,{"$f":"B643+C643","v":37.298000000001394},{"$f":"'Road only'!E643","v":9},{"$f":"D643-E643","v":28.298000000001394}]
[643,28.298000000001394,{"$f":"G643","v":0},28.298000000001394,{"$f":"'Road only'!E644","v":10},18.298000000001394,{"$f":"AVERAGE($E$2:$E$1001)*2","v":21.138000000000002}]
[644,18.298000000001394,21.138000000000002,39.4360000000014,{"$f":"'Road only'!E645","v":10},29.4360000000014]
[645,29.4360000000014,0,29.4360000000014,{"$f":"'Road only'!E646","v":11},18.4360000000014,{"$f":"AVERAGE($E$2:$E$1001)*2","v":21.138000000000002}]
[646,18.4360000000014,21.138000000000002,39.574000000001405,{"$f":"'Road only'!E647","v":12},27.574000000001405]
[647,27.574000000001405,0,27.574000000001405,{"$f":"'Road only'!E648","v":12},15.574000000001405,{"$f":"AVERAGE($E$2:$E$1001)*2","v":21.138000000000002}]
[648,15.574000000001405,21.138000000000002,36.71200000000141,{"$f":"'Road only'!E649","v":9},27.71200000000141]
[649,27.71200000000141,0,27.71200000000141,{"$f":"'Road only'!E650","v":6},21.71200000000141,{"$f":"AVERAGE($E$2:$E$1001)*2","v":21.138000000000002}]
[650,21.71200000000141,21.138000000000002,42.850000000001415,{"$f":"'Road only'!E651","v":13},29.850000000001415]
[651,29.850000000001415,0,29.850000000001415,{"$f":"'Road only'!E652","v":9},20.850000000001415,{"$f":"AVERAGE($E$2:$E$1001)*2","v":21.138000000000002}]
[652,20.850000000001415,21.138000000000002,41.988000000001421,{"$f":"'Road only'!E653","v":12},29.988000000001421]
[653,29.988000000001421,0,29.988000000001421,{"$f":"'Road only'!E654","v":8},21.988000000001421,{"$f":"AVERAGE($E$2:$E$1001)*2","v":21.138000000000002}]
[654,21.988000000001421,21.138000000000002,43.126000000001426,{"$f":"'Road only'!E655","v":11},32.126000000001426]
[655,32.126000000001426,0,32.126000000001426,{"$f":"'Road only'!E656","v":14},18.126000000001426,{"$f":"AVERAGE($E$2:$E$1001)*2","v":21.138000000000002}]
[656,18.126000000001426,21.138000000000002,39.264000000001431,{"$f":"'Road only'!E657","v":13},26.264000000001431]
[657,26.264000000001431,0,26.264000000001431,{"$f":"'Road only'!E658","v":11},15.264000000001431,{"$f":"AVERAGE($E$2:$E$1001)*2","v":21.138000000000002}]
[658,15.264000000001431,21.138000000000002,36.402000000001436,{"$f":"'Road only'!E659","v":5},31.402000000001436]
[659,31.402000000001436,0,31.402000000001436,{"$f":"'Road only'!E660","v":10},21.402000000001436,{"$f":"AVERAGE($E$2:$E$1001)*2","v":21.138000000000002}]
[660,21.402000000001436,21.138000000000002,42.540000000001442,{"$f":"'Road only'!E661","v":6},36.540000000001442]
[661,36.540000000001442,0,36.540000000001442,{"$f":"'Road only'!E662","v":13},23.540000000001442,{"$f":"AVERAGE($E$2:$E$1001)*2","v":21.138000000000002}]
[662,23.540000000001442,21.138000000000002,44.678000000001447,{"$f":"'Road only'!E663","v":13},31.678000000001447]
[663,31.678000000001447,0,31.678000000001447,{"$f":"'Road only'!E664","v":13},18.678000000001447,{"$f":"AVERAGE($E$2:$E$1001)*2","v":21.138000000000002}]
[664,18.678000000001447,21.138000000000002,39.816000000001452,{"$f":"'Road only'!E665","v":14},25.816000000001452]
[665,25.816000000001452,0,25.816000000001452,{"$f":"'Road only'!E666","v":7},18.816000000001452,{"$f":"AVERAGE($E$2:$E$1001)*2","v":21.138000000000002}]
[666,18.816000000001452,21.138000000000002,39.954000000001457,{"$f":"'Road only'!E667","v":15},24.954000000001457]
[667,24.954000000001457,0,24.954000000001457,{"$f":"'Road only'!E668","v":10},14.954000000001457,{"$f":"AVERAGE($E$2:$E$1001)*2","v":21.138000000000002}]
[668,14.954000000001457,21.138000000000002,36.092000000001462,{"$f":"'Road only'!E669","v":13},23.092000000001462]
[669,23.092000000001462,0,23.092000000001462,{"$f":"'Road only'!E670","v":10},13.092000000001462,{"$f":"AVERAGE($E$2:$E$1001)*2","v":21.138000000000002}]
[670,13.092000000001462,21.138000000000002,34.230000000001468,{"$f":"'Road only'!E671","v":15},19.230000000001468]
[671,19.230000000001468,0,19.230000000001468,{"$f":"'Road only'!E672","v":14},5.2300000000014677,{"$f":"AVERAGE($E$2:$E$1001)*2","v":21.138000000000002}]
[672,5.2300000000014677,21.138000000000002,26.368000000001469,{"$f":"'Road only'!E673","v":13},13.368000000001469]
[673,13.368000000001469,0,13.368000000001469,{"$f":"'Road only'!E674","v":13},0.36800000000146937,{"$f":"AVERAGE($E$2:$E$1001)*2","v":21.138000000000002}]
[674,0.36800000000146937,21.138000000000002,21.506000000001471,{"$f":"'Road only'!E675","v":7},14.506000000001471]
[675,14.506000000001471,0,14.506000000001471,{"$f":"'Road only'!E676","v":9},5.5060000000014711,{"$f":"AVERAGE($E$2:$E$1001)*2","v":21.138000000000002}]
[676,5.5060000000014711,21.138000000000002,26.644000000001473,{"$f":"'Road only'!E677","v":7},19.644000000001473]
[677,{"$f":"F677","v":19.644000000001473},0,19.644000000001473,{"$f":"'Road only'!E678","v":13},6.6440000000014727,{"$f":"AVERAGE($E$2:$E$1001)*2","v":21.138000000000002}]
[678,6.6440000000014727,21.138000000000002,27.782000000001474,{"$f":"'Road only'!E679","v":11},16.782000000001474]
[679,16.782000000001474,0,16.782000000001474,{"$f":"'Road only'!E680","v":11},5.7820000000014744,{"$f":"AVERAGE($E$2:$E$1001)*2","v":21.138000000000002}]
[680,5.7820000000014744,21.138000000000002,26.920000000001476,{"$f":"'Road only'!E681","v":15},11.920000000001476]
[681,11.920000000001476,0,11.920000000001476,{"$f":"'Road only'!E682","v":8},3.9200000000014761,{"$f":"AVERAGE($E$2:$E$1001)*2","v":21.138000000000002}]
[682,3.9200000000014761,21.138000000000002,25.058000000001478,{"$f":"'Road only'!E683","v":13},12.058000000001478]
[683,12.058000000001478,0,12.058000000001478,{"$f":"'Road only'!E684","v":3},9.0580000000014778,{"$f":"AVERAGE($E$2:$E$1001)*2","v":21.138000000000002}]
[684,9.0580000000014778,21.138000000000002,30.196000000001479,{"$f":"'Road only'!E685","v":6},24.196000000001479]
[685,24.196000000001479,0,24.196000000001479,{"$f":"'Road only'!E686","v":14},10.196000000001479,{"$f":"AVERAGE($E$2:$E$1001)*2","v":21.138000000000002}]
[686,10.196000000001479,21.138000000000002,31.334000000001481,{"$f":"'Road only'!E687","v":12},19.334000000001481]
[687,19.334000000001481,0,19.334000000001481,{"$f":"'Road only'!E688","v":8},11.334000000001481,{"$f":"AVERAGE($E$2:$E$1001)*2","v":21.138000000000002}]
[688,11.334000000001481,21.138000000000002,32.472000000001486,{"$f":"'Road only'!E689","v":8},24.472000000001486]
[689,24.472000000001486,0,24.472000000001486,{"$f":"'Road only'!E690","v":9},15.472000000001486,{"$f":"AVERAGE($E$2:$E$1001)*2","v":21.138000000000002}]
[690,15.472000000001486,21.138000000000002,36.610000000001492,{"$f":"'Road only'!E691","v":6},30.610000000001492]
[691,30.610000000001492,0,30.610000000001492,{"$f":"'Road only'!E692","v":11},19.610000000001492,{"$f":"AVERAGE($E$2:$E$1001)*2","v":21.138000000000002}]
[692,19.610000000001492,21.138000000000002,40.748000000001497,{"$f":"'Road only'!E693","v":15},25.748000000001497]
[693,25.748000000001497,0,25.748000000001497,{"$f":"'Road only'!E694","v":8},17.748000000001497,{"$f":"AVERAGE($E$2:$E$1001)*2","v":21.138000000000002}]
[694,17.748000000001497,21.138000000000002,38.886000000001502,{"$f":"'Road only'!E695","v":13},25.886000000001502]
[695,25.886000000001502,0,25.886000000001502,{"$f":"'Road only'!E696","v":10},15.886000000001502,{"$f":"AVERAGE($E$2:$E$1001)*2","v":21.138000000000002}]
[696,15.886000000001502,21.138000000000002,37.024000000001507,{"$f":"'Road only'!E697","v":7},30.024000000001507]
[697,30.024000000001507,0,30.024000000001507,{"$f":"'Road only'!E698","v":12},18.024000000001507,{"$f":"AVERAGE($E$2:$E$1001)*2","v":21.138000000000002}]
[698,18.024000000001507,21.138000000000002,39.162000000001512,{"$f":"'Road only'!E699","v":13},26.162000000001512]
[699,26.162000000001512,0,26.162000000001512,{"$f":"'Road only'!E700","v":13},13.162000000001512,{"$f":"AVERAGE($E$2:$E$1001)*2","v":21.138000000000002}]
[700,13.162000000001512,21.138000000000002,34.300000000001518,{"$f":"'Road only'!E701","v":13},21.300000000001518]
[701,21.300000000001518,0,21.300000000001518,{"$f":"'Road only'!E702","v":9},12.300000000001518,{"$f":"AVERAGE($E$2:$E$1001)*2","v":21.138000000000002}]
[702,12.300000000001518,21.138000000000002,33.438000000001523,{"$f":"'Road only'!E703","v":8},25.438000000001523]
[703,25.438000000001523,0,25.438000000001523,{"$f":"'Road only'!E704","v":13},12.438000000001523,{"$f":"AVERAGE($E$2:$E$1001)*2","v":21.138000000000002}]
[704,12.438000000001523,21.138000000000002,33.576000000001528,{"$f":"'Road only'!E705","v":7},26.576000000001528]
[705,26.576000000001528,0,26.576000000001528,{"$f":"'Road only'!E706","v":10},16.576000000001528,{"$f":"AVERAGE($E$2:$E$1001)*2","v":21.138000000000002}]
[706,16.576000000001528,21.138000000000002,{"$f":"B707+C707","v":37.714000000001533},{"$f":"'Road only'!E707","v":5},{"$f":"D707-E707","v":32.714000000001533}]
[707,32.714000000001533,{"$f":"G707","v":0},32.714000000001533,{"$f":"'Road only'!E708","v":10},22.714000000001533,{"$f":"AVERAGE($E$2:$E$1001)*2","v":21.138000000000002}]
[708,22.714000000001533,21.138000000000002,43.852000000001539,{"$f":"'Road only'!E709","v":13},30.852000000001539]
[709,30.852000000001539,0,30.852000000001539,{"$f":"'Road only'!E710","v":14},16.852000000001539,{"$f":"AVERAGE($E$2:$E$1001)*2","v":21.138000000000002}]
[710,16.852000000001539,21.138000000000002,37.990000000001544,{"$f":"'Road only'!E711","v":9},28.990000000001544]
[711,28.990000000001544,0,28.990000000001544,{"$f":"'Road only'!E712","v":12},16.990000000001544,{"$f":"AVERAGE($E$2:$E$1001)*2","v":21.138000000000002}]
[712,16.990000000001544,21.138000000000002,38.128000000001549,{"$f":"'Road only'!E713","v":11},27.128000000001549]
[713,27.128000000001549,0,27.128000000001549,{"$f":"'Road only'!E714","v":13},14.128000000001549,{"$f":"AVERAGE($E$2:$E$1001)*2","v":21.138000000000002}]
[714,14.128000000001549,21.138000000000002,35.266000000001554,{"$f":"'Road only'!E715","v":6},29.266000000001554]
[715,29.266000000001554,0,29.266000000001554,{"$f":"'Road only'!E716","v":11},18.266000000001554,{"$f":"AVERAGE($E$2:$E$1001)*2","v":21.138000000000002}]
[716,18.266000000001554,21.138000000000002,39.40400000000156,{"$f":"'Road only'!E717","v":9},30.40400000000156]
[717,30.40400000000156,0,30.40400000000156,{"$f":"'Road only'!E718","v":11},19.40400000000156,{"$f":"AVERAGE($E$2:$E$1001)*2","v":21.138000000000002}]
[718,19.40400000000156,21.138000000000002,40.542000000001565,{"$f":"'Road only'!E719","v":8},32.542000000001565]
[719,32.542000000001565,0,32.542000000001565,{"$f":"'Road only'!E720","v":9},23.542000000001565,{"$f":"AVERAGE($E$2:$E$1001)*2","v":21.138000000000002}]
[720,23.542000000001565,21.138000000000002,44.68000000000157,{"$f":"'Road only'!E721","v":11},33.68000000000157]
[721,33.68000000000157,0,33.68000000000157,{"$f":"'Road only'!E722","v":12},21.68000000000157,{"$f":"AVERAGE($E$2:$E$1001)*2","v":21.138000000000002}]
[722,21.68000000000157,21.138000000000002,42.818000000001575,{"$f":"'Road only'!E723","v":18},24.818000000001575]
[723,24.818000000001575,0,24.818000000001575,{"$f":"'Road only'!E724","v":5},19.818000000001575,{"$f":"AVERAGE($E$2:$E$1001)*2","v":21.138000000000002}]
[724,19.818000000001575,21.138000000000002,40.95600000000158,{"$f":"'Road only'!E725","v":9},31.95600000000158]
[725,31.95600000000158,0,31.95600000000158,{"$f":"'Road only'!E726","v":7},24.95600000000158,{"$f":"AVERAGE($E$2:$E$1001)*2","v":21.138000000000002}]
[726,24.95600000000158,21.138000000000002,46.094000000001586,{"$f":"'Road only'!E727","v":14},32.094000000001586]
[727,32.094000000001586,0,32.094000000001586,{"$f":"'Road only'!E728","v":10},22.094000000001586,{"$f":"AVERAGE($E$2:$E$1001)*2","v":21.138000000000002}]
[728,22.094000000001586,21.138000000000002,43.232000000001591,{"$f":"'Road only'!E729","v":13},30.232000000001591]
[729,30.232000000001591,0,30.232000000001591,{"$f":"'Road only'!E730","v":16},14.232000000001591,{"$f":"AVERAGE($E$2:$E$1001)*2","v":21.138000000000002}]
[730,14.232000000001591,21.138000000000002,35.370000000001596,{"$f":"'Road only'!E731","v":9},26.370000000001596]
[731,26.370000000001596,0,26.370000000001596,{"$f":"'Road only'!E732","v":13},13.370000000001596,{"$f":"AVERAGE($E$2:$E$1001)*2","v":21.138000000000002}]
[732,13.370000000001596,21.138000000000002,34.508000000001601,{"$f":"'Road only'!E733","v":7},27.508000000001601]
[733,27.508000000001601,0,27.508000000001601,{"$f":"'Road only'!E734","v":10},17.508000000001601,{"$f":"AVERAGE($E$2:$E$1001)*2","v":21.138000000000002}]
[734,17.508000000001601,21.138000000000002,38.646000000001607,{"$f":"'Road only'!E735","v":16},22.646000000001607]
[735,22.646000000001607,0,22.646000000001607,{"$f":"'Road only'!E736","v":8},14.646000000001607,{"$f":"AVERAGE($E$2:$E$1001)*2","v":21.138000000000002}]
[736,14.646000000001607,21.138000000000002,35.784000000001612,{"$f":"'Road only'!E737","v":11},24.784000000001612]
[737,24.784000000001612,0,24.784000000001612,{"$f":"'Road only'!E738","v":17},7.7840000000016119,{"$f":"AVERAGE($E$2:$E$1001)*2","v":21.138000000000002}]
[738,7.7840000000016119,21.138000000000002,28.922000000001614,{"$f":"'Road only'!E739","v":12},16.922000000001614]
[739,16.922000000001614,0,16.922000000001614,{"$f":"'Road only'!E740","v":13},3.9220000000016135,{"$f":"AVERAGE($E$2:$E$1001)*2","v":21.138000000000002}]
[740,3.9220000000016135,21.138000000000002,25.060000000001615,{"$f":"'Road only'!E741","v":13},12.060000000001615]
[741,{"$f":"F741","v":12.060000000001615},0,12.060000000001615,{"$f":"'Road only'!E742","v":11},1.0600000000016152,{"$f":"AVERAGE($E$2:$E$1001)*2","v":21.138000000000002}]
[742,1.0600000000016152,21.138000000000002,22.198000000001617,{"$f":"'Road only'!E743","v":4},18.198000000001617]
[743,18.198000000001617,0,18.198000000001617,{"$f":"'Road only'!E744","v":13},5.1980000000016169,{"$f":"AVERAGE($E$2:$E$1001)*2","v":21.138000000000002}]
[744,5.1980000000016169,21.138000000000002,26.336000000001619,{"$f":"'Road only'!E745","v":12},14.336000000001619]
[745,14.336000000001619,0,14.336000000001619,{"$f":"'Road only'!E746","v":13},1.3360000000016186,{"$f":"AVERAGE($E$2:$E$1001)*2","v":21.138000000000002}]
[746,1.3360000000016186,21.138000000000002,22.47400000000162,{"$f":"'Road only'!E747","v":9},13.47400000000162]
[747,13.47400000000162,0,13.47400000000162,{"$f":"'Road only'!E748","v":10},3.4740000000016202,{"$f":"AVERAGE($E$2:$E$1001)*2","v":21.138000000000002}]
[748,3.4740000000016202,21.138000000000002,24.612000000001622,{"$f":"'Road only'!E749","v":11},13.612000000001622]
[749,13.612000000001622,0,13.612000000001622,{"$f":"'Road only'!E750","v":14},-0.38799999999837809,{"$f":"AVERAGE($E$2:$E$1001)*2","v":21.138000000000002}]
[750,-0.38799999999837809,21.138000000000002,20.750000000001624,{"$f":"'Road only'!E751","v":7},13.750000000001624]
[751,13.750000000001624,0,13.750000000001624,{"$f":"'Road only'!E752","v":8},5.7500000000016236,{"$f":"AVERAGE($E$2:$E$1001)*2","v":21.138000000000002}]
[752,5.7500000000016236,21.138000000000002,26.888000000001625,{"$f":"'Road only'!E753","v":13},13.888000000001625]
[753,13.888000000001625,0,13.888000000001625,{"$f":"'Road only'!E754","v":11},2.8880000000016253,{"$f":"AVERAGE($E$2:$E$1001)*2","v":21.138000000000002}]
[754,2.8880000000016253,21.138000000000002,24.026000000001627,{"$f":"'Road only'!E755","v":8},16.026000000001627]
[755,16.026000000001627,0,16.026000000001627,{"$f":"'Road only'!E756","v":8},8.0260000000016269,{"$f":"AVERAGE($E$2:$E$1001)*2","v":21.138000000000002}]
[756,8.0260000000016269,21.138000000000002,29.164000000001629,{"$f":"'Road only'!E757","v":12},17.164000000001629]
[757,17.164000000001629,0,17.164000000001629,{"$f":"'Road only'!E758","v":11},6.1640000000016286,{"$f":"AVERAGE($E$2:$E$1001)*2","v":21.138000000000002}]
[758,6.1640000000016286,21.138000000000002,27.30200000000163,{"$f":"'Road only'!E759","v":11},16.30200000000163]
[759,16.30200000000163,0,16.30200000000163,{"$f":"'Road only'!E760","v":8},8.3020000000016303,{"$f":"AVERAGE($E$2:$E$1001)*2","v":21.138000000000002}]
[760,8.3020000000016303,21.138000000000002,29.440000000001632,{"$f":"'Road only'!E761","v":4},25.440000000001632]
[761,25.440000000001632,0,25.440000000001632,{"$f":"'Road only'!E762","v":16},9.440000000001632,{"$f":"AVERAGE($E$2:$E$1001)*2","v":21.138000000000002}]
[762,9.440000000001632,21.138000000000002,30.578000000001634,{"$f":"'Road only'!E763","v":8},22.578000000001634]
[763,22.578000000001634,0,22.578000000001634,{"$f":"'Road only'!E764","v":11},11.578000000001634,{"$f":"AVERAGE($E$2:$E$1001)*2","v":21.138000000000002}]
[764,11.578000000001634,21.138000000000002,32.716000000001635,{"$f":"'Road only'!E765","v":13},19.716000000001635]
[765,19.716000000001635,0,19.716000000001635,{"$f":"'Road only'!E766","v":11},8.7160000000016353,{"$f":"AVERAGE($E$2:$E$1001)*2","v":21.138000000000002}]
[766,8.7160000000016353,21.138000000000002,29.854000000001637,{"$f":"'Road only'!E767","v":15},14.854000000001637]
[767,14.854000000001637,0,14.854000000001637,{"$f":"'Road only'!E768","v":15},-0.14599999999836299,{"$f":"AVERAGE($E$2:$E$1001)*2","v":21.138000000000002}]
[768,-0.14599999999836299,21.138000000000002,20.992000000001639,{"$f":"'Road only'!E769","v":10},10.992000000001639]
[769,10.992000000001639,0,10.992000000001639,{"$f":"'Road only'!E770","v":12},-1.0079999999983613,{"$f":"AVERAGE($E$2:$E$1001)*2","v":21.138000000000002}]
[770,-1.0079999999983613,21.138000000000002,{"$f":"B771+C771","v":20.13000000000164},{"$f":"'Road only'!E771","v":11},{"$f":"D771-E771","v":9.1300000000016404}]
[771,9.1300000000016404,{"$f":"G771","v":0},9.1300000000016404,{"$f":"'Road only'!E772","v":13},-3.8699999999983596,{"$f":"AVERAGE($E$2:$E$1001)*2","v":21.138000000000002}]
[772,-3.8699999999983596,21.138000000000002,17.268000000001642,{"$f":"'Road only'!E773","v":10},7.268000000001642]
[773,7.268000000001642,0,7.268000000001642,{"$f":"'Road only'!E774","v":7},0.26800000000164204,{"$f":"AVERAGE($E$2:$E$1001)*2","v":21.138000000000002}]
[774,0.26800000000164204,21.138000000000002,21.406000000001644,{"$f":"'Road only'!E775","v":14},7.4060000000016437]
[775,7.4060000000016437,0,7.4060000000016437,{"$f":"'Road only'!E776","v":8},-0.59399999999835629,{"$f":"AVERAGE($E$2:$E$1001)*2","v":21.138000000000002}]
[776,-0.59399999999835629,21.138000000000002,20.544000000001645,{"$f":"'Road only'!E777","v":11},9.5440000000016454]
[777,9.5440000000016454,0,9.5440000000016454,{"$f":"'Road only'!E778","v":18},-8.4559999999983546,{"$f":"AVERAGE($E$2:$E$1001)*2","v":21.138000000000002}]
[778,-8.4559999999983546,21.138000000000002,12.682000000001647,{"$f":"'Road only'!E779","v":9},3.6820000000016471]
[779,3.6820000000016471,0,3.6820000000016471,{"$f":"'Road only'!E780","v":7},-3.3179999999983529,{"$f":"AVERAGE($E$2:$E$1001)*2","v":21.138000000000002}]
[780,-3.3179999999983529,21.138000000000002,17.820000000001649,{"$f":"'Road only'!E781","v":9},8.8200000000016487]
[781,8.8200000000016487,0,8.8200000000016487,{"$f":"'Road only'!E782","v":10},-1.1799999999983513,{"$f":"AVERAGE($E$2:$E$1001)*2","v":21.138000000000002}]
[782,-1.1799999999983513,21.138000000000002,19.95800000000165,{"$f":"'Road only'!E783","v":10},9.9580000000016504]
[783,9.9580000000016504,0,9.9580000000016504,{"$f":"'Road only'!E784","v":8},1.9580000000016504,{"$f":"AVERAGE($E$2:$E$1001)*2","v":21.138000000000002}]
[784,1.9580000000016504,21.138000000000002,23.096000000001652,{"$f":"'Road only'!E785","v":9},14.096000000001652]
[785,14.096000000001652,0,14.096000000001652,{"$f":"'Road only'!E786","v":9},5.0960000000016521,{"$f":"AVERAGE($E$2:$E$1001)*2","v":21.138000000000002}]
[786,5.0960000000016521,21.138000000000002,26.234000000001654,{"$f":"'Road only'!E787","v":14},12.234000000001654]
[787,12.234000000001654,0,12.234000000001654,{"$f":"'Road only'!E788","v":9},3.2340000000016538,{"$f":"AVERAGE($E$2:$E$1001)*2","v":21.138000000000002}]
[788,3.2340000000016538,21.138000000000002,24.372000000001655,{"$f":"'Road only'!E789","v":5},19.372000000001655]
[789,19.372000000001655,0,19.372000000001655,{"$f":"'Road only'!E790","v":7},12.372000000001655,{"$f":"AVERAGE($E$2:$E$1001)*2","v":21.138000000000002}]
[790,12.372000000001655,21.138000000000002,33.510000000001654,{"$f":"'Road only'!E791","v":16},17.510000000001654]
[791,17.510000000001654,0,17.510000000001654,{"$f":"'Road only'!E792","v":10},7.5100000000016536,{"$f":"AVERAGE($E$2:$E$1001)*2","v":21.138000000000002}]
[792,7.5100000000016536,21.138000000000002,28.648000000001655,{"$f":"'Road only'!E793","v":12},16.648000000001655]
[793,16.648000000001655,0,16.648000000001655,{"$f":"'Road only'!E794","v":12},4.6480000000016553,{"$f":"AVERAGE($E$2:$E$1001)*2","v":21.138000000000002}]
[794,4.6480000000016553,21.138000000000002,25.786000000001657,{"$f":"'Road only'!E795","v":13},12.786000000001657]
[795,12.786000000001657,0,12.786000000001657,{"$f":"'Road only'!E796","v":15},-2.2139999999983431,{"$f":"AVERAGE($E$2:$E$1001)*2","v":21.138000000000002}]
[796,-2.2139999999983431,21.138000000000002,18.924000000001659,{"$f":"'Road only'!E797","v":13},5.9240000000016586]
[797,5.9240000000016586,0,5.9240000000016586,{"$f":"'Road only'!E798","v":10},-4.0759999999983414,{"$f":"AVERAGE($E$2:$E$1001)*2","v":21.138000000000002}]
[798,-4.0759999999983414,21.138000000000002,17.06200000000166,{"$f":"'Road only'!E799","v":12},5.0620000000016603]
[799,5.0620000000016603,0,5.0620000000016603,{"$f":"'Road only'!E800","v":12},-6.9379999999983397,{"$f":"AVERAGE($E$2:$E$1001)*2","v":21.138000000000002}]
[800,-6.9379999999983397,21.138000000000002,14.200000000001662,{"$f":"'Road only'!E801","v":14},0.20000000000166196]
[801,0.20000000000166196,0,0.20000000000166196,{"$f":"'Road only'!E802","v":15},-14.799999999998338,{"$f":"AVERAGE($E$2:$E$1001)*2","v":21.138000000000002}]
[802,-14.799999999998338,21.138000000000002,6.3380000000016636,{"$f":"'Road only'!E803","v":9},-2.6619999999983364]
[803,-2.6619999999983364,0,-2.6619999999983364,{"$f":"'Road only'!E804","v":9},-11.661999999998336,{"$f":"AVERAGE($E$2:$E$1001)*2","v":21.138000000000002}]
[804,-11.661999999998336,21.138000000000002,9.4760000000016653,{"$f":"'Road only'!E805","v":11},-1.5239999999983347]
[805,{"$f":"F805","v":-1.5239999999983347},0,-1.5239999999983347,{"$f":"'Road only'!E806","v":12},-13.523999999998335,{"$f":"AVERAGE($E$2:$E$1001)*2","v":21.138000000000002}]
[806,-13.523999999998335,21.138000000000002,7.614000000001667,{"$f":"'Road only'!E807","v":11},-3.385999999998333]
[807,-3.385999999998333,0,-3.385999999998333,{"$f":"'Road only'!E808","v":7},-10.385999999998333,{"$f":"AVERAGE($E$2:$E$1001)*2","v":21.138000000000002}]
[808,-10.385999999998333,21.138000000000002,10.752000000001669,{"$f":"'Road only'!E809","v":11},-0.24799999999833133]
[809,-0.24799999999833133,0,-0.24799999999833133,{"$f":"'Road only'!E810","v":15},-15.247999999998331,{"$f":"AVERAGE($E$2:$E$1001)*2","v":21.138000000000002}]
[810,-15.247999999998331,21.138000000000002,5.8900000000016703,{"$f":"'Road only'!E811","v":8},-2.1099999999983297]
[811,-2.1099999999983297,0,-2.1099999999983297,{"$f":"'Road only'!E812","v":14},-16.10999999999833,{"$f":"AVERAGE($E$2:$E$1001)*2","v":21.138000000000002}]
[812,-16.10999999999833,21.138000000000002,5.028000000001672,{"$f":"'Road only'!E813","v":9},-3.971999999998328]
[813,-3.971999999998328,0,-3.971999999998328,{"$f":"'Road only'!E814","v":12},-15.971999999998328,{"$f":"AVERAGE($E$2:$E$1001)*2","v":21.138000000000002}]
[814,-15.971999999998328,21.138000000000002,5.1660000000016737,{"$f":"'Road only'!E815","v":9},-3.8339999999983263]
[815,-3.8339999999983263,0,-3.8339999999983263,{"$f":"'Road only'!E816","v":11},-14.833999999998326,{"$f":"AVERAGE($E$2:$E$1001)*2","v":21.138000000000002}]
[816,-14.833999999998326,21.138000000000002,6.3040000000016754,{"$f":"'Road only'!E817","v":7},-0.69599999999832463]
[817,-0.69599999999832463,0,-0.69599999999832463,{"$f":"'Road only'!E818","v":9},-9.6959999999983246,{"$f":"AVERAGE($E$2:$E$1001)*2","v":21.138000000000002}]
[818,-9.6959999999983246,21.138000000000002,11.442000000001677,{"$f":"'Road only'!E819","v":10},1.4420000000016771]
[819,1.4420000000016771,0,1.4420000000016771,{"$f":"'Road only'!E820","v":10},-8.5579999999983229,{"$f":"AVERAGE($E$2:$E$1001)*2","v":21.138000000000002}]
[820,-8.5579999999983229,21.138000000000002,12.580000000001679,{"$f":"'Road only'!E821","v":12},0.58000000000167873]
[821,0.58000000000167873,0,0.58000000000167873,{"$f":"'Road only'!E822","v":10},-9.4199999999983213,{"$f":"AVERAGE($E$2:$E$1001)*2","v":21.138000000000002}]
[822,-9.4199999999983213,21.138000000000002,11.71800000000168,{"$f":"'Road only'!E823","v":8},3.7180000000016804]
[823,3.7180000000016804,0,3.7180000000016804,{"$f":"'Road only'!E824","v":9},-5.2819999999983196,{"$f":"AVERAGE($E$2:$E$1001)*2","v":21.138000000000002}]
[824,-5.2819999999983196,21.138000000000002,15.856000000001682,{"$f":"'Road only'!E825","v":13},2.8560000000016821]
[825,2.8560000000016821,0,2.8560000000016821,{"$f":"'Road only'!E826","v":13},-10.143999999998318,{"$f":"AVERAGE($E$2:$E$1001)*2","v":21.138000000000002}]
[826,-10.143999999998318,21.138000000000002,10.994000000001684,{"$f":"'Road only'!E827","v":9},1.9940000000016838]
[827,1.9940000000016838,0,1.9940000000016838,{"$f":"'Road only'!E828","v":11},-9.0059999999983162,{"$f":"AVERAGE($E$2:$E$1001)*2","v":21.138000000000002}]
[828,-9.0059999999983162,21.138000000000002,12.132000000001685,{"$f":"'Road only'!E829","v":7},5.1320000000016854]
[829,5.1320000000016854,0,5.1320000000016854,{"$f":"'Road only'!E830","v":16},-10.867999999998315,{"$f":"AVERAGE($E$2:$E$1001)*2","v":21.138000000000002}]
[830,-10.867999999998315,21.138000000000002,10.270000000001687,{"$f":"'Road only'!E831","v":10},0.27000000000168711]
[831,0.27000000000168711,0,0.27000000000168711,{"$f":"'Road only'!E832","v":12},-11.729999999998313,{"$f":"AVERAGE($E$2:$E$1001)*2","v":21.138000000000002}]
[832,-11.729999999998313,21.138000000000002,9.4080000000016888,{"$f":"'Road only'!E833","v":14},-4.5919999999983112]
[833,-4.5919999999983112,0,-4.5919999999983112,{"$f":"'Road only'!E834","v":12},-16.591999999998311,{"$f":"AVERAGE($E$2:$E$1001)*2","v":21.138000000000002}]
[834,-16.591999999998311,21.138000000000002,{"$f":"B835+C835","v":4.5460000000016905},{"$f":"'Road only'!E835","v":11},{"$f":"D835-E835","v":-6.4539999999983095}]
[835,-6.4539999999983095,{"$f":"G835","v":0},-6.4539999999983095,{"$f":"'Road only'!E836","v":11},-17.45399999999831,{"$f":"AVERAGE($E$2:$E$1001)*2","v":21.138000000000002}]
[836,-17.45399999999831,21.138000000000002,3.6840000000016921,{"$f":"'Road only'!E837","v":15},-11.315999999998308]
[837,-11.315999999998308,0,-11.315999999998308,{"$f":"'Road only'!E838","v":13},-24.315999999998308,{"$f":"AVERAGE($E$2:$E$1001)*2","v":21.138000000000002}]
[838,-24.315999999998308,21.138000000000002,-3.1779999999983062,{"$f":"'Road only'!E839","v":8},-11.177999999998306]
[839,-11.177999999998306,0,-11.177999999998306,{"$f":"'Road only'!E840","v":10},-21.177999999998306,{"$f":"AVERAGE($E$2:$E$1001)*2","v":21.138000000000002}]
[840,-21.177999999998306,21.138000000000002,-3.9999999998304503E-2,{"$f":"'Road only'!E841","v":6},-6.0399999999983045]
[841,-6.0399999999983045,0,-6.0399999999983045,{"$f":"'Road only'!E842","v":10},-16.039999999998305,{"$f":"AVERAGE($E$2:$E$1001)*2","v":21.138000000000002}]
[842,-16.039999999998305,21.138000000000002,5.0980000000016972,{"$f":"'Road only'!E843","v":12},-6.9019999999983028]
[843,-6.9019999999983028,0,-6.9019999999983028,{"$f":"'Road only'!E844","v":15},-21.901999999998303,{"$f":"AVERAGE($E$2:$E$1001)*2","v":21.138000000000002}]
[844,-21.901999999998303,21.138000000000002,-0.76399999999830115,{"$f":"'Road only'!E845","v":12},-12.763999999998301]
[845,-12.763999999998301,0,-12.763999999998301,{"$f":"'Road only'!E846","v":4},-16.763999999998301,{"$f":"AVERAGE($E$2:$E$1001)*2","v":21.138000000000002}]
[846,-16.763999999998301,21.138000000000002,4.3740000000017005,{"$f":"'Road only'!E847","v":9},-4.6259999999982995]
[847,-4.6259999999982995,0,-4.6259999999982995,{"$f":"'Road only'!E848","v":11},-15.625999999998299,{"$f":"AVERAGE($E$2:$E$1001)*2","v":21.138000000000002}]
[848,-15.625999999998299,21.138000000000002,5.5120000000017022,{"$f":"'Road only'!E849","v":10},-4.4879999999982978]
[849,-4.4879999999982978,0,-4.4879999999982978,{"$f":"'Road only'!E850","v":15},-19.487999999998298,{"$f":"AVERAGE($E$2:$E$1001)*2","v":21.138000000000002}]
[850,-19.487999999998298,21.138000000000002,1.6500000000017039,{"$f":"'Road only'!E851","v":11},-9.3499999999982961]
[851,-9.3499999999982961,0,-9.3499999999982961,{"$f":"'Road only'!E852","v":8},-17.349999999998296,{"$f":"AVERAGE($E$2:$E$1001)*2","v":21.138000000000002}]
[852,-17.349999999998296,21.138000000000002,3.7880000000017056,{"$f":"'Road only'!E853","v":9},-5.2119999999982944]
[853,-5.2119999999982944,0,-5.2119999999982944,{"$f":"'Road only'!E854","v":17},-22.211999999998294,{"$f":"AVERAGE($E$2:$E$1001)*2","v":21.138000000000002}]
[854,-22.211999999998294,21.138000000000002,-1.0739999999982928,{"$f":"'Road only'!E855","v":7},-8.0739999999982928]
[855,-8.0739999999982928,0,-8.0739999999982928,{"$f":"'Road only'!E856","v":11},-19.073999999998293,{"$f":"AVERAGE($E$2:$E$1001)*2","v":21.138000000000002}]
[856,-19.073999999998293,21.138000000000002,2.0640000000017089,{"$f":"'Road only'!E857","v":10},-7.9359999999982911]
[857,-7.9359999999982911,0,-7.9359999999982911,{"$f":"'Road only'!E858","v":13},-20.935999999998291,{"$f":"AVERAGE($E$2:$E$1001)*2","v":21.138000000000002}]
[858,-20.935999999998291,21.138000000000002,0.20200000000171059,{"$f":"'Road only'!E859","v":10},-9.7979999999982894]
[859,-9.7979999999982894,0,-9.7979999999982894,{"$f":"'Road only'!E860","v":16},-25.797999999998289,{"$f":"AVERAGE($E$2:$E$1001)*2","v":21.138000000000002}]
[860,-25.797999999998289,21.138000000000002,-4.6599999999982877,{"$f":"'Road only'!E861","v":14},-18.659999999998288]
[861,-18.659999999998288,0,-18.659999999998288,{"$f":"'Road only'!E862","v":10},-28.659999999998288,{"$f":"AVERAGE($E$2:$E$1001)*2","v":21.138000000000002}]
[862,-28.659999999998288,21.138000000000002,-7.5219999999982861,{"$f":"'Road only'!E863","v":14},-21.521999999998286]
[863,-21.521999999998286,0,-21.521999999998286,{"$f":"'Road only'!E864","v":12},-33.521999999998286,{"$f":"AVERAGE($E$2:$E$1001)*2","v":21.138000000000002}]
[864,-33.521999999998286,21.138000000000002,-12.383999999998284,{"$f":"'Road only'!E865","v":14},-26.383999999998284]
[865,-26.383999999998284,0,-26.383999999998284,{"$f":"'Road only'!E866","v":7},-33.383999999998281,{"$f":"AVERAGE($E$2:$E$1001)*2","v":21.138000000000002}]
[866,-33.383999999998281,21.138000000000002,-12.245999999998279,{"$f":"'Road only'!E867","v":13},-25.245999999998279]
[867,-25.245999999998279,0,-25.245999999998279,{"$f":"'Road only'!E868","v":14},-39.245999999998276,{"$f":"AVERAGE($E$2:$E$1001)*2","v":21.138000000000002}]
[868,-39.245999999998276,21.138000000000002,-18.107999999998274,{"$f":"'Road only'!E869","v":10},-28.107999999998274]
[869,{"$f":"F869","v":-28.107999999998274},0,-28.107999999998274,{"$f":"'Road only'!E870","v":9},-37.10799999999827,{"$f":"AVERAGE($E$2:$E$1001)*2","v":21.138000000000002}]
[870,-37.10799999999827,21.138000000000002,-15.969999999998269,{"$f":"'Road only'!E871","v":4},-19.969999999998269]
[871,-19.969999999998269,0,-19.969999999998269,{"$f":"'Road only'!E872","v":10},-29.969999999998269,{"$f":"AVERAGE($E$2:$E$1001)*2","v":21.138000000000002}]
[872,-29.969999999998269,21.138000000000002,-8.831999999998267,{"$f":"'Road only'!E873","v":13},-21.831999999998267]
[873,-21.831999999998267,0,-21.831999999998267,{"$f":"'Road only'!E874","v":14},-35.831999999998267,{"$f":"AVERAGE($E$2:$E$1001)*2","v":21.138000000000002}]
[874,-35.831999999998267,21.138000000000002,-14.693999999998265,{"$f":"'Road only'!E875","v":9},-23.693999999998265]
[875,-23.693999999998265,0,-23.693999999998265,{"$f":"'Road only'!E876","v":10},-33.693999999998269,{"$f":"AVERAGE($E$2:$E$1001)*2","v":21.138000000000002}]
[876,-33.693999999998269,21.138000000000002,-12.555999999998267,{"$f":"'Road only'!E877","v":15},-27.555999999998267]
[877,-27.555999999998267,0,-27.555999999998267,{"$f":"'Road only'!E878","v":12},-39.555999999998264,{"$f":"AVERAGE($E$2:$E$1001)*2","v":21.138000000000002}]
[878,-39.555999999998264,21.138000000000002,-18.417999999998262,{"$f":"'Road only'!E879","v":8},-26.417999999998262]
[879,-26.417999999998262,0,-26.417999999998262,{"$f":"'Road only'!E880","v":7},-33.417999999998258,{"$f":"AVERAGE($E$2:$E$1001)*2","v":21.138000000000002}]
[880,-33.417999999998258,21.138000000000002,-12.279999999998257,{"$f":"'Road only'!E881","v":11},-23.279999999998257]
[881,-23.279999999998257,0,-23.279999999998257,{"$f":"'Road only'!E882","v":11},-34.279999999998253,{"$f":"AVERAGE($E$2:$E$1001)*2","v":21.138000000000002}]
[882,-34.279999999998253,21.138000000000002,-13.141999999998252,{"$f":"'Road only'!E883","v":8},-21.141999999998252]
[883,-21.141999999998252,0,-21.141999999998252,{"$f":"'Road only'!E884","v":17},-38.141999999998248,{"$f":"AVERAGE($E$2:$E$1001)*2","v":21.138000000000002}]
[884,-38.141999999998248,21.138000000000002,-17.003999999998246,{"$f":"'Road only'!E885","v":15},-32.003999999998243]
[885,-32.003999999998243,0,-32.003999999998243,{"$f":"'Road only'!E886","v":14},-46.003999999998243,{"$f":"AVERAGE($E$2:$E$1001)*2","v":21.138000000000002}]
[886,-46.003999999998243,21.138000000000002,-24.865999999998241,{"$f":"'Road only'!E887","v":10},-34.865999999998238]
[887,-34.865999999998238,0,-34.865999999998238,{"$f":"'Road only'!E888","v":12},-46.865999999998238,{"$f":"AVERAGE($E$2:$E$1001)*2","v":21.138000000000002}]
[888,-46.865999999998238,21.138000000000002,-25.727999999998236,{"$f":"'Road only'!E889","v":12},-37.727999999998232]
[889,-37.727999999998232,0,-37.727999999998232,{"$f":"'Road only'!E890","v":13},-50.727999999998232,{"$f":"AVERAGE($E$2:$E$1001)*2","v":21.138000000000002}]
[890,-50.727999999998232,21.138000000000002,-29.589999999998231,{"$f":"'Road only'!E891","v":11},-40.589999999998227]
[891,-40.589999999998227,0,-40.589999999998227,{"$f":"'Road only'!E892","v":6},-46.589999999998227,{"$f":"AVERAGE($E$2:$E$1001)*2","v":21.138000000000002}]
[892,-46.589999999998227,21.138000000000002,-25.451999999998225,{"$f":"'Road only'!E893","v":9},-34.451999999998222]
[893,-34.451999999998222,0,-34.451999999998222,{"$f":"'Road only'!E894","v":10},-44.451999999998222,{"$f":"AVERAGE($E$2:$E$1001)*2","v":21.138000000000002}]
[894,-44.451999999998222,21.138000000000002,-23.31399999999822,{"$f":"'Road only'!E895","v":7},-30.31399999999822]
[895,-30.31399999999822,0,-30.31399999999822,{"$f":"'Road only'!E896","v":3},-33.313999999998217,{"$f":"AVERAGE($E$2:$E$1001)*2","v":21.138000000000002}]
[896,-33.313999999998217,21.138000000000002,-12.175999999998215,{"$f":"'Road only'!E897","v":12},-24.175999999998215]
[897,-24.175999999998215,0,-24.175999999998215,{"$f":"'Road only'!E898","v":12},-36.175999999998211,{"$f":"AVERAGE($E$2:$E$1001)*2","v":21.138000000000002}]
[898,-36.175999999998211,21.138000000000002,{"$f":"B899+C899","v":-15.03799999999821},{"$f":"'Road only'!E899","v":9},{"$f":"D899-E899","v":-24.03799999999821}]
[899,-24.03799999999821,{"$f":"G899","v":0},-24.03799999999821,{"$f":"'Road only'!E900","v":11},-35.037999999998206,{"$f":"AVERAGE($E$2:$E$1001)*2","v":21.138000000000002}]
[900,-35.037999999998206,21.138000000000002,-13.899999999998204,{"$f":"'Road only'!E901","v":9},-22.899999999998204]
[901,-22.899999999998204,0,-22.899999999998204,{"$f":"'Road only'!E902","v":10},-32.899999999998201,{"$f":"AVERAGE($E$2:$E$1001)*2","v":21.138000000000002}]
[902,-32.899999999998201,21.138000000000002,-11.761999999998199,{"$f":"'Road only'!E903","v":8},-19.761999999998199]
[903,-19.761999999998199,0,-19.761999999998199,{"$f":"'Road only'!E904","v":6},-25.761999999998199,{"$f":"AVERAGE($E$2:$E$1001)*2","v":21.138000000000002}]
[904,-25.761999999998199,21.138000000000002,-4.6239999999981976,{"$f":"'Road only'!E905","v":7},-11.623999999998198]
[905,-11.623999999998198,0,-11.623999999998198,{"$f":"'Road only'!E906","v":14},-25.623999999998198,{"$f":"AVERAGE($E$2:$E$1001)*2","v":21.138000000000002}]
[906,-25.623999999998198,21.138000000000002,-4.4859999999981959,{"$f":"'Road only'!E907","v":10},-14.485999999998196]
[907,-14.485999999998196,0,-14.485999999998196,{"$f":"'Road only'!E908","v":8},-22.485999999998196,{"$f":"AVERAGE($E$2:$E$1001)*2","v":21.138000000000002}]
[908,-22.485999999998196,21.138000000000002,-1.3479999999981942,{"$f":"'Road only'!E909","v":11},-12.347999999998194]
[909,-12.347999999998194,0,-12.347999999998194,{"$f":"'Road only'!E910","v":17},-29.347999999998194,{"$f":"AVERAGE($E$2:$E$1001)*2","v":21.138000000000002}]
[910,-29.347999999998194,21.138000000000002,-8.2099999999981925,{"$f":"'Road only'!E911","v":14},-22.209999999998193]
[911,-22.209999999998193,0,-22.209999999998193,{"$f":"'Road only'!E912","v":10},-32.209999999998189,{"$f":"AVERAGE($E$2:$E$1001)*2","v":21.138000000000002}]
[912,-32.209999999998189,21.138000000000002,-11.071999999998187,{"$f":"'Road only'!E913","v":4},-15.071999999998187]
[913,-15.071999999998187,0,-15.071999999998187,{"$f":"'Road only'!E914","v":8},-23.071999999998187,{"$f":"AVERAGE($E$2:$E$1001)*2","v":21.138000000000002}]
[914,-23.071999999998187,21.138000000000002,-1.9339999999981856,{"$f":"'Road only'!E915","v":15},-16.933999999998186]
[915,-16.933999999998186,0,-16.933999999998186,{"$f":"'Road only'!E916","v":11},-27.933999999998186,{"$f":"AVERAGE($E$2:$E$1001)*2","v":21.138000000000002}]
[916,-27.933999999998186,21.138000000000002,-6.7959999999981839,{"$f":"'Road only'!E917","v":11},-17.795999999998184]
[917,-17.795999999998184,0,-17.795999999998184,{"$f":"'Road only'!E918","v":4},-21.795999999998184,{"$f":"AVERAGE($E$2:$E$1001)*2","v":21.138000000000002}]
[918,-21.795999999998184,21.138000000000002,-0.65799999999818226,{"$f":"'Road only'!E919","v":9},-9.6579999999981823]
[919,-9.6579999999981823,0,-9.6579999999981823,{"$f":"'Road only'!E920","v":7},-16.657999999998182,{"$f":"AVERAGE($E$2:$E$1001)*2","v":21.138000000000002}]
[920,-16.657999999998182,21.138000000000002,4.4800000000018194,{"$f":"'Road only'!E921","v":10},-5.5199999999981806]
[921,-5.5199999999981806,0,-5.5199999999981806,{"$f":"'Road only'!E922","v":15},-20.519999999998181,{"$f":"AVERAGE($E$2:$E$1001)*2","v":21.138000000000002}]
[922,-20.519999999998181,21.138000000000002,0.61800000000182109,{"$f":"'Road only'!E923","v":10},-9.3819999999981789]
[923,-9.3819999999981789,0,-9.3819999999981789,{"$f":"'Road only'!E924","v":8},-17.381999999998179,{"$f":"AVERAGE($E$2:$E$1001)*2","v":21.138000000000002}]
[924,-17.381999999998179,21.138000000000002,3.7560000000018228,{"$f":"'Road only'!E925","v":7},-3.2439999999981772]
[925,-3.2439999999981772,0,-3.2439999999981772,{"$f":"'Road only'!E926","v":8},-11.243999999998177,{"$f":"AVERAGE($E$2:$E$1001)*2","v":21.138000000000002}]
[926,-11.243999999998177,21.138000000000002,9.8940000000018244,{"$f":"'Road only'!E927","v":13},-3.1059999999981756]
[927,-3.1059999999981756,0,-3.1059999999981756,{"$f":"'Road only'!E928","v":9},-12.105999999998176,{"$f":"AVERAGE($E$2:$E$1001)*2","v":21.138000000000002}]
[928,-12.105999999998176,21.138000000000002,9.0320000000018261,{"$f":"'Road only'!E929","v":8},1.0320000000018261]
[929,1.0320000000018261,0,1.0320000000018261,{"$f":"'Road only'!E930","v":11},-9.9679999999981739,{"$f":"AVERAGE($E$2:$E$1001)*2","v":21.138000000000002}]
[930,-9.9679999999981739,21.138000000000002,11.170000000001828,{"$f":"'Road only'!E931","v":15},-3.8299999999981722]
[931,-3.8299999999981722,0,-3.8299999999981722,{"$f":"'Road only'!E932","v":9},-12.829999999998172,{"$f":"AVERAGE($E$2:$E$1001)*2","v":21.138000000000002}]
[932,-12.829999999998172,21.138000000000002,8.3080000000018295,{"$f":"'Road only'!E933","v":13},-4.6919999999981705]
[933,{"$f":"F933","v":-4.6919999999981705},0,-4.6919999999981705,{"$f":"'Road only'!E934","v":8},-12.691999999998171,{"$f":"AVERAGE($E$2:$E$1001)*2","v":21.138000000000002}]
[934,-12.691999999998171,21.138000000000002,8.4460000000018312,{"$f":"'Road only'!E935","v":11},-2.5539999999981688]
[935,-2.5539999999981688,0,-2.5539999999981688,{"$f":"'Road only'!E936","v":16},-18.553999999998169,{"$f":"AVERAGE($E$2:$E$1001)*2","v":21.138000000000002}]
[936,-18.553999999998169,21.138000000000002,2.5840000000018328,{"$f":"'Road only'!E937","v":10},-7.4159999999981672]
[937,-7.4159999999981672,0,-7.4159999999981672,{"$f":"'Road only'!E938","v":8},-15.415999999998167,{"$f":"AVERAGE($E$2:$E$1001)*2","v":21.138000000000002}]
[938,-15.415999999998167,21.138000000000002,5.7220000000018345,{"$f":"'Road only'!E939","v":6},-0.27799999999816549]
[939,-0.27799999999816549,0,-0.27799999999816549,{"$f":"'Road only'!E940","v":10},-10.277999999998165,{"$f":"AVERAGE($E$2:$E$1001)*2","v":21.138000000000002}]
[940,-10.277999999998165,21.138000000000002,10.860000000001836,{"$f":"'Road only'!E941","v":7},3.8600000000018362]
[941,3.8600000000018362,0,3.8600000000018362,{"$f":"'Road only'!E942","v":12},-8.1399999999981638,{"$f":"AVERAGE($E$2:$E$1001)*2","v":21.138000000000002}]
[942,-8.1399999999981638,21.138000000000002,12.998000000001838,{"$f":"'Road only'!E943","v":9},3.9980000000018379]
[943,3.9980000000018379,0,3.9980000000018379,{"$f":"'Road only'!E944","v":7},-3.0019999999981621,{"$f":"AVERAGE($E$2:$E$1001)*2","v":21.138000000000002}]
[944,-3.0019999999981621,21.138000000000002,18.13600000000184,{"$f":"'Road only'!E945","v":8},10.13600000000184]
[945,10.13600000000184,0,10.13600000000184,{"$f":"'Road only'!E946","v":9},1.1360000000018395,{"$f":"AVERAGE($E$2:$E$1001)*2","v":21.138000000000002}]
[946,1.1360000000018395,21.138000000000002,22.274000000001841,{"$f":"'Road only'!E947","v":14},8.2740000000018412]
[947,8.2740000000018412,0,8.2740000000018412,{"$f":"'Road only'!E948","v":10},-1.7259999999981588,{"$f":"AVERAGE($E$2:$E$1001)*2","v":21.138000000000002}]
[948,-1.7259999999981588,21.138000000000002,19.412000000001843,{"$f":"'Road only'!E949","v":13},6.4120000000018429]
[949,6.4120000000018429,0,6.4120000000018429,{"$f":"'Road only'!E950","v":10},-3.5879999999981571,{"$f":"AVERAGE($E$2:$E$1001)*2","v":21.138000000000002}]
[950,-3.5879999999981571,21.138000000000002,17.550000000001845,{"$f":"'Road only'!E951","v":7},10.550000000001845]
[951,10.550000000001845,0,10.550000000001845,{"$f":"'Road only'!E952","v":7},3.5500000000018446,{"$f":"AVERAGE($E$2:$E$1001)*2","v":21.138000000000002}]
[952,3.5500000000018446,21.138000000000002,24.688000000001846,{"$f":"'Road only'!E953","v":10},14.688000000001846]
[953,14.688000000001846,0,14.688000000001846,{"$f":"'Road only'!E954","v":6},8.6880000000018462,{"$f":"AVERAGE($E$2:$E$1001)*2","v":21.138000000000002}]
[954,8.6880000000018462,21.138000000000002,29.826000000001848,{"$f":"'Road only'!E955","v":7},22.826000000001848]
[955,22.826000000001848,0,22.826000000001848,{"$f":"'Road only'!E956","v":8},14.826000000001848,{"$f":"AVERAGE($E$2:$E$1001)*2","v":21.138000000000002}]
[956,14.826000000001848,21.138000000000002,35.964000000001846,{"$f":"'Road only'!E957","v":8},27.964000000001846]
[957,27.964000000001846,0,27.964000000001846,{"$f":"'Road only'!E958","v":10},17.964000000001846,{"$f":"AVERAGE($E$2:$E$1001)*2","v":21.138000000000002}]
[958,17.964000000001846,21.138000000000002,39.102000000001851,{"$f":"'Road only'!E959","v":13},26.102000000001851]
[959,26.102000000001851,0,26.102000000001851,{"$f":"'Road only'!E960","v":6},20.102000000001851,{"$f":"AVERAGE($E$2:$E$1001)*2","v":21.138000000000002}]
[960,20.102000000001851,21.138000000000002,41.240000000001857,{"$f":"'Road only'!E961","v":14},27.240000000001857]
[961,27.240000000001857,0,27.240000000001857,{"$f":"'Road only'!E962","v":7},20.240000000001857,{"$f":"AVERAGE($E$2:$E$1001)*2","v":21.138000000000002}]
[962,20.240000000001857,21.138000000000002,{"$f":"B963+C963","v":41.378000000001862},{"$f":"'Road only'!E963","v":14},{"$f":"D963-E963","v":27.378000000001862}]
[963,27.378000000001862,{"$f":"G963","v":0},27.378000000001862,{"$f":"'Road only'!E964","v":14},13.378000000001862,{"$f":"AVERAGE($E$2:$E$1001)*2","v":21.138000000000002}]
[964,13.378000000001862,21.138000000000002,34.516000000001867,{"$f":"'Road only'!E965","v":4},30.516000000001867]
[965,30.516000000001867,0,30.516000000001867,{"$f":"'Road only'!E966","v":15},15.516000000001867,{"$f":"AVERAGE($E$2:$E$1001)*2","v":21.138000000000002}]
[966,15.516000000001867,21.138000000000002,36.654000000001872,{"$f":"'Road only'!E967","v":7},29.654000000001872]
[967,29.654000000001872,0,29.654000000001872,{"$f":"'Road only'!E968","v":9},20.654000000001872,{"$f":"AVERAGE($E$2:$E$1001)*2","v":21.138000000000002}]
[968,20.654000000001872,21.138000000000002,41.792000000001877,{"$f":"'Road only'!E969","v":16},25.792000000001877]
[969,25.792000000001877,0,25.792000000001877,{"$f":"'Road only'!E970","v":8},17.792000000001877,{"$f":"AVERAGE($E$2:$E$1001)*2","v":21.138000000000002}]
[970,17.792000000001877,21.138000000000002,38.930000000001883,{"$f":"'Road only'!E971","v":14},24.930000000001883]
[971,24.930000000001883,0,24.930000000001883,{"$f":"'Road only'!E972","v":11},13.930000000001883,{"$f":"AVERAGE($E$2:$E$1001)*2","v":21.138000000000002}]
[972,13.930000000001883,21.138000000000002,35.068000000001888,{"$f":"'Road only'!E973","v":14},21.068000000001888]
[973,21.068000000001888,0,21.068000000001888,{"$f":"'Road only'!E974","v":16},5.0680000000018879,{"$f":"AVERAGE($E$2:$E$1001)*2","v":21.138000000000002}]
[974,5.0680000000018879,21.138000000000002,26.20600000000189,{"$f":"'Road only'!E975","v":9},17.20600000000189]
[975,17.20600000000189,0,17.20600000000189,{"$f":"'Road only'!E976","v":17},0.20600000000188956,{"$f":"AVERAGE($E$2:$E$1001)*2","v":21.138000000000002}]
[976,0.20600000000188956,21.138000000000002,21.344000000001891,{"$f":"'Road only'!E977","v":12},9.3440000000018912]
[977,9.3440000000018912,0,9.3440000000018912,{"$f":"'Road only'!E978","v":12},-2.6559999999981088,{"$f":"AVERAGE($E$2:$E$1001)*2","v":21.138000000000002}]
[978,-2.6559999999981088,21.138000000000002,18.482000000001893,{"$f":"'Road only'!E979","v":15},3.4820000000018929]
[979,3.4820000000018929,0,3.4820000000018929,{"$f":"'Road only'!E980","v":9},-5.5179999999981071,{"$f":"AVERAGE($E$2:$E$1001)*2","v":21.138000000000002}]
[980,-5.5179999999981071,21.138000000000002,15.620000000001895,{"$f":"'Road only'!E981","v":9},6.6200000000018946]
[981,6.6200000000018946,0,6.6200000000018946,{"$f":"'Road only'!E982","v":9},-2.3799999999981054,{"$f":"AVERAGE($E$2:$E$1001)*2","v":21.138000000000002}]
[982,-2.3799999999981054,21.138000000000002,18.758000000001896,{"$f":"'Road only'!E983","v":8},10.758000000001896]
[983,10.758000000001896,0,10.758000000001896,{"$f":"'Road only'!E984","v":4},6.7580000000018963,{"$f":"AVERAGE($E$2:$E$1001)*2","v":21.138000000000002}]
[984,6.7580000000018963,21.138000000000002,27.896000000001898,{"$f":"'Road only'!E985","v":10},17.896000000001898]
[985,17.896000000001898,0,17.896000000001898,{"$f":"'Road only'!E986","v":7},10.896000000001898,{"$f":"AVERAGE($E$2:$E$1001)*2","v":21.138000000000002}]
[986,10.896000000001898,21.138000000000002,32.034000000001896,{"$f":"'Road only'!E987","v":13},19.034000000001896]
[987,19.034000000001896,0,19.034000000001896,{"$f":"'Road only'!E988","v":14},5.0340000000018961,{"$f":"AVERAGE($E$2:$E$1001)*2","v":21.138000000000002}]
[988,5.0340000000018961,21.138000000000002,26.172000000001898,{"$f":"'Road only'!E989","v":13},13.172000000001898]
[989,13.172000000001898,0,13.172000000001898,{"$f":"'Road only'!E990","v":13},0.17200000000189775,{"$f":"AVERAGE($E$2:$E$1001)*2","v":21.138000000000002}]
[990,0.17200000000189775,21.138000000000002,21.310000000001899,{"$f":"'Road only'!E991","v":10},11.310000000001899]
[991,11.310000000001899,0,11.310000000001899,{"$f":"'Road only'!E992","v":16},-4.6899999999981006,{"$f":"AVERAGE($E$2:$E$1001)*2","v":21.138000000000002}]
[992,-4.6899999999981006,21.138000000000002,16.448000000001901,{"$f":"'Road only'!E993","v":10},6.4480000000019011]
[993,6.4480000000019011,0,6.4480000000019011,{"$f":"'Road only'!E994","v":10},-3.5519999999980989,{"$f":"AVERAGE($E$2:$E$1001)*2","v":21.138000000000002}]
[994,-3.5519999999980989,21.138000000000002,17.586000000001903,{"$f":"'Road only'!E995","v":3},14.586000000001903]
[995,14.586000000001903,0,14.586000000001903,{"$f":"'Road only'!E996","v":13},1.5860000000019028,{"$f":"AVERAGE($E$2:$E$1001)*2","v":21.138000000000002}]
[996,1.5860000000019028,21.138000000000002,22.724000000001904,{"$f":"'Road only'!E997","v":11},11.724000000001904]
[997,{"$f":"F997","v":11.724000000001904},0,11.724000000001904,{"$f":"'Road only'!E998","v":11},0.72400000000190445,{"$f":"AVERAGE($E$2:$E$1001)*2","v":21.138000000000002}]
[998,0.72400000000190445,21.138000000000002,21.862000000001906,{"$f":"'Road only'!E999","v":9},12.862000000001906]
[999,12.862000000001906,0,12.862000000001906,{"$f":"'Road only'!E1000","v":9},3.8620000000019061,{"$f":"AVERAGE($E$2:$E$1001)*2","v":21.138000000000002}]
[1000,3.8620000000019061,21.138000000000002,25.000000000001908,{"$f":"'Road only'!E1001","v":10},15.000000000001908]
[1001,15.000000000001908,{"$f":"G1001","v":0},{"$f":"B1002+C1002","v":15.000000000001908},{"$f":"'Road only'!E1002","v":14},{"$f":"D1002-E1002","v":1.0000000000019078},{"$f":"AVERAGE($E$2:$E$1001)*2","v":21.138000000000002}]
[1002,1.0000000000019078,21.138000000000002,22.138000000001909,{"$f":"'Road only'!E1003","v":11},11.138000000001909]
[1003,11.138000000001909,0,11.138000000001909,{"$f":"'Road only'!E1004","v":9},2.1380000000019095,{"$f":"AVERAGE($E$2:$E$1001)*2","v":21.138000000000002}]
[1004,2.1380000000019095,21.138000000000002,23.276000000001911,{"$f":"'Road only'!E1005","v":10},13.276000000001911]
[1005,13.276000000001911,0,13.276000000001911,{"$f":"'Road only'!E1006","v":10},3.2760000000019112,{"$f":"AVERAGE($E$2:$E$1001)*2","v":21.138000000000002}]
[1006,3.2760000000019112,21.138000000000002,24.414000000001913,{"$f":"'Road only'!E1007","v":9},15.414000000001913]
[1007,{"$f":"F1007","v":15.414000000001913},0,15.414000000001913,{"$f":"'Road only'!E1008","v":9},6.4140000000019128,{"$f":"AVERAGE($E$2:$E$1001)*2","v":21.138000000000002}]
[1008,6.4140000000019128,21.138000000000002,27.552000000001915,{"$f":"'Road only'!E1009","v":7},20.552000000001915]
[1009,20.552000000001915,0,20.552000000001915,{"$f":"'Road only'!E1010","v":10},10.552000000001915,{"$f":"AVERAGE($E$2:$E$1001)*2","v":21.138000000000002}]
[1010,10.552000000001915,21.138000000000002,31.690000000001916,{"$f":"'Road only'!E1011","v":8},23.690000000001916]
[1011,23.690000000001916,0,23.690000000001916,{"$f":"'Road only'!E1012","v":7},16.690000000001916,21.138000000000002]
[1012,16.690000000001916,21.138000000000002,37.828000000001921,{"$f":"'Road only'!E1013","v":11},26.828000000001921]
[1013,26.828000000001921,0,26.828000000001921,{"$f":"'Road only'!E1014","v":11},15.828000000001921,21.138000000000002]
[1014,15.828000000001921,21.138000000000002,36.966000000001927,{"$f":"'Road only'!E1015","v":13},23.966000000001927]
[1015,23.966000000001927,0,23.966000000001927,{"$f":"'Road only'!E1016","v":9},14.966000000001927,21.138000000000002]
[1016,14.966000000001927,21.138000000000002,36.104000000001932,{"$f":"'Road only'!E1017","v":7},29.104000000001932]
[1017,29.104000000001932,0,29.104000000001932,{"$f":"'Road only'!E1018","v":9},20.104000000001932,21.138000000000002]
[1018,20.104000000001932,21.138000000000002,41.242000000001937,{"$f":"'Road only'!E1019","v":10},31.242000000001937]
[1019,31.242000000001937,0,31.242000000001937,{"$f":"'Road only'!E1020","v":8},23.242000000001937,21.138000000000002]
[1020,23.242000000001937,21.138000000000002,44.380000000001942,{"$f":"'Road only'!E1021","v":14},30.380000000001942]
[1021,30.380000000001942,0,30.380000000001942,{"$f":"'Road only'!E1022","v":14},16.380000000001942,21.138000000000002]
[1022,16.380000000001942,21.138000000000002,37.518000000001948,{"$f":"'Road only'!E1023","v":11},26.518000000001948]
[1023,26.518000000001948,0,26.518000000001948,{"$f":"'Road only'!E1024","v":8},18.518000000001948,21.138000000000002]
[1024,18.518000000001948,21.138000000000002,39.656000000001953,{"$f":"'Road only'!E1025","v":7},32.656000000001953]
[1025,32.656000000001953,0,32.656000000001953,{"$f":"'Road only'!E1026","v":11},21.656000000001953,21.138000000000002]
[1026,21.656000000001953,21.138000000000002,42.794000000001958,{"$f":"'Road only'!E1027","v":12},30.794000000001958]
[1027,30.794000000001958,0,30.794000000001958,{"$f":"'Road only'!E1028","v":12},18.794000000001958,21.138000000000002]
[1028,18.794000000001958,21.138000000000002,39.932000000001963,{"$f":"'Road only'!E1029","v":10},29.932000000001963]
[1029,29.932000000001963,0,29.932000000001963,{"$f":"'Road only'!E1030","v":10},19.932000000001963,21.138000000000002]
[1030,19.932000000001963,21.138000000000002,41.070000000001968,{"$f":"'Road only'!E1031","v":10},31.070000000001968]
[1031,31.070000000001968,0,31.070000000001968,{"$f":"'Road only'!E1032","v":17},14.070000000001968,21.138000000000002]
[1032,14.070000000001968,21.138000000000002,35.208000000001974,{"$f":"'Road only'!E1033","v":11},24.208000000001974]
[1033,24.208000000001974,0,24.208000000001974,{"$f":"'Road only'!E1034","v":3},21.208000000001974,21.138000000000002]
[1034,21.208000000001974,21.138000000000002,42.346000000001979,{"$f":"'Road only'!E1035","v":12},30.346000000001979]
[1035,30.346000000001979,0,30.346000000001979,{"$f":"'Road only'!E1036","v":9},21.346000000001979,21.138000000000002]
[1036,21.346000000001979,21.138000000000002,42.484000000001984,{"$f":"'Road only'!E1037","v":13},29.484000000001984]
[1037,29.484000000001984,0,29.484000000001984,{"$f":"'Road only'!E1038","v":6},23.484000000001984,21.138000000000002]
[1038,23.484000000001984,21.138000000000002,44.622000000001989,{"$f":"'Road only'!E1039","v":6},38.622000000001989]
[1039,38.622000000001989,0,38.622000000001989,{"$f":"'Road only'!E1040","v":10},28.622000000001989,21.138000000000002]
[1040,28.622000000001989,21.138000000000002,49.760000000001995,{"$f":"'Road only'!E1041","v":14},35.760000000001995]
[1041,35.760000000001995,0,35.760000000001995,{"$f":"'Road only'!E1042","v":17},18.760000000001995,21.138000000000002]
[1042,18.760000000001995,21.138000000000002,39.898000000002,{"$f":"'Road only'!E1043","v":12},27.898000000002]
[1043,27.898000000002,0,27.898000000002,{"$f":"'Road only'!E1044","v":11},16.898000000002,21.138000000000002]
[1044,16.898000000002,21.138000000000002,38.036000000002005,{"$f":"'Road only'!E1045","v":7},31.036000000002005]
[1045,31.036000000002005,0,31.036000000002005,{"$f":"'Road only'!E1046","v":10},21.036000000002005,21.138000000000002]
[1046,21.036000000002005,21.138000000000002,42.17400000000201,{"$f":"'Road only'!E1047","v":13},29.17400000000201]
[1047,29.17400000000201,0,29.17400000000201,{"$f":"'Road only'!E1048","v":14},15.17400000000201,21.138000000000002]
[1048,15.17400000000201,21.138000000000002,36.312000000002016,{"$f":"'Road only'!E1049","v":14},22.312000000002016]
[1049,22.312000000002016,0,22.312000000002016,{"$f":"'Road only'!E1050","v":10},12.312000000002016,21.138000000000002]
[1050,12.312000000002016,21.138000000000002,33.450000000002021,{"$f":"'Road only'!E1051","v":8},25.450000000002021]
[1051,25.450000000002021,0,25.450000000002021,{"$f":"'Road only'!E1052","v":12},13.450000000002021,21.138000000000002]
[1052,13.450000000002021,21.138000000000002,34.588000000002026,{"$f":"'Road only'!E1053","v":10},24.588000000002026]
[1053,24.588000000002026,0,24.588000000002026,{"$f":"'Road only'!E1054","v":8},16.588000000002026,21.138000000000002]
[1054,16.588000000002026,21.138000000000002,37.726000000002031,{"$f":"'Road only'!E1055","v":11},26.726000000002031]
[1055,26.726000000002031,0,26.726000000002031,{"$f":"'Road only'!E1056","v":8},18.726000000002031,21.138000000000002]
[1056,18.726000000002031,21.138000000000002,39.864000000002036,{"$f":"'Road only'!E1057","v":12},27.864000000002036]
[1057,27.864000000002036,0,27.864000000002036,{"$f":"'Road only'!E1058","v":8},19.864000000002036,21.138000000000002]
[1058,19.864000000002036,21.138000000000002,41.002000000002042,{"$f":"'Road only'!E1059","v":11},30.002000000002042]
[1059,30.002000000002042,0,30.002000000002042,{"$f":"'Road only'!E1060","v":11},19.002000000002042,21.138000000000002]
[1060,19.002000000002042,21.138000000000002,40.140000000002047,{"$f":"'Road only'!E1061","v":11},29.140000000002047]
[1061,29.140000000002047,0,29.140000000002047,{"$f":"'Road only'!E1062","v":15},14.140000000002047,21.138000000000002]
[1062,14.140000000002047,21.138000000000002,35.278000000002052,{"$f":"'Road only'!E1063","v":8},27.278000000002052]
[1063,27.278000000002052,0,27.278000000002052,{"$f":"'Road only'!E1064","v":12},15.278000000002052,21.138000000000002]
[1064,15.278000000002052,21.138000000000002,36.416000000002057,{"$f":"'Road only'!E1065","v":10},26.416000000002057]
[1065,26.416000000002057,{"$f":"G1065","v":0},{"$f":"B1066+C1066","v":26.416000000002057},{"$f":"'Road only'!E1066","v":7},{"$f":"D1066-E1066","v":19.416000000002057},21.138000000000002]
[1066,19.416000000002057,21.138000000000002,40.554000000002063,{"$f":"'Road only'!E1067","v":9},31.554000000002063]
[1067,31.554000000002063,0,31.554000000002063,{"$f":"'Road only'!E1068","v":9},22.554000000002063,21.138000000000002]
[1068,22.554000000002063,21.138000000000002,43.692000000002068,{"$f":"'Road only'!E1069","v":10},33.692000000002068]
[1069,33.692000000002068,0,33.692000000002068,{"$f":"'Road only'!E1070","v":5},28.692000000002068,21.138000000000002]
[1070,28.692000000002068,21.138000000000002,49.830000000002073,{"$f":"'Road only'!E1071","v":10},39.830000000002073]
[1071,{"$f":"F1071","v":39.830000000002073},0,39.830000000002073,{"$f":"'Road only'!E1072","v":10},29.830000000002073,{"$f":"AVERAGE($E$2:$E$1001)*2","v":21.138000000000002}]
[1072,29.830000000002073,21.138000000000002,50.968000000002078,{"$f":"'Road only'!E1073","v":6},44.968000000002078]
[1073,44.968000000002078,0,44.968000000002078,{"$f":"'Road only'!E1074","v":12},32.968000000002078,{"$f":"AVERAGE($E$2:$E$1001)*2","v":21.138000000000002}]
[1074,32.968000000002078,21.138000000000002,54.106000000002084,{"$f":"'Road only'!E1075","v":8},46.106000000002084]
[1075,46.106000000002084,0,46.106000000002084,{"$f":"'Road only'!E1076","v":6},40.106000000002084,{"$f":"AVERAGE($E$2:$E$1001)*2","v":21.138000000000002}]
[1076,40.106000000002084,21.138000000000002,61.244000000002089,{"$f":"'Road only'!E1077","v":8},53.244000000002089]
[1077,53.244000000002089,0,53.244000000002089,{"$f":"'Road only'!E1078","v":6},47.244000000002089,{"$f":"AVERAGE($E$2:$E$1001)*2","v":21.138000000000002}]
[1078,47.244000000002089,21.138000000000002,68.382000000002094,{"$f":"'Road only'!E1079","v":12},56.382000000002094]
[1079,56.382000000002094,0,56.382000000002094,{"$f":"'Road only'!E1080","v":9},47.382000000002094,{"$f":"AVERAGE($E$2:$E$1001)*2","v":21.138000000000002}]
[1080,47.382000000002094,21.138000000000002,68.520000000002099,{"$f":"'Road only'!E1081","v":13},55.520000000002099]
[1081,55.520000000002099,0,55.520000000002099,{"$f":"'Road only'!E1082","v":6},49.520000000002099,21.138000000000002]
[1082,49.520000000002099,21.138000000000002,70.658000000002104,{"$f":"'Road only'!E1083","v":12},58.658000000002104]
[1083,58.658000000002104,0,58.658000000002104,{"$f":"'Road only'!E1084","v":8},50.658000000002104,21.138000000000002]
[1084,50.658000000002104,21.138000000000002,71.79600000000211,{"$f":"'Road only'!E1085","v":14},57.79600000000211]
[1085,57.79600000000211,0,57.79600000000211,{"$f":"'Road only'!E1086","v":13},44.79600000000211,21.138000000000002]
[1086,44.79600000000211,21.138000000000002,65.934000000002115,{"$f":"'Road only'!E1087","v":7},58.934000000002115]
[1087,58.934000000002115,0,58.934000000002115,{"$f":"'Road only'!E1088","v":13},45.934000000002115,21.138000000000002]
[1088,45.934000000002115,21.138000000000002,67.07200000000212,{"$f":"'Road only'!E1089","v":7},60.07200000000212]
[1089,60.07200000000212,0,60.07200000000212,{"$f":"'Road only'!E1090","v":13},47.07200000000212,21.138000000000002]
[1090,47.07200000000212,21.138000000000002,68.210000000002125,{"$f":"'Road only'!E1091","v":8},60.210000000002125]
[1091,60.210000000002125,0,60.210000000002125,{"$f":"'Road only'!E1092","v":6},54.210000000002125,21.138000000000002]
[1092,54.210000000002125,21.138000000000002,75.348000000002131,{"$f":"'Road only'!E1093","v":13},62.348000000002131]
[1093,62.348000000002131,0,62.348000000002131,{"$f":"'Road only'!E1094","v":13},49.348000000002131,21.138000000000002]
[1094,49.348000000002131,21.138000000000002,70.486000000002136,{"$f":"'Road only'!E1095","v":12},58.486000000002136]
[1095,58.486000000002136,0,58.486000000002136,{"$f":"'Road only'!E1096","v":8},50.486000000002136,21.138000000000002]
[1096,50.486000000002136,21.138000000000002,71.624000000002141,{"$f":"'Road only'!E1097","v":13},58.624000000002141]
[1097,58.624000000002141,0,58.624000000002141,{"$f":"'Road only'!E1098","v":7},51.624000000002141,21.138000000000002]
[1098,51.624000000002141,21.138000000000002,72.762000000002146,{"$f":"'Road only'!E1099","v":7},65.762000000002146]
[1099,65.762000000002146,0,65.762000000002146,{"$f":"'Road only'!E1100","v":16},49.762000000002146,21.138000000000002]
[1100,49.762000000002146,21.138000000000002,70.900000000002152,{"$f":"'Road only'!E1101","v":11},59.900000000002152]
[1101,59.900000000002152,0,59.900000000002152,{"$f":"'Road only'!E1102","v":5},54.900000000002152,21.138000000000002]
[1102,54.900000000002152,21.138000000000002,76.038000000002157,{"$f":"'Road only'!E1103","v":12},64.038000000002157]
[1103,64.038000000002157,0,64.038000000002157,{"$f":"'Road only'!E1104","v":12},52.038000000002157,21.138000000000002]
[1104,52.038000000002157,21.138000000000002,73.176000000002162,{"$f":"'Road only'!E1105","v":12},61.176000000002162]
[1105,61.176000000002162,0,61.176000000002162,{"$f":"'Road only'!E1106","v":12},49.176000000002162,21.138000000000002]
[1106,49.176000000002162,21.138000000000002,70.314000000002167,{"$f":"'Road only'!E1107","v":12},58.314000000002167]
[1107,58.314000000002167,0,58.314000000002167,{"$f":"'Road only'!E1108","v":8},50.314000000002167,21.138000000000002]
[1108,50.314000000002167,21.138000000000002,71.452000000002172,{"$f":"'Road only'!E1109","v":13},58.452000000002172]
[1109,58.452000000002172,0,58.452000000002172,{"$f":"'Road only'!E1110","v":14},44.452000000002172,21.138000000000002]
[1110,44.452000000002172,21.138000000000002,65.590000000002178,{"$f":"'Road only'!E1111","v":9},56.590000000002178]
[1111,56.590000000002178,0,56.590000000002178,{"$f":"'Road only'!E1112","v":10},46.590000000002178,21.138000000000002]
[1112,46.590000000002178,21.138000000000002,67.728000000002183,{"$f":"'Road only'!E1113","v":13},54.728000000002183]
[1113,54.728000000002183,0,54.728000000002183,{"$f":"'Road only'!E1114","v":12},42.728000000002183,21.138000000000002]
[1114,42.728000000002183,21.138000000000002,63.866000000002188,{"$f":"'Road only'!E1115","v":9},54.866000000002188]
[1115,54.866000000002188,0,54.866000000002188,{"$f":"'Road only'!E1116","v":16},38.866000000002188,21.138000000000002]
[1116,38.866000000002188,21.138000000000002,60.004000000002193,{"$f":"'Road only'!E1117","v":11},49.004000000002193]
[1117,49.004000000002193,0,49.004000000002193,{"$f":"'Road only'!E1118","v":9},40.004000000002193,21.138000000000002]
[1118,40.004000000002193,21.138000000000002,61.142000000002199,{"$f":"'Road only'!E1119","v":11},50.142000000002199]
[1119,50.142000000002199,0,50.142000000002199,{"$f":"'Road only'!E1120","v":14},36.142000000002199,21.138000000000002]
[1120,36.142000000002199,21.138000000000002,57.280000000002204,{"$f":"'Road only'!E1121","v":13},44.280000000002204]
[1121,44.280000000002204,0,44.280000000002204,{"$f":"'Road only'!E1122","v":15},29.280000000002204,21.138000000000002]
[1122,29.280000000002204,21.138000000000002,50.418000000002209,{"$f":"'Road only'!E1123","v":8},42.418000000002209]
[1123,42.418000000002209,0,42.418000000002209,{"$f":"'Road only'!E1124","v":11},31.418000000002209,21.138000000000002]
[1124,31.418000000002209,21.138000000000002,52.556000000002214,{"$f":"'Road only'!E1125","v":8},44.556000000002214]
[1125,44.556000000002214,0,44.556000000002214,{"$f":"'Road only'!E1126","v":15},29.556000000002214,21.138000000000002]
[1126,29.556000000002214,21.138000000000002,50.69400000000222,{"$f":"'Road only'!E1127","v":15},35.69400000000222]
[1127,35.69400000000222,0,35.69400000000222,{"$f":"'Road only'!E1128","v":12},23.69400000000222,21.138000000000002]
[1128,23.69400000000222,21.138000000000002,44.832000000002225,{"$f":"'Road only'!E1129","v":8},36.832000000002225]
[1129,36.832000000002225,{"$f":"G1129","v":0},{"$f":"B1130+C1130","v":36.832000000002225},{"$f":"'Road only'!E1130","v":12},{"$f":"D1130-E1130","v":24.832000000002225},21.138000000000002]
[1130,24.832000000002225,21.138000000000002,45.97000000000223,{"$f":"'Road only'!E1131","v":5},40.97000000000223]
[1131,40.97000000000223,0,40.97000000000223,{"$f":"'Road only'!E1132","v":14},26.97000000000223,21.138000000000002]
[1132,26.97000000000223,21.138000000000002,48.108000000002235,{"$f":"'Road only'!E1133","v":7},41.108000000002235]
[1133,41.108000000002235,0,41.108000000002235,{"$f":"'Road only'!E1134","v":10},31.108000000002235,21.138000000000002]
[1134,31.108000000002235,21.138000000000002,52.24600000000224,{"$f":"'Road only'!E1135","v":4},48.24600000000224]
[1135,{"$f":"F1135","v":48.24600000000224},0,48.24600000000224,{"$f":"'Road only'!E1136","v":9},39.24600000000224,21.138000000000002]
[1136,39.24600000000224,21.138000000000002,60.384000000002246,{"$f":"'Road only'!E1137","v":15},45.384000000002246]
[1137,45.384000000002246,0,45.384000000002246,{"$f":"'Road only'!E1138","v":8},37.384000000002246,21.138000000000002]
[1138,37.384000000002246,21.138000000000002,58.522000000002251,{"$f":"'Road only'!E1139","v":8},50.522000000002251]
[1139,50.522000000002251,0,50.522000000002251,{"$f":"'Road only'!E1140","v":16},34.522000000002251,21.138000000000002]
[1140,34.522000000002251,21.138000000000002,55.660000000002256,{"$f":"'Road only'!E1141","v":8},47.660000000002256]
[1141,47.660000000002256,0,47.660000000002256,{"$f":"'Road only'!E1142","v":10},37.660000000002256,{"$f":"AVERAGE($E$2:$E$1001)*2","v":21.138000000000002}]
[1142,37.660000000002256,21.138000000000002,58.798000000002261,{"$f":"'Road only'!E1143","v":12},46.798000000002261]
[1143,46.798000000002261,0,46.798000000002261,{"$f":"'Road only'!E1144","v":10},36.798000000002261,{"$f":"AVERAGE($E$2:$E$1001)*2","v":21.138000000000002}]
[1144,36.798000000002261,21.138000000000002,57.936000000002267,{"$f":"'Road only'!E1145","v":8},49.936000000002267]
[1145,49.936000000002267,0,49.936000000002267,{"$f":"'Road only'!E1146","v":15},34.936000000002267,{"$f":"AVERAGE($E$2:$E$1001)*2","v":21.138000000000002}]
[1146,34.936000000002267,21.138000000000002,56.074000000002272,{"$f":"'Road only'!E1147","v":11},45.074000000002272]
[1147,45.074000000002272,0,45.074000000002272,{"$f":"'Road only'!E1148","v":14},31.074000000002272,{"$f":"AVERAGE($E$2:$E$1001)*2","v":21.138000000000002}]
[1148,31.074000000002272,21.138000000000002,52.212000000002277,{"$f":"'Road only'!E1149","v":18},34.212000000002277]
[1149,34.212000000002277,0,34.212000000002277,{"$f":"'Road only'!E1150","v":11},23.212000000002277,{"$f":"AVERAGE($E$2:$E$1001)*2","v":21.138000000000002}]
[1150,23.212000000002277,21.138000000000002,44.350000000002282,{"$f":"'Road only'!E1151","v":10},34.350000000002282]
[1151,34.350000000002282,0,34.350000000002282,{"$f":"'Road only'!E1152","v":9},25.350000000002282,21.138000000000002]
[1152,25.350000000002282,21.138000000000002,46.488000000002287,{"$f":"'Road only'!E1153","v":11},35.488000000002287]
[1153,35.488000000002287,0,35.488000000002287,{"$f":"'Road only'!E1154","v":9},26.488000000002287,21.138000000000002]
[1154,26.488000000002287,21.138000000000002,47.626000000002293,{"$f":"'Road only'!E1155","v":9},38.626000000002293]
[1155,38.626000000002293,0,38.626000000002293,{"$f":"'Road only'!E1156","v":14},24.626000000002293,21.138000000000002]
[1156,24.626000000002293,21.138000000000002,45.764000000002298,{"$f":"'Road only'!E1157","v":8},37.764000000002298]
[1157,37.764000000002298,0,37.764000000002298,{"$f":"'Road only'!E1158","v":12},25.764000000002298,21.138000000000002]
[1158,25.764000000002298,21.138000000000002,46.902000000002303,{"$f":"'Road only'!E1159","v":10},36.902000000002303]
[1159,36.902000000002303,0,36.902000000002303,{"$f":"'Road only'!E1160","v":7},29.902000000002303,21.138000000000002]
[1160,29.902000000002303,21.138000000000002,51.040000000002308,{"$f":"'Road only'!E1161","v":11},40.040000000002308]
[1161,40.040000000002308,0,40.040000000002308,{"$f":"'Road only'!E1162","v":12},28.040000000002308,21.138000000000002]
[1162,28.040000000002308,21.138000000000002,49.178000000002314,{"$f":"'Road only'!E1163","v":9},40.178000000002314]
[1163,40.178000000002314,0,40.178000000002314,{"$f":"'Road only'!E1164","v":11},29.178000000002314,21.138000000000002]
[1164,29.178000000002314,21.138000000000002,50.316000000002319,{"$f":"'Road only'!E1165","v":9},41.316000000002319]
[1165,41.316000000002319,0,41.316000000002319,{"$f":"'Road only'!E1166","v":16},25.316000000002319,21.138000000000002]
[1166,25.316000000002319,21.138000000000002,46.454000000002324,{"$f":"'Road only'!E1167","v":12},34.454000000002324]
[1167,34.454000000002324,0,34.454000000002324,{"$f":"'Road only'!E1168","v":13},21.454000000002324,21.138000000000002]
[1168,21.454000000002324,21.138000000000002,42.592000000002329,{"$f":"'Road only'!E1169","v":5},37.592000000002329]
[1169,37.592000000002329,0,37.592000000002329,{"$f":"'Road only'!E1170","v":14},23.592000000002329,21.138000000000002]
[1170,23.592000000002329,21.138000000000002,44.730000000002335,{"$f":"'Road only'!E1171","v":14},30.730000000002335]
[1171,30.730000000002335,0,30.730000000002335,{"$f":"'Road only'!E1172","v":12},18.730000000002335,21.138000000000002]
[1172,18.730000000002335,21.138000000000002,39.86800000000234,{"$f":"'Road only'!E1173","v":15},24.86800000000234]
[1173,24.86800000000234,0,24.86800000000234,{"$f":"'Road only'!E1174","v":10},14.86800000000234,21.138000000000002]
[1174,14.86800000000234,21.138000000000002,36.006000000002345,{"$f":"'Road only'!E1175","v":13},23.006000000002345]
[1175,23.006000000002345,0,23.006000000002345,{"$f":"'Road only'!E1176","v":15},8.006000000002345,21.138000000000002]
[1176,8.006000000002345,21.138000000000002,29.144000000002347,{"$f":"'Road only'!E1177","v":4},25.144000000002347]
[1177,25.144000000002347,0,25.144000000002347,{"$f":"'Road only'!E1178","v":13},12.144000000002347,21.138000000000002]
[1178,12.144000000002347,21.138000000000002,33.282000000002348,{"$f":"'Road only'!E1179","v":10},23.282000000002348]
[1179,23.282000000002348,0,23.282000000002348,{"$f":"'Road only'!E1180","v":14},9.2820000000023484,21.138000000000002]
[1180,9.2820000000023484,21.138000000000002,30.42000000000235,{"$f":"'Road only'!E1181","v":5},25.42000000000235]
[1181,25.42000000000235,0,25.42000000000235,{"$f":"'Road only'!E1182","v":13},12.42000000000235,21.138000000000002]
[1182,12.42000000000235,21.138000000000002,33.558000000002352,{"$f":"'Road only'!E1183","v":14},19.558000000002352]
[1183,19.558000000002352,0,19.558000000002352,{"$f":"'Road only'!E1184","v":9},10.558000000002352,21.138000000000002]
[1184,10.558000000002352,21.138000000000002,31.696000000002353,{"$f":"'Road only'!E1185","v":13},18.696000000002353]
[1185,18.696000000002353,0,18.696000000002353,{"$f":"'Road only'!E1186","v":10},8.6960000000023534,21.138000000000002]
[1186,8.6960000000023534,21.138000000000002,29.834000000002355,{"$f":"'Road only'!E1187","v":12},17.834000000002355]
[1187,17.834000000002355,0,17.834000000002355,{"$f":"'Road only'!E1188","v":15},2.8340000000023551,21.138000000000002]
[1188,2.8340000000023551,21.138000000000002,23.972000000002357,{"$f":"'Road only'!E1189","v":10},13.972000000002357]
[1189,13.972000000002357,0,13.972000000002357,{"$f":"'Road only'!E1190","v":11},2.9720000000023568,21.138000000000002]
[1190,2.9720000000023568,21.138000000000002,24.110000000002358,{"$f":"'Road only'!E1191","v":11},13.110000000002358]
[1191,13.110000000002358,0,13.110000000002358,{"$f":"'Road only'!E1192","v":8},5.1100000000023584,21.138000000000002]
[1192,5.1100000000023584,21.138000000000002,26.24800000000236,{"$f":"'Road only'!E1193","v":16},10.24800000000236]
[1193,10.24800000000236,{"$f":"G1193","v":0},{"$f":"B1194+C1194","v":10.24800000000236},{"$f":"'Road only'!E1194","v":8},{"$f":"D1194-E1194","v":2.2480000000023601},21.138000000000002]
[1194,2.2480000000023601,21.138000000000002,23.386000000002362,{"$f":"'Road only'!E1195","v":5},18.386000000002362]
[1195,18.386000000002362,0,18.386000000002362,{"$f":"'Road only'!E1196","v":10},8.3860000000023618,21.138000000000002]
[1196,8.3860000000023618,21.138000000000002,29.524000000002363,{"$f":"'Road only'!E1197","v":13},16.524000000002363]
[1197,16.524000000002363,0,16.524000000002363,{"$f":"'Road only'!E1198","v":11},5.5240000000023635,21.138000000000002]
[1198,5.5240000000023635,21.138000000000002,26.662000000002365,{"$f":"'Road only'!E1199","v":16},10.662000000002365]
[1199,{"$f":"F1199","v":10.662000000002365},0,10.662000000002365,{"$f":"'Road only'!E1200","v":14},-3.3379999999976349,21.138000000000002]
[1200,-3.3379999999976349,21.138000000000002,17.800000000002367,{"$f":"'Road only'!E1201","v":9},8.8000000000023668]
[1201,8.8000000000023668,0,8.8000000000023668,{"$f":"'Road only'!E1202","v":13},-4.1999999999976332,21.138000000000002]
[1202,-4.1999999999976332,21.138000000000002,16.938000000002368,{"$f":"'Road only'!E1203","v":8},8.9380000000023685]
[1203,8.9380000000023685,0,8.9380000000023685,{"$f":"'Road only'!E1204","v":11},-2.0619999999976315,21.138000000000002]
[1204,-2.0619999999976315,21.138000000000002,19.07600000000237,{"$f":"'Road only'!E1205","v":10},9.0760000000023702]
[1205,9.0760000000023702,0,9.0760000000023702,{"$f":"'Road only'!E1206","v":13},-3.9239999999976298,21.138000000000002]
[1206,-3.9239999999976298,21.138000000000002,17.214000000002372,{"$f":"'Road only'!E1207","v":12},5.2140000000023718]
[1207,5.2140000000023718,0,5.2140000000023718,{"$f":"'Road only'!E1208","v":7},-1.7859999999976282,21.138000000000002]
[1208,-1.7859999999976282,21.138000000000002,19.352000000002374,{"$f":"'Road only'!E1209","v":11},8.3520000000023735]
[1209,8.3520000000023735,0,8.3520000000023735,{"$f":"'Road only'!E1210","v":8},0.35200000000237353,21.138000000000002]
[1210,0.35200000000237353,21.138000000000002,21.490000000002375,{"$f":"'Road only'!E1211","v":8},13.490000000002375]
[1211,13.490000000002375,0,13.490000000002375,{"$f":"'Road only'!E1212","v":8},5.4900000000023752,{"$f":"AVERAGE($E$2:$E$1001)*2","v":21.138000000000002}]
[1212,5.4900000000023752,21.138000000000002,26.628000000002377,{"$f":"'Road only'!E1213","v":12},14.628000000002377]
[1213,14.628000000002377,0,14.628000000002377,{"$f":"'Road only'!E1214","v":12},2.6280000000023769,{"$f":"AVERAGE($E$2:$E$1001)*2","v":21.138000000000002}]
[1214,2.6280000000023769,21.138000000000002,23.766000000002379,{"$f":"'Road only'!E1215","v":9},14.766000000002379]
[1215,14.766000000002379,0,14.766000000002379,{"$f":"'Road only'!E1216","v":5},9.7660000000023786,{"$f":"AVERAGE($E$2:$E$1001)*2","v":21.138000000000002}]
[1216,9.7660000000023786,21.138000000000002,30.90400000000238,{"$f":"'Road only'!E1217","v":12},18.90400000000238]
[1217,18.90400000000238,0,18.90400000000238,{"$f":"'Road only'!E1218","v":8},10.90400000000238,{"$f":"AVERAGE($E$2:$E$1001)*2","v":21.138000000000002}]
[1218,10.90400000000238,21.138000000000002,32.042000000002382,{"$f":"'Road only'!E1219","v":12},20.042000000002382]
[1219,20.042000000002382,0,20.042000000002382,{"$f":"'Road only'!E1220","v":8},12.042000000002382,{"$f":"AVERAGE($E$2:$E$1001)*2","v":21.138000000000002}]
[1220,12.042000000002382,21.138000000000002,33.18000000000238,{"$f":"'Road only'!E1221","v":10},23.18000000000238]
[1221,23.18000000000238,0,23.18000000000238,{"$f":"'Road only'!E1222","v":6},17.18000000000238,21.138000000000002]
[1222,17.18000000000238,21.138000000000002,38.318000000002385,{"$f":"'Road only'!E1223","v":11},27.318000000002385]
[1223,27.318000000002385,0,27.318000000002385,{"$f":"'Road only'!E1224","v":8},19.318000000002385,21.138000000000002]
[1224,19.318000000002385,21.138000000000002,40.45600000000239,{"$f":"'Road only'!E1225","v":10},30.45600000000239]
[1225,30.45600000000239,0,30.45600000000239,{"$f":"'Road only'!E1226","v":18},12.45600000000239,21.138000000000002]
[1226,12.45600000000239,21.138000000000002,33.594000000002396,{"$f":"'Road only'!E1227","v":16},17.594000000002396]
[1227,17.594000000002396,0,17.594000000002396,{"$f":"'Road only'!E1228","v":13},4.5940000000023957,21.138000000000002]
[1228,4.5940000000023957,21.138000000000002,25.732000000002397,{"$f":"'Road only'!E1229","v":10},15.732000000002397]
[1229,15.732000000002397,0,15.732000000002397,{"$f":"'Road only'!E1230","v":12},3.7320000000023974,21.138000000000002]
[1230,3.7320000000023974,21.138000000000002,24.870000000002399,{"$f":"'Road only'!E1231","v":15},9.8700000000023991]
[1231,9.8700000000023991,0,9.8700000000023991,{"$f":"'Road only'!E1232","v":11},-1.1299999999976009,21.138000000000002]
[1232,-1.1299999999976009,21.138000000000002,20.008000000002401,{"$f":"'Road only'!E1233","v":8},12.008000000002401]
[1233,12.008000000002401,0,12.008000000002401,{"$f":"'Road only'!E1234","v":13},-0.99199999999759925,21.138000000000002]
[1234,-0.99199999999759925,21.138000000000002,20.146000000002402,{"$f":"'Road only'!E1235","v":17},3.1460000000024024]
[1235,3.1460000000024024,0,3.1460000000024024,{"$f":"'Road only'!E1236","v":11},-7.8539999999975976,21.138000000000002]
[1236,-7.8539999999975976,21.138000000000002,13.284000000002404,{"$f":"'Road only'!E1237","v":12},1.2840000000024041]
[1237,1.2840000000024041,0,1.2840000000024041,{"$f":"'Road only'!E1238","v":11},-9.7159999999975959,21.138000000000002]
[1238,-9.7159999999975959,21.138000000000002,11.422000000002406,{"$f":"'Road only'!E1239","v":9},2.4220000000024058]
[1239,2.4220000000024058,0,2.4220000000024058,{"$f":"'Road only'!E1240","v":12},-9.5779999999975942,21.138000000000002]
[1240,-9.5779999999975942,21.138000000000002,11.560000000002407,{"$f":"'Road only'!E1241","v":9},2.5600000000024075]
[1241,2.5600000000024075,0,2.5600000000024075,{"$f":"'Road only'!E1242","v":4},-1.4399999999975925,21.138000000000002]
[1242,-1.4399999999975925,21.138000000000002,19.698000000002409,{"$f":"'Road only'!E1243","v":11},8.6980000000024091]
[1243,8.6980000000024091,0,8.6980000000024091,{"$f":"'Road only'!E1244","v":14},-5.3019999999975909,21.138000000000002]
[1244,-5.3019999999975909,21.138000000000002,15.836000000002411,{"$f":"'Road only'!E1245","v":13},2.8360000000024108]
[1245,2.8360000000024108,0,2.8360000000024108,{"$f":"'Road only'!E1246","v":9},-6.1639999999975892,21.138000000000002]
[1246,-6.1639999999975892,21.138000000000002,14.974000000002412,{"$f":"'Road only'!E1247","v":16},-1.0259999999975875]
[1247,-1.0259999999975875,0,-1.0259999999975875,{"$f":"'Road only'!E1248","v":12},-13.025999999997588,21.138000000000002]
[1248,-13.025999999997588,21.138000000000002,8.1120000000024142,{"$f":"'Road only'!E1249","v":11},-2.8879999999975858]
[1249,-2.8879999999975858,0,-2.8879999999975858,{"$f":"'Road only'!E1250","v":9},-11.887999999997586,21.138000000000002]
[1250,-11.887999999997586,21.138000000000002,9.2500000000024158,{"$f":"'Road only'!E1251","v":9},0.25000000000241585]
[1251,0.25000000000241585,0,0.25000000000241585,{"$f":"'Road only'!E1252","v":9},-8.7499999999975842,21.138000000000002]
[1252,-8.7499999999975842,21.138000000000002,12.388000000002418,{"$f":"'Road only'!E1253","v":10},2.3880000000024175]
[1253,2.3880000000024175,0,2.3880000000024175,{"$f":"'Road only'!E1254","v":13},-10.611999999997582,21.138000000000002]
[1254,-10.611999999997582,21.138000000000002,10.526000000002419,{"$f":"'Road only'!E1255","v":9},1.5260000000024192]
[1255,1.5260000000024192,0,1.5260000000024192,{"$f":"'Road only'!E1256","v":8},-6.4739999999975808,21.138000000000002]
[1256,-6.4739999999975808,21.138000000000002,14.664000000002421,{"$f":"'Road only'!E1257","v":6},8.6640000000024209]
[1257,8.6640000000024209,{"$f":"G1257","v":0},{"$f":"B1258+C1258","v":8.6640000000024209},{"$f":"'Road only'!E1258","v":12},{"$f":"D1258-E1258","v":-3.3359999999975791},21.138000000000002]
[1258,-3.3359999999975791,21.138000000000002,17.802000000002423,{"$f":"'Road only'!E1259","v":7},10.802000000002423]
[1259,10.802000000002423,0,10.802000000002423,{"$f":"'Road only'!E1260","v":10},0.80200000000242255,21.138000000000002]
[1260,0.80200000000242255,21.138000000000002,21.940000000002424,{"$f":"'Road only'!E1261","v":9},12.940000000002424]
[1261,12.940000000002424,0,12.940000000002424,{"$f":"'Road only'!E1262","v":4},8.9400000000024242,21.138000000000002]
[1262,8.9400000000024242,21.138000000000002,30.078000000002426,{"$f":"'Road only'!E1263","v":4},26.078000000002426]
[1263,{"$f":"F1263","v":26.078000000002426},0,26.078000000002426,{"$f":"'Road only'!E1264","v":10},16.078000000002426,21.138000000000002]
[1264,16.078000000002426,21.138000000000002,37.216000000002424,{"$f":"'Road only'!E1265","v":13},24.216000000002424]
[1265,24.216000000002424,0,24.216000000002424,{"$f":"'Road only'!E1266","v":12},12.216000000002424,21.138000000000002]
[1266,12.216000000002424,21.138000000000002,33.354000000002429,{"$f":"'Road only'!E1267","v":7},26.354000000002429]
[1267,26.354000000002429,0,26.354000000002429,{"$f":"'Road only'!E1268","v":11},15.354000000002429,21.138000000000002]
[1268,15.354000000002429,21.138000000000002,36.492000000002434,{"$f":"'Road only'!E1269","v":12},24.492000000002434]
[1269,24.492000000002434,0,24.492000000002434,{"$f":"'Road only'!E1270","v":13},11.492000000002434,21.138000000000002]
[1270,11.492000000002434,21.138000000000002,32.63000000000244,{"$f":"'Road only'!E1271","v":9},23.63000000000244]
[1271,23.63000000000244,0,23.63000000000244,{"$f":"'Road only'!E1272","v":8},15.63000000000244,21.138000000000002]
[1272,15.63000000000244,21.138000000000002,36.768000000002445,{"$f":"'Road only'!E1273","v":12},24.768000000002445]
[1273,24.768000000002445,0,24.768000000002445,{"$f":"'Road only'!E1274","v":12},12.768000000002445,21.138000000000002]
[1274,12.768000000002445,21.138000000000002,33.90600000000245,{"$f":"'Road only'!E1275","v":12},21.90600000000245]
[1275,21.90600000000245,0,21.90600000000245,{"$f":"'Road only'!E1276","v":6},15.90600000000245,21.138000000000002]
[1276,15.90600000000245,21.138000000000002,37.044000000002455,{"$f":"'Road only'!E1277","v":14},23.044000000002455]
[1277,23.044000000002455,0,23.044000000002455,{"$f":"'Road only'!E1278","v":12},11.044000000002455,21.138000000000002]
[1278,11.044000000002455,21.138000000000002,32.182000000002461,{"$f":"'Road only'!E1279","v":10},22.182000000002461]
[1279,22.182000000002461,0,22.182000000002461,{"$f":"'Road only'!E1280","v":14},8.1820000000024606,21.138000000000002]
[1280,8.1820000000024606,21.138000000000002,29.320000000002462,{"$f":"'Road only'!E1281","v":13},16.320000000002462]
[1281,16.320000000002462,0,16.320000000002462,{"$f":"'Road only'!E1282","v":6},10.320000000002462,{"$f":"AVERAGE($E$2:$E$1001)*2","v":21.138000000000002}]
[1282,10.320000000002462,21.138000000000002,31.458000000002464,{"$f":"'Road only'!E1283","v":12},19.458000000002464]
[1283,19.458000000002464,0,19.458000000002464,{"$f":"'Road only'!E1284","v":7},12.458000000002464,{"$f":"AVERAGE($E$2:$E$1001)*2","v":21.138000000000002}]
[1284,12.458000000002464,21.138000000000002,33.596000000002462,{"$f":"'Road only'!E1285","v":6},27.596000000002462]
[1285,27.596000000002462,0,27.596000000002462,{"$f":"'Road only'!E1286","v":10},17.596000000002462,{"$f":"AVERAGE($E$2:$E$1001)*2","v":21.138000000000002}]
[1286,17.596000000002462,21.138000000000002,38.734000000002467,{"$f":"'Road only'!E1287","v":13},25.734000000002467]
[1287,25.734000000002467,0,25.734000000002467,{"$f":"'Road only'!E1288","v":14},11.734000000002467,{"$f":"AVERAGE($E$2:$E$1001)*2","v":21.138000000000002}]
[1288,11.734000000002467,21.138000000000002,32.872000000002473,{"$f":"'Road only'!E1289","v":15},17.872000000002473]
[1289,17.872000000002473,0,17.872000000002473,{"$f":"'Road only'!E1290","v":10},7.8720000000024726,{"$f":"AVERAGE($E$2:$E$1001)*2","v":21.138000000000002}]
[1290,7.8720000000024726,21.138000000000002,29.010000000002474,{"$f":"'Road only'!E1291","v":11},18.010000000002474]
[1291,18.010000000002474,0,18.010000000002474,{"$f":"'Road only'!E1292","v":11},7.0100000000024743,21.138000000000002]
[1292,7.0100000000024743,21.138000000000002,28.148000000002476,{"$f":"'Road only'!E1293","v":15},13.148000000002476]
[1293,13.148000000002476,0,13.148000000002476,{"$f":"'Road only'!E1294","v":13},0.14800000000247593,21.138000000000002]
[1294,0.14800000000247593,21.138000000000002,21.286000000002478,{"$f":"'Road only'!E1295","v":13},8.2860000000024776]
[1295,8.2860000000024776,0,8.2860000000024776,{"$f":"'Road only'!E1296","v":12},-3.7139999999975224,21.138000000000002]
[1296,-3.7139999999975224,21.138000000000002,17.424000000002479,{"$f":"'Road only'!E1297","v":8},9.4240000000024793]
[1297,9.4240000000024793,0,9.4240000000024793,{"$f":"'Road only'!E1298","v":14},-4.5759999999975207,21.138000000000002]
[1298,-4.5759999999975207,21.138000000000002,16.562000000002481,{"$f":"'Road only'!E1299","v":8},8.562000000002481]
[1299,8.562000000002481,0,8.562000000002481,{"$f":"'Road only'!E1300","v":8},0.56200000000248096,21.138000000000002]
[1300,0.56200000000248096,21.138000000000002,21.700000000002483,{"$f":"'Road only'!E1301","v":13},8.7000000000024826]
[1301,8.7000000000024826,0,8.7000000000024826,{"$f":"'Road only'!E1302","v":9},-0.29999999999751736,21.138000000000002]
[1302,-0.29999999999751736,21.138000000000002,20.838000000002484,{"$f":"'Road only'!E1303","v":10},10.838000000002484]
[1303,10.838000000002484,0,10.838000000002484,{"$f":"'Road only'!E1304","v":10},0.83800000000248431,21.138000000000002]
[1304,0.83800000000248431,21.138000000000002,21.976000000002486,{"$f":"'Road only'!E1305","v":13},8.976000000002486]
[1305,8.976000000002486,0,8.976000000002486,{"$f":"'Road only'!E1306","v":6},2.976000000002486,21.138000000000002]
[1306,2.976000000002486,21.138000000000002,24.114000000002488,{"$f":"'Road only'!E1307","v":14},10.114000000002488]
[1307,10.114000000002488,0,10.114000000002488,{"$f":"'Road only'!E1308","v":11},-0.88599999999751233,21.138000000000002]
[1308,-0.88599999999751233,21.138000000000002,20.252000000002489,{"$f":"'Road only'!E1309","v":10},10.252000000002489]
[1309,10.252000000002489,0,10.252000000002489,{"$f":"'Road only'!E1310","v":12},-1.7479999999975107,21.138000000000002]
[1310,-1.7479999999975107,21.138000000000002,19.390000000002491,{"$f":"'Road only'!E1311","v":9},10.390000000002491]
[1311,10.390000000002491,0,10.390000000002491,{"$f":"'Road only'!E1312","v":16},-5.609999999997509,21.138000000000002]
[1312,-5.609999999997509,21.138000000000002,15.528000000002493,{"$f":"'Road only'!E1313","v":9},6.5280000000024927]
[1313,6.5280000000024927,0,6.5280000000024927,{"$f":"'Road only'!E1314","v":12},-5.4719999999975073,21.138000000000002]
[1314,-5.4719999999975073,21.138000000000002,15.666000000002494,{"$f":"'Road only'!E1315","v":10},5.6660000000024944]
[1315,5.6660000000024944,0,5.6660000000024944,{"$f":"'Road only'!E1316","v":8},-2.3339999999975056,21.138000000000002]
[1316,-2.3339999999975056,21.138000000000002,18.804000000002496,{"$f":"'Road only'!E1317","v":9},9.8040000000024961]
[1317,9.8040000000024961,0,9.8040000000024961,{"$f":"'Road only'!E1318","v":10},-0.19599999999750395,21.138000000000002]
[1318,-0.19599999999750395,21.138000000000002,20.942000000002498,{"$f":"'Road only'!E1319","v":13},7.9420000000024977]
[1319,7.9420000000024977,0,7.9420000000024977,{"$f":"'Road only'!E1320","v":12},-4.0579999999975023,21.138000000000002]
[1320,-4.0579999999975023,21.138000000000002,17.080000000002499,{"$f":"'Road only'!E1321","v":10},7.0800000000024994]
[1321,7.0800000000024994,{"$f":"G1321","v":0},{"$f":"B1322+C1322","v":7.0800000000024994},{"$f":"'Road only'!E1322","v":13},{"$f":"D1322-E1322","v":-5.9199999999975006},21.138000000000002]
[1322,-5.9199999999975006,21.138000000000002,15.218000000002501,{"$f":"'Road only'!E1323","v":8},7.2180000000025011]
[1323,7.2180000000025011,0,7.2180000000025011,{"$f":"'Road only'!E1324","v":11},-3.7819999999974989,21.138000000000002]
[1324,-3.7819999999974989,21.138000000000002,17.356000000002503,{"$f":"'Road only'!E1325","v":11},6.3560000000025028]
[1325,6.3560000000025028,0,6.3560000000025028,{"$f":"'Road only'!E1326","v":13},-6.6439999999974972,21.138000000000002]
[1326,-6.6439999999974972,21.138000000000002,14.494000000002504,{"$f":"'Road only'!E1327","v":7},7.4940000000025044]
[1327,{"$f":"F1327","v":7.4940000000025044},0,7.4940000000025044,{"$f":"'Road only'!E1328","v":8},-0.50599999999749556,21.138000000000002]
[1328,-0.50599999999749556,21.138000000000002,20.632000000002506,{"$f":"'Road only'!E1329","v":7},13.632000000002506]
[1329,13.632000000002506,0,13.632000000002506,{"$f":"'Road only'!E1330","v":13},0.63200000000250611,21.138000000000002]
[1330,0.63200000000250611,21.138000000000002,21.770000000002508,{"$f":"'Road only'!E1331","v":12},9.7700000000025078]
[1331,9.7700000000025078,0,9.7700000000025078,{"$f":"'Road only'!E1332","v":13},-3.2299999999974922,21.138000000000002]
[1332,-3.2299999999974922,21.138000000000002,17.908000000002509,{"$f":"'Road only'!E1333","v":9},8.9080000000025095]
[1333,8.9080000000025095,0,8.9080000000025095,{"$f":"'Road only'!E1334","v":11},-2.0919999999974905,21.138000000000002]
[1334,-2.0919999999974905,21.138000000000002,19.046000000002511,{"$f":"'Road only'!E1335","v":13},6.0460000000025111]
[1335,6.0460000000025111,0,6.0460000000025111,{"$f":"'Road only'!E1336","v":7},-0.95399999999748886,21.138000000000002]
[1336,-0.95399999999748886,21.138000000000002,20.184000000002513,{"$f":"'Road only'!E1337","v":14},6.1840000000025128]
[1337,6.1840000000025128,0,6.1840000000025128,{"$f":"'Road only'!E1338","v":6},0.18400000000251282,21.138000000000002]
[1338,0.18400000000251282,21.138000000000002,21.322000000002514,{"$f":"'Road only'!E1339","v":9},12.322000000002514]
[1339,12.322000000002514,0,12.322000000002514,{"$f":"'Road only'!E1340","v":13},-0.6779999999974855,21.138000000000002]
[1340,-0.6779999999974855,21.138000000000002,20.460000000002516,{"$f":"'Road only'!E1341","v":12},8.4600000000025162]
[1341,8.4600000000025162,0,8.4600000000025162,{"$f":"'Road only'!E1342","v":8},0.46000000000251617,21.138000000000002]
[1342,0.46000000000251617,21.138000000000002,21.598000000002518,{"$f":"'Road only'!E1343","v":13},8.5980000000025179]
[1343,8.5980000000025179,0,8.5980000000025179,{"$f":"'Road only'!E1344","v":12},-3.4019999999974821,21.138000000000002]
[1344,-3.4019999999974821,21.138000000000002,17.73600000000252,{"$f":"'Road only'!E1345","v":9},8.7360000000025195]
[1345,8.7360000000025195,0,8.7360000000025195,{"$f":"'Road only'!E1346","v":12},-3.2639999999974805,21.138000000000002]
[1346,-3.2639999999974805,21.138000000000002,17.874000000002521,{"$f":"'Road only'!E1347","v":10},7.8740000000025212]
[1347,7.8740000000025212,0,7.8740000000025212,{"$f":"'Road only'!E1348","v":10},-2.1259999999974788,21.138000000000002]
[1348,-2.1259999999974788,21.138000000000002,19.012000000002523,{"$f":"'Road only'!E1349","v":12},7.0120000000025229]
[1349,7.0120000000025229,0,7.0120000000025229,{"$f":"'Road only'!E1350","v":7},1.2000000002522881E-2,21.138000000000002]
[1350,1.2000000002522881E-2,21.138000000000002,21.150000000002525,{"$f":"'Road only'!E1351","v":13},8.1500000000025246]
[1351,8.1500000000025246,0,8.1500000000025246,{"$f":"'Road only'!E1352","v":14},-5.8499999999974754,{"$f":"AVERAGE($E$2:$E$1001)*2","v":21.138000000000002}]
[1352,-5.8499999999974754,21.138000000000002,15.288000000002526,{"$f":"'Road only'!E1353","v":8},7.2880000000025262]
[1353,7.2880000000025262,0,7.2880000000025262,{"$f":"'Road only'!E1354","v":9},-1.7119999999974738,{"$f":"AVERAGE($E$2:$E$1001)*2","v":21.138000000000002}]
[1354,-1.7119999999974738,21.138000000000002,19.426000000002528,{"$f":"'Road only'!E1355","v":8},11.426000000002528]
[1355,11.426000000002528,0,11.426000000002528,{"$f":"'Road only'!E1356","v":9},2.4260000000025279,{"$f":"AVERAGE($E$2:$E$1001)*2","v":21.138000000000002}]
[1356,2.4260000000025279,21.138000000000002,23.56400000000253,{"$f":"'Road only'!E1357","v":15},8.5640000000025296]
[1357,8.5640000000025296,0,8.5640000000025296,{"$f":"'Road only'!E1358","v":12},-3.4359999999974704,{"$f":"AVERAGE($E$2:$E$1001)*2","v":21.138000000000002}]
[1358,-3.4359999999974704,21.138000000000002,17.702000000002531,{"$f":"'Road only'!E1359","v":13},4.7020000000025313]
[1359,4.7020000000025313,0,4.7020000000025313,{"$f":"'Road only'!E1360","v":9},-4.2979999999974687,{"$f":"AVERAGE($E$2:$E$1001)*2","v":21.138000000000002}]
[1360,-4.2979999999974687,21.138000000000002,16.840000000002533,{"$f":"'Road only'!E1361","v":10},6.8400000000025329]
[1361,6.8400000000025329,0,6.8400000000025329,{"$f":"'Road only'!E1362","v":11},-4.1599999999974671,21.138000000000002]
[1362,-4.1599999999974671,21.138000000000002,16.978000000002535,{"$f":"'Road only'!E1363","v":12},4.9780000000025346]
[1363,4.9780000000025346,0,4.9780000000025346,{"$f":"'Road only'!E1364","v":11},-6.0219999999974654,21.138000000000002]
[1364,-6.0219999999974654,21.138000000000002,15.116000000002536,{"$f":"'Road only'!E1365","v":6},9.1160000000025363]
[1365,9.1160000000025363,0,9.1160000000025363,{"$f":"'Road only'!E1366","v":10},-0.8839999999974637,21.138000000000002]
[1366,-0.8839999999974637,21.138000000000002,20.254000000002538,{"$f":"'Road only'!E1367","v":8},12.254000000002538]
[1367,12.254000000002538,0,12.254000000002538,{"$f":"'Road only'!E1368","v":10},2.254000000002538,21.138000000000002]
[1368,2.254000000002538,21.138000000000002,23.39200000000254,{"$f":"'Road only'!E1369","v":10},13.39200000000254]
[1369,13.39200000000254,0,13.39200000000254,{"$f":"'Road only'!E1370","v":9},4.3920000000025397,21.138000000000002]
[1370,4.3920000000025397,21.138000000000002,25.530000000002541,{"$f":"'Road only'!E1371","v":11},14.530000000002541]
[1371,14.530000000002541,0,14.530000000002541,{"$f":"'Road only'!E1372","v":11},3.5300000000025413,21.138000000000002]
[1372,3.5300000000025413,21.138000000000002,24.668000000002543,{"$f":"'Road only'!E1373","v":7},17.668000000002543]
[1373,17.668000000002543,0,17.668000000002543,{"$f":"'Road only'!E1374","v":11},6.668000000002543,21.138000000000002]
[1374,6.668000000002543,21.138000000000002,27.806000000002545,{"$f":"'Road only'!E1375","v":16},11.806000000002545]
[1375,11.806000000002545,0,11.806000000002545,{"$f":"'Road only'!E1376","v":12},-0.19399999999745532,21.138000000000002]
[1376,-0.19399999999745532,21.138000000000002,20.944000000002546,{"$f":"'Road only'!E1377","v":4},16.944000000002546]
[1377,16.944000000002546,0,16.944000000002546,{"$f":"'Road only'!E1378","v":13},3.9440000000025464,21.138000000000002]
[1378,3.9440000000025464,21.138000000000002,25.082000000002548,{"$f":"'Road only'!E1379","v":5},20.082000000002548]
[1379,20.082000000002548,0,20.082000000002548,{"$f":"'Road only'!E1380","v":16},4.082000000002548,21.138000000000002]
[1380,4.082000000002548,21.138000000000002,25.22000000000255,{"$f":"'Road only'!E1381","v":8},17.22000000000255]
[1381,17.22000000000255,0,17.22000000000255,{"$f":"'Road only'!E1382","v":12},5.2200000000025497,21.138000000000002]
[1382,5.2200000000025497,21.138000000000002,26.358000000002551,{"$f":"'Road only'!E1383","v":9},17.358000000002551]
[1383,17.358000000002551,0,17.358000000002551,{"$f":"'Road only'!E1384","v":8},9.3580000000025514,21.138000000000002]
[1384,9.3580000000025514,21.138000000000002,30.496000000002553,{"$f":"'Road only'!E1385","v":3},27.496000000002553]
[1385,27.496000000002553,{"$f":"G1385","v":0},{"$f":"B1386+C1386","v":27.496000000002553},{"$f":"'Road only'!E1386","v":12},{"$f":"D1386-E1386","v":15.496000000002553},21.138000000000002]
[1386,15.496000000002553,21.138000000000002,36.634000000002558,{"$f":"'Road only'!E1387","v":12},24.634000000002558]
[1387,24.634000000002558,0,24.634000000002558,{"$f":"'Road only'!E1388","v":9},15.634000000002558,21.138000000000002]
[1388,15.634000000002558,21.138000000000002,36.772000000002564,{"$f":"'Road only'!E1389","v":9},27.772000000002564]
[1389,27.772000000002564,0,27.772000000002564,{"$f":"'Road only'!E1390","v":11},16.772000000002564,21.138000000000002]
[1390,16.772000000002564,21.138000000000002,37.910000000002569,{"$f":"'Road only'!E1391","v":6},31.910000000002569]
[1391,{"$f":"F1391","v":31.910000000002569},0,31.910000000002569,{"$f":"'Road only'!E1392","v":9},22.910000000002569,21.138000000000002]
[1392,22.910000000002569,21.138000000000002,44.048000000002574,{"$f":"'Road only'!E1393","v":7},37.048000000002574]
[1393,37.048000000002574,0,37.048000000002574,{"$f":"'Road only'!E1394","v":12},25.048000000002574,21.138000000000002]
[1394,25.048000000002574,21.138000000000002,46.186000000002579,{"$f":"'Road only'!E1395","v":13},33.186000000002579]
[1395,33.186000000002579,0,33.186000000002579,{"$f":"'Road only'!E1396","v":11},22.186000000002579,21.138000000000002]
[1396,22.186000000002579,21.138000000000002,43.324000000002584,{"$f":"'Road only'!E1397","v":12},31.324000000002584]
[1397,31.324000000002584,0,31.324000000002584,{"$f":"'Road only'!E1398","v":10},21.324000000002584,21.138000000000002]
[1398,21.324000000002584,21.138000000000002,42.46200000000259,{"$f":"'Road only'!E1399","v":13},29.46200000000259]
[1399,29.46200000000259,0,29.46200000000259,{"$f":"'Road only'!E1400","v":9},20.46200000000259,21.138000000000002]
[1400,20.46200000000259,21.138000000000002,41.600000000002595,{"$f":"'Road only'!E1401","v":8},33.600000000002595]
[1401,33.600000000002595,0,33.600000000002595,{"$f":"'Road only'!E1402","v":13},20.600000000002595,21.138000000000002]
[1402,20.600000000002595,21.138000000000002,41.7380000000026,{"$f":"'Road only'!E1403","v":15},26.7380000000026]
[1403,26.7380000000026,0,26.7380000000026,{"$f":"'Road only'!E1404","v":13},13.7380000000026,21.138000000000002]
[1404,13.7380000000026,21.138000000000002,34.876000000002605,{"$f":"'Road only'!E1405","v":6},28.876000000002605]
[1405,28.876000000002605,0,28.876000000002605,{"$f":"'Road only'!E1406","v":11},17.876000000002605,21.138000000000002]
[1406,17.876000000002605,21.138000000000002,39.014000000002611,{"$f":"'Road only'!E1407","v":8},31.014000000002611]
[1407,31.014000000002611,0,31.014000000002611,{"$f":"'Road only'!E1408","v":8},23.014000000002611,21.138000000000002]
[1408,23.014000000002611,21.138000000000002,44.152000000002616,{"$f":"'Road only'!E1409","v":7},37.152000000002616]
[1409,37.152000000002616,0,37.152000000002616,{"$f":"'Road only'!E1410","v":9},28.152000000002616,21.138000000000002]
[1410,28.152000000002616,21.138000000000002,49.290000000002621,{"$f":"'Road only'!E1411","v":12},37.290000000002621]
[1411,37.290000000002621,0,37.290000000002621,{"$f":"'Road only'!E1412","v":8},29.290000000002621,21.138000000000002]
[1412,29.290000000002621,21.138000000000002,50.428000000002626,{"$f":"'Road only'!E1413","v":11},39.428000000002626]
[1413,39.428000000002626,0,39.428000000002626,{"$f":"'Road only'!E1414","v":14},25.428000000002626,21.138000000000002]
[1414,25.428000000002626,21.138000000000002,46.566000000002632,{"$f":"'Road only'!E1415","v":9},37.566000000002632]
[1415,37.566000000002632,0,37.566000000002632,{"$f":"'Road only'!E1416","v":12},25.566000000002632,21.138000000000002]
[1416,25.566000000002632,21.138000000000002,46.704000000002637,{"$f":"'Road only'!E1417","v":9},37.704000000002637]
[1417,37.704000000002637,0,37.704000000002637,{"$f":"'Road only'!E1418","v":3},34.704000000002637,21.138000000000002]
[1418,34.704000000002637,21.138000000000002,55.842000000002642,{"$f":"'Road only'!E1419","v":7},48.842000000002642]
[1419,48.842000000002642,0,48.842000000002642,{"$f":"'Road only'!E1420","v":9},39.842000000002642,21.138000000000002]
[1420,39.842000000002642,21.138000000000002,60.980000000002647,{"$f":"'Road only'!E1421","v":12},48.980000000002647]
[1421,48.980000000002647,0,48.980000000002647,{"$f":"'Road only'!E1422","v":13},35.980000000002647,{"$f":"AVERAGE($E$2:$E$1001)*2","v":21.138000000000002}]
[1422,35.980000000002647,21.138000000000002,57.118000000002652,{"$f":"'Road only'!E1423","v":8},49.118000000002652]
[1423,49.118000000002652,0,49.118000000002652,{"$f":"'Road only'!E1424","v":11},38.118000000002652,{"$f":"AVERAGE($E$2:$E$1001)*2","v":21.138000000000002}]
[1424,38.118000000002652,21.138000000000002,59.256000000002658,{"$f":"'Road only'!E1425","v":14},45.256000000002658]
[1425,45.256000000002658,0,45.256000000002658,{"$f":"'Road only'!E1426","v":15},30.256000000002658,{"$f":"AVERAGE($E$2:$E$1001)*2","v":21.138000000000002}]
[1426,30.256000000002658,21.138000000000002,51.394000000002663,{"$f":"'Road only'!E1427","v":11},40.394000000002663]
[1427,40.394000000002663,0,40.394000000002663,{"$f":"'Road only'!E1428","v":7},33.394000000002663,{"$f":"AVERAGE($E$2:$E$1001)*2","v":21.138000000000002}]
[1428,33.394000000002663,21.138000000000002,54.532000000002668,{"$f":"'Road only'!E1429","v":12},42.532000000002668]
[1429,42.532000000002668,0,42.532000000002668,{"$f":"'Road only'!E1430","v":11},31.532000000002668,{"$f":"AVERAGE($E$2:$E$1001)*2","v":21.138000000000002}]
[1430,31.532000000002668,21.138000000000002,52.670000000002673,{"$f":"'Road only'!E1431","v":14},38.670000000002673]
[1431,38.670000000002673,0,38.670000000002673,{"$f":"'Road only'!E1432","v":9},29.670000000002673,21.138000000000002]
[1432,29.670000000002673,21.138000000000002,50.808000000002679,{"$f":"'Road only'!E1433","v":8},42.808000000002679]
[1433,42.808000000002679,0,42.808000000002679,{"$f":"'Road only'!E1434","v":14},28.808000000002679,21.138000000000002]
[1434,28.808000000002679,21.138000000000002,49.946000000002684,{"$f":"'Road only'!E1435","v":15},34.946000000002684]
[1435,34.946000000002684,0,34.946000000002684,{"$f":"'Road only'!E1436","v":13},21.946000000002684,21.138000000000002]
[1436,21.946000000002684,21.138000000000002,43.084000000002689,{"$f":"'Road only'!E1437","v":13},30.084000000002689]
[1437,30.084000000002689,0,30.084000000002689,{"$f":"'Road only'!E1438","v":10},20.084000000002689,21.138000000000002]
[1438,20.084000000002689,21.138000000000002,41.222000000002694,{"$f":"'Road only'!E1439","v":14},27.222000000002694]
[1439,27.222000000002694,0,27.222000000002694,{"$f":"'Road only'!E1440","v":9},18.222000000002694,21.138000000000002]
[1440,18.222000000002694,21.138000000000002,39.360000000002699,{"$f":"'Road only'!E1441","v":8},31.360000000002699]
[1441,31.360000000002699,0,31.360000000002699,{"$f":"'Road only'!E1442","v":6},25.360000000002699,21.138000000000002]
[1442,25.360000000002699,21.138000000000002,46.498000000002705,{"$f":"'Road only'!E1443","v":17},29.498000000002705]
[1443,29.498000000002705,0,29.498000000002705,{"$f":"'Road only'!E1444","v":7},22.498000000002705,21.138000000000002]
[1444,22.498000000002705,21.138000000000002,43.63600000000271,{"$f":"'Road only'!E1445","v":8},35.63600000000271]
[1445,35.63600000000271,0,35.63600000000271,{"$f":"'Road only'!E1446","v":17},18.63600000000271,21.138000000000002]
[1446,18.63600000000271,21.138000000000002,39.774000000002715,{"$f":"'Road only'!E1447","v":10},29.774000000002715]
[1447,29.774000000002715,0,29.774000000002715,{"$f":"'Road only'!E1448","v":12},17.774000000002715,21.138000000000002]
[1448,17.774000000002715,21.138000000000002,38.91200000000272,{"$f":"'Road only'!E1449","v":14},24.91200000000272]
[1449,24.91200000000272,{"$f":"G1449","v":0},{"$f":"B1450+C1450","v":24.91200000000272},{"$f":"'Road only'!E1450","v":13},{"$f":"D1450-E1450","v":11.91200000000272},21.138000000000002]
[1450,11.91200000000272,21.138000000000002,33.050000000002726,{"$f":"'Road only'!E1451","v":11},22.050000000002726]
[1451,22.050000000002726,0,22.050000000002726,{"$f":"'Road only'!E1452","v":10},12.050000000002726,21.138000000000002]
[1452,12.050000000002726,21.138000000000002,33.188000000002731,{"$f":"'Road only'!E1453","v":14},19.188000000002731]
[1453,19.188000000002731,0,19.188000000002731,{"$f":"'Road only'!E1454","v":16},3.1880000000027309,21.138000000000002]
[1454,3.1880000000027309,21.138000000000002,24.326000000002733,{"$f":"'Road only'!E1455","v":8},16.326000000002733]
[1455,{"$f":"F1455","v":16.326000000002733},0,16.326000000002733,{"$f":"'Road only'!E1456","v":10},6.3260000000027325,21.138000000000002]
[1456,6.3260000000027325,21.138000000000002,27.464000000002734,{"$f":"'Road only'!E1457","v":11},16.464000000002734]
[1457,16.464000000002734,0,16.464000000002734,{"$f":"'Road only'!E1458","v":12},4.4640000000027342,21.138000000000002]
[1458,4.4640000000027342,21.138000000000002,25.602000000002736,{"$f":"'Road only'!E1459","v":7},18.602000000002736]
[1459,18.602000000002736,0,18.602000000002736,{"$f":"'Road only'!E1460","v":14},4.6020000000027359,21.138000000000002]
[1460,4.6020000000027359,21.138000000000002,25.740000000002738,{"$f":"'Road only'!E1461","v":10},15.740000000002738]
[1461,15.740000000002738,0,15.740000000002738,{"$f":"'Road only'!E1462","v":8},7.7400000000027376,21.138000000000002]
[1462,7.7400000000027376,21.138000000000002,28.878000000002739,{"$f":"'Road only'!E1463","v":6},22.878000000002739]
[1463,22.878000000002739,0,22.878000000002739,{"$f":"'Road only'!E1464","v":6},16.878000000002739,21.138000000000002]
[1464,16.878000000002739,21.138000000000002,38.016000000002741,{"$f":"'Road only'!E1465","v":10},28.016000000002741]
[1465,28.016000000002741,0,28.016000000002741,{"$f":"'Road only'!E1466","v":8},20.016000000002741,21.138000000000002]
[1466,20.016000000002741,21.138000000000002,41.154000000002739,{"$f":"'Road only'!E1467","v":8},33.154000000002739]
[1467,33.154000000002739,0,33.154000000002739,{"$f":"'Road only'!E1468","v":10},23.154000000002739,21.138000000000002]
[1468,23.154000000002739,21.138000000000002,44.292000000002744,{"$f":"'Road only'!E1469","v":14},30.292000000002744]
[1469,30.292000000002744,0,30.292000000002744,{"$f":"'Road only'!E1470","v":10},20.292000000002744,21.138000000000002]
[1470,20.292000000002744,21.138000000000002,41.43000000000275,{"$f":"'Road only'!E1471","v":12},29.43000000000275]
[1471,29.43000000000275,0,29.43000000000275,{"$f":"'Road only'!E1472","v":12},17.43000000000275,21.138000000000002]
[1472,17.43000000000275,21.138000000000002,38.568000000002755,{"$f":"'Road only'!E1473","v":8},30.568000000002755]
[1473,30.568000000002755,0,30.568000000002755,{"$f":"'Road only'!E1474","v":10},20.568000000002755,21.138000000000002]
[1474,20.568000000002755,21.138000000000002,41.70600000000276,{"$f":"'Road only'!E1475","v":10},31.70600000000276]
[1475,31.70600000000276,0,31.70600000000276,{"$f":"'Road only'!E1476","v":7},24.70600000000276,21.138000000000002]
[1476,24.70600000000276,21.138000000000002,45.844000000002765,{"$f":"'Road only'!E1477","v":16},29.844000000002765]
[1477,29.844000000002765,0,29.844000000002765,{"$f":"'Road only'!E1478","v":11},18.844000000002765,21.138000000000002]
[1478,18.844000000002765,21.138000000000002,39.98200000000277,{"$f":"'Road only'!E1479","v":11},28.98200000000277]
[1479,28.98200000000277,0,28.98200000000277,{"$f":"'Road only'!E1480","v":11},17.98200000000277,21.138000000000002]
[1480,17.98200000000277,21.138000000000002,39.120000000002776,{"$f":"'Road only'!E1481","v":10},29.120000000002776]
[1481,29.120000000002776,0,29.120000000002776,{"$f":"'Road only'!E1482","v":10},19.120000000002776,21.138000000000002]
[1482,19.120000000002776,21.138000000000002,40.258000000002781,{"$f":"'Road only'!E1483","v":4},36.258000000002781]
[1483,36.258000000002781,0,36.258000000002781,{"$f":"'Road only'!E1484","v":8},28.258000000002781,21.138000000000002]
[1484,28.258000000002781,21.138000000000002,49.396000000002786,{"$f":"'Road only'!E1485","v":10},39.396000000002786]
[1485,39.396000000002786,0,39.396000000002786,{"$f":"'Road only'!E1486","v":9},30.396000000002786,21.138000000000002]
[1486,30.396000000002786,21.138000000000002,51.534000000002791,{"$f":"'Road only'!E1487","v":8},43.534000000002791]
[1487,43.534000000002791,0,43.534000000002791,{"$f":"'Road only'!E1488","v":15},28.534000000002791,21.138000000000002]
[1488,28.534000000002791,21.138000000000002,49.672000000002797,{"$f":"'Road only'!E1489","v":12},37.672000000002797]
[1489,37.672000000002797,0,37.672000000002797,{"$f":"'Road only'!E1490","v":15},22.672000000002797,21.138000000000002]
[1490,22.672000000002797,21.138000000000002,43.810000000002802,{"$f":"'Road only'!E1491","v":8},35.810000000002802]
[1491,35.810000000002802,0,35.810000000002802,{"$f":"'Road only'!E1492","v":9},26.810000000002802,{"$f":"AVERAGE($E$2:$E$1001)*2","v":21.138000000000002}]
[1492,26.810000000002802,21.138000000000002,47.948000000002807,{"$f":"'Road only'!E1493","v":10},37.948000000002807]
[1493,37.948000000002807,0,37.948000000002807,{"$f":"'Road only'!E1494","v":13},24.948000000002807,{"$f":"AVERAGE($E$2:$E$1001)*2","v":21.138000000000002}]
[1494,24.948000000002807,21.138000000000002,46.086000000002812,{"$f":"'Road only'!E1495","v":9},37.086000000002812]
[1495,37.086000000002812,0,37.086000000002812,{"$f":"'Road only'!E1496","v":6},31.086000000002812,{"$f":"AVERAGE($E$2:$E$1001)*2","v":21.138000000000002}]
[1496,31.086000000002812,21.138000000000002,52.224000000002818,{"$f":"'Road only'!E1497","v":8},44.224000000002818]
[1497,44.224000000002818,0,44.224000000002818,{"$f":"'Road only'!E1498","v":10},34.224000000002818,{"$f":"AVERAGE($E$2:$E$1001)*2","v":21.138000000000002}]
[1498,34.224000000002818,21.138000000000002,55.362000000002823,{"$f":"'Road only'!E1499","v":8},47.362000000002823]
[1499,47.362000000002823,0,47.362000000002823,{"$f":"'Road only'!E1500","v":6},41.362000000002823,{"$f":"AVERAGE($E$2:$E$1001)*2","v":21.138000000000002}]
[1500,41.362000000002823,21.138000000000002,62.500000000002828,{"$f":"'Road only'!E1501","v":11},51.500000000002828]
[1501,51.500000000002828,0,51.500000000002828,{"$f":"'Road only'!E1502","v":14},37.500000000002828,21.138000000000002]
[1502,37.500000000002828,21.138000000000002,58.638000000002833,{"$f":"'Road only'!E1503","v":13},45.638000000002833]
[1503,45.638000000002833,0,45.638000000002833,{"$f":"'Road only'!E1504","v":9},36.638000000002833,21.138000000000002]
[1504,36.638000000002833,21.138000000000002,57.776000000002838,{"$f":"'Road only'!E1505","v":8},49.776000000002838]
[1505,49.776000000002838,0,49.776000000002838,{"$f":"'Road only'!E1506","v":8},41.776000000002838,21.138000000000002]
[1506,41.776000000002838,21.138000000000002,62.914000000002844,{"$f":"'Road only'!E1507","v":14},48.914000000002844]
[1507,48.914000000002844,0,48.914000000002844,{"$f":"'Road only'!E1508","v":8},40.914000000002844,21.138000000000002]
[1508,40.914000000002844,21.138000000000002,62.052000000002849,{"$f":"'Road only'!E1509","v":6},56.052000000002849]
[1509,56.052000000002849,0,56.052000000002849,{"$f":"'Road only'!E1510","v":6},50.052000000002849,21.138000000000002]
[1510,50.052000000002849,21.138000000000002,71.190000000002854,{"$f":"'Road only'!E1511","v":12},59.190000000002854]
[1511,59.190000000002854,0,59.190000000002854,{"$f":"'Road only'!E1512","v":15},44.190000000002854,21.138000000000002]
[1512,44.190000000002854,21.138000000000002,65.328000000002859,{"$f":"'Road only'!E1513","v":12},53.328000000002859]
[1513,53.328000000002859,{"$f":"G1513","v":0},{"$f":"B1514+C1514","v":53.328000000002859},{"$f":"'Road only'!E1514","v":11},{"$f":"D1514-E1514","v":42.328000000002859},21.138000000000002]
[1514,42.328000000002859,21.138000000000002,63.466000000002865,{"$f":"'Road only'!E1515","v":15},48.466000000002865]
[1515,48.466000000002865,0,48.466000000002865,{"$f":"'Road only'!E1516","v":7},41.466000000002865,21.138000000000002]
[1516,41.466000000002865,21.138000000000002,62.60400000000287,{"$f":"'Road only'!E1517","v":11},51.60400000000287]
[1517,51.60400000000287,0,51.60400000000287,{"$f":"'Road only'!E1518","v":8},43.60400000000287,21.138000000000002]
[1518,43.60400000000287,21.138000000000002,64.742000000002875,{"$f":"'Road only'!E1519","v":8},56.742000000002875]
[1519,{"$f":"F1519","v":56.742000000002875},0,56.742000000002875,{"$f":"'Road only'!E1520","v":11},45.742000000002875,21.138000000000002]
[1520,45.742000000002875,21.138000000000002,66.88000000000288,{"$f":"'Road only'!E1521","v":8},58.88000000000288]
[1521,58.88000000000288,0,58.88000000000288,{"$f":"'Road only'!E1522","v":4},54.88000000000288,21.138000000000002]
[1522,54.88000000000288,21.138000000000002,76.018000000002885,{"$f":"'Road only'!E1523","v":10},66.018000000002885]
[1523,66.018000000002885,0,66.018000000002885,{"$f":"'Road only'!E1524","v":15},51.018000000002885,21.138000000000002]
[1524,51.018000000002885,21.138000000000002,72.156000000002891,{"$f":"'Road only'!E1525","v":16},56.156000000002891]
[1525,56.156000000002891,0,56.156000000002891,{"$f":"'Road only'!E1526","v":10},46.156000000002891,21.138000000000002]
[1526,46.156000000002891,21.138000000000002,67.294000000002896,{"$f":"'Road only'!E1527","v":8},59.294000000002896]
[1527,59.294000000002896,0,59.294000000002896,{"$f":"'Road only'!E1528","v":12},47.294000000002896,21.138000000000002]
[1528,47.294000000002896,21.138000000000002,68.432000000002901,{"$f":"'Road only'!E1529","v":8},60.432000000002901]
[1529,60.432000000002901,0,60.432000000002901,{"$f":"'Road only'!E1530","v":14},46.432000000002901,21.138000000000002]
[1530,46.432000000002901,21.138000000000002,67.570000000002906,{"$f":"'Road only'!E1531","v":6},61.570000000002906]
[1531,61.570000000002906,0,61.570000000002906,{"$f":"'Road only'!E1532","v":13},48.570000000002906,21.138000000000002]
[1532,48.570000000002906,21.138000000000002,69.708000000002912,{"$f":"'Road only'!E1533","v":12},57.708000000002912]
[1533,57.708000000002912,0,57.708000000002912,{"$f":"'Road only'!E1534","v":16},41.708000000002912,21.138000000000002]
[1534,41.708000000002912,21.138000000000002,62.846000000002917,{"$f":"'Road only'!E1535","v":13},49.846000000002917]
[1535,49.846000000002917,0,49.846000000002917,{"$f":"'Road only'!E1536","v":9},40.846000000002917,21.138000000000002]
[1536,40.846000000002917,21.138000000000002,61.984000000002922,{"$f":"'Road only'!E1537","v":12},49.984000000002922]
[1537,49.984000000002922,0,49.984000000002922,{"$f":"'Road only'!E1538","v":12},37.984000000002922,21.138000000000002]
[1538,37.984000000002922,21.138000000000002,59.122000000002927,{"$f":"'Road only'!E1539","v":11},48.122000000002927]
[1539,48.122000000002927,0,48.122000000002927,{"$f":"'Road only'!E1540","v":6},42.122000000002927,21.138000000000002]
[1540,42.122000000002927,21.138000000000002,63.260000000002933,{"$f":"'Road only'!E1541","v":11},52.260000000002933]
[1541,52.260000000002933,0,52.260000000002933,{"$f":"'Road only'!E1542","v":11},41.260000000002933,21.138000000000002]
[1542,41.260000000002933,21.138000000000002,62.398000000002938,{"$f":"'Road only'!E1543","v":3},59.398000000002938]
[1543,59.398000000002938,0,59.398000000002938,{"$f":"'Road only'!E1544","v":9},50.398000000002938,21.138000000000002]
[1544,50.398000000002938,21.138000000000002,71.536000000002943,{"$f":"'Road only'!E1545","v":14},57.536000000002943]
[1545,57.536000000002943,0,57.536000000002943,{"$f":"'Road only'!E1546","v":15},42.536000000002943,21.138000000000002]
[1546,42.536000000002943,21.138000000000002,63.674000000002948,{"$f":"'Road only'!E1547","v":14},49.674000000002948]
[1547,49.674000000002948,0,49.674000000002948,{"$f":"'Road only'!E1548","v":13},36.674000000002948,21.138000000000002]
[1548,36.674000000002948,21.138000000000002,57.812000000002953,{"$f":"'Road only'!E1549","v":12},45.812000000002953]
[1549,45.812000000002953,0,45.812000000002953,{"$f":"'Road only'!E1550","v":14},31.812000000002953,21.138000000000002]
[1550,31.812000000002953,21.138000000000002,52.950000000002959,{"$f":"'Road only'!E1551","v":5},47.950000000002959]
[1551,47.950000000002959,0,47.950000000002959,{"$f":"'Road only'!E1552","v":15},32.950000000002959,21.138000000000002]
[1552,32.950000000002959,21.138000000000002,54.088000000002964,{"$f":"'Road only'!E1553","v":12},42.088000000002964]
[1553,42.088000000002964,0,42.088000000002964,{"$f":"'Road only'!E1554","v":10},32.088000000002964,21.138000000000002]
[1554,32.088000000002964,21.138000000000002,53.226000000002969,{"$f":"'Road only'!E1555","v":10},43.226000000002969]
[1555,43.226000000002969,0,43.226000000002969,{"$f":"'Road only'!E1556","v":9},34.226000000002969,21.138000000000002]
[1556,34.226000000002969,21.138000000000002,55.364000000002974,{"$f":"'Road only'!E1557","v":14},41.364000000002974]
[1557,41.364000000002974,0,41.364000000002974,{"$f":"'Road only'!E1558","v":11},30.364000000002974,21.138000000000002]
[1558,30.364000000002974,21.138000000000002,51.50200000000298,{"$f":"'Road only'!E1559","v":8},43.50200000000298]
[1559,43.50200000000298,0,43.50200000000298,{"$f":"'Road only'!E1560","v":14},29.50200000000298,21.138000000000002]
[1560,29.50200000000298,21.138000000000002,50.640000000002985,{"$f":"'Road only'!E1561","v":11},39.640000000002985]
[1561,39.640000000002985,0,39.640000000002985,{"$f":"'Road only'!E1562","v":7},32.640000000002985,{"$f":"AVERAGE($E$2:$E$1001)*2","v":21.138000000000002}]
[1562,32.640000000002985,21.138000000000002,53.77800000000299,{"$f":"'Road only'!E1563","v":10},43.77800000000299]
[1563,43.77800000000299,0,43.77800000000299,{"$f":"'Road only'!E1564","v":15},28.77800000000299,{"$f":"AVERAGE($E$2:$E$1001)*2","v":21.138000000000002}]
[1564,28.77800000000299,21.138000000000002,49.916000000002995,{"$f":"'Road only'!E1565","v":9},40.916000000002995]
[1565,40.916000000002995,0,40.916000000002995,{"$f":"'Road only'!E1566","v":14},26.916000000002995,{"$f":"AVERAGE($E$2:$E$1001)*2","v":21.138000000000002}]
[1566,26.916000000002995,21.138000000000002,48.054000000003001,{"$f":"'Road only'!E1567","v":11},37.054000000003001]
[1567,37.054000000003001,0,37.054000000003001,{"$f":"'Road only'!E1568","v":14},23.054000000003001,{"$f":"AVERAGE($E$2:$E$1001)*2","v":21.138000000000002}]
[1568,23.054000000003001,21.138000000000002,44.192000000003006,{"$f":"'Road only'!E1569","v":9},35.192000000003006]
[1569,35.192000000003006,0,35.192000000003006,{"$f":"'Road only'!E1570","v":9},26.192000000003006,{"$f":"AVERAGE($E$2:$E$1001)*2","v":21.138000000000002}]
[1570,26.192000000003006,21.138000000000002,47.330000000003011,{"$f":"'Road only'!E1571","v":7},40.330000000003011]
[1571,40.330000000003011,0,40.330000000003011,{"$f":"'Road only'!E1572","v":14},26.330000000003011,21.138000000000002]
[1572,26.330000000003011,21.138000000000002,47.468000000003016,{"$f":"'Road only'!E1573","v":10},37.468000000003016]
[1573,37.468000000003016,0,37.468000000003016,{"$f":"'Road only'!E1574","v":10},27.468000000003016,21.138000000000002]
[1574,27.468000000003016,21.138000000000002,48.606000000003021,{"$f":"'Road only'!E1575","v":8},40.606000000003021]
[1575,40.606000000003021,0,40.606000000003021,{"$f":"'Road only'!E1576","v":14},26.606000000003021,21.138000000000002]
[1576,26.606000000003021,21.138000000000002,47.744000000003027,{"$f":"'Road only'!E1577","v":16},31.744000000003027]
[1577,31.744000000003027,{"$f":"G1577","v":0},{"$f":"B1578+C1578","v":31.744000000003027},{"$f":"'Road only'!E1578","v":7},{"$f":"D1578-E1578","v":24.744000000003027},21.138000000000002]
[1578,24.744000000003027,21.138000000000002,45.882000000003032,{"$f":"'Road only'!E1579","v":10},35.882000000003032]
[1579,35.882000000003032,0,35.882000000003032,{"$f":"'Road only'!E1580","v":13},22.882000000003032,21.138000000000002]
[1580,22.882000000003032,21.138000000000002,44.020000000003037,{"$f":"'Road only'!E1581","v":9},35.020000000003037]
[1581,35.020000000003037,0,35.020000000003037,{"$f":"'Road only'!E1582","v":13},22.020000000003037,21.138000000000002]
[1582,22.020000000003037,21.138000000000002,43.158000000003042,{"$f":"'Road only'!E1583","v":9},34.158000000003042]
[1583,{"$f":"F1583","v":34.158000000003042},0,34.158000000003042,{"$f":"'Road only'!E1584","v":13},21.158000000003042,21.138000000000002]
[1584,21.158000000003042,21.138000000000002,42.296000000003048,{"$f":"'Road only'!E1585","v":14},28.296000000003048]
[1585,28.296000000003048,0,28.296000000003048,{"$f":"'Road only'!E1586","v":11},17.296000000003048,21.138000000000002]
[1586,17.296000000003048,21.138000000000002,38.434000000003053,{"$f":"'Road only'!E1587","v":11},27.434000000003053]
[1587,27.434000000003053,0,27.434000000003053,{"$f":"'Road only'!E1588","v":10},17.434000000003053,21.138000000000002]
[1588,17.434000000003053,21.138000000000002,38.572000000003058,{"$f":"'Road only'!E1589","v":12},26.572000000003058]
[1589,26.572000000003058,0,26.572000000003058,{"$f":"'Road only'!E1590","v":9},17.572000000003058,21.138000000000002]
[1590,17.572000000003058,21.138000000000002,38.710000000003063,{"$f":"'Road only'!E1591","v":10},28.710000000003063]
[1591,28.710000000003063,0,28.710000000003063,{"$f":"'Road only'!E1592","v":15},13.710000000003063,21.138000000000002]
[1592,13.710000000003063,21.138000000000002,34.848000000003069,{"$f":"'Road only'!E1593","v":11},23.848000000003069]
[1593,23.848000000003069,0,23.848000000003069,{"$f":"'Road only'!E1594","v":10},13.848000000003069,21.138000000000002]
[1594,13.848000000003069,21.138000000000002,34.986000000003074,{"$f":"'Road only'!E1595","v":11},23.986000000003074]
[1595,23.986000000003074,0,23.986000000003074,{"$f":"'Road only'!E1596","v":5},18.986000000003074,21.138000000000002]
[1596,18.986000000003074,21.138000000000002,40.124000000003079,{"$f":"'Road only'!E1597","v":11},29.124000000003079]
[1597,29.124000000003079,0,29.124000000003079,{"$f":"'Road only'!E1598","v":12},17.124000000003079,21.138000000000002]
[1598,17.124000000003079,21.138000000000002,38.262000000003084,{"$f":"'Road only'!E1599","v":14},24.262000000003084]
[1599,24.262000000003084,0,24.262000000003084,{"$f":"'Road only'!E1600","v":10},14.262000000003084,21.138000000000002]
[1600,14.262000000003084,21.138000000000002,35.400000000003089,{"$f":"'Road only'!E1601","v":8},27.400000000003089]
[1601,27.400000000003089,0,27.400000000003089,{"$f":"'Road only'!E1602","v":6},21.400000000003089,21.138000000000002]
[1602,21.400000000003089,21.138000000000002,42.538000000003095,{"$f":"'Road only'!E1603","v":10},32.538000000003095]
[1603,32.538000000003095,0,32.538000000003095,{"$f":"'Road only'!E1604","v":10},22.538000000003095,21.138000000000002]
[1604,22.538000000003095,21.138000000000002,43.6760000000031,{"$f":"'Road only'!E1605","v":14},29.6760000000031]
[1605,29.6760000000031,0,29.6760000000031,{"$f":"'Road only'!E1606","v":14},15.6760000000031,21.138000000000002]
[1606,15.6760000000031,21.138000000000002,36.814000000003105,{"$f":"'Road only'!E1607","v":12},24.814000000003105]
[1607,24.814000000003105,0,24.814000000003105,{"$f":"'Road only'!E1608","v":16},8.8140000000031051,21.138000000000002]
[1608,8.8140000000031051,21.138000000000002,29.952000000003107,{"$f":"'Road only'!E1609","v":13},16.952000000003107]
[1609,16.952000000003107,0,16.952000000003107,{"$f":"'Road only'!E1610","v":9},7.9520000000031068,21.138000000000002]
[1610,7.9520000000031068,21.138000000000002,29.090000000003108,{"$f":"'Road only'!E1611","v":10},19.090000000003108]
[1611,19.090000000003108,0,19.090000000003108,{"$f":"'Road only'!E1612","v":9},10.090000000003108,21.138000000000002]
[1612,10.090000000003108,21.138000000000002,31.22800000000311,{"$f":"'Road only'!E1613","v":9},22.22800000000311]
[1613,22.22800000000311,0,22.22800000000311,{"$f":"'Road only'!E1614","v":12},10.22800000000311,21.138000000000002]
[1614,10.22800000000311,21.138000000000002,31.366000000003112,{"$f":"'Road only'!E1615","v":9},22.366000000003112]
[1615,22.366000000003112,0,22.366000000003112,{"$f":"'Road only'!E1616","v":6},16.366000000003112,21.138000000000002]
[1616,16.366000000003112,21.138000000000002,37.504000000003117,{"$f":"'Road only'!E1617","v":14},23.504000000003117]
[1617,23.504000000003117,0,23.504000000003117,{"$f":"'Road only'!E1618","v":9},14.504000000003117,21.138000000000002]
[1618,14.504000000003117,21.138000000000002,35.642000000003122,{"$f":"'Road only'!E1619","v":14},21.642000000003122]
[1619,21.642000000003122,0,21.642000000003122,{"$f":"'Road only'!E1620","v":9},12.642000000003122,21.138000000000002]
[1620,12.642000000003122,21.138000000000002,33.780000000003128,{"$f":"'Road only'!E1621","v":5},28.780000000003128]
[1621,28.780000000003128,0,28.780000000003128,{"$f":"'Road only'!E1622","v":7},21.780000000003128,21.138000000000002]
[1622,21.780000000003128,21.138000000000002,42.918000000003133,{"$f":"'Road only'!E1623","v":9},33.918000000003133]
[1623,33.918000000003133,0,33.918000000003133,{"$f":"'Road only'!E1624","v":13},20.918000000003133,21.138000000000002]
[1624,20.918000000003133,21.138000000000002,42.056000000003138,{"$f":"'Road only'!E1625","v":10},32.056000000003138]
[1625,32.056000000003138,0,32.056000000003138,{"$f":"'Road only'!E1626","v":14},18.056000000003138,21.138000000000002]
[1626,18.056000000003138,21.138000000000002,39.194000000003143,{"$f":"'Road only'!E1627","v":6},33.194000000003143]
[1627,33.194000000003143,0,33.194000000003143,{"$f":"'Road only'!E1628","v":8},25.194000000003143,21.138000000000002]
[1628,25.194000000003143,21.138000000000002,46.332000000003148,{"$f":"'Road only'!E1629","v":13},33.332000000003148]
[1629,33.332000000003148,0,33.332000000003148,{"$f":"'Road only'!E1630","v":11},22.332000000003148,21.138000000000002]
[1630,22.332000000003148,21.138000000000002,43.470000000003154,{"$f":"'Road only'!E1631","v":7},36.470000000003154]
[1631,36.470000000003154,0,36.470000000003154,{"$f":"'Road only'!E1632","v":12},24.470000000003154,{"$f":"AVERAGE($E$2:$E$1001)*2","v":21.138000000000002}]
[1632,24.470000000003154,21.138000000000002,45.608000000003159,{"$f":"'Road only'!E1633","v":13},32.608000000003159]
[1633,32.608000000003159,0,32.608000000003159,{"$f":"'Road only'!E1634","v":8},24.608000000003159,{"$f":"AVERAGE($E$2:$E$1001)*2","v":21.138000000000002}]
[1634,24.608000000003159,21.138000000000002,45.746000000003164,{"$f":"'Road only'!E1635","v":6},39.746000000003164]
[1635,39.746000000003164,0,39.746000000003164,{"$f":"'Road only'!E1636","v":16},23.746000000003164,{"$f":"AVERAGE($E$2:$E$1001)*2","v":21.138000000000002}]
[1636,23.746000000003164,21.138000000000002,44.884000000003169,{"$f":"'Road only'!E1637","v":6},38.884000000003169]
[1637,38.884000000003169,0,38.884000000003169,{"$f":"'Road only'!E1638","v":16},22.884000000003169,{"$f":"AVERAGE($E$2:$E$1001)*2","v":21.138000000000002}]
[1638,22.884000000003169,21.138000000000002,44.022000000003175,{"$f":"'Road only'!E1639","v":12},32.022000000003175]
[1639,32.022000000003175,0,32.022000000003175,{"$f":"'Road only'!E1640","v":8},24.022000000003175,{"$f":"AVERAGE($E$2:$E$1001)*2","v":21.138000000000002}]
[1640,24.022000000003175,21.138000000000002,45.16000000000318,{"$f":"'Road only'!E1641","v":8},37.16000000000318]
[1641,37.16000000000318,{"$f":"G1641","v":0},{"$f":"B1642+C1642","v":37.16000000000318},{"$f":"'Road only'!E1642","v":10},{"$f":"D1642-E1642","v":27.16000000000318},21.138000000000002]
[1642,27.16000000000318,21.138000000000002,48.298000000003185,{"$f":"'Road only'!E1643","v":13},35.298000000003185]
[1643,35.298000000003185,0,35.298000000003185,{"$f":"'Road only'!E1644","v":6},29.298000000003185,21.138000000000002]
[1644,29.298000000003185,21.138000000000002,50.43600000000319,{"$f":"'Road only'!E1645","v":11},39.43600000000319]
[1645,39.43600000000319,0,39.43600000000319,{"$f":"'Road only'!E1646","v":9},30.43600000000319,21.138000000000002]
[1646,30.43600000000319,21.138000000000002,51.574000000003196,{"$f":"'Road only'!E1647","v":12},39.574000000003196]
[1647,{"$f":"F1647","v":39.574000000003196},0,39.574000000003196,{"$f":"'Road only'!E1648","v":11},28.574000000003196,21.138000000000002]
[1648,28.574000000003196,21.138000000000002,49.712000000003201,{"$f":"'Road only'!E1649","v":12},37.712000000003201]
[1649,37.712000000003201,0,37.712000000003201,{"$f":"'Road only'!E1650","v":9},28.712000000003201,21.138000000000002]
[1650,28.712000000003201,21.138000000000002,49.850000000003206,{"$f":"'Road only'!E1651","v":7},42.850000000003206]
[1651,42.850000000003206,0,42.850000000003206,{"$f":"'Road only'!E1652","v":10},32.850000000003206,21.138000000000002]
[1652,32.850000000003206,21.138000000000002,53.988000000003211,{"$f":"'Road only'!E1653","v":17},36.988000000003211]
[1653,36.988000000003211,0,36.988000000003211,{"$f":"'Road only'!E1654","v":8},28.988000000003211,21.138000000000002]
[1654,28.988000000003211,21.138000000000002,50.126000000003216,{"$f":"'Road only'!E1655","v":13},37.126000000003216]
[1655,37.126000000003216,0,37.126000000003216,{"$f":"'Road only'!E1656","v":16},21.126000000003216,21.138000000000002]
[1656,21.126000000003216,21.138000000000002,42.264000000003222,{"$f":"'Road only'!E1657","v":10},32.264000000003222]
[1657,32.264000000003222,0,32.264000000003222,{"$f":"'Road only'!E1658","v":11},21.264000000003222,21.138000000000002]
[1658,21.264000000003222,21.138000000000002,42.402000000003227,{"$f":"'Road only'!E1659","v":8},34.402000000003227]
[1659,34.402000000003227,0,34.402000000003227,{"$f":"'Road only'!E1660","v":11},23.402000000003227,21.138000000000002]
[1660,23.402000000003227,21.138000000000002,44.540000000003232,{"$f":"'Road only'!E1661","v":10},34.540000000003232]
[1661,34.540000000003232,0,34.540000000003232,{"$f":"'Road only'!E1662","v":8},26.540000000003232,21.138000000000002]
[1662,26.540000000003232,21.138000000000002,47.678000000003237,{"$f":"'Road only'!E1663","v":13},34.678000000003237]
[1663,34.678000000003237,0,34.678000000003237,{"$f":"'Road only'!E1664","v":16},18.678000000003237,21.138000000000002]
[1664,18.678000000003237,21.138000000000002,39.816000000003243,{"$f":"'Road only'!E1665","v":9},30.816000000003243]
[1665,30.816000000003243,0,30.816000000003243,{"$f":"'Road only'!E1666","v":15},15.816000000003243,21.138000000000002]
[1666,15.816000000003243,21.138000000000002,36.954000000003248,{"$f":"'Road only'!E1667","v":8},28.954000000003248]
[1667,28.954000000003248,0,28.954000000003248,{"$f":"'Road only'!E1668","v":8},20.954000000003248,21.138000000000002]
[1668,20.954000000003248,21.138000000000002,42.092000000003253,{"$f":"'Road only'!E1669","v":9},33.092000000003253]
[1669,33.092000000003253,0,33.092000000003253,{"$f":"'Road only'!E1670","v":9},24.092000000003253,21.138000000000002]
[1670,24.092000000003253,21.138000000000002,45.230000000003258,{"$f":"'Road only'!E1671","v":15},30.230000000003258]
[1671,30.230000000003258,0,30.230000000003258,{"$f":"'Road only'!E1672","v":9},21.230000000003258,21.138000000000002]
[1672,21.230000000003258,21.138000000000002,42.368000000003263,{"$f":"'Road only'!E1673","v":9},33.368000000003263]
[1673,33.368000000003263,0,33.368000000003263,{"$f":"'Road only'!E1674","v":14},19.368000000003263,21.138000000000002]
[1674,19.368000000003263,21.138000000000002,40.506000000003269,{"$f":"'Road only'!E1675","v":13},27.506000000003269]
[1675,27.506000000003269,0,27.506000000003269,{"$f":"'Road only'!E1676","v":8},19.506000000003269,21.138000000000002]
[1676,19.506000000003269,21.138000000000002,40.644000000003274,{"$f":"'Road only'!E1677","v":11},29.644000000003274]
[1677,29.644000000003274,0,29.644000000003274,{"$f":"'Road only'!E1678","v":13},16.644000000003274,21.138000000000002]
[1678,16.644000000003274,21.138000000000002,37.782000000003279,{"$f":"'Road only'!E1679","v":13},24.782000000003279]
[1679,24.782000000003279,0,24.782000000003279,{"$f":"'Road only'!E1680","v":6},18.782000000003279,21.138000000000002]
[1680,18.782000000003279,21.138000000000002,39.920000000003284,{"$f":"'Road only'!E1681","v":11},28.920000000003284]
[1681,28.920000000003284,0,28.920000000003284,{"$f":"'Road only'!E1682","v":16},12.920000000003284,21.138000000000002]
[1682,12.920000000003284,21.138000000000002,34.05800000000329,{"$f":"'Road only'!E1683","v":8},26.05800000000329]
[1683,26.05800000000329,0,26.05800000000329,{"$f":"'Road only'!E1684","v":9},17.05800000000329,21.138000000000002]
[1684,17.05800000000329,21.138000000000002,38.196000000003295,{"$f":"'Road only'!E1685","v":9},29.196000000003295]
[1685,29.196000000003295,0,29.196000000003295,{"$f":"'Road only'!E1686","v":11},18.196000000003295,21.138000000000002]
[1686,18.196000000003295,21.138000000000002,39.3340000000033,{"$f":"'Road only'!E1687","v":6},33.3340000000033]
[1687,33.3340000000033,0,33.3340000000033,{"$f":"'Road only'!E1688","v":12},21.3340000000033,21.138000000000002]
[1688,21.3340000000033,21.138000000000002,42.472000000003305,{"$f":"'Road only'!E1689","v":12},30.472000000003305]
[1689,30.472000000003305,0,30.472000000003305,{"$f":"'Road only'!E1690","v":16},14.472000000003305,21.138000000000002]
[1690,14.472000000003305,21.138000000000002,35.610000000003311,{"$f":"'Road only'!E1691","v":10},25.610000000003311]
[1691,25.610000000003311,0,25.610000000003311,{"$f":"'Road only'!E1692","v":15},10.610000000003311,21.138000000000002]
[1692,10.610000000003311,21.138000000000002,31.748000000003312,{"$f":"'Road only'!E1693","v":12},19.748000000003312]
[1693,19.748000000003312,0,19.748000000003312,{"$f":"'Road only'!E1694","v":14},5.7480000000033122,21.138000000000002]
[1694,5.7480000000033122,21.138000000000002,26.886000000003314,{"$f":"'Road only'!E1695","v":12},14.886000000003314]
[1695,14.886000000003314,0,14.886000000003314,{"$f":"'Road only'!E1696","v":7},7.8860000000033139,21.138000000000002]
[1696,7.8860000000033139,21.138000000000002,29.024000000003316,{"$f":"'Road only'!E1697","v":6},23.024000000003316]
[1697,23.024000000003316,0,23.024000000003316,{"$f":"'Road only'!E1698","v":7},16.024000000003316,21.138000000000002]
[1698,16.024000000003316,21.138000000000002,37.162000000003317,{"$f":"'Road only'!E1699","v":14},23.162000000003317]
[1699,23.162000000003317,0,23.162000000003317,{"$f":"'Road only'!E1700","v":12},11.162000000003317,21.138000000000002]
[1700,11.162000000003317,21.138000000000002,32.300000000003322,{"$f":"'Road only'!E1701","v":12},20.300000000003322]
[1701,20.300000000003322,0,20.300000000003322,{"$f":"'Road only'!E1702","v":14},6.3000000000033225,{"$f":"AVERAGE($E$2:$E$1001)*2","v":21.138000000000002}]
[1702,6.3000000000033225,21.138000000000002,27.438000000003324,{"$f":"'Road only'!E1703","v":12},15.438000000003324]
[1703,15.438000000003324,0,15.438000000003324,{"$f":"'Road only'!E1704","v":15},0.43800000000332417,{"$f":"AVERAGE($E$2:$E$1001)*2","v":21.138000000000002}]
[1704,0.43800000000332417,21.138000000000002,21.576000000003326,{"$f":"'Road only'!E1705","v":5},16.576000000003326]
[1705,16.576000000003326,{"$f":"G1705","v":0},{"$f":"B1706+C1706","v":16.576000000003326},{"$f":"'Road only'!E1706","v":6},{"$f":"D1706-E1706","v":10.576000000003326},{"$f":"AVERAGE($E$2:$E$1001)*2","v":21.138000000000002}]
[1706,10.576000000003326,21.138000000000002,31.714000000003328,{"$f":"'Road only'!E1707","v":6},25.714000000003328]
[1707,25.714000000003328,0,25.714000000003328,{"$f":"'Road only'!E1708","v":11},14.714000000003328,{"$f":"AVERAGE($E$2:$E$1001)*2","v":21.138000000000002}]
[1708,14.714000000003328,21.138000000000002,35.852000000003329,{"$f":"'Road only'!E1709","v":10},25.852000000003329]
[1709,25.852000000003329,0,25.852000000003329,{"$f":"'Road only'!E1710","v":5},20.852000000003329,{"$f":"AVERAGE($E$2:$E$1001)*2","v":21.138000000000002}]
[1710,20.852000000003329,21.138000000000002,41.990000000003334,{"$f":"'Road only'!E1711","v":8},33.990000000003334]
[1711,{"$f":"F1711","v":33.990000000003334},0,33.990000000003334,{"$f":"'Road only'!E1712","v":7},26.990000000003334,21.138000000000002]
[1712,26.990000000003334,21.138000000000002,48.12800000000334,{"$f":"'Road only'!E1713","v":8},40.12800000000334]
[1713,40.12800000000334,0,40.12800000000334,{"$f":"'Road only'!E1714","v":8},32.12800000000334,21.138000000000002]
[1714,32.12800000000334,21.138000000000002,53.266000000003345,{"$f":"'Road only'!E1715","v":15},38.266000000003345]
[1715,38.266000000003345,0,38.266000000003345,{"$f":"'Road only'!E1716","v":16},22.266000000003345,21.138000000000002]
[1716,22.266000000003345,21.138000000000002,43.40400000000335,{"$f":"'Road only'!E1717","v":8},35.40400000000335]
[1717,35.40400000000335,0,35.40400000000335,{"$f":"'Road only'!E1718","v":13},22.40400000000335,21.138000000000002]
[1718,22.40400000000335,21.138000000000002,43.542000000003355,{"$f":"'Road only'!E1719","v":9},34.542000000003355]
[1719,34.542000000003355,0,34.542000000003355,{"$f":"'Road only'!E1720","v":13},21.542000000003355,21.138000000000002]
[1720,21.542000000003355,21.138000000000002,42.680000000003361,{"$f":"'Road only'!E1721","v":12},30.680000000003361]
[1721,30.680000000003361,0,30.680000000003361,{"$f":"'Road only'!E1722","v":9},21.680000000003361,21.138000000000002]
[1722,21.680000000003361,21.138000000000002,42.818000000003366,{"$f":"'Road only'!E1723","v":4},38.818000000003366]
[1723,38.818000000003366,0,38.818000000003366,{"$f":"'Road only'!E1724","v":11},27.818000000003366,21.138000000000002]
[1724,27.818000000003366,21.138000000000002,48.956000000003371,{"$f":"'Road only'!E1725","v":9},39.956000000003371]
[1725,39.956000000003371,0,39.956000000003371,{"$f":"'Road only'!E1726","v":10},29.956000000003371,21.138000000000002]
[1726,29.956000000003371,21.138000000000002,51.094000000003376,{"$f":"'Road only'!E1727","v":10},41.094000000003376]
[1727,41.094000000003376,0,41.094000000003376,{"$f":"'Road only'!E1728","v":14},27.094000000003376,21.138000000000002]
[1728,27.094000000003376,21.138000000000002,48.232000000003382,{"$f":"'Road only'!E1729","v":14},34.232000000003382]
[1729,34.232000000003382,0,34.232000000003382,{"$f":"'Road only'!E1730","v":11},23.232000000003382,21.138000000000002]
[1730,23.232000000003382,21.138000000000002,44.370000000003387,{"$f":"'Road only'!E1731","v":13},31.370000000003387]
[1731,31.370000000003387,0,31.370000000003387,{"$f":"'Road only'!E1732","v":13},18.370000000003387,21.138000000000002]
[1732,18.370000000003387,21.138000000000002,39.508000000003392,{"$f":"'Road only'!E1733","v":18},21.508000000003392]
[1733,21.508000000003392,0,21.508000000003392,{"$f":"'Road only'!E1734","v":8},13.508000000003392,21.138000000000002]
[1734,13.508000000003392,21.138000000000002,34.646000000003397,{"$f":"'Road only'!E1735","v":11},23.646000000003397]
[1735,23.646000000003397,0,23.646000000003397,{"$f":"'Road only'!E1736","v":13},10.646000000003397,21.138000000000002]
[1736,10.646000000003397,21.138000000000002,31.784000000003399,{"$f":"'Road only'!E1737","v":6},25.784000000003399]
[1737,25.784000000003399,0,25.784000000003399,{"$f":"'Road only'!E1738","v":13},12.784000000003399,21.138000000000002]
[1738,12.784000000003399,21.138000000000002,33.922000000003401,{"$f":"'Road only'!E1739","v":16},17.922000000003401]
[1739,17.922000000003401,0,17.922000000003401,{"$f":"'Road only'!E1740","v":9},8.9220000000034005,21.138000000000002]
[1740,8.9220000000034005,21.138000000000002,30.060000000003402,{"$f":"'Road only'!E1741","v":9},21.060000000003402]
[1741,21.060000000003402,0,21.060000000003402,{"$f":"'Road only'!E1742","v":4},17.060000000003402,21.138000000000002]
[1742,17.060000000003402,21.138000000000002,38.198000000003404,{"$f":"'Road only'!E1743","v":6},32.198000000003404]
[1743,32.198000000003404,0,32.198000000003404,{"$f":"'Road only'!E1744","v":13},19.198000000003404,21.138000000000002]
[1744,19.198000000003404,21.138000000000002,40.336000000003409,{"$f":"'Road only'!E1745","v":8},32.336000000003409]
[1745,32.336000000003409,0,32.336000000003409,{"$f":"'Road only'!E1746","v":12},20.336000000003409,21.138000000000002]
[1746,20.336000000003409,21.138000000000002,41.474000000003414,{"$f":"'Road only'!E1747","v":17},24.474000000003414]
[1747,24.474000000003414,0,24.474000000003414,{"$f":"'Road only'!E1748","v":7},17.474000000003414,21.138000000000002]
[1748,17.474000000003414,21.138000000000002,38.61200000000342,{"$f":"'Road only'!E1749","v":5},33.61200000000342]
[1749,33.61200000000342,0,33.61200000000342,{"$f":"'Road only'!E1750","v":10},23.61200000000342,21.138000000000002]
[1750,23.61200000000342,21.138000000000002,44.750000000003425,{"$f":"'Road only'!E1751","v":10},34.750000000003425]
[1751,34.750000000003425,0,34.750000000003425,{"$f":"'Road only'!E1752","v":11},23.750000000003425,21.138000000000002]
[1752,23.750000000003425,21.138000000000002,44.88800000000343,{"$f":"'Road only'!E1753","v":12},32.88800000000343]
[1753,32.88800000000343,0,32.88800000000343,{"$f":"'Road only'!E1754","v":11},21.88800000000343,21.138000000000002]
[1754,21.88800000000343,21.138000000000002,43.026000000003435,{"$f":"'Road only'!E1755","v":9},34.026000000003435]
[1755,34.026000000003435,0,34.026000000003435,{"$f":"'Road only'!E1756","v":17},17.026000000003435,21.138000000000002]
[1756,17.026000000003435,21.138000000000002,38.164000000003441,{"$f":"'Road only'!E1757","v":5},33.164000000003441]
[1757,33.164000000003441,0,33.164000000003441,{"$f":"'Road only'!E1758","v":10},23.164000000003441,21.138000000000002]
[1758,23.164000000003441,21.138000000000002,44.302000000003446,{"$f":"'Road only'!E1759","v":14},30.302000000003446]
[1759,30.302000000003446,0,30.302000000003446,{"$f":"'Road only'!E1760","v":12},18.302000000003446,21.138000000000002]
[1760,18.302000000003446,21.138000000000002,39.440000000003451,{"$f":"'Road only'!E1761","v":7},32.440000000003451]
[1761,32.440000000003451,0,32.440000000003451,{"$f":"'Road only'!E1762","v":11},21.440000000003451,21.138000000000002]
[1762,21.440000000003451,21.138000000000002,42.578000000003456,{"$f":"'Road only'!E1763","v":11},31.578000000003456]
[1763,31.578000000003456,0,31.578000000003456,{"$f":"'Road only'!E1764","v":7},24.578000000003456,21.138000000000002]
[1764,24.578000000003456,21.138000000000002,45.716000000003461,{"$f":"'Road only'!E1765","v":7},38.716000000003461]
[1765,38.716000000003461,0,38.716000000003461,{"$f":"'Road only'!E1766","v":9},29.716000000003461,21.138000000000002]
[1766,29.716000000003461,21.138000000000002,50.854000000003467,{"$f":"'Road only'!E1767","v":15},35.854000000003467]
[1767,35.854000000003467,0,35.854000000003467,{"$f":"'Road only'!E1768","v":9},26.854000000003467,21.138000000000002]
[1768,26.854000000003467,21.138000000000002,47.992000000003472,{"$f":"'Road only'!E1769","v":11},36.992000000003472]
[1769,36.992000000003472,{"$f":"G1769","v":0},{"$f":"B1770+C1770","v":36.992000000003472},{"$f":"'Road only'!E1770","v":10},{"$f":"D1770-E1770","v":26.992000000003472},21.138000000000002]
[1770,26.992000000003472,21.138000000000002,48.130000000003477,{"$f":"'Road only'!E1771","v":12},36.130000000003477]
[1771,36.130000000003477,0,36.130000000003477,{"$f":"'Road only'!E1772","v":16},20.130000000003477,{"$f":"AVERAGE($E$2:$E$1001)*2","v":21.138000000000002}]
[1772,20.130000000003477,21.138000000000002,41.268000000003482,{"$f":"'Road only'!E1773","v":10},31.268000000003482]
[1773,31.268000000003482,0,31.268000000003482,{"$f":"'Road only'!E1774","v":9},22.268000000003482,{"$f":"AVERAGE($E$2:$E$1001)*2","v":21.138000000000002}]
[1774,22.268000000003482,21.138000000000002,43.406000000003488,{"$f":"'Road only'!E1775","v":5},38.406000000003488]
[1775,{"$f":"F1775","v":38.406000000003488},0,38.406000000003488,{"$f":"'Road only'!E1776","v":14},24.406000000003488,{"$f":"AVERAGE($E$2:$E$1001)*2","v":21.138000000000002}]
[1776,24.406000000003488,21.138000000000002,45.544000000003493,{"$f":"'Road only'!E1777","v":5},40.544000000003493]
[1777,40.544000000003493,0,40.544000000003493,{"$f":"'Road only'!E1778","v":11},29.544000000003493,{"$f":"AVERAGE($E$2:$E$1001)*2","v":21.138000000000002}]
[1778,29.544000000003493,21.138000000000002,50.682000000003498,{"$f":"'Road only'!E1779","v":14},36.682000000003498]
[1779,36.682000000003498,0,36.682000000003498,{"$f":"'Road only'!E1780","v":7},29.682000000003498,{"$f":"AVERAGE($E$2:$E$1001)*2","v":21.138000000000002}]
[1780,29.682000000003498,21.138000000000002,50.820000000003503,{"$f":"'Road only'!E1781","v":13},37.820000000003503]
[1781,37.820000000003503,0,37.820000000003503,{"$f":"'Road only'!E1782","v":8},29.820000000003503,21.138000000000002]
[1782,29.820000000003503,21.138000000000002,50.958000000003508,{"$f":"'Road only'!E1783","v":15},35.958000000003508]
[1783,35.958000000003508,0,35.958000000003508,{"$f":"'Road only'!E1784","v":6},29.958000000003508,21.138000000000002]
[1784,29.958000000003508,21.138000000000002,51.096000000003514,{"$f":"'Road only'!E1785","v":8},43.096000000003514]
[1785,43.096000000003514,0,43.096000000003514,{"$f":"'Road only'!E1786","v":12},31.096000000003514,21.138000000000002]
[1786,31.096000000003514,21.138000000000002,52.234000000003519,{"$f":"'Road only'!E1787","v":12},40.234000000003519]
[1787,40.234000000003519,0,40.234000000003519,{"$f":"'Road only'!E1788","v":12},28.234000000003519,21.138000000000002]
[1788,28.234000000003519,21.138000000000002,49.372000000003524,{"$f":"'Road only'!E1789","v":12},37.372000000003524]
[1789,37.372000000003524,0,37.372000000003524,{"$f":"'Road only'!E1790","v":11},26.372000000003524,21.138000000000002]
[1790,26.372000000003524,21.138000000000002,47.510000000003529,{"$f":"'Road only'!E1791","v":7},40.510000000003529]
[1791,40.510000000003529,0,40.510000000003529,{"$f":"'Road only'!E1792","v":15},25.510000000003529,21.138000000000002]
[1792,25.510000000003529,21.138000000000002,46.648000000003535,{"$f":"'Road only'!E1793","v":13},33.648000000003535]
[1793,33.648000000003535,0,33.648000000003535,{"$f":"'Road only'!E1794","v":12},21.648000000003535,21.138000000000002]
[1794,21.648000000003535,21.138000000000002,42.78600000000354,{"$f":"'Road only'!E1795","v":7},35.78600000000354]
[1795,35.78600000000354,0,35.78600000000354,{"$f":"'Road only'!E1796","v":13},22.78600000000354,21.138000000000002]
[1796,22.78600000000354,21.138000000000002,43.924000000003545,{"$f":"'Road only'!E1797","v":14},29.924000000003545]
[1797,29.924000000003545,0,29.924000000003545,{"$f":"'Road only'!E1798","v":6},23.924000000003545,21.138000000000002]
[1798,23.924000000003545,21.138000000000002,45.06200000000355,{"$f":"'Road only'!E1799","v":10},35.06200000000355]
[1799,35.06200000000355,0,35.06200000000355,{"$f":"'Road only'!E1800","v":11},24.06200000000355,21.138000000000002]
[1800,24.06200000000355,21.138000000000002,45.200000000003556,{"$f":"'Road only'!E1801","v":13},32.200000000003556]
[1801,32.200000000003556,0,32.200000000003556,{"$f":"'Road only'!E1802","v":6},26.200000000003556,21.138000000000002]
[1802,26.200000000003556,21.138000000000002,47.338000000003561,{"$f":"'Road only'!E1803","v":11},36.338000000003561]
[1803,36.338000000003561,0,36.338000000003561,{"$f":"'Road only'!E1804","v":8},28.338000000003561,21.138000000000002]
[1804,28.338000000003561,21.138000000000002,49.476000000003566,{"$f":"'Road only'!E1805","v":13},36.476000000003566]
[1805,36.476000000003566,0,36.476000000003566,{"$f":"'Road only'!E1806","v":11},25.476000000003566,21.138000000000002]
[1806,25.476000000003566,21.138000000000002,46.614000000003571,{"$f":"'Road only'!E1807","v":13},33.614000000003571]
[1807,33.614000000003571,0,33.614000000003571,{"$f":"'Road only'!E1808","v":15},18.614000000003571,21.138000000000002]
[1808,18.614000000003571,21.138000000000002,39.752000000003576,{"$f":"'Road only'!E1809","v":9},30.752000000003576]
[1809,30.752000000003576,0,30.752000000003576,{"$f":"'Road only'!E1810","v":4},26.752000000003576,21.138000000000002]
[1810,26.752000000003576,21.138000000000002,47.890000000003582,{"$f":"'Road only'!E1811","v":14},33.890000000003582]
[1811,33.890000000003582,0,33.890000000003582,{"$f":"'Road only'!E1812","v":9},24.890000000003582,21.138000000000002]
[1812,24.890000000003582,21.138000000000002,46.028000000003587,{"$f":"'Road only'!E1813","v":13},33.028000000003587]
[1813,33.028000000003587,0,33.028000000003587,{"$f":"'Road only'!E1814","v":8},25.028000000003587,21.138000000000002]
[1814,25.028000000003587,21.138000000000002,46.166000000003592,{"$f":"'Road only'!E1815","v":6},40.166000000003592]
[1815,40.166000000003592,0,40.166000000003592,{"$f":"'Road only'!E1816","v":8},32.166000000003592,21.138000000000002]
[1816,32.166000000003592,21.138000000000002,53.304000000003597,{"$f":"'Road only'!E1817","v":14},39.304000000003597]
[1817,39.304000000003597,0,39.304000000003597,{"$f":"'Road only'!E1818","v":7},32.304000000003597,21.138000000000002]
[1818,32.304000000003597,21.138000000000002,53.442000000003603,{"$f":"'Road only'!E1819","v":16},37.442000000003603]
[1819,37.442000000003603,0,37.442000000003603,{"$f":"'Road only'!E1820","v":13},24.442000000003603,21.138000000000002]
[1820,24.442000000003603,21.138000000000002,45.580000000003608,{"$f":"'Road only'!E1821","v":8},37.580000000003608]
[1821,37.580000000003608,0,37.580000000003608,{"$f":"'Road only'!E1822","v":7},30.580000000003608,21.138000000000002]
[1822,30.580000000003608,21.138000000000002,51.718000000003613,{"$f":"'Road only'!E1823","v":8},43.718000000003613]
[1823,43.718000000003613,0,43.718000000003613,{"$f":"'Road only'!E1824","v":8},35.718000000003613,21.138000000000002]
[1824,35.718000000003613,21.138000000000002,56.856000000003618,{"$f":"'Road only'!E1825","v":10},46.856000000003618]
[1825,46.856000000003618,0,46.856000000003618,{"$f":"'Road only'!E1826","v":11},35.856000000003618,21.138000000000002]
[1826,35.856000000003618,21.138000000000002,56.994000000003624,{"$f":"'Road only'!E1827","v":13},43.994000000003624]
[1827,43.994000000003624,0,43.994000000003624,{"$f":"'Road only'!E1828","v":6},37.994000000003624,21.138000000000002]
[1828,37.994000000003624,21.138000000000002,59.132000000003629,{"$f":"'Road only'!E1829","v":18},41.132000000003629]
[1829,41.132000000003629,0,41.132000000003629,{"$f":"'Road only'!E1830","v":11},30.132000000003629,21.138000000000002]
[1830,30.132000000003629,21.138000000000002,51.270000000003634,{"$f":"'Road only'!E1831","v":12},39.270000000003634]
[1831,39.270000000003634,0,39.270000000003634,{"$f":"'Road only'!E1832","v":13},26.270000000003634,21.138000000000002]
[1832,26.270000000003634,21.138000000000002,47.408000000003639,{"$f":"'Road only'!E1833","v":5},42.408000000003639]
[1833,42.408000000003639,{"$f":"G1833","v":0},{"$f":"B1834+C1834","v":42.408000000003639},{"$f":"'Road only'!E1834","v":13},{"$f":"D1834-E1834","v":29.408000000003639},21.138000000000002]
[1834,29.408000000003639,21.138000000000002,50.546000000003644,{"$f":"'Road only'!E1835","v":15},35.546000000003644]
[1835,35.546000000003644,0,35.546000000003644,{"$f":"'Road only'!E1836","v":13},22.546000000003644,21.138000000000002]
[1836,22.546000000003644,21.138000000000002,43.68400000000365,{"$f":"'Road only'!E1837","v":9},34.68400000000365]
[1837,34.68400000000365,0,34.68400000000365,{"$f":"'Road only'!E1838","v":11},23.68400000000365,21.138000000000002]
[1838,23.68400000000365,21.138000000000002,44.822000000003655,{"$f":"'Road only'!E1839","v":10},34.822000000003655]
[1839,{"$f":"F1839","v":34.822000000003655},0,34.822000000003655,{"$f":"'Road only'!E1840","v":7},27.822000000003655,21.138000000000002]
[1840,27.822000000003655,21.138000000000002,48.96000000000366,{"$f":"'Road only'!E1841","v":11},37.96000000000366]
[1841,37.96000000000366,0,37.96000000000366,{"$f":"'Road only'!E1842","v":12},25.96000000000366,{"$f":"AVERAGE($E$2:$E$1001)*2","v":21.138000000000002}]
[1842,25.96000000000366,21.138000000000002,47.098000000003665,{"$f":"'Road only'!E1843","v":8},39.098000000003665]
[1843,39.098000000003665,0,39.098000000003665,{"$f":"'Road only'!E1844","v":13},26.098000000003665,{"$f":"AVERAGE($E$2:$E$1001)*2","v":21.138000000000002}]
[1844,26.098000000003665,21.138000000000002,47.236000000003671,{"$f":"'Road only'!E1845","v":5},42.236000000003671]
[1845,42.236000000003671,0,42.236000000003671,{"$f":"'Road only'!E1846","v":12},30.236000000003671,{"$f":"AVERAGE($E$2:$E$1001)*2","v":21.138000000000002}]
[1846,30.236000000003671,21.138000000000002,51.374000000003676,{"$f":"'Road only'!E1847","v":13},38.374000000003676]
[1847,38.374000000003676,0,38.374000000003676,{"$f":"'Road only'!E1848","v":7},31.374000000003676,{"$f":"AVERAGE($E$2:$E$1001)*2","v":21.138000000000002}]
[1848,31.374000000003676,21.138000000000002,52.512000000003681,{"$f":"'Road only'!E1849","v":8},44.512000000003681]
[1849,44.512000000003681,0,44.512000000003681,{"$f":"'Road only'!E1850","v":13},31.512000000003681,{"$f":"AVERAGE($E$2:$E$1001)*2","v":21.138000000000002}]
[1850,31.512000000003681,21.138000000000002,52.650000000003686,{"$f":"'Road only'!E1851","v":12},40.650000000003686]
[1851,40.650000000003686,0,40.650000000003686,{"$f":"'Road only'!E1852","v":8},32.650000000003686,21.138000000000002]
[1852,32.650000000003686,21.138000000000002,53.788000000003692,{"$f":"'Road only'!E1853","v":8},45.788000000003692]
[1853,45.788000000003692,0,45.788000000003692,{"$f":"'Road only'!E1854","v":14},31.788000000003692,21.138000000000002]
[1854,31.788000000003692,21.138000000000002,52.926000000003697,{"$f":"'Road only'!E1855","v":8},44.926000000003697]
[1855,44.926000000003697,0,44.926000000003697,{"$f":"'Road only'!E1856","v":12},32.926000000003697,21.138000000000002]
[1856,32.926000000003697,21.138000000000002,54.064000000003702,{"$f":"'Road only'!E1857","v":14},40.064000000003702]
[1857,40.064000000003702,0,40.064000000003702,{"$f":"'Road only'!E1858","v":12},28.064000000003702,21.138000000000002]
[1858,28.064000000003702,21.138000000000002,49.202000000003707,{"$f":"'Road only'!E1859","v":10},39.202000000003707]
[1859,39.202000000003707,0,39.202000000003707,{"$f":"'Road only'!E1860","v":8},31.202000000003707,21.138000000000002]
[1860,31.202000000003707,21.138000000000002,52.340000000003712,{"$f":"'Road only'!E1861","v":12},40.340000000003712]
[1861,40.340000000003712,0,40.340000000003712,{"$f":"'Road only'!E1862","v":9},31.340000000003712,21.138000000000002]
[1862,31.340000000003712,21.138000000000002,52.478000000003718,{"$f":"'Road only'!E1863","v":10},42.478000000003718]
[1863,42.478000000003718,0,42.478000000003718,{"$f":"'Road only'!E1864","v":11},31.478000000003718,21.138000000000002]
[1864,31.478000000003718,21.138000000000002,52.616000000003723,{"$f":"'Road only'!E1865","v":6},46.616000000003723]
[1865,46.616000000003723,0,46.616000000003723,{"$f":"'Road only'!E1866","v":6},40.616000000003723,21.138000000000002]
[1866,40.616000000003723,21.138000000000002,61.754000000003728,{"$f":"'Road only'!E1867","v":10},51.754000000003728]
[1867,51.754000000003728,0,51.754000000003728,{"$f":"'Road only'!E1868","v":11},40.754000000003728,21.138000000000002]
[1868,40.754000000003728,21.138000000000002,61.892000000003733,{"$f":"'Road only'!E1869","v":13},48.892000000003733]
[1869,48.892000000003733,0,48.892000000003733,{"$f":"'Road only'!E1870","v":13},35.892000000003733,21.138000000000002]
[1870,35.892000000003733,21.138000000000002,57.030000000003739,{"$f":"'Road only'!E1871","v":11},46.030000000003739]
[1871,46.030000000003739,0,46.030000000003739,{"$f":"'Road only'!E1872","v":5},41.030000000003739,21.138000000000002]
[1872,41.030000000003739,21.138000000000002,62.168000000003744,{"$f":"'Road only'!E1873","v":11},51.168000000003744]
[1873,51.168000000003744,0,51.168000000003744,{"$f":"'Road only'!E1874","v":9},42.168000000003744,21.138000000000002]
[1874,42.168000000003744,21.138000000000002,63.306000000003749,{"$f":"'Road only'!E1875","v":6},57.306000000003749]
[1875,57.306000000003749,0,57.306000000003749,{"$f":"'Road only'!E1876","v":11},46.306000000003749,21.138000000000002]
[1876,46.306000000003749,21.138000000000002,67.444000000003754,{"$f":"'Road only'!E1877","v":7},60.444000000003754]
[1877,60.444000000003754,0,60.444000000003754,{"$f":"'Road only'!E1878","v":8},52.444000000003754,21.138000000000002]
[1878,52.444000000003754,21.138000000000002,73.58200000000376,{"$f":"'Road only'!E1879","v":11},62.58200000000376]
[1879,62.58200000000376,0,62.58200000000376,{"$f":"'Road only'!E1880","v":12},50.58200000000376,21.138000000000002]
[1880,50.58200000000376,21.138000000000002,71.720000000003765,{"$f":"'Road only'!E1881","v":10},61.720000000003765]
[1881,61.720000000003765,0,61.720000000003765,{"$f":"'Road only'!E1882","v":7},54.720000000003765,21.138000000000002]
[1882,54.720000000003765,21.138000000000002,75.85800000000377,{"$f":"'Road only'!E1883","v":9},66.85800000000377]
[1883,66.85800000000377,0,66.85800000000377,{"$f":"'Road only'!E1884","v":15},51.85800000000377,21.138000000000002]
[1884,51.85800000000377,21.138000000000002,72.996000000003775,{"$f":"'Road only'!E1885","v":13},59.996000000003775]
[1885,59.996000000003775,0,59.996000000003775,{"$f":"'Road only'!E1886","v":15},44.996000000003775,21.138000000000002]
[1886,44.996000000003775,21.138000000000002,66.13400000000378,{"$f":"'Road only'!E1887","v":12},54.13400000000378]
[1887,54.13400000000378,0,54.13400000000378,{"$f":"'Road only'!E1888","v":14},40.13400000000378,21.138000000000002]
[1888,40.13400000000378,21.138000000000002,61.272000000003786,{"$f":"'Road only'!E1889","v":13},48.272000000003786]
[1889,48.272000000003786,0,48.272000000003786,{"$f":"'Road only'!E1890","v":11},37.272000000003786,21.138000000000002]
[1890,37.272000000003786,21.138000000000002,58.410000000003791,{"$f":"'Road only'!E1891","v":7},51.410000000003791]
[1891,51.410000000003791,0,51.410000000003791,{"$f":"'Road only'!E1892","v":6},45.410000000003791,21.138000000000002]
[1892,45.410000000003791,21.138000000000002,66.548000000003796,{"$f":"'Road only'!E1893","v":14},52.548000000003796]
[1893,52.548000000003796,0,52.548000000003796,{"$f":"'Road only'!E1894","v":11},41.548000000003796,21.138000000000002]
[1894,41.548000000003796,21.138000000000002,62.686000000003801,{"$f":"'Road only'!E1895","v":9},53.686000000003801]
[1895,53.686000000003801,0,53.686000000003801,{"$f":"'Road only'!E1896","v":14},39.686000000003801,21.138000000000002]
[1896,39.686000000003801,21.138000000000002,60.824000000003807,{"$f":"'Road only'!E1897","v":6},54.824000000003807]
[1897,54.824000000003807,{"$f":"G1897","v":0},{"$f":"B1898+C1898","v":54.824000000003807},{"$f":"'Road only'!E1898","v":6},{"$f":"D1898-E1898","v":48.824000000003807},21.138000000000002]
[1898,48.824000000003807,21.138000000000002,69.962000000003812,{"$f":"'Road only'!E1899","v":8},61.962000000003812]
[1899,61.962000000003812,0,61.962000000003812,{"$f":"'Road only'!E1900","v":12},49.962000000003812,21.138000000000002]
[1900,49.962000000003812,21.138000000000002,71.100000000003817,{"$f":"'Road only'!E1901","v":12},59.100000000003817]
[1901,59.100000000003817,0,59.100000000003817,{"$f":"'Road only'!E1902","v":7},52.100000000003817,21.138000000000002]
[1902,52.100000000003817,21.138000000000002,73.238000000003822,{"$f":"'Road only'!E1903","v":13},60.238000000003822]
[1903,{"$f":"F1903","v":60.238000000003822},0,60.238000000003822,{"$f":"'Road only'!E1904","v":7},53.238000000003822,21.138000000000002]
[1904,53.238000000003822,21.138000000000002,74.376000000003827,{"$f":"'Road only'!E1905","v":10},64.376000000003827]
[1905,64.376000000003827,0,64.376000000003827,{"$f":"'Road only'!E1906","v":5},59.376000000003827,21.138000000000002]
[1906,59.376000000003827,21.138000000000002,80.514000000003833,{"$f":"'Road only'!E1907","v":15},65.514000000003833]
[1907,65.514000000003833,0,65.514000000003833,{"$f":"'Road only'!E1908","v":8},57.514000000003833,21.138000000000002]
[1908,57.514000000003833,21.138000000000002,78.652000000003838,{"$f":"'Road only'!E1909","v":9},69.652000000003838]
[1909,69.652000000003838,0,69.652000000003838,{"$f":"'Road only'!E1910","v":8},61.652000000003838,21.138000000000002]
[1910,61.652000000003838,21.138000000000002,82.790000000003843,{"$f":"'Road only'!E1911","v":12},70.790000000003843]
[1911,70.790000000003843,0,70.790000000003843,{"$f":"'Road only'!E1912","v":17},53.790000000003843,{"$f":"AVERAGE($E$2:$E$1001)*2","v":21.138000000000002}]
[1912,53.790000000003843,21.138000000000002,74.928000000003848,{"$f":"'Road only'!E1913","v":14},60.928000000003848]
[1913,60.928000000003848,0,60.928000000003848,{"$f":"'Road only'!E1914","v":5},55.928000000003848,{"$f":"AVERAGE($E$2:$E$1001)*2","v":21.138000000000002}]
[1914,55.928000000003848,21.138000000000002,77.066000000003854,{"$f":"'Road only'!E1915","v":5},72.066000000003854]
[1915,72.066000000003854,0,72.066000000003854,{"$f":"'Road only'!E1916","v":12},60.066000000003854,{"$f":"AVERAGE($E$2:$E$1001)*2","v":21.138000000000002}]
[1916,60.066000000003854,21.138000000000002,81.204000000003859,{"$f":"'Road only'!E1917","v":12},69.204000000003859]
[1917,69.204000000003859,0,69.204000000003859,{"$f":"'Road only'!E1918","v":9},60.204000000003859,{"$f":"AVERAGE($E$2:$E$1001)*2","v":21.138000000000002}]
[1918,60.204000000003859,21.138000000000002,81.342000000003864,{"$f":"'Road only'!E1919","v":15},66.342000000003864]
[1919,66.342000000003864,0,66.342000000003864,{"$f":"'Road only'!E1920","v":15},51.342000000003864,{"$f":"AVERAGE($E$2:$E$1001)*2","v":21.138000000000002}]
[1920,51.342000000003864,21.138000000000002,72.480000000003869,{"$f":"'Road only'!E1921","v":6},66.480000000003869]
[1921,66.480000000003869,0,66.480000000003869,{"$f":"'Road only'!E1922","v":14},52.480000000003869,21.138000000000002]
[1922,52.480000000003869,21.138000000000002,73.618000000003875,{"$f":"'Road only'!E1923","v":8},65.618000000003875]
[1923,65.618000000003875,0,65.618000000003875,{"$f":"'Road only'!E1924","v":11},54.618000000003875,21.138000000000002]
[1924,54.618000000003875,21.138000000000002,75.75600000000388,{"$f":"'Road only'!E1925","v":6},69.75600000000388]
[1925,69.75600000000388,0,69.75600000000388,{"$f":"'Road only'!E1926","v":4},65.75600000000388,21.138000000000002]
[1926,65.75600000000388,21.138000000000002,86.894000000003885,{"$f":"'Road only'!E1927","v":6},80.894000000003885]
[1927,80.894000000003885,0,80.894000000003885,{"$f":"'Road only'!E1928","v":11},69.894000000003885,21.138000000000002]
[1928,69.894000000003885,21.138000000000002,91.03200000000389,{"$f":"'Road only'!E1929","v":10},81.03200000000389]
[1929,81.03200000000389,0,81.03200000000389,{"$f":"'Road only'!E1930","v":6},75.03200000000389,21.138000000000002]
[1930,75.03200000000389,21.138000000000002,96.170000000003895,{"$f":"'Road only'!E1931","v":14},82.170000000003895]
[1931,82.170000000003895,0,82.170000000003895,{"$f":"'Road only'!E1932","v":11},71.170000000003895,21.138000000000002]
[1932,71.170000000003895,21.138000000000002,92.308000000003901,{"$f":"'Road only'!E1933","v":9},83.308000000003901]
[1933,83.308000000003901,0,83.308000000003901,{"$f":"'Road only'!E1934","v":7},76.308000000003901,21.138000000000002]
[1934,76.308000000003901,21.138000000000002,97.446000000003906,{"$f":"'Road only'!E1935","v":8},89.446000000003906]
[1935,89.446000000003906,0,89.446000000003906,{"$f":"'Road only'!E1936","v":12},77.446000000003906,21.138000000000002]
[1936,77.446000000003906,21.138000000000002,98.584000000003911,{"$f":"'Road only'!E1937","v":9},89.584000000003911]
[1937,89.584000000003911,0,89.584000000003911,{"$f":"'Road only'!E1938","v":9},80.584000000003911,21.138000000000002]
[1938,80.584000000003911,21.138000000000002,101.72200000000392,{"$f":"'Road only'!E1939","v":10},91.722000000003916]
[1939,91.722000000003916,0,91.722000000003916,{"$f":"'Road only'!E1940","v":9},82.722000000003916,21.138000000000002]
[1940,82.722000000003916,21.138000000000002,103.86000000000392,{"$f":"'Road only'!E1941","v":12},91.860000000003922]
[1941,91.860000000003922,0,91.860000000003922,{"$f":"'Road only'!E1942","v":13},78.860000000003922,21.138000000000002]
[1942,78.860000000003922,21.138000000000002,99.998000000003927,{"$f":"'Road only'!E1943","v":11},88.998000000003927]
[1943,88.998000000003927,0,88.998000000003927,{"$f":"'Road only'!E1944","v":6},82.998000000003927,21.138000000000002]
[1944,82.998000000003927,21.138000000000002,104.13600000000393,{"$f":"'Road only'!E1945","v":15},89.136000000003932]
[1945,89.136000000003932,0,89.136000000003932,{"$f":"'Road only'!E1946","v":6},83.136000000003932,21.138000000000002]
[1946,83.136000000003932,21.138000000000002,104.27400000000394,{"$f":"'Road only'!E1947","v":13},91.274000000003937]
[1947,91.274000000003937,0,91.274000000003937,{"$f":"'Road only'!E1948","v":14},77.274000000003937,21.138000000000002]
[1948,77.274000000003937,21.138000000000002,98.412000000003943,{"$f":"'Road only'!E1949","v":9},89.412000000003943]
[1949,89.412000000003943,0,89.412000000003943,{"$f":"'Road only'!E1950","v":11},78.412000000003943,21.138000000000002]
[1950,78.412000000003943,21.138000000000002,99.550000000003948,{"$f":"'Road only'!E1951","v":15},84.550000000003948]
[1951,84.550000000003948,0,84.550000000003948,{"$f":"'Road only'!E1952","v":5},79.550000000003948,21.138000000000002]
[1952,79.550000000003948,21.138000000000002,100.68800000000395,{"$f":"'Road only'!E1953","v":10},90.688000000003953]
[1953,90.688000000003953,0,90.688000000003953,{"$f":"'Road only'!E1954","v":9},81.688000000003953,21.138000000000002]
[1954,81.688000000003953,21.138000000000002,102.82600000000396,{"$f":"'Road only'!E1955","v":5},97.826000000003958]
[1955,97.826000000003958,0,97.826000000003958,{"$f":"'Road only'!E1956","v":8},89.826000000003958,21.138000000000002]
[1956,89.826000000003958,21.138000000000002,110.96400000000396,{"$f":"'Road only'!E1957","v":9},101.96400000000396]
[1957,101.96400000000396,0,101.96400000000396,{"$f":"'Road only'!E1958","v":11},90.964000000003963,21.138000000000002]
[1958,90.964000000003963,21.138000000000002,112.10200000000397,{"$f":"'Road only'!E1959","v":12},100.10200000000397]
[1959,100.10200000000397,0,100.10200000000397,{"$f":"'Road only'!E1960","v":15},85.102000000003969,21.138000000000002]
[1960,85.102000000003969,21.138000000000002,106.24000000000397,{"$f":"'Road only'!E1961","v":11},95.240000000003974]
[1961,95.240000000003974,{"$f":"G1961","v":0},{"$f":"B1962+C1962","v":95.240000000003974},{"$f":"'Road only'!E1962","v":10},{"$f":"D1962-E1962","v":85.240000000003974},21.138000000000002]
[1962,85.240000000003974,21.138000000000002,106.37800000000398,{"$f":"'Road only'!E1963","v":11},95.378000000003979]
[1963,95.378000000003979,0,95.378000000003979,{"$f":"'Road only'!E1964","v":5},90.378000000003979,21.138000000000002]
[1964,90.378000000003979,21.138000000000002,111.51600000000398,{"$f":"'Road only'!E1965","v":12},99.516000000003984]
[1965,99.516000000003984,0,99.516000000003984,{"$f":"'Road only'!E1966","v":10},89.516000000003984,21.138000000000002]
[1966,89.516000000003984,21.138000000000002,110.65400000000399,{"$f":"'Road only'!E1967","v":13},97.65400000000399]
[1967,{"$f":"F1967","v":97.65400000000399},0,97.65400000000399,{"$f":"'Road only'!E1968","v":13},84.65400000000399,21.138000000000002]
[1968,84.65400000000399,21.138000000000002,105.79200000000399,{"$f":"'Road only'!E1969","v":13},92.792000000003995]
[1969,92.792000000003995,0,92.792000000003995,{"$f":"'Road only'!E1970","v":11},81.792000000003995,21.138000000000002]
[1970,81.792000000003995,21.138000000000002,102.930000000004,{"$f":"'Road only'!E1971","v":13},89.930000000004]
[1971,89.930000000004,0,89.930000000004,{"$f":"'Road only'!E1972","v":10},79.930000000004,21.138000000000002]
[1972,79.930000000004,21.138000000000002,101.06800000000401,{"$f":"'Road only'!E1973","v":11},90.068000000004005]
[1973,90.068000000004005,0,90.068000000004005,{"$f":"'Road only'!E1974","v":12},78.068000000004005,21.138000000000002]
[1974,78.068000000004005,21.138000000000002,99.206000000004011,{"$f":"'Road only'!E1975","v":9},90.206000000004011]
[1975,90.206000000004011,0,90.206000000004011,{"$f":"'Road only'!E1976","v":11},79.206000000004011,21.138000000000002]
[1976,79.206000000004011,21.138000000000002,100.34400000000402,{"$f":"'Road only'!E1977","v":10},90.344000000004016]
[1977,90.344000000004016,0,90.344000000004016,{"$f":"'Road only'!E1978","v":7},83.344000000004016,21.138000000000002]
[1978,83.344000000004016,21.138000000000002,104.48200000000402,{"$f":"'Road only'!E1979","v":13},91.482000000004021]
[1979,91.482000000004021,0,91.482000000004021,{"$f":"'Road only'!E1980","v":9},82.482000000004021,21.138000000000002]
[1980,82.482000000004021,21.138000000000002,103.62000000000403,{"$f":"'Road only'!E1981","v":16},87.620000000004026]
[1981,87.620000000004026,0,87.620000000004026,{"$f":"'Road only'!E1982","v":10},77.620000000004026,{"$f":"AVERAGE($E$2:$E$1001)*2","v":21.138000000000002}]
[1982,77.620000000004026,21.138000000000002,98.758000000004031,{"$f":"'Road only'!E1983","v":10},88.758000000004031]
[1983,88.758000000004031,0,88.758000000004031,{"$f":"'Road only'!E1984","v":10},78.758000000004031,{"$f":"AVERAGE($E$2:$E$1001)*2","v":21.138000000000002}]
[1984,78.758000000004031,21.138000000000002,99.896000000004037,{"$f":"'Road only'!E1985","v":7},92.896000000004037]
[1985,92.896000000004037,0,92.896000000004037,{"$f":"'Road only'!E1986","v":9},83.896000000004037,{"$f":"AVERAGE($E$2:$E$1001)*2","v":21.138000000000002}]
[1986,83.896000000004037,21.138000000000002,105.03400000000404,{"$f":"'Road only'!E1987","v":8},97.034000000004042]
[1987,97.034000000004042,0,97.034000000004042,{"$f":"'Road only'!E1988","v":12},85.034000000004042,{"$f":"AVERAGE($E$2:$E$1001)*2","v":21.138000000000002}]
[1988,85.034000000004042,21.138000000000002,106.17200000000405,{"$f":"'Road only'!E1989","v":12},94.172000000004047]
[1989,94.172000000004047,0,94.172000000004047,{"$f":"'Road only'!E1990","v":8},86.172000000004047,{"$f":"AVERAGE($E$2:$E$1001)*2","v":21.138000000000002}]
[1990,86.172000000004047,21.138000000000002,107.31000000000405,{"$f":"'Road only'!E1991","v":10},97.310000000004052]
[1991,97.310000000004052,0,97.310000000004052,{"$f":"'Road only'!E1992","v":4},93.310000000004052,21.138000000000002]
[1992,93.310000000004052,21.138000000000002,114.44800000000406,{"$f":"'Road only'!E1993","v":7},107.44800000000406]
[1993,107.44800000000406,0,107.44800000000406,{"$f":"'Road only'!E1994","v":4},103.44800000000406,21.138000000000002]
[1994,103.44800000000406,21.138000000000002,124.58600000000406,{"$f":"'Road only'!E1995","v":14},110.58600000000406]
[1995,110.58600000000406,0,110.58600000000406,{"$f":"'Road only'!E1996","v":8},102.58600000000406,21.138000000000002]
[1996,102.58600000000406,21.138000000000002,123.72400000000407,{"$f":"'Road only'!E1997","v":12},111.72400000000407]
[1997,111.72400000000407,0,111.72400000000407,{"$f":"'Road only'!E1998","v":10},101.72400000000407,21.138000000000002]
[1998,101.72400000000407,21.138000000000002,122.86200000000407,{"$f":"'Road only'!E1999","v":7},115.86200000000407]
[1999,115.86200000000407,0,115.86200000000407,{"$f":"'Road only'!E2000","v":13},102.86200000000407,21.138000000000002]
[2000,102.86200000000407,21.138000000000002,124.00000000000408,{"$f":"'Road only'!E2001","v":10},114.00000000000408]

{"sheet":"Synchromodal lower bound method","index":2,"n_rows":2001,"n_cols":13,"rows_kept":2001,"cut":false,"hidden":false,"merged":[]}
["Period","Start Inv","Arrival","Inv before demand","Demand","Inv after demand","Order (Road)","Order (RAIL)"]
[1,{"$f":"'Road only'!B2","v":15},0,{"$f":"B2+C2","v":15},{"$f":"'Road only'!E2","v":9},{"$f":"D2-E2","v":6},{"$f":"D2-F2-H2","v":3},6,null,"Costs"]
[2,{"$f":"F2","v":6},{"$f":"H2+G2","v":9},{"$f":"B3+C3","v":15},{"$f":"'Road only'!E3","v":13},{"$f":"D3-E3","v":2},{"$f":"D3-F3-H3","v":13},null,null,"Unit inventory holding cost",null,null,{"$f":"'Road only'!M3","v":136}]
[3,{"$f":"F3","v":2},{"$f":"H3+G3","v":13},15,{"$f":"'Road only'!E4","v":10},5,4,6,null,"Unit inventory back order cost",null,null,{"$f":"'Road only'!M4","v":2584}]
[4,5,10,15,{"$f":"'Road only'!E5","v":7},8,7]
[5,8,7,15,{"$f":"'Road only'!E6","v":11},4,5,6,null,"Unit transport cost Road",null,null,{"$f":"'Road only'!M6","v":400}]
[6,4,11,15,{"$f":"'Road only'!E7","v":12},3,12,null,null,"Unit transport cost Rail",null,null,{"$f":"'Road only'!M7","v":350}]
[7,3,12,15,{"$f":"'Road only'!E8","v":8},7,2,6]
[8,7,8,15,{"$f":"'Road only'!E9","v":7},8,7,null,null,"Avg Tsp Cost per period",null,null,{"$f":"SUM(G2:G2001)/2000*M6+SUM(H2:H2001)/2000*M7","v":4057.7999999999997}]
[9,8,7,15,{"$f":"'Road only'!E10","v":15},0,9,6,null,"Avg Inv holding cst per period",null,null,{"$f":"SUMIF(F2:F2002,\">0\")/2000*M3","v":617.50799999999992}]
[10,0,15,15,{"$f":"'Road only'!E11","v":16},-1,16,null,null,"Avg Inv backorder cst per period",null,null,{"$f":"SUMIF(F2:F2001,\"<0\")/2000*M4*(-1)","v":155.04}]
[11,-1,16,15,{"$f":"'Road only'!E12","v":7},8,1,6]
[12,8,7,15,{"$f":"'Road only'!E13","v":10},5,10]
[13,5,10,15,{"$f":"'Road only'!E14","v":10},5,4,6,null,"Avg ttl cost per period",null,null,{"$f":"SUM(M9:M12)","v":4830.348}]
[14,5,10,15,{"$f":"'Road only'!E15","v":9},6,9]
[15,6,9,15,{"$f":"'Road only'!E16","v":8},7,2,6]
[16,7,8,15,{"$f":"'Road only'!E17","v":14},1,14,null,null,"Emissions"]
[17,1,14,15,{"$f":"'Road only'!E18","v":8},7,2,6,null,"Unit emission Road",null,null,{"$f":"'Road only'!M18","v":0.72}]
[18,7,8,15,{"$f":"'Road only'!E19","v":9},6,9,null,null,"Unit emission Rail",null,null,{"$f":"'Road only'!M19","v":0.2}]
[19,6,9,15,{"$f":"'Road only'!E20","v":11},4,5,6]
[20,4,11,15,{"$f":"'Road only'!E21","v":16},-1,16,null,null,"Avg emission per period (Road&Rail)",null,null,{"$f":"SUM(H2:H2001)*M19/2000+SUM(G2:G2001)*M18/2000","v":6.0140399999999996}]
[21,-1,16,15,{"$f":"'Road only'!E22","v":12},3,6,6]
[22,3,12,15,{"$f":"'Road only'!E23","v":12},3,12]
[23,3,12,15,{"$f":"'Road only'!E24","v":16},-1,10,6,null,"Service level"]
[24,-1,16,15,{"$f":"'Road only'!E25","v":10},5,10,null,null,"In-stock Probability at the DC",null,null,{"$f":"1-COUNTIF(F2:F2001,\"<0\")/2000","v":0.95899999999999996}]
[25,5,10,15,{"$f":"'Road only'!E26","v":11},4,5,6]
[26,4,11,15,{"$f":"'Road only'!E27","v":11},4,11]
[27,4,11,15,{"$f":"'Road only'!E28","v":11},4,5,6,null,"Demand Histogram"]
[28,4,11,15,{"$f":"'Road only'!E29","v":10},5,10,null,null,"Bin","Frequency","Cumulative %"]
[29,5,10,15,{"$f":"'Road only'!E30","v":8},7,2,6,null,3,{"$f":"COUNTIF($E$2:$E$2001,J30)","v":9},{"$f":"K30/2000","v":4.4999999999999997E-3}]
[30,7,8,15,{"$f":"'Road only'!E31","v":9},6,9,null,null,4,{"$f":"COUNTIF($E$2:$E$2001,J31)","v":32},{"$f":"K31/2000+L30","v":2.0500000000000001E-2}]
[31,6,9,15,{"$f":"'Road only'!E32","v":6},9,0,6,null,5,48,{"$f":"K32/2000+L31","v":4.4499999999999998E-2}]
[32,9,6,15,{"$f":"'Road only'!E33","v":9},6,9,null,null,6,91,0.09]
[33,6,9,15,{"$f":"'Road only'!E34","v":13},2,7,6,null,7,129,0.1545]
[34,2,13,15,{"$f":"'Road only'!E35","v":9},6,9,null,null,8,209,0.25900000000000001]
[35,6,9,15,{"$f":"'Road only'!E36","v":7},8,1,6,null,9,235,0.3765]
[36,8,7,15,{"$f":"'Road only'!E37","v":5},10,5,null,null,10,243,0.498]
[37,10,5,15,{"$f":"'Road only'!E38","v":11},4,5,6,null,11,232,0.61399999999999999]
[38,4,11,15,{"$f":"'Road only'!E39","v":11},4,11,null,null,12,227,0.72750000000000004]
[39,4,11,15,{"$f":"'Road only'!E40","v":14},1,8,6,null,13,220,0.83750000000000002]
[40,1,14,15,{"$f":"'Road only'!E41","v":5},10,5,null,null,14,153,0.91400000000000003]
[41,10,5,15,{"$f":"'Road only'!E42","v":7},8,1,6,null,15,90,0.95900000000000007]
[42,8,7,15,{"$f":"'Road only'!E43","v":11},4,11,null,null,16,53,0.98550000000000004]
[43,4,11,15,{"$f":"'Road only'!E44","v":10},5,4,6,null,17,20,0.99550000000000005]
[44,5,10,15,{"$f":"'Road only'!E45","v":3},12,3,null,null,18,{"$f":"COUNTIF($E$2:$E$2001,J45)","v":9},{"$f":"K45/2000+L44","v":1}]
[45,12,3,15,{"$f":"'Road only'!E46","v":13},2,7,6]
[46,2,13,15,{"$f":"'Road only'!E47","v":8},7,8]
[47,7,8,15,{"$f":"'Road only'!E48","v":15},0,9,6]
[48,0,15,15,{"$f":"'Road only'!E49","v":8},7,8]
[49,7,8,15,{"$f":"'Road only'!E50","v":16},-1,10,6]
[50,-1,16,15,{"$f":"'Road only'!E51","v":13},2,13]
[51,2,13,15,{"$f":"'Road only'!E52","v":7},8,1,6]
[52,8,7,15,{"$f":"'Road only'!E53","v":10},5,10]
[53,5,10,15,{"$f":"'Road only'!E54","v":7},8,1,6]
[54,8,7,15,{"$f":"'Road only'!E55","v":9},6,9]
[55,6,9,15,{"$f":"'Road only'!E56","v":8},7,2,6]
[56,7,8,15,{"$f":"'Road only'!E57","v":11},4,11]
[57,4,11,15,{"$f":"'Road only'!E58","v":8},7,2,6]
[58,7,8,15,{"$f":"'Road only'!E59","v":8},7,8]
[59,7,8,15,{"$f":"'Road only'!E60","v":14},1,8,6]
[60,1,14,15,{"$f":"'Road only'!E61","v":9},6,9]
[61,6,9,15,{"$f":"'Road only'!E62","v":8},7,2,6]
[62,7,8,15,{"$f":"'Road only'!E63","v":7},8,7]
[63,8,7,15,{"$f":"'Road only'!E64","v":12},3,6,6]
[64,3,12,15,{"$f":"'Road only'!E65","v":14},1,14]
[65,1,14,15,{"$f":"'Road only'!E66","v":6},9,0,6]
[66,9,6,{"$f":"B67+C67","v":15},{"$f":"'Road only'!E67","v":6},{"$f":"D67-E67","v":9},{"$f":"D67-F67-H67","v":6}]
[67,{"$f":"F67","v":9},{"$f":"H67+G67","v":6},15,{"$f":"'Road only'!E68","v":6},9,0,6]
[68,9,6,15,{"$f":"'Road only'!E69","v":7},8,7]
[69,8,7,15,{"$f":"'Road only'!E70","v":16},-1,10,6]
[70,-1,16,15,{"$f":"'Road only'!E71","v":9},6,9]
[71,6,9,15,{"$f":"'Road only'!E72","v":15},0,9,6]
[72,0,15,15,{"$f":"'Road only'!E73","v":7},8,7]
[73,8,7,15,{"$f":"'Road only'!E74","v":14},1,8,6]
[74,1,14,15,{"$f":"'Road only'!E75","v":9},6,9]
[75,6,9,15,{"$f":"'Road only'!E76","v":14},1,8,6]
[76,1,14,15,{"$f":"'Road only'!E77","v":11},4,11]
[77,4,11,15,{"$f":"'Road only'!E78","v":15},0,9,6]
[78,0,15,15,{"$f":"'Road only'!E79","v":10},5,10]
[79,5,10,15,{"$f":"'Road only'!E80","v":8},7,2,6]
[80,7,8,15,{"$f":"'Road only'!E81","v":13},2,13]
[81,2,13,15,{"$f":"'Road only'!E82","v":9},6,3,6]
[82,6,9,15,{"$f":"'Road only'!E83","v":13},2,13]
[83,2,13,15,{"$f":"'Road only'!E84","v":11},4,5,6]
[84,4,11,15,{"$f":"'Road only'!E85","v":10},5,10]
[85,5,10,15,{"$f":"'Road only'!E86","v":8},7,2,6]
[86,7,8,15,{"$f":"'Road only'!E87","v":11},4,11]
[87,4,11,15,{"$f":"'Road only'!E88","v":14},1,8,6]
[88,1,14,15,{"$f":"'Road only'!E89","v":11},4,11]
[89,4,11,15,{"$f":"'Road only'!E90","v":12},3,6,6]
[90,3,12,15,{"$f":"'Road only'!E91","v":14},1,14]
[91,1,14,15,{"$f":"'Road only'!E92","v":15},0,9,6]
[92,0,15,15,{"$f":"'Road only'!E93","v":6},9,6]
[93,9,6,15,{"$f":"'Road only'!E94","v":12},3,6,6]
[94,3,12,15,{"$f":"'Road only'!E95","v":9},6,9]
[95,6,9,15,{"$f":"'Road only'!E96","v":14},1,8,6]
[96,1,14,15,{"$f":"'Road only'!E97","v":13},2,13]
[97,2,13,15,{"$f":"'Road only'!E98","v":13},2,7,6]
[98,2,13,15,{"$f":"'Road only'!E99","v":8},7,8]
[99,7,8,15,{"$f":"'Road only'!E100","v":15},0,9,6]
[100,0,15,15,{"$f":"'Road only'!E101","v":14},1,14]
[101,{"$f":"F101","v":1},14,15,{"$f":"'Road only'!E102","v":5},10,-1,6]
[102,10,5,15,{"$f":"'Road only'!E103","v":9},6,9]
[103,6,9,15,{"$f":"'Road only'!E104","v":7},8,1,6]
[104,8,7,15,{"$f":"'Road only'!E105","v":10},5,10]
[105,5,10,15,{"$f":"'Road only'!E106","v":9},6,3,6]
[106,6,9,15,{"$f":"'Road only'!E107","v":9},6,9]
[107,6,9,15,{"$f":"'Road only'!E108","v":10},5,4,6]
[108,5,10,15,{"$f":"'Road only'!E109","v":14},1,14]
[109,1,14,15,{"$f":"'Road only'!E110","v":15},0,9,6]
[110,0,15,15,{"$f":"'Road only'!E111","v":11},4,11]
[111,4,11,15,{"$f":"'Road only'!E112","v":7},8,1,6]
[112,8,7,15,{"$f":"'Road only'!E113","v":13},2,13]
[113,2,13,15,{"$f":"'Road only'!E114","v":4},11,-2,6]
[114,11,4,15,{"$f":"'Road only'!E115","v":9},6,9]
[115,6,9,15,{"$f":"'Road only'!E116","v":12},3,6,6]
[116,3,12,15,{"$f":"'Road only'!E117","v":18},-3,18]
[117,-3,18,15,{"$f":"'Road only'!E118","v":7},8,1,6]
[118,8,7,15,{"$f":"'Road only'!E119","v":5},10,5]
[119,10,5,15,{"$f":"'Road only'!E120","v":9},6,3,6]
[120,6,9,15,{"$f":"'Road only'!E121","v":16},-1,16]
[121,-1,16,15,{"$f":"'Road only'!E122","v":10},5,4,6]
[122,5,10,15,{"$f":"'Road only'!E123","v":10},5,10]
[123,5,10,15,{"$f":"'Road only'!E124","v":8},7,2,6]
[124,7,8,15,{"$f":"'Road only'!E125","v":13},2,13]
[125,2,13,15,{"$f":"'Road only'!E126","v":12},3,6,6]
[126,3,12,15,{"$f":"'Road only'!E127","v":10},5,10]
[127,5,10,15,{"$f":"'Road only'!E128","v":14},1,8,6]
[128,1,14,15,{"$f":"'Road only'!E129","v":6},9,6]
[129,9,6,15,{"$f":"'Road only'!E130","v":13},2,7,6]
[130,2,13,{"$f":"B131+C131","v":15},{"$f":"'Road only'!E131","v":9},{"$f":"D131-E131","v":6},{"$f":"D131-F131-H131","v":9}]
[131,6,{"$f":"H131+G131","v":9},15,{"$f":"'Road only'!E132","v":9},6,3,6]
[132,6,9,15,{"$f":"'Road only'!E133","v":8},7,8]
[133,7,8,15,{"$f":"'Road only'!E134","v":12},3,6,6]
[134,3,12,15,{"$f":"'Road only'!E135","v":11},4,11]
[135,4,11,15,{"$f":"'Road only'!E136","v":16},-1,10,6]
[136,-1,16,15,{"$f":"'Road only'!E137","v":11},4,11]
[137,4,11,15,{"$f":"'Road only'!E138","v":14},1,8,6]
[138,1,14,15,{"$f":"'Road only'!E139","v":8},7,8]
[139,7,8,15,{"$f":"'Road only'!E140","v":9},6,3,6]
[140,6,9,15,{"$f":"'Road only'!E141","v":10},5,10]
[141,5,10,15,{"$f":"'Road only'!E142","v":13},2,7,6]
[142,2,13,15,{"$f":"'Road only'!E143","v":5},10,5]
[143,10,5,15,{"$f":"'Road only'!E144","v":13},2,7,6]
[144,2,13,15,{"$f":"'Road only'!E145","v":12},3,12]
[145,3,12,15,{"$f":"'Road only'!E146","v":12},3,6,6]
[146,3,12,15,{"$f":"'Road only'!E147","v":8},7,8]
[147,7,8,15,{"$f":"'Road only'!E148","v":8},7,2,6]
[148,7,8,15,{"$f":"'Road only'!E149","v":15},0,15]
[149,0,15,15,{"$f":"'Road only'!E150","v":11},4,5,6]
[150,4,11,15,{"$f":"'Road only'!E151","v":11},4,11]
[151,4,11,15,{"$f":"'Road only'!E152","v":15},0,9,6]
[152,0,15,15,{"$f":"'Road only'!E153","v":8},7,8]
[153,7,8,15,{"$f":"'Road only'!E154","v":12},3,6,6]
[154,3,12,15,{"$f":"'Road only'!E155","v":13},2,13]
[155,2,13,15,{"$f":"'Road only'!E156","v":9},6,3,6]
[156,6,9,15,{"$f":"'Road only'!E157","v":13},2,13]
[157,2,13,15,{"$f":"'Road only'!E158","v":11},4,5,6]
[158,4,11,15,{"$f":"'Road only'!E159","v":8},7,8]
[159,7,8,15,{"$f":"'Road only'!E160","v":7},8,1,6]
[160,8,7,15,{"$f":"'Road only'!E161","v":14},1,14]
[161,1,14,15,{"$f":"'Road only'!E162","v":11},4,5,6]
[162,4,11,15,{"$f":"'Road only'!E163","v":12},3,12]
[163,3,12,15,{"$f":"'Road only'!E164","v":12},3,6,6]
[164,3,12,15,{"$f":"'Road only'!E165","v":15},0,15]
[165,{"$f":"F165","v":0},15,15,{"$f":"'Road only'!E166","v":9},6,3,6]
[166,6,9,15,{"$f":"'Road only'!E167","v":13},2,13]
[167,2,13,15,{"$f":"'Road only'!E168","v":8},7,2,6]
[168,7,8,15,{"$f":"'Road only'!E169","v":13},2,13]
[169,2,13,15,{"$f":"'Road only'!E170","v":11},4,5,6]
[170,4,11,15,{"$f":"'Road only'!E171","v":16},-1,16]
[171,-1,16,15,{"$f":"'Road only'!E172","v":12},3,6,6]
[172,3,12,15,{"$f":"'Road only'!E173","v":11},4,11]
[173,4,11,15,{"$f":"'Road only'!E174","v":9},6,3,6]
[174,6,9,15,{"$f":"'Road only'!E175","v":7},8,7]
[175,8,7,15,{"$f":"'Road only'!E176","v":12},3,6,6]
[176,3,12,15,{"$f":"'Road only'!E177","v":12},3,12]
[177,3,12,15,{"$f":"'Road only'!E178","v":11},4,5,6]
[178,4,11,15,{"$f":"'Road only'!E179","v":18},-3,18]
[179,-3,18,15,{"$f":"'Road only'!E180","v":15},0,9,6]
[180,0,15,15,{"$f":"'Road only'!E181","v":11},4,11]
[181,4,11,15,{"$f":"'Road only'!E182","v":11},4,5,6]
[182,4,11,15,{"$f":"'Road only'!E183","v":12},3,12]
[183,3,12,15,{"$f":"'Road only'!E184","v":9},6,3,6]
[184,6,9,15,{"$f":"'Road only'!E185","v":13},2,13]
[185,2,13,15,{"$f":"'Road only'!E186","v":11},4,5,6]
[186,4,11,15,{"$f":"'Road only'!E187","v":11},4,11]
[187,4,11,15,{"$f":"'Road only'!E188","v":14},1,8,6]
[188,1,14,15,{"$f":"'Road only'!E189","v":7},8,7]
[189,8,7,15,{"$f":"'Road only'!E190","v":9},6,3,6]
[190,6,9,15,{"$f":"'Road only'!E191","v":9},6,9]
[191,6,9,15,{"$f":"'Road only'!E192","v":12},3,6,6]
[192,3,12,15,{"$f":"'Road only'!E193","v":13},2,13]
[193,2,13,15,{"$f":"'Road only'!E194","v":13},2,7,6]
[194,2,13,{"$f":"B195+C195","v":15},{"$f":"'Road only'!E195","v":8},{"$f":"D195-E195","v":7},{"$f":"D195-F195-H195","v":8}]
[195,7,{"$f":"H195+G195","v":8},15,{"$f":"'Road only'!E196","v":13},2,7,6]
[196,2,13,15,{"$f":"'Road only'!E197","v":10},5,10]
[197,5,10,15,{"$f":"'Road only'!E198","v":11},4,5,6]
[198,4,11,15,{"$f":"'Road only'!E199","v":12},3,12]
[199,3,12,15,{"$f":"'Road only'!E200","v":8},7,2,6]
[200,7,8,15,{"$f":"'Road only'!E201","v":10},5,10]
[201,5,10,15,{"$f":"'Road only'!E202","v":7},8,1,6]
[202,8,7,15,{"$f":"'Road only'!E203","v":11},4,11]
[203,4,11,15,{"$f":"'Road only'!E204","v":8},7,2,6]
[204,7,8,15,{"$f":"'Road only'!E205","v":17},-2,17]
[205,-2,17,15,{"$f":"'Road only'!E206","v":13},2,7,6]
[206,2,13,15,{"$f":"'Road only'!E207","v":14},1,14]
[207,1,14,15,{"$f":"'Road only'!E208","v":9},6,3,6]
[208,6,9,15,{"$f":"'Road only'!E209","v":9},6,9]
[209,6,9,15,{"$f":"'Road only'!E210","v":7},8,1,6]
[210,8,7,15,{"$f":"'Road only'!E211","v":12},3,12]
[211,3,12,15,{"$f":"'Road only'!E212","v":13},2,7,6]
[212,2,13,15,{"$f":"'Road only'!E213","v":9},6,9]
[213,6,9,15,{"$f":"'Road only'!E214","v":10},5,4,6]
[214,5,10,15,{"$f":"'Road only'!E215","v":11},4,11]
[215,4,11,15,{"$f":"'Road only'!E216","v":17},-2,11,6]
[216,-2,17,15,{"$f":"'Road only'!E217","v":8},7,8]
[217,7,8,15,{"$f":"'Road only'!E218","v":10},5,4,6]
[218,5,10,15,{"$f":"'Road only'!E219","v":11},4,11]
[219,4,11,15,{"$f":"'Road only'!E220","v":9},6,3,6]
[220,6,9,15,{"$f":"'Road only'!E221","v":10},5,10]
[221,5,10,15,{"$f":"'Road only'!E222","v":13},2,7,6]
[222,2,13,15,{"$f":"'Road only'!E223","v":8},7,8]
[223,7,8,15,{"$f":"'Road only'!E224","v":9},6,3,6]
[224,6,9,15,{"$f":"'Road only'!E225","v":9},6,9]
[225,6,9,15,{"$f":"'Road only'!E226","v":9},6,3,6]
[226,6,9,15,{"$f":"'Road only'!E227","v":7},8,7]
[227,8,7,15,{"$f":"'Road only'!E228","v":11},4,5,6]
[228,4,11,15,{"$f":"'Road only'!E229","v":11},4,11]
[229,{"$f":"F229","v":4},11,15,{"$f":"'Road only'!E230","v":13},2,7,6]
[230,2,13,15,{"$f":"'Road only'!E231","v":6},9,6]
[231,9,6,15,{"$f":"'Road only'!E232","v":13},2,7,6]
[232,2,13,15,{"$f":"'Road only'!E233","v":12},3,12]
[233,3,12,15,{"$f":"'Road only'!E234","v":10},5,4,6]
[234,5,10,15,{"$f":"'Road only'!E235","v":9},6,9]
[235,6,9,15,{"$f":"'Road only'!E236","v":10},5,4,6]
[236,5,10,15,{"$f":"'Road only'!E237","v":5},10,5]
[237,10,5,15,{"$f":"'Road only'!E238","v":10},5,4,6]
[238,5,10,15,{"$f":"'Road only'!E239","v":10},5,10]
[239,5,10,15,{"$f":"'Road only'!E240","v":6},9,0,6]
[240,9,6,15,{"$f":"'Road only'!E241","v":5},10,5]
[241,10,5,15,{"$f":"'Road only'!E242","v":8},7,2,6]
[242,7,8,15,{"$f":"'Road only'!E243","v":11},4,11]
[243,4,11,15,{"$f":"'Road only'!E244","v":11},4,5,6]
[244,4,11,15,{"$f":"'Road only'!E245","v":13},2,13]
[245,2,13,15,{"$f":"'Road only'!E246","v":13},2,7,6]
[246,2,13,15,{"$f":"'Road only'!E247","v":8},7,8]
[247,7,8,15,{"$f":"'Road only'!E248","v":12},3,6,6]
[248,3,12,15,{"$f":"'Road only'!E249","v":10},5,10]
[249,5,10,15,{"$f":"'Road only'!E250","v":8},7,2,6]
[250,7,8,15,{"$f":"'Road only'!E251","v":6},9,6]
[251,9,6,15,{"$f":"'Road only'!E252","v":11},4,5,6]
[252,4,11,15,{"$f":"'Road only'!E253","v":12},3,12]
[253,3,12,15,{"$f":"'Road only'!E254","v":9},6,3,6]
[254,6,9,15,{"$f":"'Road only'!E255","v":13},2,13]
[255,2,13,15,{"$f":"'Road only'!E256","v":9},6,3,6]
[256,6,9,15,{"$f":"'Road only'!E257","v":14},1,14]
[257,1,14,15,{"$f":"'Road only'!E258","v":8},7,2,6]
[258,7,8,{"$f":"B259+C259","v":15},{"$f":"'Road only'!E259","v":3},{"$f":"D259-E259","v":12},{"$f":"D259-F259-H259","v":3}]
[259,12,{"$f":"H259+G259","v":3},15,{"$f":"'Road only'!E260","v":14},1,8,6]
[260,1,14,15,{"$f":"'Road only'!E261","v":14},1,14]
[261,1,14,15,{"$f":"'Road only'!E262","v":8},7,2,6]
[262,7,8,15,{"$f":"'Road only'!E263","v":11},4,11]
[263,4,11,15,{"$f":"'Road only'!E264","v":7},8,1,6]
[264,8,7,15,{"$f":"'Road only'!E265","v":13},2,13]
[265,2,13,15,{"$f":"'Road only'!E266","v":12},3,6,6]
[266,3,12,15,{"$f":"'Road only'!E267","v":10},5,10]
[267,5,10,15,{"$f":"'Road only'!E268","v":8},7,2,6]
[268,7,8,15,{"$f":"'Road only'!E269","v":6},9,6]
[269,9,6,15,{"$f":"'Road only'!E270","v":13},2,7,6]
[270,2,13,15,{"$f":"'Road only'!E271","v":11},4,11]
[271,4,11,15,{"$f":"'Road only'!E272","v":9},6,3,6]
[272,6,9,15,{"$f":"'Road only'!E273","v":12},3,12]
[273,3,12,15,{"$f":"'Road only'!E274","v":11},4,5,6]
[274,4,11,15,{"$f":"'Road only'!E275","v":10},5,10]
[275,5,10,15,{"$f":"'Road only'!E276","v":7},8,1,6]
[276,8,7,15,{"$f":"'Road only'!E277","v":9},6,9]
[277,6,9,15,{"$f":"'Road only'!E278","v":12},3,6,6]
[278,3,12,15,{"$f":"'Road only'!E279","v":11},4,11]
[279,4,11,15,{"$f":"'Road only'!E280","v":11},4,5,6]
[280,4,11,15,{"$f":"'Road only'!E281","v":15},0,15]
[281,0,15,15,{"$f":"'Road only'!E282","v":8},7,2,6]
[282,7,8,15,{"$f":"'Road only'!E283","v":9},6,9]
[283,6,9,15,{"$f":"'Road only'!E284","v":8},7,2,6]
[284,7,8,15,{"$f":"'Road only'!E285","v":6},9,6]
[285,9,6,15,{"$f":"'Road only'!E286","v":8},7,2,6]
[286,7,8,15,{"$f":"'Road only'!E287","v":10},5,10]
[287,5,10,15,{"$f":"'Road only'!E288","v":13},2,7,6]
[288,2,13,15,{"$f":"'Road only'!E289","v":5},10,5]
[289,10,5,15,{"$f":"'Road only'!E290","v":4},11,-2,6]
[290,11,4,15,{"$f":"'Road only'!E291","v":11},4,11]
[291,4,11,15,{"$f":"'Road only'!E292","v":13},2,7,6]
[292,2,13,15,{"$f":"'Road only'!E293","v":15},0,15]
[293,{"$f":"F293","v":0},15,15,{"$f":"'Road only'!E294","v":15},0,9,6]
[294,0,15,15,{"$f":"'Road only'!E295","v":14},1,14]
[295,1,14,15,{"$f":"'Road only'!E296","v":10},5,4,6]
[296,5,10,15,{"$f":"'Road only'!E297","v":14},1,14]
[297,1,14,15,{"$f":"'Road only'!E298","v":10},5,4,6]
[298,5,10,15,{"$f":"'Road only'!E299","v":11},4,11]
[299,4,11,15,{"$f":"'Road only'!E300","v":6},9,0,6]
[300,9,6,15,{"$f":"'Road only'!E301","v":10},5,10]
[301,5,10,15,{"$f":"'Road only'!E302","v":12},3,6,6]
[302,3,12,15,{"$f":"'Road only'!E303","v":14},1,14]
[303,1,14,15,{"$f":"'Road only'!E304","v":10},5,4,6]
[304,5,10,15,{"$f":"'Road only'!E305","v":10},5,10]
[305,5,10,15,{"$f":"'Road only'!E306","v":12},3,6,6]
[306,3,12,15,{"$f":"'Road only'!E307","v":12},3,12]
[307,3,12,15,{"$f":"'Road only'!E308","v":13},2,7,6]
[308,2,13,15,{"$f":"'Road only'!E309","v":13},2,13]
[309,2,13,15,{"$f":"'Road only'!E310","v":10},5,4,6]
[310,5,10,15,{"$f":"'Road only'!E311","v":13},2,13]
[311,2,13,15,{"$f":"'Road only'!E312","v":10},5,4,6]
[312,5,10,15,{"$f":"'Road only'!E313","v":11},4,11]
[313,4,11,15,{"$f":"'Road only'!E314","v":14},1,8,6]
[314,1,14,15,{"$f":"'Road only'!E315","v":12},3,12]
[315,3,12,15,{"$f":"'Road only'!E316","v":14},1,8,6]
[316,1,14,15,{"$f":"'Road only'!E317","v":8},7,8]
[317,7,8,15,{"$f":"'Road only'!E318","v":10},5,4,6]
[318,5,10,15,{"$f":"'Road only'!E319","v":8},7,8]
[319,7,8,15,{"$f":"'Road only'!E320","v":12},3,6,6]
[320,3,12,15,{"$f":"'Road only'!E321","v":12},3,12]
[321,3,12,15,{"$f":"'Road only'!E322","v":12},3,6,6]
[322,3,12,{"$f":"B323+C323","v":15},{"$f":"'Road only'!E323","v":14},{"$f":"D323-E323","v":1},{"$f":"D323-F323-H323","v":14}]
[323,1,{"$f":"H323+G323","v":14},15,{"$f":"'Road only'!E324","v":5},10,-1,6]
[324,10,5,15,{"$f":"'Road only'!E325","v":9},6,9]
[325,6,9,15,{"$f":"'Road only'!E326","v":10},5,4,6]
[326,5,10,15,{"$f":"'Road only'!E327","v":9},6,9]
[327,6,9,15,{"$f":"'Road only'!E328","v":12},3,6,6]
[328,3,12,15,{"$f":"'Road only'!E329","v":8},7,8]
[329,7,8,15,{"$f":"'Road only'!E330","v":9},6,3,6]
[330,6,9,15,{"$f":"'Road only'!E331","v":9},6,9]
[331,6,9,15,{"$f":"'Road only'!E332","v":14},1,8,6]
[332,1,14,15,{"$f":"'Road only'!E333","v":9},6,9]
[333,6,9,15,{"$f":"'Road only'!E334","v":11},4,5,6]
[334,4,11,15,{"$f":"'Road only'!E335","v":15},0,15]
[335,0,15,15,{"$f":"'Road only'!E336","v":13},2,7,6]
[336,2,13,15,{"$f":"'Road only'!E337","v":13},2,13]
[337,2,13,15,{"$f":"'Road only'!E338","v":6},9,0,6]
[338,9,6,15,{"$f":"'Road only'!E339","v":17},-2,17]
[339,-2,17,15,{"$f":"'Road only'!E340","v":7},8,1,6]
[340,8,7,15,{"$f":"'Road only'!E341","v":15},0,15]
[341,0,15,15,{"$f":"'Road only'!E342","v":12},3,6,6]
[342,3,12,15,{"$f":"'Road only'!E343","v":13},2,13]
[343,2,13,15,{"$f":"'Road only'!E344","v":9},6,3,6]
[344,6,9,15,{"$f":"'Road only'!E345","v":8},7,8]
[345,7,8,15,{"$f":"'Road only'!E346","v":9},6,3,6]
[346,6,9,15,{"$f":"'Road only'!E347","v":10},5,10]
[347,5,10,15,{"$f":"'Road only'!E348","v":9},6,3,6]
[348,6,9,15,{"$f":"'Road only'!E349","v":7},8,7]
[349,8,7,15,{"$f":"'Road only'!E350","v":7},8,1,6]
[350,8,7,15,{"$f":"'Road only'!E351","v":9},6,9]
[351,6,9,15,{"$f":"'Road only'!E352","v":10},5,4,6]
[352,5,10,15,{"$f":"'Road only'!E353","v":11},4,11]
[353,4,11,15,{"$f":"'Road only'!E354","v":5},10,-1,6]
[354,10,5,15,{"$f":"'Road only'!E355","v":9},6,9]
[355,6,9,15,{"$f":"'Road only'!E356","v":7},8,1,6]
[356,8,7,15,{"$f":"'Road only'!E357","v":9},6,9]
[357,{"$f":"F357","v":6},9,15,{"$f":"'Road only'!E358","v":11},4,5,6]
[358,4,11,15,{"$f":"'Road only'!E359","v":10},5,10]
[359,5,10,15,{"$f":"'Road only'!E360","v":10},5,4,6]
[360,5,10,15,{"$f":"'Road only'!E361","v":6},9,6]
[361,9,6,15,{"$f":"'Road only'!E362","v":14},1,8,6]
[362,1,14,15,{"$f":"'Road only'!E363","v":13},2,13]
[363,2,13,15,{"$f":"'Road only'!E364","v":11},4,5,6]
[364,4,11,15,{"$f":"'Road only'!E365","v":13},2,13]
[365,2,13,15,{"$f":"'Road only'!E366","v":13},2,7,6]
[366,2,13,15,{"$f":"'Road only'!E367","v":15},0,15]
[367,0,15,15,{"$f":"'Road only'!E368","v":10},5,4,6]
[368,5,10,15,{"$f":"'Road only'!E369","v":13},2,13]
[369,2,13,15,{"$f":"'Road only'!E370","v":12},3,6,6]
[370,3,12,15,{"$f":"'Road only'!E371","v":10},5,10]
[371,5,10,15,{"$f":"'Road only'!E372","v":13},2,7,6]
[372,2,13,15,{"$f":"'Road only'!E373","v":9},6,9]
[373,6,9,15,{"$f":"'Road only'!E374","v":8},7,2,6]
[374,7,8,15,{"$f":"'Road only'!E375","v":11},4,11]
[375,4,11,15,{"$f":"'Road only'!E376","v":11},4,5,6]
[376,4,11,15,{"$f":"'Road only'!E377","v":5},10,5]
[377,10,5,15,{"$f":"'Road only'!E378","v":8},7,2,6]
[378,7,8,15,{"$f":"'Road only'!E379","v":9},6,9]
[379,6,9,15,{"$f":"'Road only'!E380","v":10},5,4,6]
[380,5,10,15,{"$f":"'Road only'!E381","v":8},7,8]
[381,7,8,15,{"$f":"'Road only'!E382","v":12},3,6,6]
[382,3,12,15,{"$f":"'Road only'!E383","v":8},7,8]
[383,7,8,15,{"$f":"'Road only'!E384","v":10},5,4,6]
[384,5,10,15,{"$f":"'Road only'!E385","v":7},8,7]
[385,8,7,15,{"$f":"'Road only'!E386","v":12},3,6,6]
[386,3,12,{"$f":"B387+C387","v":15},{"$f":"'Road only'!E387","v":10},{"$f":"D387-E387","v":5},{"$f":"D387-F387-H387","v":10}]
[387,5,{"$f":"H387+G387","v":10},15,{"$f":"'Road only'!E388","v":11},4,5,6]
[388,4,11,15,{"$f":"'Road only'!E389","v":13},2,13]
[389,2,13,15,{"$f":"'Road only'!E390","v":12},3,6,6]
[390,3,12,15,{"$f":"'Road only'!E391","v":12},3,12]
[391,3,12,15,{"$f":"'Road only'!E392","v":14},1,8,6]
[392,1,14,15,{"$f":"'Road only'!E393","v":11},4,11]
[393,4,11,15,{"$f":"'Road only'!E394","v":4},11,-2,6]
[394,11,4,15,{"$f":"'Road only'!E395","v":10},5,10]
[395,5,10,15,{"$f":"'Road only'!E396","v":11},4,5,6]
[396,4,11,15,{"$f":"'Road only'!E397","v":10},5,10]
[397,5,10,15,{"$f":"'Road only'!E398","v":7},8,1,6]
[398,8,7,15,{"$f":"'Road only'!E399","v":15},0,15]
[399,0,15,15,{"$f":"'Road only'!E400","v":7},8,1,6]
[400,8,7,15,{"$f":"'Road only'!E401","v":8},7,8]
[401,7,8,15,{"$f":"'Road only'!E402","v":14},1,8,6]
[402,1,14,15,{"$f":"'Road only'!E403","v":13},2,13]
[403,2,13,15,{"$f":"'Road only'!E404","v":7},8,1,6]
[404,8,7,15,{"$f":"'Road only'!E405","v":10},5,10]
[405,5,10,15,{"$f":"'Road only'!E406","v":13},2,7,6]
[406,2,13,15,{"$f":"'Road only'!E407","v":9},6,9]
[407,6,9,15,{"$f":"'Road only'!E408","v":11},4,5,6]
[408,4,11,15,{"$f":"'Road only'!E409","v":14},1,14]
[409,1,14,15,{"$f":"'Road only'!E410","v":8},7,2,6]
[410,7,8,15,{"$f":"'Road only'!E411","v":15},0,15]
[411,0,15,15,{"$f":"'Road only'!E412","v":15},0,9,6]
[412,0,15,15,{"$f":"'Road only'!E413","v":11},4,11]
[413,4,11,15,{"$f":"'Road only'!E414","v":9},6,3,6]
[414,6,9,15,{"$f":"'Road only'!E415","v":13},2,13]
[415,2,13,15,{"$f":"'Road only'!E416","v":9},6,3,6]
[416,6,9,15,{"$f":"'Road only'!E417","v":10},5,10]
[417,5,10,15,{"$f":"'Road only'!E418","v":13},2,7,6]
[418,2,13,15,{"$f":"'Road only'!E419","v":9},6,9]
[419,6,9,15,{"$f":"'Road only'!E420","v":12},3,6,6]
[420,3,12,15,{"$f":"'Road only'!E421","v":6},9,6]
[421,{"$f":"F421","v":9},6,15,{"$f":"'Road only'!E422","v":11},4,5,6]
[422,4,11,15,{"$f":"'Road only'!E423","v":4},11,4]
[423,11,4,15,{"$f":"'Road only'!E424","v":12},3,6,6]
[424,3,12,15,{"$f":"'Road only'!E425","v":10},5,10]
[425,5,10,15,{"$f":"'Road only'!E426","v":9},6,3,6]
[426,6,9,15,{"$f":"'Road only'!E427","v":10},5,10]
[427,5,10,15,{"$f":"'Road only'!E428","v":12},3,6,6]
[428,3,12,15,{"$f":"'Road only'!E429","v":8},7,8]
[429,7,8,15,{"$f":"'Road only'!E430","v":10},5,4,6]
[430,5,10,15,{"$f":"'Road only'!E431","v":9},6,9]
[431,6,9,15,{"$f":"'Road only'!E432","v":8},7,2,6]
[432,7,8,15,{"$f":"'Road only'!E433","v":14},1,14]
[433,1,14,15,{"$f":"'Road only'!E434","v":16},-1,10,6]
[434,-1,16,15,{"$f":"'Road only'!E435","v":11},4,11]
[435,4,11,15,{"$f":"'Road only'!E436","v":13},2,7,6]
[436,2,13,15,{"$f":"'Road only'!E437","v":17},-2,17]
[437,-2,17,15,{"$f":"'Road only'!E438","v":8},7,2,6]
[438,7,8,15,{"$f":"'Road only'!E439","v":15},0,15]
[439,0,15,15,{"$f":"'Road only'!E440","v":4},11,-2,6]
[440,11,4,15,{"$f":"'Road only'!E441","v":4},11,4]
[441,11,4,15,{"$f":"'Road only'!E442","v":9},6,3,6]
[442,6,9,15,{"$f":"'Road only'!E443","v":13},2,13]
[443,2,13,15,{"$f":"'Road only'!E444","v":10},5,4,6]
[444,5,10,15,{"$f":"'Road only'!E445","v":13},2,13]
[445,2,13,15,{"$f":"'Road only'!E446","v":12},3,6,6]
[446,3,12,15,{"$f":"'Road only'!E447","v":9},6,9]
[447,6,9,15,{"$f":"'Road only'!E448","v":14},1,8,6]
[448,1,14,15,{"$f":"'Road only'!E449","v":13},2,13]
[449,2,13,15,{"$f":"'Road only'!E450","v":5},10,-1,6]
[450,10,5,{"$f":"B451+C451","v":15},{"$f":"'Road only'!E451","v":8},{"$f":"D451-E451","v":7},{"$f":"D451-F451-H451","v":8}]
[451,7,{"$f":"H451+G451","v":8},15,{"$f":"'Road only'!E452","v":12},3,6,6]
[452,3,12,15,{"$f":"'Road only'!E453","v":10},5,10]
[453,5,10,15,{"$f":"'Road only'!E454","v":10},5,4,6]
[454,5,10,15,{"$f":"'Road only'!E455","v":10},5,10]
[455,5,10,15,{"$f":"'Road only'!E456","v":13},2,7,6]
[456,2,13,15,{"$f":"'Road only'!E457","v":15},0,15]
[457,0,15,15,{"$f":"'Road only'!E458","v":11},4,5,6]
[458,4,11,15,{"$f":"'Road only'!E459","v":7},8,7]
[459,8,7,15,{"$f":"'Road only'!E460","v":9},6,3,6]
[460,6,9,15,{"$f":"'Road only'!E461","v":11},4,11]
[461,4,11,15,{"$f":"'Road only'!E462","v":13},2,7,6]
[462,2,13,15,{"$f":"'Road only'!E463","v":14},1,14]
[463,1,14,15,{"$f":"'Road only'!E464","v":9},6,3,6]
[464,6,9,15,{"$f":"'Road only'!E465","v":10},5,10]
[465,5,10,15,{"$f":"'Road only'!E466","v":13},2,7,6]
[466,2,13,15,{"$f":"'Road only'!E467","v":12},3,12]
[467,3,12,15,{"$f":"'Road only'!E468","v":9},6,3,6]
[468,6,9,15,{"$f":"'Road only'!E469","v":16},-1,16]
[469,-1,16,15,{"$f":"'Road only'!E470","v":13},2,7,6]
[470,2,13,15,{"$f":"'Road only'!E471","v":14},1,14]
[471,1,14,15,{"$f":"'Road only'!E472","v":14},1,8,6]
[472,1,14,15,{"$f":"'Road only'!E473","v":5},10,5]
[473,10,5,15,{"$f":"'Road only'!E474","v":9},6,3,6]
[474,6,9,15,{"$f":"'Road only'!E475","v":9},6,9]
[475,6,9,15,{"$f":"'Road only'!E476","v":10},5,4,6]
[476,5,10,15,{"$f":"'Road only'!E477","v":13},2,13]
[477,2,13,15,{"$f":"'Road only'!E478","v":12},3,6,6]
[478,3,12,15,{"$f":"'Road only'!E479","v":7},8,7]
[479,8,7,15,{"$f":"'Road only'!E480","v":14},1,8,6]
[480,1,14,15,{"$f":"'Road only'!E481","v":10},5,10]
[481,5,10,15,{"$f":"'Road only'!E482","v":15},0,9,6]
[482,0,15,15,{"$f":"'Road only'!E483","v":13},2,13]
[483,2,13,15,{"$f":"'Road only'!E484","v":12},3,6,6]
[484,3,12,15,{"$f":"'Road only'!E485","v":7},8,7]
[485,{"$f":"F485","v":8},7,15,{"$f":"'Road only'!E486","v":11},4,5,6]
[486,4,11,15,{"$f":"'Road only'!E487","v":14},1,14]
[487,1,14,15,{"$f":"'Road only'!E488","v":9},6,3,6]
[488,6,9,15,{"$f":"'Road only'!E489","v":9},6,9]
[489,6,9,15,{"$f":"'Road only'!E490","v":6},9,0,6]
[490,9,6,15,{"$f":"'Road only'!E491","v":12},3,12]
[491,3,12,15,{"$f":"'Road only'!E492","v":14},1,8,6]
[492,1,14,15,{"$f":"'Road only'!E493","v":14},1,14]
[493,1,14,15,{"$f":"'Road only'!E494","v":12},3,6,6]
[494,3,12,15,{"$f":"'Road only'!E495","v":11},4,11]
[495,4,11,15,{"$f":"'Road only'!E496","v":10},5,4,6]
[496,5,10,15,{"$f":"'Road only'!E497","v":13},2,13]
[497,2,13,15,{"$f":"'Road only'!E498","v":13},2,7,6]
[498,2,13,15,{"$f":"'Road only'!E499","v":8},7,8]
[499,7,8,15,{"$f":"'Road only'!E500","v":12},3,6,6]
[500,3,12,15,{"$f":"'Road only'!E501","v":14},1,14]
[501,1,14,15,{"$f":"'Road only'!E502","v":6},9,0,6]
[502,9,6,15,{"$f":"'Road only'!E503","v":10},5,10]
[503,5,10,15,{"$f":"'Road only'!E504","v":7},8,1,6]
[504,8,7,15,{"$f":"'Road only'!E505","v":10},5,10]
[505,5,10,15,{"$f":"'Road only'!E506","v":15},0,9,6]
[506,0,15,15,{"$f":"'Road only'!E507","v":13},2,13]
[507,2,13,15,{"$f":"'Road only'!E508","v":13},2,7,6]
[508,2,13,15,{"$f":"'Road only'!E509","v":10},5,10]
[509,5,10,15,{"$f":"'Road only'!E510","v":12},3,6,6]
[510,3,12,15,{"$f":"'Road only'!E511","v":7},8,7]
[511,8,7,15,{"$f":"'Road only'!E512","v":14},1,8,6]
[512,1,14,15,{"$f":"'Road only'!E513","v":11},4,11]
[513,4,11,15,{"$f":"'Road only'!E514","v":11},4,5,6]
[514,4,11,{"$f":"B515+C515","v":15},{"$f":"'Road only'!E515","v":9},{"$f":"D515-E515","v":6},{"$f":"D515-F515-H515","v":9}]
[515,6,{"$f":"H515+G515","v":9},15,{"$f":"'Road only'!E516","v":16},-1,10,6]
[516,-1,16,15,{"$f":"'Road only'!E517","v":10},5,10]
[517,5,10,15,{"$f":"'Road only'!E518","v":14},1,8,6]
[518,1,14,15,{"$f":"'Road only'!E519","v":11},4,11]
[519,4,11,15,{"$f":"'Road only'!E520","v":11},4,5,6]
[520,4,11,15,{"$f":"'Road only'!E521","v":9},6,9]
[521,6,9,15,{"$f":"'Road only'!E522","v":5},10,-1,6]
[522,10,5,15,{"$f":"'Road only'!E523","v":4},11,4]
[523,11,4,15,{"$f":"'Road only'!E524","v":9},6,3,6]
[524,6,9,15,{"$f":"'Road only'!E525","v":4},11,4]
[525,11,4,15,{"$f":"'Road only'!E526","v":10},5,4,6]
[526,5,10,15,{"$f":"'Road only'!E527","v":5},10,5]
[527,10,5,15,{"$f":"'Road only'!E528","v":7},8,1,6]
[528,8,7,15,{"$f":"'Road only'!E529","v":9},6,9]
[529,6,9,15,{"$f":"'Road only'!E530","v":15},0,9,6]
[530,0,15,15,{"$f":"'Road only'!E531","v":4},11,4]
[531,11,4,15,{"$f":"'Road only'!E532","v":9},6,3,6]
[532,6,9,15,{"$f":"'Road only'!E533","v":11},4,11]
[533,4,11,15,{"$f":"'Road only'!E534","v":12},3,6,6]
[534,3,12,15,{"$f":"'Road only'!E535","v":4},11,4]
[535,11,4,15,{"$f":"'Road only'!E536","v":12},3,6,6]
[536,3,12,15,{"$f":"'Road only'!E537","v":12},3,12]
[537,3,12,15,{"$f":"'Road only'!E538","v":14},1,8,6]
[538,1,14,15,{"$f":"'Road only'!E539","v":12},3,12]
[539,3,12,15,{"$f":"'Road only'!E540","v":15},0,9,6]
[540,0,15,15,{"$f":"'Road only'!E541","v":10},5,10]
[541,5,10,15,{"$f":"'Road only'!E542","v":14},1,8,6]
[542,1,14,15,{"$f":"'Road only'!E543","v":5},10,5]
[543,10,5,15,{"$f":"'Road only'!E544","v":9},6,3,6]
[544,6,9,15,{"$f":"'Road only'!E545","v":8},7,8]
[545,7,8,15,{"$f":"'Road only'!E546","v":10},5,4,6]
[546,5,10,15,{"$f":"'Road only'!E547","v":7},8,7]
[547,8,7,15,{"$f":"'Road only'!E548","v":10},5,4,6]
[548,5,10,15,{"$f":"'Road only'!E549","v":9},6,9]
[549,{"$f":"F549","v":6},9,15,{"$f":"'Road only'!E550","v":12},3,6,6]
[550,3,12,15,{"$f":"'Road only'!E551","v":9},6,9]
[551,6,9,15,{"$f":"'Road only'!E552","v":17},-2,11,6]
[552,-2,17,15,{"$f":"'Road only'!E553","v":5},10,5]
[553,10,5,15,{"$f":"'Road only'!E554","v":6},9,0,6]
[554,9,6,15,{"$f":"'Road only'!E555","v":12},3,12]
[555,3,12,15,{"$f":"'Road only'!E556","v":12},3,6,6]
[556,3,12,15,{"$f":"'Road only'!E557","v":8},7,8]
[557,7,8,15,{"$f":"'Road only'!E558","v":6},9,0,6]
[558,9,6,15,{"$f":"'Road only'!E559","v":12},3,12]
[559,3,12,15,{"$f":"'Road only'!E560","v":12},3,6,6]
[560,3,12,15,{"$f":"'Road only'!E561","v":14},1,14]
[561,1,14,15,{"$f":"'Road only'!E562","v":9},6,3,6]
[562,6,9,15,{"$f":"'Road only'!E563","v":8},7,8]
[563,7,8,15,{"$f":"'Road only'!E564","v":11},4,5,6]
[564,4,11,15,{"$f":"'Road only'!E565","v":13},2,13]
[565,2,13,15,{"$f":"'Road only'!E566","v":6},9,0,6]
[566,9,6,15,{"$f":"'Road only'!E567","v":6},9,6]
[567,9,6,15,{"$f":"'Road only'!E568","v":11},4,5,6]
[568,4,11,15,{"$f":"'Road only'!E569","v":9},6,9]
[569,6,9,15,{"$f":"'Road only'!E570","v":17},-2,11,6]
[570,-2,17,15,{"$f":"'Road only'!E571","v":12},3,12]
[571,3,12,15,{"$f":"'Road only'!E572","v":14},1,8,6]
[572,1,14,15,{"$f":"'Road only'!E573","v":9},6,9]
[573,6,9,15,{"$f":"'Road only'!E574","v":7},8,1,6]
[574,8,7,15,{"$f":"'Road only'!E575","v":6},9,6]
[575,9,6,15,{"$f":"'Road only'!E576","v":12},3,6,6]
[576,3,12,15,{"$f":"'Road only'!E577","v":10},5,10]
[577,5,10,15,{"$f":"'Road only'!E578","v":10},5,4,6]
[578,5,10,{"$f":"B579+C579","v":15},{"$f":"'Road only'!E579","v":11},{"$f":"D579-E579","v":4},{"$f":"D579-F579-H579","v":11}]
[579,4,{"$f":"H579+G579","v":11},15,{"$f":"'Road only'!E580","v":10},5,4,6]
[580,5,10,15,{"$f":"'Road only'!E581","v":12},3,12]
[581,3,12,15,{"$f":"'Road only'!E582","v":8},7,2,6]
[582,7,8,15,{"$f":"'Road only'!E583","v":18},-3,18]
[583,-3,18,15,{"$f":"'Road only'!E584","v":5},10,-1,6]
[584,10,5,15,{"$f":"'Road only'!E585","v":13},2,13]
[585,2,13,15,{"$f":"'Road only'!E586","v":11},4,5,6]
[586,4,11,15,{"$f":"'Road only'!E587","v":10},5,10]
[587,5,10,15,{"$f":"'Road only'!E588","v":16},-1,10,6]
[588,-1,16,15,{"$f":"'Road only'!E589","v":12},3,12]
[589,3,12,15,{"$f":"'Road only'!E590","v":14},1,8,6]
[590,1,14,15,{"$f":"'Road only'!E591","v":16},-1,16]
[591,-1,16,15,{"$f":"'Road only'!E592","v":7},8,1,6]
[592,8,7,15,{"$f":"'Road only'!E593","v":8},7,8]
[593,7,8,15,{"$f":"'Road only'!E594","v":9},6,3,6]
[594,6,9,15,{"$f":"'Road only'!E595","v":14},1,14]
[595,1,14,15,{"$f":"'Road only'!E596","v":14},1,8,6]
[596,1,14,15,{"$f":"'Road only'!E597","v":7},8,7]
[597,8,7,15,{"$f":"'Road only'!E598","v":13},2,7,6]
[598,2,13,15,{"$f":"'Road only'!E599","v":10},5,10]
[599,5,10,15,{"$f":"'Road only'!E600","v":9},6,3,6]
[600,6,9,15,{"$f":"'Road only'!E601","v":13},2,13]
[601,2,13,15,{"$f":"'Road only'!E602","v":10},5,4,6]
[602,5,10,15,{"$f":"'Road only'!E603","v":10},5,10]
[603,5,10,15,{"$f":"'Road only'!E604","v":8},7,2,6]
[604,7,8,15,{"$f":"'Road only'!E605","v":13},2,13]
[605,2,13,15,{"$f":"'Road only'!E606","v":11},4,5,6]
[606,4,11,15,{"$f":"'Road only'!E607","v":11},4,11]
[607,4,11,15,{"$f":"'Road only'!E608","v":8},7,2,6]
[608,7,8,15,{"$f":"'Road only'!E609","v":13},2,13]
[609,2,13,15,{"$f":"'Road only'!E610","v":7},8,1,6]
[610,8,7,15,{"$f":"'Road only'!E611","v":11},4,11]
[611,4,11,15,{"$f":"'Road only'!E612","v":12},3,6,6]
[612,3,12,15,{"$f":"'Road only'!E613","v":12},3,12]
[613,{"$f":"F613","v":3},12,15,{"$f":"'Road only'!E614","v":14},1,8,6]
[614,1,14,15,{"$f":"'Road only'!E615","v":11},4,11]
[615,4,11,15,{"$f":"'Road only'!E616","v":10},5,4,6]
[616,5,10,15,{"$f":"'Road only'!E617","v":15},0,15]
[617,0,15,15,{"$f":"'Road only'!E618","v":12},3,6,6]
[618,3,12,15,{"$f":"'Road only'!E619","v":6},9,6]
[619,9,6,15,{"$f":"'Road only'!E620","v":15},0,9,6]
[620,0,15,15,{"$f":"'Road only'!E621","v":10},5,10]
[621,5,10,15,{"$f":"'Road only'!E622","v":10},5,4,6]
[622,5,10,15,{"$f":"'Road only'!E623","v":12},3,12]
[623,3,12,15,{"$f":"'Road only'!E624","v":6},9,0,6]
[624,9,6,15,{"$f":"'Road only'!E625","v":13},2,13]
[625,2,13,15,{"$f":"'Road only'!E626","v":13},2,7,6]
[626,2,13,15,{"$f":"'Road only'!E627","v":8},7,8]
[627,7,8,15,{"$f":"'Road only'!E628","v":12},3,6,6]
[628,3,12,15,{"$f":"'Road only'!E629","v":16},-1,16]
[629,-1,16,15,{"$f":"'Road only'!E630","v":8},7,2,6]
[630,7,8,15,{"$f":"'Road only'!E631","v":14},1,14]
[631,1,14,15,{"$f":"'Road only'!E632","v":9},6,3,6]
[632,6,9,15,{"$f":"'Road only'!E633","v":10},5,10]
[633,5,10,15,{"$f":"'Road only'!E634","v":10},5,4,6]
[634,5,10,15,{"$f":"'Road only'!E635","v":13},2,13]
[635,2,13,15,{"$f":"'Road only'!E636","v":9},6,3,6]
[636,6,9,15,{"$f":"'Road only'!E637","v":9},6,9]
[637,6,9,15,{"$f":"'Road only'!E638","v":12},3,6,6]
[638,3,12,15,{"$f":"'Road only'!E639","v":11},4,11]
[639,4,11,15,{"$f":"'Road only'!E640","v":16},-1,10,6]
[640,-1,16,15,{"$f":"'Road only'!E641","v":7},8,7]
[641,8,7,15,{"$f":"'Road only'!E642","v":12},3,6,6]
[642,3,12,{"$f":"B643+C643","v":15},{"$f":"'Road only'!E643","v":9},{"$f":"D643-E643","v":6},{"$f":"D643-F643-H643","v":9}]
[643,6,{"$f":"H643+G643","v":9},15,{"$f":"'Road only'!E644","v":10},5,4,6]
[644,5,10,15,{"$f":"'Road only'!E645","v":10},5,10]
[645,5,10,15,{"$f":"'Road only'!E646","v":11},4,5,6]
[646,4,11,15,{"$f":"'Road only'!E647","v":12},3,12]
[647,3,12,15,{"$f":"'Road only'!E648","v":12},3,6,6]
[648,3,12,15,{"$f":"'Road only'!E649","v":9},6,9]
[649,6,9,15,{"$f":"'Road only'!E650","v":6},9,0,6]
[650,9,6,15,{"$f":"'Road only'!E651","v":13},2,13]
[651,2,13,15,{"$f":"'Road only'!E652","v":9},6,3,6]
[652,6,9,15,{"$f":"'Road only'!E653","v":12},3,12]
[653,3,12,15,{"$f":"'Road only'!E654","v":8},7,2,6]
[654,7,8,15,{"$f":"'Road only'!E655","v":11},4,11]
[655,4,11,15,{"$f":"'Road only'!E656","v":14},1,8,6]
[656,1,14,15,{"$f":"'Road only'!E657","v":13},2,13]
[657,2,13,15,{"$f":"'Road only'!E658","v":11},4,5,6]
[658,4,11,15,{"$f":"'Road only'!E659","v":5},10,5]
[659,10,5,15,{"$f":"'Road only'!E660","v":10},5,4,6]
[660,5,10,15,{"$f":"'Road only'!E661","v":6},9,6]
[661,9,6,15,{"$f":"'Road only'!E662","v":13},2,7,6]
[662,2,13,15,{"$f":"'Road only'!E663","v":13},2,13]
[663,2,13,15,{"$f":"'Road only'!E664","v":13},2,7,6]
[664,2,13,15,{"$f":"'Road only'!E665","v":14},1,14]
[665,1,14,15,{"$f":"'Road only'!E666","v":7},8,1,6]
[666,8,7,15,{"$f":"'Road only'!E667","v":15},0,15]
[667,0,15,15,{"$f":"'Road only'!E668","v":10},5,4,6]
[668,5,10,15,{"$f":"'Road only'!E669","v":13},2,13]
[669,2,13,15,{"$f":"'Road only'!E670","v":10},5,4,6]
[670,5,10,15,{"$f":"'Road only'!E671","v":15},0,15]
[671,0,15,15,{"$f":"'Road only'!E672","v":14},1,8,6]
[672,1,14,15,{"$f":"'Road only'!E673","v":13},2,13]
[673,2,13,15,{"$f":"'Road only'!E674","v":13},2,7,6]
[674,2,13,15,{"$f":"'Road only'!E675","v":7},8,7]
[675,8,7,15,{"$f":"'Road only'!E676","v":9},6,3,6]
[676,6,9,15,{"$f":"'Road only'!E677","v":7},8,7]
[677,{"$f":"F677","v":8},7,15,{"$f":"'Road only'!E678","v":13},2,7,6]
[678,2,13,15,{"$f":"'Road only'!E679","v":11},4,11]
[679,4,11,15,{"$f":"'Road only'!E680","v":11},4,5,6]
[680,4,11,15,{"$f":"'Road only'!E681","v":15},0,15]
[681,0,15,15,{"$f":"'Road only'!E682","v":8},7,2,6]
[682,7,8,15,{"$f":"'Road only'!E683","v":13},2,13]
[683,2,13,15,{"$f":"'Road only'!E684","v":3},12,-3,6]
[684,12,3,15,{"$f":"'Road only'!E685","v":6},9,6]
[685,9,6,15,{"$f":"'Road only'!E686","v":14},1,8,6]
[686,1,14,15,{"$f":"'Road only'!E687","v":12},3,12]
[687,3,12,15,{"$f":"'Road only'!E688","v":8},7,2,6]
[688,7,8,15,{"$f":"'Road only'!E689","v":8},7,8]
[689,7,8,15,{"$f":"'Road only'!E690","v":9},6,3,6]
[690,6,9,15,{"$f":"'Road only'!E691","v":6},9,6]
[691,9,6,15,{"$f":"'Road only'!E692","v":11},4,5,6]
[692,4,11,15,{"$f":"'Road only'!E693","v":15},0,15]
[693,0,15,15,{"$f":"'Road only'!E694","v":8},7,2,6]
[694,7,8,15,{"$f":"'Road only'!E695","v":13},2,13]
[695,2,13,15,{"$f":"'Road only'!E696","v":10},5,4,6]
[696,5,10,15,{"$f":"'Road only'!E697","v":7},8,7]
[697,8,7,15,{"$f":"'Road only'!E698","v":12},3,6,6]
[698,3,12,15,{"$f":"'Road only'!E699","v":13},2,13]
[699,2,13,15,{"$f":"'Road only'!E700","v":13},2,7,6]
[700,2,13,15,{"$f":"'Road only'!E701","v":13},2,13]
[701,2,13,15,{"$f":"'Road only'!E702","v":9},6,3,6]
[702,6,9,15,{"$f":"'Road only'!E703","v":8},7,8]
[703,7,8,15,{"$f":"'Road only'!E704","v":13},2,7,6]
[704,2,13,15,{"$f":"'Road only'!E705","v":7},8,7]
[705,8,7,15,{"$f":"'Road only'!E706","v":10},5,4,6]
[706,5,10,{"$f":"B707+C707","v":15},{"$f":"'Road only'!E707","v":5},{"$f":"D707-E707","v":10},{"$f":"D707-F707-H707","v":5}]
[707,10,{"$f":"H707+G707","v":5},15,{"$f":"'Road only'!E708","v":10},5,4,6]
[708,5,10,15,{"$f":"'Road only'!E709","v":13},2,13]
[709,2,13,15,{"$f":"'Road only'!E710","v":14},1,8,6]
[710,1,14,15,{"$f":"'Road only'!E711","v":9},6,9]
[711,6,9,15,{"$f":"'Road only'!E712","v":12},3,6,6]
[712,3,12,15,{"$f":"'Road only'!E713","v":11},4,11]
[713,4,11,15,{"$f":"'Road only'!E714","v":13},2,7,6]
[714,2,13,15,{"$f":"'Road only'!E715","v":6},9,6]
[715,9,6,15,{"$f":"'Road only'!E716","v":11},4,5,6]
[716,4,11,15,{"$f":"'Road only'!E717","v":9},6,9]
[717,6,9,15,{"$f":"'Road only'!E718","v":11},4,5,6]
[718,4,11,15,{"$f":"'Road only'!E719","v":8},7,8]
[719,7,8,15,{"$f":"'Road only'!E720","v":9},6,3,6]
[720,6,9,15,{"$f":"'Road only'!E721","v":11},4,11]
[721,4,11,15,{"$f":"'Road only'!E722","v":12},3,6,6]
[722,3,12,15,{"$f":"'Road only'!E723","v":18},-3,18]
[723,-3,18,15,{"$f":"'Road only'!E724","v":5},10,-1,6]
[724,10,5,15,{"$f":"'Road only'!E725","v":9},6,9]
[725,6,9,15,{"$f":"'Road only'!E726","v":7},8,1,6]
[726,8,7,15,{"$f":"'Road only'!E727","v":14},1,14]
[727,1,14,15,{"$f":"'Road only'!E728","v":10},5,4,6]
[728,5,10,15,{"$f":"'Road only'!E729","v":13},2,13]
[729,2,13,15,{"$f":"'Road only'!E730","v":16},-1,10,6]
[730,-1,16,15,{"$f":"'Road only'!E731","v":9},6,9]
[731,6,9,15,{"$f":"'Road only'!E732","v":13},2,7,6]
[732,2,13,15,{"$f":"'Road only'!E733","v":7},8,7]
[733,8,7,15,{"$f":"'Road only'!E734","v":10},5,4,6]
[734,5,10,15,{"$f":"'Road only'!E735","v":16},-1,16]
[735,-1,16,15,{"$f":"'Road only'!E736","v":8},7,2,6]
[736,7,8,15,{"$f":"'Road only'!E737","v":11},4,11]
[737,4,11,15,{"$f":"'Road only'!E738","v":17},-2,11,6]
[738,-2,17,15,{"$f":"'Road only'!E739","v":12},3,12]
[739,3,12,15,{"$f":"'Road only'!E740","v":13},2,7,6]
[740,2,13,15,{"$f":"'Road only'!E741","v":13},2,13]
[741,{"$f":"F741","v":2},13,15,{"$f":"'Road only'!E742","v":11},4,5,6]
[742,4,11,15,{"$f":"'Road only'!E743","v":4},11,4]
[743,11,4,15,{"$f":"'Road only'!E744","v":13},2,7,6]
[744,2,13,15,{"$f":"'Road only'!E745","v":12},3,12]
[745,3,12,15,{"$f":"'Road only'!E746","v":13},2,7,6]
[746,2,13,15,{"$f":"'Road only'!E747","v":9},6,9]
[747,6,9,15,{"$f":"'Road only'!E748","v":10},5,4,6]
[748,5,10,15,{"$f":"'Road only'!E749","v":11},4,11]
[749,4,11,15,{"$f":"'Road only'!E750","v":14},1,8,6]
[750,1,14,15,{"$f":"'Road only'!E751","v":7},8,7]
[751,8,7,15,{"$f":"'Road only'!E752","v":8},7,2,6]
[752,7,8,15,{"$f":"'Road only'!E753","v":13},2,13]
[753,2,13,15,{"$f":"'Road only'!E754","v":11},4,5,6]
[754,4,11,15,{"$f":"'Road only'!E755","v":8},7,8]
[755,7,8,15,{"$f":"'Road only'!E756","v":8},7,2,6]
[756,7,8,15,{"$f":"'Road only'!E757","v":12},3,12]
[757,3,12,15,{"$f":"'Road only'!E758","v":11},4,5,6]
[758,4,11,15,{"$f":"'Road only'!E759","v":11},4,11]
[759,4,11,15,{"$f":"'Road only'!E760","v":8},7,2,6]
[760,7,8,15,{"$f":"'Road only'!E761","v":4},11,4]
[761,11,4,15,{"$f":"'Road only'!E762","v":16},-1,10,6]
[762,-1,16,15,{"$f":"'Road only'!E763","v":8},7,8]
[763,7,8,15,{"$f":"'Road only'!E764","v":11},4,5,6]
[764,4,11,15,{"$f":"'Road only'!E765","v":13},2,13]
[765,2,13,15,{"$f":"'Road only'!E766","v":11},4,5,6]
[766,4,11,15,{"$f":"'Road only'!E767","v":15},0,15]
[767,0,15,15,{"$f":"'Road only'!E768","v":15},0,9,6]
[768,0,15,15,{"$f":"'Road only'!E769","v":10},5,10]
[769,5,10,15,{"$f":"'Road only'!E770","v":12},3,6,6]
[770,3,12,{"$f":"B771+C771","v":15},{"$f":"'Road only'!E771","v":11},{"$f":"D771-E771","v":4},{"$f":"D771-F771-H771","v":11}]
[771,4,{"$f":"H771+G771","v":11},15,{"$f":"'Road only'!E772","v":13},2,7,6]
[772,2,13,15,{"$f":"'Road only'!E773","v":10},5,10]
[773,5,10,15,{"$f":"'Road only'!E774","v":7},8,1,6]
[774,8,7,15,{"$f":"'Road only'!E775","v":14},1,14]
[775,1,14,15,{"$f":"'Road only'!E776","v":8},7,2,6]
[776,7,8,15,{"$f":"'Road only'!E777","v":11},4,11]
[777,4,11,15,{"$f":"'Road only'!E778","v":18},-3,12,6]
[778,-3,18,15,{"$f":"'Road only'!E779","v":9},6,9]
[779,6,9,15,{"$f":"'Road only'!E780","v":7},8,1,6]
[780,8,7,15,{"$f":"'Road only'!E781","v":9},6,9]
[781,6,9,15,{"$f":"'Road only'!E782","v":10},5,4,6]
[782,5,10,15,{"$f":"'Road only'!E783","v":10},5,10]
[783,5,10,15,{"$f":"'Road only'!E784","v":8},7,2,6]
[784,7,8,15,{"$f":"'Road only'!E785","v":9},6,9]
[785,6,9,15,{"$f":"'Road only'!E786","v":9},6,3,6]
[786,6,9,15,{"$f":"'Road only'!E787","v":14},1,14]
[787,1,14,15,{"$f":"'Road only'!E788","v":9},6,3,6]
[788,6,9,15,{"$f":"'Road only'!E789","v":5},10,5]
[789,10,5,15,{"$f":"'Road only'!E790","v":7},8,1,6]
[790,8,7,15,{"$f":"'Road only'!E791","v":16},-1,16]
[791,-1,16,15,{"$f":"'Road only'!E792","v":10},5,4,6]
[792,5,10,15,{"$f":"'Road only'!E793","v":12},3,12]
[793,3,12,15,{"$f":"'Road only'!E794","v":12},3,6,6]
[794,3,12,15,{"$f":"'Road only'!E795","v":13},2,13]
[795,2,13,15,{"$f":"'Road only'!E796","v":15},0,9,6]
[796,0,15,15,{"$f":"'Road only'!E797","v":13},2,13]
[797,2,13,15,{"$f":"'Road only'!E798","v":10},5,4,6]
[798,5,10,15,{"$f":"'Road only'!E799","v":12},3,12]
[799,3,12,15,{"$f":"'Road only'!E800","v":12},3,6,6]
[800,3,12,15,{"$f":"'Road only'!E801","v":14},1,14]
[801,1,14,15,{"$f":"'Road only'!E802","v":15},0,9,6]
[802,0,15,15,{"$f":"'Road only'!E803","v":9},6,9]
[803,6,9,15,{"$f":"'Road only'!E804","v":9},6,3,6]
[804,6,9,15,{"$f":"'Road only'!E805","v":11},4,11]
[805,{"$f":"F805","v":4},11,15,{"$f":"'Road only'!E806","v":12},3,6,6]
[806,3,12,15,{"$f":"'Road only'!E807","v":11},4,11]
[807,4,11,15,{"$f":"'Road only'!E808","v":7},8,1,6]
[808,8,7,15,{"$f":"'Road only'!E809","v":11},4,11]
[809,4,11,15,{"$f":"'Road only'!E810","v":15},0,9,6]
[810,0,15,15,{"$f":"'Road only'!E811","v":8},7,8]
[811,7,8,15,{"$f":"'Road only'!E812","v":14},1,8,6]
[812,1,14,15,{"$f":"'Road only'!E813","v":9},6,9]
[813,6,9,15,{"$f":"'Road only'!E814","v":12},3,6,6]
[814,3,12,15,{"$f":"'Road only'!E815","v":9},6,9]
[815,6,9,15,{"$f":"'Road only'!E816","v":11},4,5,6]
[816,4,11,15,{"$f":"'Road only'!E817","v":7},8,7]
[817,8,7,15,{"$f":"'Road only'!E818","v":9},6,3,6]
[818,6,9,15,{"$f":"'Road only'!E819","v":10},5,10]
[819,5,10,15,{"$f":"'Road only'!E820","v":10},5,4,6]
[820,5,10,15,{"$f":"'Road only'!E821","v":12},3,12]
[821,3,12,15,{"$f":"'Road only'!E822","v":10},5,4,6]
[822,5,10,15,{"$f":"'Road only'!E823","v":8},7,8]
[823,7,8,15,{"$f":"'Road only'!E824","v":9},6,3,6]
[824,6,9,15,{"$f":"'Road only'!E825","v":13},2,13]
[825,2,13,15,{"$f":"'Road only'!E826","v":13},2,7,6]
[826,2,13,15,{"$f":"'Road only'!E827","v":9},6,9]
[827,6,9,15,{"$f":"'Road only'!E828","v":11},4,5,6]
[828,4,11,15,{"$f":"'Road only'!E829","v":7},8,7]
[829,8,7,15,{"$f":"'Road only'!E830","v":16},-1,10,6]
[830,-1,16,15,{"$f":"'Road only'!E831","v":10},5,10]
[831,5,10,15,{"$f":"'Road only'!E832","v":12},3,6,6]
[832,3,12,15,{"$f":"'Road only'!E833","v":14},1,14]
[833,1,14,15,{"$f":"'Road only'!E834","v":12},3,6,6]
[834,3,12,{"$f":"B835+C835","v":15},{"$f":"'Road only'!E835","v":11},{"$f":"D835-E835","v":4},{"$f":"D835-F835-H835","v":11}]
[835,4,{"$f":"H835+G835","v":11},15,{"$f":"'Road only'!E836","v":11},4,5,6]
[836,4,11,15,{"$f":"'Road only'!E837","v":15},0,15]
[837,0,15,15,{"$f":"'Road only'!E838","v":13},2,7,6]
[838,2,13,15,{"$f":"'Road only'!E839","v":8},7,8]
[839,7,8,15,{"$f":"'Road only'!E840","v":10},5,4,6]
[840,5,10,15,{"$f":"'Road only'!E841","v":6},9,6]
[841,9,6,15,{"$f":"'Road only'!E842","v":10},5,4,6]
[842,5,10,15,{"$f":"'Road only'!E843","v":12},3,12]
[843,3,12,15,{"$f":"'Road only'!E844","v":15},0,9,6]
[844,0,15,15,{"$f":"'Road only'!E845","v":12},3,12]
[845,3,12,15,{"$f":"'Road only'!E846","v":4},11,-2,6]
[846,11,4,15,{"$f":"'Road only'!E847","v":9},6,9]
[847,6,9,15,{"$f":"'Road only'!E848","v":11},4,5,6]
[848,4,11,15,{"$f":"'Road only'!E849","v":10},5,10]
[849,5,10,15,{"$f":"'Road only'!E850","v":15},0,9,6]
[850,0,15,15,{"$f":"'Road only'!E851","v":11},4,11]
[851,4,11,15,{"$f":"'Road only'!E852","v":8},7,2,6]
[852,7,8,15,{"$f":"'Road only'!E853","v":9},6,9]
[853,6,9,15,{"$f":"'Road only'!E854","v":17},-2,11,6]
[854,-2,17,15,{"$f":"'Road only'!E855","v":7},8,7]
[855,8,7,15,{"$f":"'Road only'!E856","v":11},4,5,6]
[856,4,11,15,{"$f":"'Road only'!E857","v":10},5,10]
[857,5,10,15,{"$f":"'Road only'!E858","v":13},2,7,6]
[858,2,13,15,{"$f":"'Road only'!E859","v":10},5,10]
[859,5,10,15,{"$f":"'Road only'!E860","v":16},-1,10,6]
[860,-1,16,15,{"$f":"'Road only'!E861","v":14},1,14]
[861,1,14,15,{"$f":"'Road only'!E862","v":10},5,4,6]
[862,5,10,15,{"$f":"'Road only'!E863","v":14},1,14]
[863,1,14,15,{"$f":"'Road only'!E864","v":12},3,6,6]
[864,3,12,15,{"$f":"'Road only'!E865","v":14},1,14]
[865,1,14,15,{"$f":"'Road only'!E866","v":7},8,1,6]
[866,8,7,15,{"$f":"'Road only'!E867","v":13},2,13]
[867,2,13,15,{"$f":"'Road only'!E868","v":14},1,8,6]
[868,1,14,15,{"$f":"'Road only'!E869","v":10},5,10]
[869,{"$f":"F869","v":5},10,15,{"$f":"'Road only'!E870","v":9},6,3,6]
[870,6,9,15,{"$f":"'Road only'!E871","v":4},11,4]
[871,11,4,15,{"$f":"'Road only'!E872","v":10},5,4,6]
[872,5,10,15,{"$f":"'Road only'!E873","v":13},2,13]
[873,2,13,15,{"$f":"'Road only'!E874","v":14},1,8,6]
[874,1,14,15,{"$f":"'Road only'!E875","v":9},6,9]
[875,6,9,15,{"$f":"'Road only'!E876","v":10},5,4,6]
[876,5,10,15,{"$f":"'Road only'!E877","v":15},0,15]
[877,0,15,15,{"$f":"'Road only'!E878","v":12},3,6,6]
[878,3,12,15,{"$f":"'Road only'!E879","v":8},7,8]
[879,7,8,15,{"$f":"'Road only'!E880","v":7},8,1,6]
[880,8,7,15,{"$f":"'Road only'!E881","v":11},4,11]
[881,4,11,15,{"$f":"'Road only'!E882","v":11},4,5,6]
[882,4,11,15,{"$f":"'Road only'!E883","v":8},7,8]
[883,7,8,15,{"$f":"'Road only'!E884","v":17},-2,11,6]
[884,-2,17,15,{"$f":"'Road only'!E885","v":15},0,15]
[885,0,15,15,{"$f":"'Road only'!E886","v":14},1,8,6]
[886,1,14,15,{"$f":"'Road only'!E887","v":10},5,10]
[887,5,10,15,{"$f":"'Road only'!E888","v":12},3,6,6]
[888,3,12,15,{"$f":"'Road only'!E889","v":12},3,12]
[889,3,12,15,{"$f":"'Road only'!E890","v":13},2,7,6]
[890,2,13,15,{"$f":"'Road only'!E891","v":11},4,11]
[891,4,11,15,{"$f":"'Road only'!E892","v":6},9,0,6]
[892,9,6,15,{"$f":"'Road only'!E893","v":9},6,9]
[893,6,9,15,{"$f":"'Road only'!E894","v":10},5,4,6]
[894,5,10,15,{"$f":"'Road only'!E895","v":7},8,7]
[895,8,7,15,{"$f":"'Road only'!E896","v":3},12,-3,6]
[896,12,3,15,{"$f":"'Road only'!E897","v":12},3,12]
[897,3,12,15,{"$f":"'Road only'!E898","v":12},3,6,6]
[898,3,12,{"$f":"B899+C899","v":15},{"$f":"'Road only'!E899","v":9},{"$f":"D899-E899","v":6},{"$f":"D899-F899-H899","v":9}]
[899,6,{"$f":"H899+G899","v":9},15,{"$f":"'Road only'!E900","v":11},4,5,6]
[900,4,11,15,{"$f":"'Road only'!E901","v":9},6,9]
[901,6,9,15,{"$f":"'Road only'!E902","v":10},5,4,6]
[902,5,10,15,{"$f":"'Road only'!E903","v":8},7,8]
[903,7,8,15,{"$f":"'Road only'!E904","v":6},9,0,6]
[904,9,6,15,{"$f":"'Road only'!E905","v":7},8,7]
[905,8,7,15,{"$f":"'Road only'!E906","v":14},1,8,6]
[906,1,14,15,{"$f":"'Road only'!E907","v":10},5,10]
[907,5,10,15,{"$f":"'Road only'!E908","v":8},7,2,6]
[908,7,8,15,{"$f":"'Road only'!E909","v":11},4,11]
[909,4,11,15,{"$f":"'Road only'!E910","v":17},-2,11,6]
[910,-2,17,15,{"$f":"'Road only'!E911","v":14},1,14]
[911,1,14,15,{"$f":"'Road only'!E912","v":10},5,4,6]
[912,5,10,15,{"$f":"'Road only'!E913","v":4},11,4]
[913,11,4,15,{"$f":"'Road only'!E914","v":8},7,2,6]
[914,7,8,15,{"$f":"'Road only'!E915","v":15},0,15]
[915,0,15,15,{"$f":"'Road only'!E916","v":11},4,5,6]
[916,4,11,15,{"$f":"'Road only'!E917","v":11},4,11]
[917,4,11,15,{"$f":"'Road only'!E918","v":4},11,-2,6]
[918,11,4,15,{"$f":"'Road only'!E919","v":9},6,9]
[919,6,9,15,{"$f":"'Road only'!E920","v":7},8,1,6]
[920,8,7,15,{"$f":"'Road only'!E921","v":10},5,10]
[921,5,10,15,{"$f":"'Road only'!E922","v":15},0,9,6]
[922,0,15,15,{"$f":"'Road only'!E923","v":10},5,10]
[923,5,10,15,{"$f":"'Road only'!E924","v":8},7,2,6]
[924,7,8,15,{"$f":"'Road only'!E925","v":7},8,7]
[925,8,7,15,{"$f":"'Road only'!E926","v":8},7,2,6]
[926,7,8,15,{"$f":"'Road only'!E927","v":13},2,13]
[927,2,13,15,{"$f":"'Road only'!E928","v":9},6,3,6]
[928,6,9,15,{"$f":"'Road only'!E929","v":8},7,8]
[929,7,8,15,{"$f":"'Road only'!E930","v":11},4,5,6]
[930,4,11,15,{"$f":"'Road only'!E931","v":15},0,15]
[931,0,15,15,{"$f":"'Road only'!E932","v":9},6,3,6]
[932,6,9,15,{"$f":"'Road only'!E933","v":13},2,13]
[933,{"$f":"F933","v":2},13,15,{"$f":"'Road only'!E934","v":8},7,2,6]
[934,7,8,15,{"$f":"'Road only'!E935","v":11},4,11]
[935,4,11,15,{"$f":"'Road only'!E936","v":16},-1,10,6]
[936,-1,16,15,{"$f":"'Road only'!E937","v":10},5,10]
[937,5,10,15,{"$f":"'Road only'!E938","v":8},7,2,6]
[938,7,8,15,{"$f":"'Road only'!E939","v":6},9,6]
[939,9,6,15,{"$f":"'Road only'!E940","v":10},5,4,6]
[940,5,10,15,{"$f":"'Road only'!E941","v":7},8,7]
[941,8,7,15,{"$f":"'Road only'!E942","v":12},3,6,6]
[942,3,12,15,{"$f":"'Road only'!E943","v":9},6,9]
[943,6,9,15,{"$f":"'Road only'!E944","v":7},8,1,6]
[944,8,7,15,{"$f":"'Road only'!E945","v":8},7,8]
[945,7,8,15,{"$f":"'Road only'!E946","v":9},6,3,6]
[946,6,9,15,{"$f":"'Road only'!E947","v":14},1,14]
[947,1,14,15,{"$f":"'Road only'!E948","v":10},5,4,6]
[948,5,10,15,{"$f":"'Road only'!E949","v":13},2,13]
[949,2,13,15,{"$f":"'Road only'!E950","v":10},5,4,6]
[950,5,10,15,{"$f":"'Road only'!E951","v":7},8,7]
[951,8,7,15,{"$f":"'Road only'!E952","v":7},8,1,6]
[952,8,7,15,{"$f":"'Road only'!E953","v":10},5,10]
[953,5,10,15,{"$f":"'Road only'!E954","v":6},9,0,6]
[954,9,6,15,{"$f":"'Road only'!E955","v":7},8,7]
[955,8,7,15,{"$f":"'Road only'!E956","v":8},7,2,6]
[956,7,8,15,{"$f":"'Road only'!E957","v":8},7,8]
[957,7,8,15,{"$f":"'Road only'!E958","v":10},5,4,6]
[958,5,10,15,{"$f":"'Road only'!E959","v":13},2,13]
[959,2,13,15,{"$f":"'Road only'!E960","v":6},9,0,6]
[960,9,6,15,{"$f":"'Road only'!E961","v":14},1,14]
[961,1,14,15,{"$f":"'Road only'!E962","v":7},8,1,6]
[962,8,7,{"$f":"B963+C963","v":15},{"$f":"'Road only'!E963","v":14},{"$f":"D963-E963","v":1},{"$f":"D963-F963-H963","v":14}]
[963,1,{"$f":"H963+G963","v":14},15,{"$f":"'Road only'!E964","v":14},1,8,6]
[964,1,14,15,{"$f":"'Road only'!E965","v":4},11,4]
[965,11,4,15,{"$f":"'Road only'!E966","v":15},0,9,6]
[966,0,15,15,{"$f":"'Road only'!E967","v":7},8,7]
[967,8,7,15,{"$f":"'Road only'!E968","v":9},6,3,6]
[968,6,9,15,{"$f":"'Road only'!E969","v":16},-1,16]
[969,-1,16,15,{"$f":"'Road only'!E970","v":8},7,2,6]
[970,7,8,15,{"$f":"'Road only'!E971","v":14},1,14]
[971,1,14,15,{"$f":"'Road only'!E972","v":11},4,5,6]
[972,4,11,15,{"$f":"'Road only'!E973","v":14},1,14]
[973,1,14,15,{"$f":"'Road only'!E974","v":16},-1,10,6]
[974,-1,16,15,{"$f":"'Road only'!E975","v":9},6,9]
[975,6,9,15,{"$f":"'Road only'!E976","v":17},-2,11,6]
[976,-2,17,15,{"$f":"'Road only'!E977","v":12},3,12]
[977,3,12,15,{"$f":"'Road only'!E978","v":12},3,6,6]
[978,3,12,15,{"$f":"'Road only'!E979","v":15},0,15]
[979,0,15,15,{"$f":"'Road only'!E980","v":9},6,3,6]
[980,6,9,15,{"$f":"'Road only'!E981","v":9},6,9]
[981,6,9,15,{"$f":"'Road only'!E982","v":9},6,3,6]
[982,6,9,15,{"$f":"'Road only'!E983","v":8},7,8]
[983,7,8,15,{"$f":"'Road only'!E984","v":4},11,-2,6]
[984,11,4,15,{"$f":"'Road only'!E985","v":10},5,10]
[985,5,10,15,{"$f":"'Road only'!E986","v":7},8,1,6]
[986,8,7,15,{"$f":"'Road only'!E987","v":13},2,13]
[987,2,13,15,{"$f":"'Road only'!E988","v":14},1,8,6]
[988,1,14,15,{"$f":"'Road only'!E989","v":13},2,13]
[989,2,13,15,{"$f":"'Road only'!E990","v":13},2,7,6]
[990,2,13,15,{"$f":"'Road only'!E991","v":10},5,10]
[991,5,10,15,{"$f":"'Road only'!E992","v":16},-1,10,6]
[992,-1,16,15,{"$f":"'Road only'!E993","v":10},5,10]
[993,5,10,15,{"$f":"'Road only'!E994","v":10},5,4,6]
[994,5,10,15,{"$f":"'Road only'!E995","v":3},12,3]
[995,12,3,15,{"$f":"'Road only'!E996","v":13},2,7,6]
[996,2,13,15,{"$f":"'Road only'!E997","v":11},4,11]
[997,{"$f":"F997","v":4},11,15,{"$f":"'Road only'!E998","v":11},4,5,6]
[998,4,11,15,{"$f":"'Road only'!E999","v":9},6,9]
[999,6,9,15,{"$f":"'Road only'!E1000","v":9},6,3,6]
[1000,6,9,15,{"$f":"'Road only'!E1001","v":10},5,10]
[1001,5,{"$f":"H1001+G1001","v":10},{"$f":"B1002+C1002","v":15},{"$f":"'Road only'!E1002","v":14},{"$f":"D1002-E1002","v":1},{"$f":"D1002-F1002-H1002","v":8},6]
[1002,1,14,15,{"$f":"'Road only'!E1003","v":11},4,11]
[1003,{"$f":"F1003","v":4},11,15,{"$f":"'Road only'!E1004","v":9},6,3,6]
[1004,6,9,15,{"$f":"'Road only'!E1005","v":10},5,10]
[1005,5,10,15,{"$f":"'Road only'!E1006","v":10},5,4,6]
[1006,5,10,15,{"$f":"'Road only'!E1007","v":9},6,9]
[1007,6,9,15,{"$f":"'Road only'!E1008","v":9},6,3,6]
[1008,6,9,15,{"$f":"'Road only'!E1009","v":7},8,7]
[1009,8,7,15,{"$f":"'Road only'!E1010","v":10},5,4,6]
[1010,5,10,15,{"$f":"'Road only'!E1011","v":8},7,8]
[1011,7,8,15,{"$f":"'Road only'!E1012","v":7},8,1,6]
[1012,8,7,15,{"$f":"'Road only'!E1013","v":11},4,11]
[1013,4,11,15,{"$f":"'Road only'!E1014","v":11},4,5,6]
[1014,4,11,15,{"$f":"'Road only'!E1015","v":13},2,13]
[1015,2,13,15,{"$f":"'Road only'!E1016","v":9},6,3,6]
[1016,6,9,15,{"$f":"'Road only'!E1017","v":7},8,7]
[1017,8,7,15,{"$f":"'Road only'!E1018","v":9},6,3,6]
[1018,6,9,15,{"$f":"'Road only'!E1019","v":10},5,10]
[1019,5,10,15,{"$f":"'Road only'!E1020","v":8},7,2,6]
[1020,7,8,15,{"$f":"'Road only'!E1021","v":14},1,14]
[1021,1,14,15,{"$f":"'Road only'!E1022","v":14},1,8,6]
[1022,1,14,15,{"$f":"'Road only'!E1023","v":11},4,11]
[1023,4,11,15,{"$f":"'Road only'!E1024","v":8},7,2,6]
[1024,7,8,15,{"$f":"'Road only'!E1025","v":7},8,7]
[1025,8,7,15,{"$f":"'Road only'!E1026","v":11},4,5,6]
[1026,4,11,15,{"$f":"'Road only'!E1027","v":12},3,12]
[1027,3,12,15,{"$f":"'Road only'!E1028","v":12},3,6,6]
[1028,3,12,15,{"$f":"'Road only'!E1029","v":10},5,10]
[1029,5,10,15,{"$f":"'Road only'!E1030","v":10},5,4,6]
[1030,5,10,15,{"$f":"'Road only'!E1031","v":10},5,10]
[1031,5,10,15,{"$f":"'Road only'!E1032","v":17},-2,11,6]
[1032,-2,17,15,{"$f":"'Road only'!E1033","v":11},4,11]
[1033,4,11,15,{"$f":"'Road only'!E1034","v":3},12,-3,6]
[1034,12,3,15,{"$f":"'Road only'!E1035","v":12},3,12]
[1035,3,12,15,{"$f":"'Road only'!E1036","v":9},6,3,6]
[1036,6,9,15,{"$f":"'Road only'!E1037","v":13},2,13]
[1037,2,13,15,{"$f":"'Road only'!E1038","v":6},9,0,6]
[1038,9,6,15,{"$f":"'Road only'!E1039","v":6},9,6]
[1039,9,6,15,{"$f":"'Road only'!E1040","v":10},5,4,6]
[1040,5,10,15,{"$f":"'Road only'!E1041","v":14},1,14]
[1041,1,14,15,{"$f":"'Road only'!E1042","v":17},-2,11,6]
[1042,-2,17,15,{"$f":"'Road only'!E1043","v":12},3,12]
[1043,3,12,15,{"$f":"'Road only'!E1044","v":11},4,5,6]
[1044,4,11,15,{"$f":"'Road only'!E1045","v":7},8,7]
[1045,8,7,15,{"$f":"'Road only'!E1046","v":10},5,4,6]
[1046,5,10,15,{"$f":"'Road only'!E1047","v":13},2,13]
[1047,2,13,15,{"$f":"'Road only'!E1048","v":14},1,8,6]
[1048,1,14,15,{"$f":"'Road only'!E1049","v":14},1,14]
[1049,1,14,15,{"$f":"'Road only'!E1050","v":10},5,4,6]
[1050,5,10,15,{"$f":"'Road only'!E1051","v":8},7,8]
[1051,7,8,15,{"$f":"'Road only'!E1052","v":12},3,6,6]
[1052,3,12,15,{"$f":"'Road only'!E1053","v":10},5,10]
[1053,5,10,15,{"$f":"'Road only'!E1054","v":8},7,2,6]
[1054,7,8,15,{"$f":"'Road only'!E1055","v":11},4,11]
[1055,4,11,15,{"$f":"'Road only'!E1056","v":8},7,2,6]
[1056,7,8,15,{"$f":"'Road only'!E1057","v":12},3,12]
[1057,3,12,15,{"$f":"'Road only'!E1058","v":8},7,2,6]
[1058,7,8,15,{"$f":"'Road only'!E1059","v":11},4,11]
[1059,4,11,15,{"$f":"'Road only'!E1060","v":11},4,5,6]
[1060,4,11,15,{"$f":"'Road only'!E1061","v":11},4,11]
[1061,4,11,15,{"$f":"'Road only'!E1062","v":15},0,9,6]
[1062,0,15,15,{"$f":"'Road only'!E1063","v":8},7,8]
[1063,7,8,15,{"$f":"'Road only'!E1064","v":12},3,6,6]
[1064,3,12,15,{"$f":"'Road only'!E1065","v":10},5,10]
[1065,5,{"$f":"H1065+G1065","v":10},{"$f":"B1066+C1066","v":15},{"$f":"'Road only'!E1066","v":7},{"$f":"D1066-E1066","v":8},{"$f":"D1066-F1066-H1066","v":1},6]
[1066,8,7,15,{"$f":"'Road only'!E1067","v":9},6,9]
[1067,{"$f":"F1067","v":6},9,15,{"$f":"'Road only'!E1068","v":9},6,3,6]
[1068,6,9,15,{"$f":"'Road only'!E1069","v":10},5,10]
[1069,5,10,15,{"$f":"'Road only'!E1070","v":5},10,-1,6]
[1070,10,5,15,{"$f":"'Road only'!E1071","v":10},5,10]
[1071,5,10,15,{"$f":"'Road only'!E1072","v":10},5,4,6]
[1072,5,10,15,{"$f":"'Road only'!E1073","v":6},9,6]
[1073,9,6,15,{"$f":"'Road only'!E1074","v":12},3,6,6]
[1074,3,12,15,{"$f":"'Road only'!E1075","v":8},7,8]
[1075,7,8,15,{"$f":"'Road only'!E1076","v":6},9,0,6]
[1076,9,6,15,{"$f":"'Road only'!E1077","v":8},7,8]
[1077,7,8,15,{"$f":"'Road only'!E1078","v":6},9,0,6]
[1078,9,6,15,{"$f":"'Road only'!E1079","v":12},3,12]
[1079,3,12,15,{"$f":"'Road only'!E1080","v":9},6,3,6]
[1080,6,9,15,{"$f":"'Road only'!E1081","v":13},2,13]
[1081,2,13,15,{"$f":"'Road only'!E1082","v":6},9,0,6]
[1082,9,6,15,{"$f":"'Road only'!E1083","v":12},3,12]
[1083,3,12,15,{"$f":"'Road only'!E1084","v":8},7,2,6]
[1084,7,8,15,{"$f":"'Road only'!E1085","v":14},1,14]
[1085,1,14,15,{"$f":"'Road only'!E1086","v":13},2,7,6]
[1086,2,13,15,{"$f":"'Road only'!E1087","v":7},8,7]
[1087,8,7,15,{"$f":"'Road only'!E1088","v":13},2,7,6]
[1088,2,13,15,{"$f":"'Road only'!E1089","v":7},8,7]
[1089,8,7,15,{"$f":"'Road only'!E1090","v":13},2,7,6]
[1090,2,13,15,{"$f":"'Road only'!E1091","v":8},7,8]
[1091,7,8,15,{"$f":"'Road only'!E1092","v":6},9,0,6]
[1092,9,6,15,{"$f":"'Road only'!E1093","v":13},2,13]
[1093,2,13,15,{"$f":"'Road only'!E1094","v":13},2,7,6]
[1094,2,13,15,{"$f":"'Road only'!E1095","v":12},3,12]
[1095,3,12,15,{"$f":"'Road only'!E1096","v":8},7,2,6]
[1096,7,8,15,{"$f":"'Road only'!E1097","v":13},2,13]
[1097,2,13,15,{"$f":"'Road only'!E1098","v":7},8,1,6]
[1098,8,7,15,{"$f":"'Road only'!E1099","v":7},8,7]
[1099,8,7,15,{"$f":"'Road only'!E1100","v":16},-1,10,6]
[1100,-1,16,15,{"$f":"'Road only'!E1101","v":11},4,11]
[1101,4,11,15,{"$f":"'Road only'!E1102","v":5},10,-1,6]
[1102,10,5,15,{"$f":"'Road only'!E1103","v":12},3,12]
[1103,3,12,15,{"$f":"'Road only'!E1104","v":12},3,6,6]
[1104,3,12,15,{"$f":"'Road only'!E1105","v":12},3,12]
[1105,3,12,15,{"$f":"'Road only'!E1106","v":12},3,6,6]
[1106,3,12,15,{"$f":"'Road only'!E1107","v":12},3,12]
[1107,3,12,15,{"$f":"'Road only'!E1108","v":8},7,2,6]
[1108,7,8,15,{"$f":"'Road only'!E1109","v":13},2,13]
[1109,2,13,15,{"$f":"'Road only'!E1110","v":14},1,8,6]
[1110,1,14,15,{"$f":"'Road only'!E1111","v":9},6,9]
[1111,6,9,15,{"$f":"'Road only'!E1112","v":10},5,4,6]
[1112,5,10,15,{"$f":"'Road only'!E1113","v":13},2,13]
[1113,2,13,15,{"$f":"'Road only'!E1114","v":12},3,6,6]
[1114,3,12,15,{"$f":"'Road only'!E1115","v":9},6,9]
[1115,6,9,15,{"$f":"'Road only'!E1116","v":16},-1,10,6]
[1116,-1,16,15,{"$f":"'Road only'!E1117","v":11},4,11]
[1117,4,11,15,{"$f":"'Road only'!E1118","v":9},6,3,6]
[1118,6,9,15,{"$f":"'Road only'!E1119","v":11},4,11]
[1119,4,11,15,{"$f":"'Road only'!E1120","v":14},1,8,6]
[1120,1,14,15,{"$f":"'Road only'!E1121","v":13},2,13]
[1121,2,13,15,{"$f":"'Road only'!E1122","v":15},0,9,6]
[1122,0,15,15,{"$f":"'Road only'!E1123","v":8},7,8]
[1123,7,8,15,{"$f":"'Road only'!E1124","v":11},4,5,6]
[1124,4,11,15,{"$f":"'Road only'!E1125","v":8},7,8]
[1125,7,8,15,{"$f":"'Road only'!E1126","v":15},0,9,6]
[1126,0,15,15,{"$f":"'Road only'!E1127","v":15},0,15]
[1127,0,15,15,{"$f":"'Road only'!E1128","v":12},3,6,6]
[1128,3,12,15,{"$f":"'Road only'!E1129","v":8},7,8]
[1129,7,{"$f":"H1129+G1129","v":8},{"$f":"B1130+C1130","v":15},{"$f":"'Road only'!E1130","v":12},{"$f":"D1130-E1130","v":3},{"$f":"D1130-F1130-H1130","v":6},6]
[1130,3,12,15,{"$f":"'Road only'!E1131","v":5},10,5]
[1131,{"$f":"F1131","v":10},5,15,{"$f":"'Road only'!E1132","v":14},1,8,6]
[1132,1,14,15,{"$f":"'Road only'!E1133","v":7},8,7]
[1133,8,7,15,{"$f":"'Road only'!E1134","v":10},5,4,6]
[1134,5,10,15,{"$f":"'Road only'!E1135","v":4},11,4]
[1135,11,4,15,{"$f":"'Road only'!E1136","v":9},6,3,6]
[1136,6,9,15,{"$f":"'Road only'!E1137","v":15},0,15]
[1137,0,15,15,{"$f":"'Road only'!E1138","v":8},7,2,6]
[1138,7,8,15,{"$f":"'Road only'!E1139","v":8},7,8]
[1139,7,8,15,{"$f":"'Road only'!E1140","v":16},-1,10,6]
[1140,-1,16,15,{"$f":"'Road only'!E1141","v":8},7,8]
[1141,7,8,15,{"$f":"'Road only'!E1142","v":10},5,4,6]
[1142,5,10,15,{"$f":"'Road only'!E1143","v":12},3,12]
[1143,3,12,15,{"$f":"'Road only'!E1144","v":10},5,4,6]
[1144,5,10,15,{"$f":"'Road only'!E1145","v":8},7,8]
[1145,7,8,15,{"$f":"'Road only'!E1146","v":15},0,9,6]
[1146,0,15,15,{"$f":"'Road only'!E1147","v":11},4,11]
[1147,4,11,15,{"$f":"'Road only'!E1148","v":14},1,8,6]
[1148,1,14,15,{"$f":"'Road only'!E1149","v":18},-3,18]
[1149,-3,18,15,{"$f":"'Road only'!E1150","v":11},4,5,6]
[1150,4,11,15,{"$f":"'Road only'!E1151","v":10},5,10]
[1151,5,10,15,{"$f":"'Road only'!E1152","v":9},6,3,6]
[1152,6,9,15,{"$f":"'Road only'!E1153","v":11},4,11]
[1153,4,11,15,{"$f":"'Road only'!E1154","v":9},6,3,6]
[1154,6,9,15,{"$f":"'Road only'!E1155","v":9},6,9]
[1155,6,9,15,{"$f":"'Road only'!E1156","v":14},1,8,6]
[1156,1,14,15,{"$f":"'Road only'!E1157","v":8},7,8]
[1157,7,8,15,{"$f":"'Road only'!E1158","v":12},3,6,6]
[1158,3,12,15,{"$f":"'Road only'!E1159","v":10},5,10]
[1159,5,10,15,{"$f":"'Road only'!E1160","v":7},8,1,6]
[1160,8,7,15,{"$f":"'Road only'!E1161","v":11},4,11]
[1161,4,11,15,{"$f":"'Road only'!E1162","v":12},3,6,6]
[1162,3,12,15,{"$f":"'Road only'!E1163","v":9},6,9]
[1163,6,9,15,{"$f":"'Road only'!E1164","v":11},4,5,6]
[1164,4,11,15,{"$f":"'Road only'!E1165","v":9},6,9]
[1165,6,9,15,{"$f":"'Road only'!E1166","v":16},-1,10,6]
[1166,-1,16,15,{"$f":"'Road only'!E1167","v":12},3,12]
[1167,3,12,15,{"$f":"'Road only'!E1168","v":13},2,7,6]
[1168,2,13,15,{"$f":"'Road only'!E1169","v":5},10,5]
[1169,10,5,15,{"$f":"'Road only'!E1170","v":14},1,8,6]
[1170,1,14,15,{"$f":"'Road only'!E1171","v":14},1,14]
[1171,1,14,15,{"$f":"'Road only'!E1172","v":12},3,6,6]
[1172,3,12,15,{"$f":"'Road only'!E1173","v":15},0,15]
[1173,0,15,15,{"$f":"'Road only'!E1174","v":10},5,4,6]
[1174,5,10,15,{"$f":"'Road only'!E1175","v":13},2,13]
[1175,2,13,15,{"$f":"'Road only'!E1176","v":15},0,9,6]
[1176,0,15,15,{"$f":"'Road only'!E1177","v":4},11,4]
[1177,11,4,15,{"$f":"'Road only'!E1178","v":13},2,7,6]
[1178,2,13,15,{"$f":"'Road only'!E1179","v":10},5,10]
[1179,5,10,15,{"$f":"'Road only'!E1180","v":14},1,8,6]
[1180,1,14,15,{"$f":"'Road only'!E1181","v":5},10,5]
[1181,10,5,15,{"$f":"'Road only'!E1182","v":13},2,7,6]
[1182,2,13,15,{"$f":"'Road only'!E1183","v":14},1,14]
[1183,1,14,15,{"$f":"'Road only'!E1184","v":9},6,3,6]
[1184,6,9,15,{"$f":"'Road only'!E1185","v":13},2,13]
[1185,2,13,15,{"$f":"'Road only'!E1186","v":10},5,4,6]
[1186,5,10,15,{"$f":"'Road only'!E1187","v":12},3,12]
[1187,3,12,15,{"$f":"'Road only'!E1188","v":15},0,9,6]
[1188,0,15,15,{"$f":"'Road only'!E1189","v":10},5,10]
[1189,5,10,15,{"$f":"'Road only'!E1190","v":11},4,5,6]
[1190,4,11,15,{"$f":"'Road only'!E1191","v":11},4,11]
[1191,4,11,15,{"$f":"'Road only'!E1192","v":8},7,2,6]
[1192,7,8,15,{"$f":"'Road only'!E1193","v":16},-1,16]
[1193,-1,{"$f":"H1193+G1193","v":16},{"$f":"B1194+C1194","v":15},{"$f":"'Road only'!E1194","v":8},{"$f":"D1194-E1194","v":7},{"$f":"D1194-F1194-H1194","v":2},6]
[1194,7,8,15,{"$f":"'Road only'!E1195","v":5},10,5]
[1195,{"$f":"F1195","v":10},5,15,{"$f":"'Road only'!E1196","v":10},5,4,6]
[1196,5,10,15,{"$f":"'Road only'!E1197","v":13},2,13]
[1197,2,13,15,{"$f":"'Road only'!E1198","v":11},4,5,6]
[1198,4,11,15,{"$f":"'Road only'!E1199","v":16},-1,16]
[1199,-1,16,15,{"$f":"'Road only'!E1200","v":14},1,8,6]
[1200,1,14,15,{"$f":"'Road only'!E1201","v":9},6,9]
[1201,6,9,15,{"$f":"'Road only'!E1202","v":13},2,7,6]
[1202,2,13,15,{"$f":"'Road only'!E1203","v":8},7,8]
[1203,7,8,15,{"$f":"'Road only'!E1204","v":11},4,5,6]
[1204,4,11,15,{"$f":"'Road only'!E1205","v":10},5,10]
[1205,5,10,15,{"$f":"'Road only'!E1206","v":13},2,7,6]
[1206,2,13,15,{"$f":"'Road only'!E1207","v":12},3,12]
[1207,3,12,15,{"$f":"'Road only'!E1208","v":7},8,1,6]
[1208,8,7,15,{"$f":"'Road only'!E1209","v":11},4,11]
[1209,4,11,15,{"$f":"'Road only'!E1210","v":8},7,2,6]
[1210,7,8,15,{"$f":"'Road only'!E1211","v":8},7,8]
[1211,7,8,15,{"$f":"'Road only'!E1212","v":8},7,2,6]
[1212,7,8,15,{"$f":"'Road only'!E1213","v":12},3,12]
[1213,3,12,15,{"$f":"'Road only'!E1214","v":12},3,6,6]
[1214,3,12,15,{"$f":"'Road only'!E1215","v":9},6,9]
[1215,6,9,15,{"$f":"'Road only'!E1216","v":5},10,-1,6]
[1216,10,5,15,{"$f":"'Road only'!E1217","v":12},3,12]
[1217,3,12,15,{"$f":"'Road only'!E1218","v":8},7,2,6]
[1218,7,8,15,{"$f":"'Road only'!E1219","v":12},3,12]
[1219,3,12,15,{"$f":"'Road only'!E1220","v":8},7,2,6]
[1220,7,8,15,{"$f":"'Road only'!E1221","v":10},5,10]
[1221,5,10,15,{"$f":"'Road only'!E1222","v":6},9,0,6]
[1222,9,6,15,{"$f":"'Road only'!E1223","v":11},4,11]
[1223,4,11,15,{"$f":"'Road only'!E1224","v":8},7,2,6]
[1224,7,8,15,{"$f":"'Road only'!E1225","v":10},5,10]
[1225,5,10,15,{"$f":"'Road only'!E1226","v":18},-3,12,6]
[1226,-3,18,15,{"$f":"'Road only'!E1227","v":16},-1,16]
[1227,-1,16,15,{"$f":"'Road only'!E1228","v":13},2,7,6]
[1228,2,13,15,{"$f":"'Road only'!E1229","v":10},5,10]
[1229,5,10,15,{"$f":"'Road only'!E1230","v":12},3,6,6]
[1230,3,12,15,{"$f":"'Road only'!E1231","v":15},0,15]
[1231,0,15,15,{"$f":"'Road only'!E1232","v":11},4,5,6]
[1232,4,11,15,{"$f":"'Road only'!E1233","v":8},7,8]
[1233,7,8,15,{"$f":"'Road only'!E1234","v":13},2,7,6]
[1234,2,13,15,{"$f":"'Road only'!E1235","v":17},-2,17]
[1235,-2,17,15,{"$f":"'Road only'!E1236","v":11},4,5,6]
[1236,4,11,15,{"$f":"'Road only'!E1237","v":12},3,12]
[1237,3,12,15,{"$f":"'Road only'!E1238","v":11},4,5,6]
[1238,4,11,15,{"$f":"'Road only'!E1239","v":9},6,9]
[1239,6,9,15,{"$f":"'Road only'!E1240","v":12},3,6,6]
[1240,3,12,15,{"$f":"'Road only'!E1241","v":9},6,9]
[1241,6,9,15,{"$f":"'Road only'!E1242","v":4},11,-2,6]
[1242,11,4,15,{"$f":"'Road only'!E1243","v":11},4,11]
[1243,4,11,15,{"$f":"'Road only'!E1244","v":14},1,8,6]
[1244,1,14,15,{"$f":"'Road only'!E1245","v":13},2,13]
[1245,2,13,15,{"$f":"'Road only'!E1246","v":9},6,3,6]
[1246,6,9,15,{"$f":"'Road only'!E1247","v":16},-1,16]
[1247,-1,16,15,{"$f":"'Road only'!E1248","v":12},3,6,6]
[1248,3,12,15,{"$f":"'Road only'!E1249","v":11},4,11]
[1249,4,11,15,{"$f":"'Road only'!E1250","v":9},6,3,6]
[1250,6,9,15,{"$f":"'Road only'!E1251","v":9},6,9]
[1251,6,9,15,{"$f":"'Road only'!E1252","v":9},6,3,6]
[1252,6,9,15,{"$f":"'Road only'!E1253","v":10},5,10]
[1253,5,10,15,{"$f":"'Road only'!E1254","v":13},2,7,6]
[1254,2,13,15,{"$f":"'Road only'!E1255","v":9},6,9]
[1255,6,9,15,{"$f":"'Road only'!E1256","v":8},7,2,6]
[1256,7,8,15,{"$f":"'Road only'!E1257","v":6},9,6]
[1257,9,{"$f":"H1257+G1257","v":6},{"$f":"B1258+C1258","v":15},{"$f":"'Road only'!E1258","v":12},{"$f":"D1258-E1258","v":3},{"$f":"D1258-F1258-H1258","v":6},6]
[1258,3,12,15,{"$f":"'Road only'!E1259","v":7},8,7]
[1259,{"$f":"F1259","v":8},7,15,{"$f":"'Road only'!E1260","v":10},5,4,6]
[1260,5,10,15,{"$f":"'Road only'!E1261","v":9},6,9]
[1261,6,9,15,{"$f":"'Road only'!E1262","v":4},11,-2,6]
[1262,11,4,15,{"$f":"'Road only'!E1263","v":4},11,4]
[1263,11,4,15,{"$f":"'Road only'!E1264","v":10},5,4,6]
[1264,5,10,15,{"$f":"'Road only'!E1265","v":13},2,13]
[1265,2,13,15,{"$f":"'Road only'!E1266","v":12},3,6,6]
[1266,3,12,15,{"$f":"'Road only'!E1267","v":7},8,7]
[1267,8,7,15,{"$f":"'Road only'!E1268","v":11},4,5,6]
[1268,4,11,15,{"$f":"'Road only'!E1269","v":12},3,12]
[1269,3,12,15,{"$f":"'Road only'!E1270","v":13},2,7,6]
[1270,2,13,15,{"$f":"'Road only'!E1271","v":9},6,9]
[1271,6,9,15,{"$f":"'Road only'!E1272","v":8},7,2,6]
[1272,7,8,15,{"$f":"'Road only'!E1273","v":12},3,12]
[1273,3,12,15,{"$f":"'Road only'!E1274","v":12},3,6,6]
[1274,3,12,15,{"$f":"'Road only'!E1275","v":12},3,12]
[1275,3,12,15,{"$f":"'Road only'!E1276","v":6},9,0,6]
[1276,9,6,15,{"$f":"'Road only'!E1277","v":14},1,14]
[1277,1,14,15,{"$f":"'Road only'!E1278","v":12},3,6,6]
[1278,3,12,15,{"$f":"'Road only'!E1279","v":10},5,10]
[1279,5,10,15,{"$f":"'Road only'!E1280","v":14},1,8,6]
[1280,1,14,15,{"$f":"'Road only'!E1281","v":13},2,13]
[1281,2,13,15,{"$f":"'Road only'!E1282","v":6},9,0,6]
[1282,9,6,15,{"$f":"'Road only'!E1283","v":12},3,12]
[1283,3,12,15,{"$f":"'Road only'!E1284","v":7},8,1,6]
[1284,8,7,15,{"$f":"'Road only'!E1285","v":6},9,6]
[1285,9,6,15,{"$f":"'Road only'!E1286","v":10},5,4,6]
[1286,5,10,15,{"$f":"'Road only'!E1287","v":13},2,13]
[1287,2,13,15,{"$f":"'Road only'!E1288","v":14},1,8,6]
[1288,1,14,15,{"$f":"'Road only'!E1289","v":15},0,15]
[1289,0,15,15,{"$f":"'Road only'!E1290","v":10},5,4,6]
[1290,5,10,15,{"$f":"'Road only'!E1291","v":11},4,11]
[1291,4,11,15,{"$f":"'Road only'!E1292","v":11},4,5,6]
[1292,4,11,15,{"$f":"'Road only'!E1293","v":15},0,15]
[1293,0,15,15,{"$f":"'Road only'!E1294","v":13},2,7,6]
[1294,2,13,15,{"$f":"'Road only'!E1295","v":13},2,13]
[1295,2,13,15,{"$f":"'Road only'!E1296","v":12},3,6,6]
[1296,3,12,15,{"$f":"'Road only'!E1297","v":8},7,8]
[1297,7,8,15,{"$f":"'Road only'!E1298","v":14},1,8,6]
[1298,1,14,15,{"$f":"'Road only'!E1299","v":8},7,8]
[1299,7,8,15,{"$f":"'Road only'!E1300","v":8},7,2,6]
[1300,7,8,15,{"$f":"'Road only'!E1301","v":13},2,13]
[1301,2,13,15,{"$f":"'Road only'!E1302","v":9},6,3,6]
[1302,6,9,15,{"$f":"'Road only'!E1303","v":10},5,10]
[1303,5,10,15,{"$f":"'Road only'!E1304","v":10},5,4,6]
[1304,5,10,15,{"$f":"'Road only'!E1305","v":13},2,13]
[1305,2,13,15,{"$f":"'Road only'!E1306","v":6},9,0,6]
[1306,9,6,15,{"$f":"'Road only'!E1307","v":14},1,14]
[1307,1,14,15,{"$f":"'Road only'!E1308","v":11},4,5,6]
[1308,4,11,15,{"$f":"'Road only'!E1309","v":10},5,10]
[1309,5,10,15,{"$f":"'Road only'!E1310","v":12},3,6,6]
[1310,3,12,15,{"$f":"'Road only'!E1311","v":9},6,9]
[1311,6,9,15,{"$f":"'Road only'!E1312","v":16},-1,10,6]
[1312,-1,16,15,{"$f":"'Road only'!E1313","v":9},6,9]
[1313,6,9,15,{"$f":"'Road only'!E1314","v":12},3,6,6]
[1314,3,12,15,{"$f":"'Road only'!E1315","v":10},5,10]
[1315,5,10,15,{"$f":"'Road only'!E1316","v":8},7,2,6]
[1316,7,8,15,{"$f":"'Road only'!E1317","v":9},6,9]
[1317,6,9,15,{"$f":"'Road only'!E1318","v":10},5,4,6]
[1318,5,10,15,{"$f":"'Road only'!E1319","v":13},2,13]
[1319,2,13,15,{"$f":"'Road only'!E1320","v":12},3,6,6]
[1320,3,12,15,{"$f":"'Road only'!E1321","v":10},5,10]
[1321,5,{"$f":"H1321+G1321","v":10},{"$f":"B1322+C1322","v":15},{"$f":"'Road only'!E1322","v":13},{"$f":"D1322-E1322","v":2},{"$f":"D1322-F1322-H1322","v":7},6]
[1322,2,13,15,{"$f":"'Road only'!E1323","v":8},7,8]
[1323,{"$f":"F1323","v":7},8,15,{"$f":"'Road only'!E1324","v":11},4,5,6]
[1324,4,11,15,{"$f":"'Road only'!E1325","v":11},4,11]
[1325,4,11,15,{"$f":"'Road only'!E1326","v":13},2,7,6]
[1326,2,13,15,{"$f":"'Road only'!E1327","v":7},8,7]
[1327,8,7,15,{"$f":"'Road only'!E1328","v":8},7,2,6]
[1328,7,8,15,{"$f":"'Road only'!E1329","v":7},8,7]
[1329,8,7,15,{"$f":"'Road only'!E1330","v":13},2,7,6]
[1330,2,13,15,{"$f":"'Road only'!E1331","v":12},3,12]
[1331,3,12,15,{"$f":"'Road only'!E1332","v":13},2,7,6]
[1332,2,13,15,{"$f":"'Road only'!E1333","v":9},6,9]
[1333,6,9,15,{"$f":"'Road only'!E1334","v":11},4,5,6]
[1334,4,11,15,{"$f":"'Road only'!E1335","v":13},2,13]
[1335,2,13,15,{"$f":"'Road only'!E1336","v":7},8,1,6]
[1336,8,7,15,{"$f":"'Road only'!E1337","v":14},1,14]
[1337,1,14,15,{"$f":"'Road only'!E1338","v":6},9,0,6]
[1338,9,6,15,{"$f":"'Road only'!E1339","v":9},6,9]
[1339,6,9,15,{"$f":"'Road only'!E1340","v":13},2,7,6]
[1340,2,13,15,{"$f":"'Road only'!E1341","v":12},3,12]
[1341,3,12,15,{"$f":"'Road only'!E1342","v":8},7,2,6]
[1342,7,8,15,{"$f":"'Road only'!E1343","v":13},2,13]
[1343,2,13,15,{"$f":"'Road only'!E1344","v":12},3,6,6]
[1344,3,12,15,{"$f":"'Road only'!E1345","v":9},6,9]
[1345,6,9,15,{"$f":"'Road only'!E1346","v":12},3,6,6]
[1346,3,12,15,{"$f":"'Road only'!E1347","v":10},5,10]
[1347,5,10,15,{"$f":"'Road only'!E1348","v":10},5,4,6]
[1348,5,10,15,{"$f":"'Road only'!E1349","v":12},3,12]
[1349,3,12,15,{"$f":"'Road only'!E1350","v":7},8,1,6]
[1350,8,7,15,{"$f":"'Road only'!E1351","v":13},2,13]
[1351,2,13,15,{"$f":"'Road only'!E1352","v":14},1,8,6]
[1352,1,14,15,{"$f":"'Road only'!E1353","v":8},7,8]
[1353,7,8,15,{"$f":"'Road only'!E1354","v":9},6,3,6]
[1354,6,9,15,{"$f":"'Road only'!E1355","v":8},7,8]
[1355,7,8,15,{"$f":"'Road only'!E1356","v":9},6,3,6]
[1356,6,9,15,{"$f":"'Road only'!E1357","v":15},0,15]
[1357,0,15,15,{"$f":"'Road only'!E1358","v":12},3,6,6]
[1358,3,12,15,{"$f":"'Road only'!E1359","v":13},2,13]
[1359,2,13,15,{"$f":"'Road only'!E1360","v":9},6,3,6]
[1360,6,9,15,{"$f":"'Road only'!E1361","v":10},5,10]
[1361,5,10,15,{"$f":"'Road only'!E1362","v":11},4,5,6]
[1362,4,11,15,{"$f":"'Road only'!E1363","v":12},3,12]
[1363,3,12,15,{"$f":"'Road only'!E1364","v":11},4,5,6]
[1364,4,11,15,{"$f":"'Road only'!E1365","v":6},9,6]
[1365,9,6,15,{"$f":"'Road only'!E1366","v":10},5,4,6]
[1366,5,10,15,{"$f":"'Road only'!E1367","v":8},7,8]
[1367,7,8,15,{"$f":"'Road only'!E1368","v":10},5,4,6]
[1368,5,10,15,{"$f":"'Road only'!E1369","v":10},5,10]
[1369,5,10,15,{"$f":"'Road only'!E1370","v":9},6,3,6]
[1370,6,9,15,{"$f":"'Road only'!E1371","v":11},4,11]
[1371,4,11,15,{"$f":"'Road only'!E1372","v":11},4,5,6]
[1372,4,11,15,{"$f":"'Road only'!E1373","v":7},8,7]
[1373,8,7,15,{"$f":"'Road only'!E1374","v":11},4,5,6]
[1374,4,11,15,{"$f":"'Road only'!E1375","v":16},-1,16]
[1375,-1,16,15,{"$f":"'Road only'!E1376","v":12},3,6,6]
[1376,3,12,15,{"$f":"'Road only'!E1377","v":4},11,4]
[1377,11,4,15,{"$f":"'Road only'!E1378","v":13},2,7,6]
[1378,2,13,15,{"$f":"'Road only'!E1379","v":5},10,5]
[1379,10,5,15,{"$f":"'Road only'!E1380","v":16},-1,10,6]
[1380,-1,16,15,{"$f":"'Road only'!E1381","v":8},7,8]
[1381,7,8,15,{"$f":"'Road only'!E1382","v":12},3,6,6]
[1382,3,12,15,{"$f":"'Road only'!E1383","v":9},6,9]
[1383,6,9,15,{"$f":"'Road only'!E1384","v":8},7,2,6]
[1384,7,8,15,{"$f":"'Road only'!E1385","v":3},12,3]
[1385,12,{"$f":"H1385+G1385","v":3},{"$f":"B1386+C1386","v":15},{"$f":"'Road only'!E1386","v":12},{"$f":"D1386-E1386","v":3},{"$f":"D1386-F1386-H1386","v":6},6]
[1386,3,12,15,{"$f":"'Road only'!E1387","v":12},3,12]
[1387,{"$f":"F1387","v":3},12,15,{"$f":"'Road only'!E1388","v":9},6,3,6]
[1388,6,9,15,{"$f":"'Road only'!E1389","v":9},6,9]
[1389,6,9,15,{"$f":"'Road only'!E1390","v":11},4,5,6]
[1390,4,11,15,{"$f":"'Road only'!E1391","v":6},9,6]
[1391,9,6,15,{"$f":"'Road only'!E1392","v":9},6,3,6]
[1392,6,9,15,{"$f":"'Road only'!E1393","v":7},8,7]
[1393,8,7,15,{"$f":"'Road only'!E1394","v":12},3,6,6]
[1394,3,12,15,{"$f":"'Road only'!E1395","v":13},2,13]
[1395,2,13,15,{"$f":"'Road only'!E1396","v":11},4,5,6]
[1396,4,11,15,{"$f":"'Road only'!E1397","v":12},3,12]
[1397,3,12,15,{"$f":"'Road only'!E1398","v":10},5,4,6]
[1398,5,10,15,{"$f":"'Road only'!E1399","v":13},2,13]
[1399,2,13,15,{"$f":"'Road only'!E1400","v":9},6,3,6]
[1400,6,9,15,{"$f":"'Road only'!E1401","v":8},7,8]
[1401,7,8,15,{"$f":"'Road only'!E1402","v":13},2,7,6]
[1402,2,13,15,{"$f":"'Road only'!E1403","v":15},0,15]
[1403,0,15,15,{"$f":"'Road only'!E1404","v":13},2,7,6]
[1404,2,13,15,{"$f":"'Road only'!E1405","v":6},9,6]
[1405,9,6,15,{"$f":"'Road only'!E1406","v":11},4,5,6]
[1406,4,11,15,{"$f":"'Road only'!E1407","v":8},7,8]
[1407,7,8,15,{"$f":"'Road only'!E1408","v":8},7,2,6]
[1408,7,8,15,{"$f":"'Road only'!E1409","v":7},8,7]
[1409,8,7,15,{"$f":"'Road only'!E1410","v":9},6,3,6]
[1410,6,9,15,{"$f":"'Road only'!E1411","v":12},3,12]
[1411,3,12,15,{"$f":"'Road only'!E1412","v":8},7,2,6]
[1412,7,8,15,{"$f":"'Road only'!E1413","v":11},4,11]
[1413,4,11,15,{"$f":"'Road only'!E1414","v":14},1,8,6]
[1414,1,14,15,{"$f":"'Road only'!E1415","v":9},6,9]
[1415,6,9,15,{"$f":"'Road only'!E1416","v":12},3,6,6]
[1416,3,12,15,{"$f":"'Road only'!E1417","v":9},6,9]
[1417,6,9,15,{"$f":"'Road only'!E1418","v":3},12,-3,6]
[1418,12,3,15,{"$f":"'Road only'!E1419","v":7},8,7]
[1419,8,7,15,{"$f":"'Road only'!E1420","v":9},6,3,6]
[1420,6,9,15,{"$f":"'Road only'!E1421","v":12},3,12]
[1421,3,12,15,{"$f":"'Road only'!E1422","v":13},2,7,6]
[1422,2,13,15,{"$f":"'Road only'!E1423","v":8},7,8]
[1423,7,8,15,{"$f":"'Road only'!E1424","v":11},4,5,6]
[1424,4,11,15,{"$f":"'Road only'!E1425","v":14},1,14]
[1425,1,14,15,{"$f":"'Road only'!E1426","v":15},0,9,6]
[1426,0,15,15,{"$f":"'Road only'!E1427","v":11},4,11]
[1427,4,11,15,{"$f":"'Road only'!E1428","v":7},8,1,6]
[1428,8,7,15,{"$f":"'Road only'!E1429","v":12},3,12]
[1429,3,12,15,{"$f":"'Road only'!E1430","v":11},4,5,6]
[1430,4,11,15,{"$f":"'Road only'!E1431","v":14},1,14]
[1431,1,14,15,{"$f":"'Road only'!E1432","v":9},6,3,6]
[1432,6,9,15,{"$f":"'Road only'!E1433","v":8},7,8]
[1433,7,8,15,{"$f":"'Road only'!E1434","v":14},1,8,6]
[1434,1,14,15,{"$f":"'Road only'!E1435","v":15},0,15]
[1435,0,15,15,{"$f":"'Road only'!E1436","v":13},2,7,6]
[1436,2,13,15,{"$f":"'Road only'!E1437","v":13},2,13]
[1437,2,13,15,{"$f":"'Road only'!E1438","v":10},5,4,6]
[1438,5,10,15,{"$f":"'Road only'!E1439","v":14},1,14]
[1439,1,14,15,{"$f":"'Road only'!E1440","v":9},6,3,6]
[1440,6,9,15,{"$f":"'Road only'!E1441","v":8},7,8]
[1441,7,8,15,{"$f":"'Road only'!E1442","v":6},9,0,6]
[1442,9,6,15,{"$f":"'Road only'!E1443","v":17},-2,17]
[1443,-2,17,15,{"$f":"'Road only'!E1444","v":7},8,1,6]
[1444,8,7,15,{"$f":"'Road only'!E1445","v":8},7,8]
[1445,7,8,15,{"$f":"'Road only'!E1446","v":17},-2,11,6]
[1446,-2,17,15,{"$f":"'Road only'!E1447","v":10},5,10]
[1447,5,10,15,{"$f":"'Road only'!E1448","v":12},3,6,6]
[1448,3,12,15,{"$f":"'Road only'!E1449","v":14},1,14]
[1449,1,{"$f":"H1449+G1449","v":14},{"$f":"B1450+C1450","v":15},{"$f":"'Road only'!E1450","v":13},{"$f":"D1450-E1450","v":2},{"$f":"D1450-F1450-H1450","v":7},6]
[1450,2,13,15,{"$f":"'Road only'!E1451","v":11},4,11]
[1451,{"$f":"F1451","v":4},11,15,{"$f":"'Road only'!E1452","v":10},5,4,6]
[1452,5,10,15,{"$f":"'Road only'!E1453","v":14},1,14]
[1453,1,14,15,{"$f":"'Road only'!E1454","v":16},-1,10,6]
[1454,-1,16,15,{"$f":"'Road only'!E1455","v":8},7,8]
[1455,7,8,15,{"$f":"'Road only'!E1456","v":10},5,4,6]
[1456,5,10,15,{"$f":"'Road only'!E1457","v":11},4,11]
[1457,4,11,15,{"$f":"'Road only'!E1458","v":12},3,6,6]
[1458,3,12,15,{"$f":"'Road only'!E1459","v":7},8,7]
[1459,8,7,15,{"$f":"'Road only'!E1460","v":14},1,8,6]
[1460,1,14,15,{"$f":"'Road only'!E1461","v":10},5,10]
[1461,5,10,15,{"$f":"'Road only'!E1462","v":8},7,2,6]
[1462,7,8,15,{"$f":"'Road only'!E1463","v":6},9,6]
[1463,9,6,15,{"$f":"'Road only'!E1464","v":6},9,0,6]
[1464,9,6,15,{"$f":"'Road only'!E1465","v":10},5,10]
[1465,5,10,15,{"$f":"'Road only'!E1466","v":8},7,2,6]
[1466,7,8,15,{"$f":"'Road only'!E1467","v":8},7,8]
[1467,7,8,15,{"$f":"'Road only'!E1468","v":10},5,4,6]
[1468,5,10,15,{"$f":"'Road only'!E1469","v":14},1,14]
[1469,1,14,15,{"$f":"'Road only'!E1470","v":10},5,4,6]
[1470,5,10,15,{"$f":"'Road only'!E1471","v":12},3,12]
[1471,3,12,15,{"$f":"'Road only'!E1472","v":12},3,6,6]
[1472,3,12,15,{"$f":"'Road only'!E1473","v":8},7,8]
[1473,7,8,15,{"$f":"'Road only'!E1474","v":10},5,4,6]
[1474,5,10,15,{"$f":"'Road only'!E1475","v":10},5,10]
[1475,5,10,15,{"$f":"'Road only'!E1476","v":7},8,1,6]
[1476,8,7,15,{"$f":"'Road only'!E1477","v":16},-1,16]
[1477,-1,16,15,{"$f":"'Road only'!E1478","v":11},4,5,6]
[1478,4,11,15,{"$f":"'Road only'!E1479","v":11},4,11]
[1479,4,11,15,{"$f":"'Road only'!E1480","v":11},4,5,6]
[1480,4,11,15,{"$f":"'Road only'!E1481","v":10},5,10]
[1481,5,10,15,{"$f":"'Road only'!E1482","v":10},5,4,6]
[1482,5,10,15,{"$f":"'Road only'!E1483","v":4},11,4]
[1483,11,4,15,{"$f":"'Road only'!E1484","v":8},7,2,6]
[1484,7,8,15,{"$f":"'Road only'!E1485","v":10},5,10]
[1485,5,10,15,{"$f":"'Road only'!E1486","v":9},6,3,6]
[1486,6,9,15,{"$f":"'Road only'!E1487","v":8},7,8]
[1487,7,8,15,{"$f":"'Road only'!E1488","v":15},0,9,6]
[1488,0,15,15,{"$f":"'Road only'!E1489","v":12},3,12]
[1489,3,12,15,{"$f":"'Road only'!E1490","v":15},0,9,6]
[1490,0,15,15,{"$f":"'Road only'!E1491","v":8},7,8]
[1491,7,8,15,{"$f":"'Road only'!E1492","v":9},6,3,6]
[1492,6,9,15,{"$f":"'Road only'!E1493","v":10},5,10]
[1493,5,10,15,{"$f":"'Road only'!E1494","v":13},2,7,6]
[1494,2,13,15,{"$f":"'Road only'!E1495","v":9},6,9]
[1495,6,9,15,{"$f":"'Road only'!E1496","v":6},9,0,6]
[1496,9,6,15,{"$f":"'Road only'!E1497","v":8},7,8]
[1497,7,8,15,{"$f":"'Road only'!E1498","v":10},5,4,6]
[1498,5,10,15,{"$f":"'Road only'!E1499","v":8},7,8]
[1499,7,8,15,{"$f":"'Road only'!E1500","v":6},9,0,6]
[1500,9,6,15,{"$f":"'Road only'!E1501","v":11},4,11]
[1501,4,11,15,{"$f":"'Road only'!E1502","v":14},1,8,6]
[1502,1,14,15,{"$f":"'Road only'!E1503","v":13},2,13]
[1503,2,13,15,{"$f":"'Road only'!E1504","v":9},6,3,6]
[1504,6,9,15,{"$f":"'Road only'!E1505","v":8},7,8]
[1505,7,8,15,{"$f":"'Road only'!E1506","v":8},7,2,6]
[1506,7,8,15,{"$f":"'Road only'!E1507","v":14},1,14]
[1507,1,14,15,{"$f":"'Road only'!E1508","v":8},7,2,6]
[1508,7,8,15,{"$f":"'Road only'!E1509","v":6},9,6]
[1509,9,6,15,{"$f":"'Road only'!E1510","v":6},9,0,6]
[1510,9,6,15,{"$f":"'Road only'!E1511","v":12},3,12]
[1511,3,12,15,{"$f":"'Road only'!E1512","v":15},0,9,6]
[1512,0,15,15,{"$f":"'Road only'!E1513","v":12},3,12]
[1513,3,{"$f":"H1513+G1513","v":12},{"$f":"B1514+C1514","v":15},{"$f":"'Road only'!E1514","v":11},{"$f":"D1514-E1514","v":4},{"$f":"D1514-F1514-H1514","v":5},6]
[1514,4,11,15,{"$f":"'Road only'!E1515","v":15},0,15]
[1515,{"$f":"F1515","v":0},15,15,{"$f":"'Road only'!E1516","v":7},8,1,6]
[1516,8,7,15,{"$f":"'Road only'!E1517","v":11},4,11]
[1517,4,11,15,{"$f":"'Road only'!E1518","v":8},7,2,6]
[1518,7,8,15,{"$f":"'Road only'!E1519","v":8},7,8]
[1519,7,8,15,{"$f":"'Road only'!E1520","v":11},4,5,6]
[1520,4,11,15,{"$f":"'Road only'!E1521","v":8},7,8]
[1521,7,8,15,{"$f":"'Road only'!E1522","v":4},11,-2,6]
[1522,11,4,15,{"$f":"'Road only'!E1523","v":10},5,10]
[1523,5,10,15,{"$f":"'Road only'!E1524","v":15},0,9,6]
[1524,0,15,15,{"$f":"'Road only'!E1525","v":16},-1,16]
[1525,-1,16,15,{"$f":"'Road only'!E1526","v":10},5,4,6]
[1526,5,10,15,{"$f":"'Road only'!E1527","v":8},7,8]
[1527,7,8,15,{"$f":"'Road only'!E1528","v":12},3,6,6]
[1528,3,12,15,{"$f":"'Road only'!E1529","v":8},7,8]
[1529,7,8,15,{"$f":"'Road only'!E1530","v":14},1,8,6]
[1530,1,14,15,{"$f":"'Road only'!E1531","v":6},9,6]
[1531,9,6,15,{"$f":"'Road only'!E1532","v":13},2,7,6]
[1532,2,13,15,{"$f":"'Road only'!E1533","v":12},3,12]
[1533,3,12,15,{"$f":"'Road only'!E1534","v":16},-1,10,6]
[1534,-1,16,15,{"$f":"'Road only'!E1535","v":13},2,13]
[1535,2,13,15,{"$f":"'Road only'!E1536","v":9},6,3,6]
[1536,6,9,15,{"$f":"'Road only'!E1537","v":12},3,12]
[1537,3,12,15,{"$f":"'Road only'!E1538","v":12},3,6,6]
[1538,3,12,15,{"$f":"'Road only'!E1539","v":11},4,11]
[1539,4,11,15,{"$f":"'Road only'!E1540","v":6},9,0,6]
[1540,9,6,15,{"$f":"'Road only'!E1541","v":11},4,11]
[1541,4,11,15,{"$f":"'Road only'!E1542","v":11},4,5,6]
[1542,4,11,15,{"$f":"'Road only'!E1543","v":3},12,3]
[1543,12,3,15,{"$f":"'Road only'!E1544","v":9},6,3,6]
[1544,6,9,15,{"$f":"'Road only'!E1545","v":14},1,14]
[1545,1,14,15,{"$f":"'Road only'!E1546","v":15},0,9,6]
[1546,0,15,15,{"$f":"'Road only'!E1547","v":14},1,14]
[1547,1,14,15,{"$f":"'Road only'!E1548","v":13},2,7,6]
[1548,2,13,15,{"$f":"'Road only'!E1549","v":12},3,12]
[1549,3,12,15,{"$f":"'Road only'!E1550","v":14},1,8,6]
[1550,1,14,15,{"$f":"'Road only'!E1551","v":5},10,5]
[1551,10,5,15,{"$f":"'Road only'!E1552","v":15},0,9,6]
[1552,0,15,15,{"$f":"'Road only'!E1553","v":12},3,12]
[1553,3,12,15,{"$f":"'Road only'!E1554","v":10},5,4,6]
[1554,5,10,15,{"$f":"'Road only'!E1555","v":10},5,10]
[1555,5,10,15,{"$f":"'Road only'!E1556","v":9},6,3,6]
[1556,6,9,15,{"$f":"'Road only'!E1557","v":14},1,14]
[1557,1,14,15,{"$f":"'Road only'!E1558","v":11},4,5,6]
[1558,4,11,15,{"$f":"'Road only'!E1559","v":8},7,8]
[1559,7,8,15,{"$f":"'Road only'!E1560","v":14},1,8,6]
[1560,1,14,15,{"$f":"'Road only'!E1561","v":11},4,11]
[1561,4,11,15,{"$f":"'Road only'!E1562","v":7},8,1,6]
[1562,8,7,15,{"$f":"'Road only'!E1563","v":10},5,10]
[1563,5,10,15,{"$f":"'Road only'!E1564","v":15},0,9,6]
[1564,0,15,15,{"$f":"'Road only'!E1565","v":9},6,9]
[1565,6,9,15,{"$f":"'Road only'!E1566","v":14},1,8,6]
[1566,1,14,15,{"$f":"'Road only'!E1567","v":11},4,11]
[1567,4,11,15,{"$f":"'Road only'!E1568","v":14},1,8,6]
[1568,1,14,15,{"$f":"'Road only'!E1569","v":9},6,9]
[1569,6,9,15,{"$f":"'Road only'!E1570","v":9},6,3,6]
[1570,6,9,15,{"$f":"'Road only'!E1571","v":7},8,7]
[1571,8,7,15,{"$f":"'Road only'!E1572","v":14},1,8,6]
[1572,1,14,15,{"$f":"'Road only'!E1573","v":10},5,10]
[1573,5,10,15,{"$f":"'Road only'!E1574","v":10},5,4,6]
[1574,5,10,15,{"$f":"'Road only'!E1575","v":8},7,8]
[1575,7,8,15,{"$f":"'Road only'!E1576","v":14},1,8,6]
[1576,1,14,15,{"$f":"'Road only'!E1577","v":16},-1,16]
[1577,-1,{"$f":"H1577+G1577","v":16},{"$f":"B1578+C1578","v":15},{"$f":"'Road only'!E1578","v":7},{"$f":"D1578-E1578","v":8},{"$f":"D1578-F1578-H1578","v":1},6]
[1578,8,7,15,{"$f":"'Road only'!E1579","v":10},5,10]
[1579,{"$f":"F1579","v":5},10,15,{"$f":"'Road only'!E1580","v":13},2,7,6]
[1580,2,13,15,{"$f":"'Road only'!E1581","v":9},6,9]
[1581,6,9,15,{"$f":"'Road only'!E1582","v":13},2,7,6]
[1582,2,13,15,{"$f":"'Road only'!E1583","v":9},6,9]
[1583,6,9,15,{"$f":"'Road only'!E1584","v":13},2,7,6]
[1584,2,13,15,{"$f":"'Road only'!E1585","v":14},1,14]
[1585,1,14,15,{"$f":"'Road only'!E1586","v":11},4,5,6]
[1586,4,11,15,{"$f":"'Road only'!E1587","v":11},4,11]
[1587,4,11,15,{"$f":"'Road only'!E1588","v":10},5,4,6]
[1588,5,10,15,{"$f":"'Road only'!E1589","v":12},3,12]
[1589,3,12,15,{"$f":"'Road only'!E1590","v":9},6,3,6]
[1590,6,9,15,{"$f":"'Road only'!E1591","v":10},5,10]
[1591,5,10,15,{"$f":"'Road only'!E1592","v":15},0,9,6]
[1592,0,15,15,{"$f":"'Road only'!E1593","v":11},4,11]
[1593,4,11,15,{"$f":"'Road only'!E1594","v":10},5,4,6]
[1594,5,10,15,{"$f":"'Road only'!E1595","v":11},4,11]
[1595,4,11,15,{"$f":"'Road only'!E1596","v":5},10,-1,6]
[1596,10,5,15,{"$f":"'Road only'!E1597","v":11},4,11]
[1597,4,11,15,{"$f":"'Road only'!E1598","v":12},3,6,6]
[1598,3,12,15,{"$f":"'Road only'!E1599","v":14},1,14]
[1599,1,14,15,{"$f":"'Road only'!E1600","v":10},5,4,6]
[1600,5,10,15,{"$f":"'Road only'!E1601","v":8},7,8]
[1601,7,8,15,{"$f":"'Road only'!E1602","v":6},9,0,6]
[1602,9,6,15,{"$f":"'Road only'!E1603","v":10},5,10]
[1603,5,10,15,{"$f":"'Road only'!E1604","v":10},5,4,6]
[1604,5,10,15,{"$f":"'Road only'!E1605","v":14},1,14]
[1605,1,14,15,{"$f":"'Road only'!E1606","v":14},1,8,6]
[1606,1,14,15,{"$f":"'Road only'!E1607","v":12},3,12]
[1607,3,12,15,{"$f":"'Road only'!E1608","v":16},-1,10,6]
[1608,-1,16,15,{"$f":"'Road only'!E1609","v":13},2,13]
[1609,2,13,15,{"$f":"'Road only'!E1610","v":9},6,3,6]
[1610,6,9,15,{"$f":"'Road only'!E1611","v":10},5,10]
[1611,5,10,15,{"$f":"'Road only'!E1612","v":9},6,3,6]
[1612,6,9,15,{"$f":"'Road only'!E1613","v":9},6,9]
[1613,6,9,15,{"$f":"'Road only'!E1614","v":12},3,6,6]
[1614,3,12,15,{"$f":"'Road only'!E1615","v":9},6,9]
[1615,6,9,15,{"$f":"'Road only'!E1616","v":6},9,0,6]
[1616,9,6,15,{"$f":"'Road only'!E1617","v":14},1,14]
[1617,1,14,15,{"$f":"'Road only'!E1618","v":9},6,3,6]
[1618,6,9,15,{"$f":"'Road only'!E1619","v":14},1,14]
[1619,1,14,15,{"$f":"'Road only'!E1620","v":9},6,3,6]
[1620,6,9,15,{"$f":"'Road only'!E1621","v":5},10,5]
[1621,10,5,15,{"$f":"'Road only'!E1622","v":7},8,1,6]
[1622,8,7,15,{"$f":"'Road only'!E1623","v":9},6,9]
[1623,6,9,15,{"$f":"'Road only'!E1624","v":13},2,7,6]
[1624,2,13,15,{"$f":"'Road only'!E1625","v":10},5,10]
[1625,5,10,15,{"$f":"'Road only'!E1626","v":14},1,8,6]
[1626,1,14,15,{"$f":"'Road only'!E1627","v":6},9,6]
[1627,9,6,15,{"$f":"'Road only'!E1628","v":8},7,2,6]
[1628,7,8,15,{"$f":"'Road only'!E1629","v":13},2,13]
[1629,2,13,15,{"$f":"'Road only'!E1630","v":11},4,5,6]
[1630,4,11,15,{"$f":"'Road only'!E1631","v":7},8,7]
[1631,8,7,15,{"$f":"'Road only'!E1632","v":12},3,6,6]
[1632,3,12,15,{"$f":"'Road only'!E1633","v":13},2,13]
[1633,2,13,15,{"$f":"'Road only'!E1634","v":8},7,2,6]
[1634,7,8,15,{"$f":"'Road only'!E1635","v":6},9,6]
[1635,9,6,15,{"$f":"'Road only'!E1636","v":16},-1,10,6]
[1636,-1,16,15,{"$f":"'Road only'!E1637","v":6},9,6]
[1637,9,6,15,{"$f":"'Road only'!E1638","v":16},-1,10,6]
[1638,-1,16,15,{"$f":"'Road only'!E1639","v":12},3,12]
[1639,3,12,15,{"$f":"'Road only'!E1640","v":8},7,2,6]
[1640,7,8,15,{"$f":"'Road only'!E1641","v":8},7,8]
[1641,7,{"$f":"H1641+G1641","v":8},{"$f":"B1642+C1642","v":15},{"$f":"'Road only'!E1642","v":10},{"$f":"D1642-E1642","v":5},{"$f":"D1642-F1642-H1642","v":4},6]
[1642,5,10,15,{"$f":"'Road only'!E1643","v":13},2,13]
[1643,{"$f":"F1643","v":2},13,15,{"$f":"'Road only'!E1644","v":6},9,0,6]
[1644,9,6,15,{"$f":"'Road only'!E1645","v":11},4,11]
[1645,4,11,15,{"$f":"'Road only'!E1646","v":9},6,3,6]
[1646,6,9,15,{"$f":"'Road only'!E1647","v":12},3,12]
[1647,3,12,15,{"$f":"'Road only'!E1648","v":11},4,5,6]
[1648,4,11,15,{"$f":"'Road only'!E1649","v":12},3,12]
[1649,3,12,15,{"$f":"'Road only'!E1650","v":9},6,3,6]
[1650,6,9,15,{"$f":"'Road only'!E1651","v":7},8,7]
[1651,8,7,15,{"$f":"'Road only'!E1652","v":10},5,4,6]
[1652,5,10,15,{"$f":"'Road only'!E1653","v":17},-2,17]
[1653,-2,17,15,{"$f":"'Road only'!E1654","v":8},7,2,6]
[1654,7,8,15,{"$f":"'Road only'!E1655","v":13},2,13]
[1655,2,13,15,{"$f":"'Road only'!E1656","v":16},-1,10,6]
[1656,-1,16,15,{"$f":"'Road only'!E1657","v":10},5,10]
[1657,5,10,15,{"$f":"'Road only'!E1658","v":11},4,5,6]
[1658,4,11,15,{"$f":"'Road only'!E1659","v":8},7,8]
[1659,7,8,15,{"$f":"'Road only'!E1660","v":11},4,5,6]
[1660,4,11,15,{"$f":"'Road only'!E1661","v":10},5,10]
[1661,5,10,15,{"$f":"'Road only'!E1662","v":8},7,2,6]
[1662,7,8,15,{"$f":"'Road only'!E1663","v":13},2,13]
[1663,2,13,15,{"$f":"'Road only'!E1664","v":16},-1,10,6]
[1664,-1,16,15,{"$f":"'Road only'!E1665","v":9},6,9]
[1665,6,9,15,{"$f":"'Road only'!E1666","v":15},0,9,6]
[1666,0,15,15,{"$f":"'Road only'!E1667","v":8},7,8]
[1667,7,8,15,{"$f":"'Road only'!E1668","v":8},7,2,6]
[1668,7,8,15,{"$f":"'Road only'!E1669","v":9},6,9]
[1669,6,9,15,{"$f":"'Road only'!E1670","v":9},6,3,6]
[1670,6,9,15,{"$f":"'Road only'!E1671","v":15},0,15]
[1671,0,15,15,{"$f":"'Road only'!E1672","v":9},6,3,6]
[1672,6,9,15,{"$f":"'Road only'!E1673","v":9},6,9]
[1673,6,9,15,{"$f":"'Road only'!E1674","v":14},1,8,6]
[1674,1,14,15,{"$f":"'Road only'!E1675","v":13},2,13]
[1675,2,13,15,{"$f":"'Road only'!E1676","v":8},7,2,6]
[1676,7,8,15,{"$f":"'Road only'!E1677","v":11},4,11]
[1677,4,11,15,{"$f":"'Road only'!E1678","v":13},2,7,6]
[1678,2,13,15,{"$f":"'Road only'!E1679","v":13},2,13]
[1679,2,13,15,{"$f":"'Road only'!E1680","v":6},9,0,6]
[1680,9,6,15,{"$f":"'Road only'!E1681","v":11},4,11]
[1681,4,11,15,{"$f":"'Road only'!E1682","v":16},-1,10,6]
[1682,-1,16,15,{"$f":"'Road only'!E1683","v":8},7,8]
[1683,7,8,15,{"$f":"'Road only'!E1684","v":9},6,3,6]
[1684,6,9,15,{"$f":"'Road only'!E1685","v":9},6,9]
[1685,6,9,15,{"$f":"'Road only'!E1686","v":11},4,5,6]
[1686,4,11,15,{"$f":"'Road only'!E1687","v":6},9,6]
[1687,9,6,15,{"$f":"'Road only'!E1688","v":12},3,6,6]
[1688,3,12,15,{"$f":"'Road only'!E1689","v":12},3,12]
[1689,3,12,15,{"$f":"'Road only'!E1690","v":16},-1,10,6]
[1690,-1,16,15,{"$f":"'Road only'!E1691","v":10},5,10]
[1691,5,10,15,{"$f":"'Road only'!E1692","v":15},0,9,6]
[1692,0,15,15,{"$f":"'Road only'!E1693","v":12},3,12]
[1693,3,12,15,{"$f":"'Road only'!E1694","v":14},1,8,6]
[1694,1,14,15,{"$f":"'Road only'!E1695","v":12},3,12]
[1695,3,12,15,{"$f":"'Road only'!E1696","v":7},8,1,6]
[1696,8,7,15,{"$f":"'Road only'!E1697","v":6},9,6]
[1697,9,6,15,{"$f":"'Road only'!E1698","v":7},8,1,6]
[1698,8,7,15,{"$f":"'Road only'!E1699","v":14},1,14]
[1699,1,14,15,{"$f":"'Road only'!E1700","v":12},3,6,6]
[1700,3,12,15,{"$f":"'Road only'!E1701","v":12},3,12]
[1701,3,12,15,{"$f":"'Road only'!E1702","v":14},1,8,6]
[1702,1,14,15,{"$f":"'Road only'!E1703","v":12},3,12]
[1703,3,12,15,{"$f":"'Road only'!E1704","v":15},0,9,6]
[1704,0,15,15,{"$f":"'Road only'!E1705","v":5},10,5]
[1705,10,{"$f":"H1705+G1705","v":5},{"$f":"B1706+C1706","v":15},{"$f":"'Road only'!E1706","v":6},{"$f":"D1706-E1706","v":9},{"$f":"D1706-F1706-H1706","v":0},6]
[1706,9,6,15,{"$f":"'Road only'!E1707","v":6},9,6]
[1707,{"$f":"F1707","v":9},6,15,{"$f":"'Road only'!E1708","v":11},4,5,6]
[1708,4,11,15,{"$f":"'Road only'!E1709","v":10},5,10]
[1709,5,10,15,{"$f":"'Road only'!E1710","v":5},10,-1,6]
[1710,10,5,15,{"$f":"'Road only'!E1711","v":8},7,8]
[1711,7,8,15,{"$f":"'Road only'!E1712","v":7},8,1,6]
[1712,8,7,15,{"$f":"'Road only'!E1713","v":8},7,8]
[1713,7,8,15,{"$f":"'Road only'!E1714","v":8},7,2,6]
[1714,7,8,15,{"$f":"'Road only'!E1715","v":15},0,15]
[1715,0,15,15,{"$f":"'Road only'!E1716","v":16},-1,10,6]
[1716,-1,16,15,{"$f":"'Road only'!E1717","v":8},7,8]
[1717,7,8,15,{"$f":"'Road only'!E1718","v":13},2,7,6]
[1718,2,13,15,{"$f":"'Road only'!E1719","v":9},6,9]
[1719,6,9,15,{"$f":"'Road only'!E1720","v":13},2,7,6]
[1720,2,13,15,{"$f":"'Road only'!E1721","v":12},3,12]
[1721,3,12,15,{"$f":"'Road only'!E1722","v":9},6,3,6]
[1722,6,9,15,{"$f":"'Road only'!E1723","v":4},11,4]
[1723,11,4,15,{"$f":"'Road only'!E1724","v":11},4,5,6]
[1724,4,11,15,{"$f":"'Road only'!E1725","v":9},6,9]
[1725,6,9,15,{"$f":"'Road only'!E1726","v":10},5,4,6]
[1726,5,10,15,{"$f":"'Road only'!E1727","v":10},5,10]
[1727,5,10,15,{"$f":"'Road only'!E1728","v":14},1,8,6]
[1728,1,14,15,{"$f":"'Road only'!E1729","v":14},1,14]
[1729,1,14,15,{"$f":"'Road only'!E1730","v":11},4,5,6]
[1730,4,11,15,{"$f":"'Road only'!E1731","v":13},2,13]
[1731,2,13,15,{"$f":"'Road only'!E1732","v":13},2,7,6]
[1732,2,13,15,{"$f":"'Road only'!E1733","v":18},-3,18]
[1733,-3,18,15,{"$f":"'Road only'!E1734","v":8},7,2,6]
[1734,7,8,15,{"$f":"'Road only'!E1735","v":11},4,11]
[1735,4,11,15,{"$f":"'Road only'!E1736","v":13},2,7,6]
[1736,2,13,15,{"$f":"'Road only'!E1737","v":6},9,6]
[1737,9,6,15,{"$f":"'Road only'!E1738","v":13},2,7,6]
[1738,2,13,15,{"$f":"'Road only'!E1739","v":16},-1,16]
[1739,-1,16,15,{"$f":"'Road only'!E1740","v":9},6,3,6]
[1740,6,9,15,{"$f":"'Road only'!E1741","v":9},6,9]
[1741,6,9,15,{"$f":"'Road only'!E1742","v":4},11,-2,6]
[1742,11,4,15,{"$f":"'Road only'!E1743","v":6},9,6]
[1743,9,6,15,{"$f":"'Road only'!E1744","v":13},2,7,6]
[1744,2,13,15,{"$f":"'Road only'!E1745","v":8},7,8]
[1745,7,8,15,{"$f":"'Road only'!E1746","v":12},3,6,6]
[1746,3,12,15,{"$f":"'Road only'!E1747","v":17},-2,17]
[1747,-2,17,15,{"$f":"'Road only'!E1748","v":7},8,1,6]
[1748,8,7,15,{"$f":"'Road only'!E1749","v":5},10,5]
[1749,10,5,15,{"$f":"'Road only'!E1750","v":10},5,4,6]
[1750,5,10,15,{"$f":"'Road only'!E1751","v":10},5,10]
[1751,5,10,15,{"$f":"'Road only'!E1752","v":11},4,5,6]
[1752,4,11,15,{"$f":"'Road only'!E1753","v":12},3,12]
[1753,3,12,15,{"$f":"'Road only'!E1754","v":11},4,5,6]
[1754,4,11,15,{"$f":"'Road only'!E1755","v":9},6,9]
[1755,6,9,15,{"$f":"'Road only'!E1756","v":17},-2,11,6]
[1756,-2,17,15,{"$f":"'Road only'!E1757","v":5},10,5]
[1757,10,5,15,{"$f":"'Road only'!E1758","v":10},5,4,6]
[1758,5,10,15,{"$f":"'Road only'!E1759","v":14},1,14]
[1759,1,14,15,{"$f":"'Road only'!E1760","v":12},3,6,6]
[1760,3,12,15,{"$f":"'Road only'!E1761","v":7},8,7]
[1761,8,7,15,{"$f":"'Road only'!E1762","v":11},4,5,6]
[1762,4,11,15,{"$f":"'Road only'!E1763","v":11},4,11]
[1763,4,11,15,{"$f":"'Road only'!E1764","v":7},8,1,6]
[1764,8,7,15,{"$f":"'Road only'!E1765","v":7},8,7]
[1765,8,7,15,{"$f":"'Road only'!E1766","v":9},6,3,6]
[1766,6,9,15,{"$f":"'Road only'!E1767","v":15},0,15]
[1767,0,15,15,{"$f":"'Road only'!E1768","v":9},6,3,6]
[1768,6,9,15,{"$f":"'Road only'!E1769","v":11},4,11]
[1769,4,{"$f":"H1769+G1769","v":11},{"$f":"B1770+C1770","v":15},{"$f":"'Road only'!E1770","v":10},{"$f":"D1770-E1770","v":5},{"$f":"D1770-F1770-H1770","v":4},6]
[1770,5,10,15,{"$f":"'Road only'!E1771","v":12},3,12]
[1771,{"$f":"F1771","v":3},12,15,{"$f":"'Road only'!E1772","v":16},-1,10,6]
[1772,-1,16,15,{"$f":"'Road only'!E1773","v":10},5,10]
[1773,5,10,15,{"$f":"'Road only'!E1774","v":9},6,3,6]
[1774,6,9,15,{"$f":"'Road only'!E1775","v":5},10,5]
[1775,10,5,15,{"$f":"'Road only'!E1776","v":14},1,8,6]
[1776,1,14,15,{"$f":"'Road only'!E1777","v":5},10,5]
[1777,10,5,15,{"$f":"'Road only'!E1778","v":11},4,5,6]
[1778,4,11,15,{"$f":"'Road only'!E1779","v":14},1,14]
[1779,1,14,15,{"$f":"'Road only'!E1780","v":7},8,1,6]
[1780,8,7,15,{"$f":"'Road only'!E1781","v":13},2,13]
[1781,2,13,15,{"$f":"'Road only'!E1782","v":8},7,2,6]
[1782,7,8,15,{"$f":"'Road only'!E1783","v":15},0,15]
[1783,0,15,15,{"$f":"'Road only'!E1784","v":6},9,0,6]
[1784,9,6,15,{"$f":"'Road only'!E1785","v":8},7,8]
[1785,7,8,15,{"$f":"'Road only'!E1786","v":12},3,6,6]
[1786,3,12,15,{"$f":"'Road only'!E1787","v":12},3,12]
[1787,3,12,15,{"$f":"'Road only'!E1788","v":12},3,6,6]
[1788,3,12,15,{"$f":"'Road only'!E1789","v":12},3,12]
[1789,3,12,15,{"$f":"'Road only'!E1790","v":11},4,5,6]
[1790,4,11,15,{"$f":"'Road only'!E1791","v":7},8,7]
[1791,8,7,15,{"$f":"'Road only'!E1792","v":15},0,9,6]
[1792,0,15,15,{"$f":"'Road only'!E1793","v":13},2,13]
[1793,2,13,15,{"$f":"'Road only'!E1794","v":12},3,6,6]
[1794,3,12,15,{"$f":"'Road only'!E1795","v":7},8,7]
[1795,8,7,15,{"$f":"'Road only'!E1796","v":13},2,7,6]
[1796,2,13,15,{"$f":"'Road only'!E1797","v":14},1,14]
[1797,1,14,15,{"$f":"'Road only'!E1798","v":6},9,0,6]
[1798,9,6,15,{"$f":"'Road only'!E1799","v":10},5,10]
[1799,5,10,15,{"$f":"'Road only'!E1800","v":11},4,5,6]
[1800,4,11,15,{"$f":"'Road only'!E1801","v":13},2,13]
[1801,2,13,15,{"$f":"'Road only'!E1802","v":6},9,0,6]
[1802,9,6,15,{"$f":"'Road only'!E1803","v":11},4,11]
[1803,4,11,15,{"$f":"'Road only'!E1804","v":8},7,2,6]
[1804,7,8,15,{"$f":"'Road only'!E1805","v":13},2,13]
[1805,2,13,15,{"$f":"'Road only'!E1806","v":11},4,5,6]
[1806,4,11,15,{"$f":"'Road only'!E1807","v":13},2,13]
[1807,2,13,15,{"$f":"'Road only'!E1808","v":15},0,9,6]
[1808,0,15,15,{"$f":"'Road only'!E1809","v":9},6,9]
[1809,6,9,15,{"$f":"'Road only'!E1810","v":4},11,-2,6]
[1810,11,4,15,{"$f":"'Road only'!E1811","v":14},1,14]
[1811,1,14,15,{"$f":"'Road only'!E1812","v":9},6,3,6]
[1812,6,9,15,{"$f":"'Road only'!E1813","v":13},2,13]
[1813,2,13,15,{"$f":"'Road only'!E1814","v":8},7,2,6]
[1814,7,8,15,{"$f":"'Road only'!E1815","v":6},9,6]
[1815,9,6,15,{"$f":"'Road only'!E1816","v":8},7,2,6]
[1816,7,8,15,{"$f":"'Road only'!E1817","v":14},1,14]
[1817,1,14,15,{"$f":"'Road only'!E1818","v":7},8,1,6]
[1818,8,7,15,{"$f":"'Road only'!E1819","v":16},-1,16]
[1819,-1,16,15,{"$f":"'Road only'!E1820","v":13},2,7,6]
[1820,2,13,15,{"$f":"'Road only'!E1821","v":8},7,8]
[1821,7,8,15,{"$f":"'Road only'!E1822","v":7},8,1,6]
[1822,8,7,15,{"$f":"'Road only'!E1823","v":8},7,8]
[1823,7,8,15,{"$f":"'Road only'!E1824","v":8},7,2,6]
[1824,7,8,15,{"$f":"'Road only'!E1825","v":10},5,10]
[1825,5,10,15,{"$f":"'Road only'!E1826","v":11},4,5,6]
[1826,4,11,15,{"$f":"'Road only'!E1827","v":13},2,13]
[1827,2,13,15,{"$f":"'Road only'!E1828","v":6},9,0,6]
[1828,9,6,15,{"$f":"'Road only'!E1829","v":18},-3,18]
[1829,-3,18,15,{"$f":"'Road only'!E1830","v":11},4,5,6]
[1830,4,11,15,{"$f":"'Road only'!E1831","v":12},3,12]
[1831,3,12,15,{"$f":"'Road only'!E1832","v":13},2,7,6]
[1832,2,13,15,{"$f":"'Road only'!E1833","v":5},10,5]
[1833,10,{"$f":"H1833+G1833","v":5},{"$f":"B1834+C1834","v":15},{"$f":"'Road only'!E1834","v":13},{"$f":"D1834-E1834","v":2},{"$f":"D1834-F1834-H1834","v":7},6]
[1834,2,13,15,{"$f":"'Road only'!E1835","v":15},0,15]
[1835,{"$f":"F1835","v":0},15,15,{"$f":"'Road only'!E1836","v":13},2,7,6]
[1836,2,13,15,{"$f":"'Road only'!E1837","v":9},6,9]
[1837,6,9,15,{"$f":"'Road only'!E1838","v":11},4,5,6]
[1838,4,11,15,{"$f":"'Road only'!E1839","v":10},5,10]
[1839,5,10,15,{"$f":"'Road only'!E1840","v":7},8,1,6]
[1840,8,7,15,{"$f":"'Road only'!E1841","v":11},4,11]
[1841,4,11,15,{"$f":"'Road only'!E1842","v":12},3,6,6]
[1842,3,12,15,{"$f":"'Road only'!E1843","v":8},7,8]
[1843,7,8,15,{"$f":"'Road only'!E1844","v":13},2,7,6]
[1844,2,13,15,{"$f":"'Road only'!E1845","v":5},10,5]
[1845,10,5,15,{"$f":"'Road only'!E1846","v":12},3,6,6]
[1846,3,12,15,{"$f":"'Road only'!E1847","v":13},2,13]
[1847,2,13,15,{"$f":"'Road only'!E1848","v":7},8,1,6]
[1848,8,7,15,{"$f":"'Road only'!E1849","v":8},7,8]
[1849,7,8,15,{"$f":"'Road only'!E1850","v":13},2,7,6]
[1850,2,13,15,{"$f":"'Road only'!E1851","v":12},3,12]
[1851,3,12,15,{"$f":"'Road only'!E1852","v":8},7,2,6]
[1852,7,8,15,{"$f":"'Road only'!E1853","v":8},7,8]
[1853,7,8,15,{"$f":"'Road only'!E1854","v":14},1,8,6]
[1854,1,14,15,{"$f":"'Road only'!E1855","v":8},7,8]
[1855,7,8,15,{"$f":"'Road only'!E1856","v":12},3,6,6]
[1856,3,12,15,{"$f":"'Road only'!E1857","v":14},1,14]
[1857,1,14,15,{"$f":"'Road only'!E1858","v":12},3,6,6]
[1858,3,12,15,{"$f":"'Road only'!E1859","v":10},5,10]
[1859,5,10,15,{"$f":"'Road only'!E1860","v":8},7,2,6]
[1860,7,8,15,{"$f":"'Road only'!E1861","v":12},3,12]
[1861,3,12,15,{"$f":"'Road only'!E1862","v":9},6,3,6]
[1862,6,9,15,{"$f":"'Road only'!E1863","v":10},5,10]
[1863,5,10,15,{"$f":"'Road only'!E1864","v":11},4,5,6]
[1864,4,11,15,{"$f":"'Road only'!E1865","v":6},9,6]
[1865,9,6,15,{"$f":"'Road only'!E1866","v":6},9,0,6]
[1866,9,6,15,{"$f":"'Road only'!E1867","v":10},5,10]
[1867,5,10,15,{"$f":"'Road only'!E1868","v":11},4,5,6]
[1868,4,11,15,{"$f":"'Road only'!E1869","v":13},2,13]
[1869,2,13,15,{"$f":"'Road only'!E1870","v":13},2,7,6]
[1870,2,13,15,{"$f":"'Road only'!E1871","v":11},4,11]
[1871,4,11,15,{"$f":"'Road only'!E1872","v":5},10,-1,6]
[1872,10,5,15,{"$f":"'Road only'!E1873","v":11},4,11]
[1873,4,11,15,{"$f":"'Road only'!E1874","v":9},6,3,6]
[1874,6,9,15,{"$f":"'Road only'!E1875","v":6},9,6]
[1875,9,6,15,{"$f":"'Road only'!E1876","v":11},4,5,6]
[1876,4,11,15,{"$f":"'Road only'!E1877","v":7},8,7]
[1877,8,7,15,{"$f":"'Road only'!E1878","v":8},7,2,6]
[1878,7,8,15,{"$f":"'Road only'!E1879","v":11},4,11]
[1879,4,11,15,{"$f":"'Road only'!E1880","v":12},3,6,6]
[1880,3,12,15,{"$f":"'Road only'!E1881","v":10},5,10]
[1881,5,10,15,{"$f":"'Road only'!E1882","v":7},8,1,6]
[1882,8,7,15,{"$f":"'Road only'!E1883","v":9},6,9]
[1883,6,9,15,{"$f":"'Road only'!E1884","v":15},0,9,6]
[1884,0,15,15,{"$f":"'Road only'!E1885","v":13},2,13]
[1885,2,13,15,{"$f":"'Road only'!E1886","v":15},0,9,6]
[1886,0,15,15,{"$f":"'Road only'!E1887","v":12},3,12]
[1887,3,12,15,{"$f":"'Road only'!E1888","v":14},1,8,6]
[1888,1,14,15,{"$f":"'Road only'!E1889","v":13},2,13]
[1889,2,13,15,{"$f":"'Road only'!E1890","v":11},4,5,6]
[1890,4,11,15,{"$f":"'Road only'!E1891","v":7},8,7]
[1891,8,7,15,{"$f":"'Road only'!E1892","v":6},9,0,6]
[1892,9,6,15,{"$f":"'Road only'!E1893","v":14},1,14]
[1893,1,14,15,{"$f":"'Road only'!E1894","v":11},4,5,6]
[1894,4,11,15,{"$f":"'Road only'!E1895","v":9},6,9]
[1895,6,9,15,{"$f":"'Road only'!E1896","v":14},1,8,6]
[1896,1,14,15,{"$f":"'Road only'!E1897","v":6},9,6]
[1897,9,{"$f":"H1897+G1897","v":6},{"$f":"B1898+C1898","v":15},{"$f":"'Road only'!E1898","v":6},{"$f":"D1898-E1898","v":9},{"$f":"D1898-F1898-H1898","v":0},6]
[1898,9,6,15,{"$f":"'Road only'!E1899","v":8},7,8]
[1899,{"$f":"F1899","v":7},8,15,{"$f":"'Road only'!E1900","v":12},3,6,6]
[1900,3,12,15,{"$f":"'Road only'!E1901","v":12},3,12]
[1901,3,12,15,{"$f":"'Road only'!E1902","v":7},8,1,6]
[1902,8,7,15,{"$f":"'Road only'!E1903","v":13},2,13]
[1903,2,13,15,{"$f":"'Road only'!E1904","v":7},8,1,6]
[1904,8,7,15,{"$f":"'Road only'!E1905","v":10},5,10]
[1905,5,10,15,{"$f":"'Road only'!E1906","v":5},10,-1,6]
[1906,10,5,15,{"$f":"'Road only'!E1907","v":15},0,15]
[1907,0,15,15,{"$f":"'Road only'!E1908","v":8},7,2,6]
[1908,7,8,15,{"$f":"'Road only'!E1909","v":9},6,9]
[1909,6,9,15,{"$f":"'Road only'!E1910","v":8},7,2,6]
[1910,7,8,15,{"$f":"'Road only'!E1911","v":12},3,12]
[1911,3,12,15,{"$f":"'Road only'!E1912","v":17},-2,11,6]
[1912,-2,17,15,{"$f":"'Road only'!E1913","v":14},1,14]
[1913,1,14,15,{"$f":"'Road only'!E1914","v":5},10,-1,6]
[1914,10,5,15,{"$f":"'Road only'!E1915","v":5},10,5]
[1915,10,5,15,{"$f":"'Road only'!E1916","v":12},3,6,6]
[1916,3,12,15,{"$f":"'Road only'!E1917","v":12},3,12]
[1917,3,12,15,{"$f":"'Road only'!E1918","v":9},6,3,6]
[1918,6,9,15,{"$f":"'Road only'!E1919","v":15},0,15]
[1919,0,15,15,{"$f":"'Road only'!E1920","v":15},0,9,6]
[1920,0,15,15,{"$f":"'Road only'!E1921","v":6},9,6]
[1921,9,6,15,{"$f":"'Road only'!E1922","v":14},1,8,6]
[1922,1,14,15,{"$f":"'Road only'!E1923","v":8},7,8]
[1923,7,8,15,{"$f":"'Road only'!E1924","v":11},4,5,6]
[1924,4,11,15,{"$f":"'Road only'!E1925","v":6},9,6]
[1925,9,6,15,{"$f":"'Road only'!E1926","v":4},11,-2,6]
[1926,11,4,15,{"$f":"'Road only'!E1927","v":6},9,6]
[1927,9,6,15,{"$f":"'Road only'!E1928","v":11},4,5,6]
[1928,4,11,15,{"$f":"'Road only'!E1929","v":10},5,10]
[1929,5,10,15,{"$f":"'Road only'!E1930","v":6},9,0,6]
[1930,9,6,15,{"$f":"'Road only'!E1931","v":14},1,14]
[1931,1,14,15,{"$f":"'Road only'!E1932","v":11},4,5,6]
[1932,4,11,15,{"$f":"'Road only'!E1933","v":9},6,9]
[1933,6,9,15,{"$f":"'Road only'!E1934","v":7},8,1,6]
[1934,8,7,15,{"$f":"'Road only'!E1935","v":8},7,8]
[1935,7,8,15,{"$f":"'Road only'!E1936","v":12},3,6,6]
[1936,3,12,15,{"$f":"'Road only'!E1937","v":9},6,9]
[1937,6,9,15,{"$f":"'Road only'!E1938","v":9},6,3,6]
[1938,6,9,15,{"$f":"'Road only'!E1939","v":10},5,10]
[1939,5,10,15,{"$f":"'Road only'!E1940","v":9},6,3,6]
[1940,6,9,15,{"$f":"'Road only'!E1941","v":12},3,12]
[1941,3,12,15,{"$f":"'Road only'!E1942","v":13},2,7,6]
[1942,2,13,15,{"$f":"'Road only'!E1943","v":11},4,11]
[1943,4,11,15,{"$f":"'Road only'!E1944","v":6},9,0,6]
[1944,9,6,15,{"$f":"'Road only'!E1945","v":15},0,15]
[1945,0,15,15,{"$f":"'Road only'!E1946","v":6},9,0,6]
[1946,9,6,15,{"$f":"'Road only'!E1947","v":13},2,13]
[1947,2,13,15,{"$f":"'Road only'!E1948","v":14},1,8,6]
[1948,1,14,15,{"$f":"'Road only'!E1949","v":9},6,9]
[1949,6,9,15,{"$f":"'Road only'!E1950","v":11},4,5,6]
[1950,4,11,15,{"$f":"'Road only'!E1951","v":15},0,15]
[1951,0,15,15,{"$f":"'Road only'!E1952","v":5},10,-1,6]
[1952,10,5,15,{"$f":"'Road only'!E1953","v":10},5,10]
[1953,5,10,15,{"$f":"'Road only'!E1954","v":9},6,3,6]
[1954,6,9,15,{"$f":"'Road only'!E1955","v":5},10,5]
[1955,10,5,15,{"$f":"'Road only'!E1956","v":8},7,2,6]
[1956,7,8,15,{"$f":"'Road only'!E1957","v":9},6,9]
[1957,6,9,15,{"$f":"'Road only'!E1958","v":11},4,5,6]
[1958,4,11,15,{"$f":"'Road only'!E1959","v":12},3,12]
[1959,3,12,15,{"$f":"'Road only'!E1960","v":15},0,9,6]
[1960,0,15,15,{"$f":"'Road only'!E1961","v":11},4,11]
[1961,4,{"$f":"H1961+G1961","v":11},{"$f":"B1962+C1962","v":15},{"$f":"'Road only'!E1962","v":10},{"$f":"D1962-E1962","v":5},{"$f":"D1962-F1962-H1962","v":4},6]
[1962,5,10,15,{"$f":"'Road only'!E1963","v":11},4,11]
[1963,{"$f":"F1963","v":4},11,15,{"$f":"'Road only'!E1964","v":5},10,-1,6]
[1964,10,5,15,{"$f":"'Road only'!E1965","v":12},3,12]
[1965,3,12,15,{"$f":"'Road only'!E1966","v":10},5,4,6]
[1966,5,10,15,{"$f":"'Road only'!E1967","v":13},2,13]
[1967,2,13,15,{"$f":"'Road only'!E1968","v":13},2,7,6]
[1968,2,13,15,{"$f":"'Road only'!E1969","v":13},2,13]
[1969,2,13,15,{"$f":"'Road only'!E1970","v":11},4,5,6]
[1970,4,11,15,{"$f":"'Road only'!E1971","v":13},2,13]
[1971,2,13,15,{"$f":"'Road only'!E1972","v":10},5,4,6]
[1972,5,10,15,{"$f":"'Road only'!E1973","v":11},4,11]
[1973,4,11,15,{"$f":"'Road only'!E1974","v":12},3,6,6]
[1974,3,12,15,{"$f":"'Road only'!E1975","v":9},6,9]
[1975,6,9,15,{"$f":"'Road only'!E1976","v":11},4,5,6]
[1976,4,11,15,{"$f":"'Road only'!E1977","v":10},5,10]
[1977,5,10,15,{"$f":"'Road only'!E1978","v":7},8,1,6]
[1978,8,7,15,{"$f":"'Road only'!E1979","v":13},2,13]
[1979,2,13,15,{"$f":"'Road only'!E1980","v":9},6,3,6]
[1980,6,9,15,{"$f":"'Road only'!E1981","v":16},-1,16]
[1981,-1,16,15,{"$f":"'Road only'!E1982","v":10},5,4,6]
[1982,5,10,15,{"$f":"'Road only'!E1983","v":10},5,10]
[1983,5,10,15,{"$f":"'Road only'!E1984","v":10},5,4,6]
[1984,5,10,15,{"$f":"'Road only'!E1985","v":7},8,7]
[1985,8,7,15,{"$f":"'Road only'!E1986","v":9},6,3,6]
[1986,6,9,15,{"$f":"'Road only'!E1987","v":8},7,8]
[1987,7,8,15,{"$f":"'Road only'!E1988","v":12},3,6,6]
[1988,3,12,15,{"$f":"'Road only'!E1989","v":12},3,12]
[1989,3,12,15,{"$f":"'Road only'!E1990","v":8},7,2,6]
[1990,7,8,15,{"$f":"'Road only'!E1991","v":10},5,10]
[1991,5,10,15,{"$f":"'Road only'!E1992","v":4},11,-2,6]
[1992,11,4,15,{"$f":"'Road only'!E1993","v":7},8,7]
[1993,8,7,15,{"$f":"'Road only'!E1994","v":4},11,-2,6]
[1994,11,4,15,{"$f":"'Road only'!E1995","v":14},1,14]
[1995,1,14,15,{"$f":"'Road only'!E1996","v":8},7,2,6]
[1996,7,8,15,{"$f":"'Road only'!E1997","v":12},3,12]
[1997,3,12,15,{"$f":"'Road only'!E1998","v":10},5,4,6]
[1998,5,10,15,{"$f":"'Road only'!E1999","v":7},8,7]
[1999,8,7,15,{"$f":"'Road only'!E2000","v":13},2,7,6]
[2000,2,13,15,{"$f":"'Road only'!E2001","v":10},5,10]

{"sheet":"Synchromodal optimal","index":3,"n_rows":2001,"n_cols":13,"rows_kept":2001,"cut":false,"hidden":false,"merged":[]}
["Period","Start Inv","Arrival","Inv before demand","Demand","Inv after demand","Order (Road)","Order (RAIL)"]
[1,15,null,15,11,4,0,11,null,"Costs"]
[2,4,11,15,7,8,7,0,null,"Unit inventory holding cost",null,null,{"$f":"'Road only'!M3","v":136}]
[3,8,7,15,12,3,1,11,null,"Unit inventory back order cost",null,null,{"$f":"'Road only'!M4","v":2584}]
[4,3,12,15,17,-2,17,0]
[5,-2,17,15,7,8,0,11,null,"Unit transport cost Road",null,null,{"$f":"'Road only'!M6","v":400}]
[6,8,11,19,8,11,4,0,null,"Unit transport cost Rail",null,null,{"$f":"'Road only'!M7","v":350}]
[7,11,4,15,9,6,0,11]
[8,6,11,17,8,9,6,0,null,"Avg Tsp Cost per period",null,null,{"$f":"SUM(G2:G2001)/2000*M6+SUM(H2:H2001)/2000*M7","v":3964}]
[9,9,6,15,15,0,4,11,null,"Avg Inv holding cst per period",null,null,{"$f":"SUMIF(F2:F2002,\">0\")/2000*M3","v":701.69200000000001}]
[10,0,15,15,16,-1,16,0,null,"Avg Inv backorder cst per period",null,null,{"$f":"SUMIF(F2:F2001,\"<0\")/2000*M4*(-1)","v":157.624}]
[11,-1,16,15,10,5,0,11]
[12,5,11,16,13,3,12,0]
[13,3,12,15,10,5,0,11,null,"Avg ttl cost per period",null,null,{"$f":"SUM(M9:M12)","v":4823.3159999999998}]
[14,5,11,16,8,8,7,0]
[15,8,7,15,18,-3,7,11]
[16,-3,18,15,12,3,12,0,null,"Emissions"]
[17,3,12,15,15,0,4,11,null,"Unit emission Road",null,null,{"$f":"'Road only'!M18","v":0.72}]
[18,0,15,15,9,6,9,0,null,"Unit emission Rail",null,null,{"$f":"'Road only'!M19","v":0.2}]
[19,6,9,15,9,6,0,11]
[20,6,11,17,11,6,9,0,null,"Avg emission per period (Road&Rail)",null,null,{"$f":"SUM(H2:H2001)*M19/2000+SUM(G2:G2001)*M18/2000","v":4.7702}]
[21,6,9,15,15,0,4,11]
[22,0,15,15,12,3,12,0]
[23,3,12,15,9,6,0,11,null,"Service level"]
[24,6,11,17,6,11,4,0,null,"In-stock Probability at the DC",null,null,{"$f":"1-COUNTIF(F2:F2001,\"<0\")/2000","v":0.95650000000000002}]
[25,11,4,15,12,3,1,11]
[26,3,12,15,9,6,9,0]
[27,6,9,15,15,0,4,11]
[28,0,15,15,9,6,9,0,null,"VOL IN RAIL (%)","Inventory","Transport","Total"]
[29,6,9,15,11,4,0,11,null,0,809.39539894947472,4239.7198599299654,5049.1205602801401]
[30,4,11,15,6,9,6,0,null,4.7619047619047616E-2,809.39539894947472,4214.7073536768385,5024.1080540270132]
[31,9,6,15,10,5,0,11,null,9.5238095238095233E-2,809.39539894947472,4189.6948474237115,4999.0955477738871]
[32,5,11,16,13,3,12,0,null,0.14285714285714285,809.39539894947472,4164.6823411705855,4974.0830415207602]
[33,3,12,15,7,8,0,11,null,0.19047619047619047,809.46343296648331,4139.6698349174585,4949.1385692846425]
[34,8,11,19,8,11,4,0,null,0.23809523809523808,810.41590920460237,4114.6573286643325,4925.0785392696353]
[35,11,4,15,12,3,1,11,null,0.2857142857142857,813.06923586793403,4089.6448224112055,4902.7193596798397]
[36,3,12,15,13,2,13,0,null,0.33333333333333331,815.58649449724862,4064.632316158079,4880.2241120560284]
[37,2,13,15,10,5,0,11,null,0.38095238095238093,820.82511380690346,4039.6198099049525,4860.4502251125559]
[38,5,11,16,4,12,3,0,null,0.42857142857142855,830.89414832416207,4014.8074037018509,4845.7068534267137]
[39,12,3,15,12,3,1,11,null,0.47619047619047616,843.27633941970987,3989.9949974987494,4833.2766383191592]
[40,3,12,15,18,-3,18,0,null,0.52380952380952384,858.99219734867438,3965.1825912956479,4824.1800900450226]
[41,-3,18,15,11,4,0,11,null,0.5714285714285714,884.09674962481245,3940.3701850925463,4824.4722361180593]
[42,4,11,15,7,8,7,0,null,0.61904761904761907,918.11375812906454,3915.5577788894448,4833.6768384192092]
[43,8,7,15,8,7,0,11,null,0.66666666666666663,965.80560405202607,3890.7453726863432,4856.5562781390699]
[44,7,11,18,8,10,5,0,null,0.7142857142857143,1025.5394709854927,3865.9329664832417,4891.4777388694347]
[45,10,5,15,13,2,2,11,null,0.76190476190476186,1098.6760392696347,3841.1205602801401,4939.8019009504751]
[46,2,13,15,11,4,11,0,null,0.80952380952380953,1190.5219622311156,3816.3081540770386,5006.835417708854]
[47,4,11,15,12,3,1,11,null,0.8571428571428571,1331.4884454727362,3791.495747873937,5122.989494747374]
[48,3,12,15,14,1,14,0,null,0.90476190476190477,1545.3193609304651,3766.6833416708355,5312.0080040020011]
[49,1,14,15,10,5,0,11,null,0.95238095238095233,2054.6900462731364,3742.2711355677839,5796.9664832416211]
[50,5,11,16,10,6,9,0,null,1,5468.3648836918455,3722.0610305152577,9190.4312156078031]
[51,6,9,15,9,6,0,11]
[52,6,11,17,13,4,11,0]
[53,4,11,15,9,6,0,11]
[54,6,11,17,6,11,4,0]
[55,11,4,15,11,4,0,11]
[56,4,11,15,8,7,8,0]
[57,7,8,15,10,5,0,11]
[58,5,11,16,7,9,6,0]
[59,9,6,15,14,1,3,11]
[60,1,14,15,8,7,8,0]
[61,7,8,15,10,5,0,11]
[62,5,11,16,9,7,8,0]
[63,7,8,15,9,6,0,11]
[64,6,11,17,11,6,9,0]
[65,6,9,15,10,5,0,11]
[66,5,11,16,12,4,11,0]
[67,4,11,15,14,1,3,11]
[68,1,14,15,9,6,9,0]
[69,6,9,15,10,5,0,11]
[70,5,11,16,14,2,13,0]
[71,2,13,15,8,7,0,11]
[72,7,11,18,14,4,11,0]
[73,4,11,15,13,2,2,11]
[74,2,13,15,14,1,14,0]
[75,1,14,15,13,2,2,11]
[76,2,13,15,11,4,11,0]
[77,4,11,15,9,6,0,11]
[78,6,11,17,13,4,11,0]
[79,4,11,15,12,3,1,11]
[80,3,12,15,10,5,10,0]
[81,5,10,15,17,-2,6,11]
[82,-2,17,15,10,5,10,0]
[83,5,10,15,6,9,0,11]
[84,9,11,20,5,15,0,0]
[85,15,0,15,8,7,0,11]
[86,7,11,18,10,8,7,0]
[87,8,7,15,5,10,0,11]
[88,10,11,21,13,8,7,0]
[89,8,7,15,12,3,1,11]
[90,3,12,15,11,4,11,0]
[91,4,11,15,11,4,0,11]
[92,4,11,15,13,2,13,0]
[93,2,13,15,14,1,3,11]
[94,1,14,15,12,3,12,0]
[95,3,12,15,12,3,1,11]
[96,3,12,15,9,6,9,0]
[97,6,9,15,10,5,0,11]
[98,5,11,16,9,7,8,0]
[99,7,8,15,6,9,0,11]
[100,9,11,20,9,11,4,0]
[101,11,4,15,9,6,0,11]
[102,6,11,17,9,8,7,0]
[103,8,7,15,7,8,0,11]
[104,8,11,19,14,5,10,0]
[105,5,10,15,15,0,4,11]
[106,0,15,15,9,6,9,0]
[107,6,9,15,9,6,0,11]
[108,6,11,17,13,4,11,0]
[109,4,11,15,14,1,3,11]
[110,1,14,15,8,7,8,0]
[111,7,8,15,8,7,0,11]
[112,7,11,18,11,7,8,0]
[113,7,8,15,10,5,0,11]
[114,5,11,16,9,7,8,0]
[115,7,8,15,5,10,0,11]
[116,10,11,21,13,8,7,0]
[117,8,7,15,8,7,0,11]
[118,7,11,18,11,7,8,0]
[119,7,8,15,9,6,0,11]
[120,6,11,17,8,9,6,0]
[121,9,6,15,10,5,0,11]
[122,5,11,16,8,8,7,0]
[123,8,7,15,9,6,0,11]
[124,6,11,17,14,3,12,0]
[125,3,12,15,17,-2,6,11]
[126,-2,17,15,8,7,8,0]
[127,7,8,15,6,9,0,11]
[128,9,11,20,15,5,10,0]
[129,5,10,15,13,2,2,11]
[130,2,13,15,16,-1,16,0]
[131,-1,16,15,13,2,2,11]
[132,2,13,15,10,5,10,0]
[133,5,10,15,5,10,0,11]
[134,10,11,21,9,12,3,0]
[135,12,3,15,10,5,0,11]
[136,5,11,16,9,7,8,0]
[137,7,8,15,15,0,4,11]
[138,0,15,15,8,7,8,0]
[139,7,8,15,11,4,0,11]
[140,4,11,15,16,-1,16,0]
[141,-1,16,15,12,3,1,11]
[142,3,12,15,8,7,8,0]
[143,7,8,15,14,1,3,11]
[144,1,14,15,8,7,8,0]
[145,7,8,15,9,6,0,11]
[146,6,11,17,8,9,6,0]
[147,9,6,15,12,3,1,11]
[148,3,12,15,10,5,10,0]
[149,5,10,15,11,4,0,11]
[150,4,11,15,13,2,13,0]
[151,2,13,15,13,2,2,11]
[152,2,13,15,11,4,11,0]
[153,4,11,15,13,2,2,11]
[154,2,13,15,12,3,12,0]
[155,3,12,15,14,1,3,11]
[156,1,14,15,6,9,6,0]
[157,9,6,15,11,4,0,11]
[158,4,11,15,6,9,6,0]
[159,9,6,15,9,6,0,11]
[160,6,11,17,11,6,9,0]
[161,6,9,15,8,7,0,11]
[162,7,11,18,10,8,7,0]
[163,8,7,15,4,11,0,11]
[164,11,11,22,11,11,4,0]
[165,11,4,15,8,7,0,11]
[166,7,11,18,10,8,7,0]
[167,8,7,15,13,2,2,11]
[168,2,13,15,7,8,7,0]
[169,8,7,15,9,6,0,11]
[170,6,11,17,13,4,11,0]
[171,4,11,15,6,9,0,11]
[172,9,11,20,14,6,9,0]
[173,6,9,15,9,6,0,11]
[174,6,11,17,11,6,9,0]
[175,6,9,15,13,2,2,11]
[176,2,13,15,10,5,10,0]
[177,5,10,15,9,6,0,11]
[178,6,11,17,12,5,10,0]
[179,5,10,15,10,5,0,11]
[180,5,11,16,9,7,8,0]
[181,7,8,15,12,3,1,11]
[182,3,12,15,11,4,11,0]
[183,4,11,15,10,5,0,11]
[184,5,11,16,15,1,14,0]
[185,1,14,15,13,2,2,11]
[186,2,13,15,11,4,11,0]
[187,4,11,15,10,5,0,11]
[188,5,11,16,7,9,6,0]
[189,9,6,15,11,4,0,11]
[190,4,11,15,10,5,10,0]
[191,5,10,15,16,-1,5,11]
[192,-1,16,15,13,2,13,0]
[193,2,13,15,9,6,0,11]
[194,6,11,17,13,4,11,0]
[195,4,11,15,14,1,3,11]
[196,1,14,15,10,5,10,0]
[197,5,10,15,15,0,4,11]
[198,0,15,15,9,6,9,0]
[199,6,9,15,9,6,0,11]
[200,6,11,17,7,10,5,0]
[201,10,5,15,10,5,0,11]
[202,5,11,16,14,2,13,0]
[203,2,13,15,11,4,0,11]
[204,4,11,15,13,2,13,0]
[205,2,13,15,14,1,3,11]
[206,1,14,15,12,3,12,0]
[207,3,12,15,9,6,0,11]
[208,6,11,17,13,4,11,0]
[209,4,11,15,9,6,0,11]
[210,6,11,17,12,5,10,0]
[211,5,10,15,13,2,2,11]
[212,2,13,15,14,1,14,0]
[213,1,14,15,10,5,0,11]
[214,5,11,16,15,1,14,0]
[215,1,14,15,9,6,0,11]
[216,6,11,17,8,9,6,0]
[217,9,6,15,15,0,4,11]
[218,0,15,15,10,5,10,0]
[219,5,10,15,9,6,0,11]
[220,6,11,17,12,5,10,0]
[221,5,10,15,11,4,0,11]
[222,4,11,15,15,0,15,0]
[223,0,15,15,11,4,0,11]
[224,4,11,15,8,7,8,0]
[225,7,8,15,7,8,0,11]
[226,8,11,19,5,14,1,0]
[227,14,1,15,10,5,0,11]
[228,5,11,16,14,2,13,0]
[229,2,13,15,14,1,3,11]
[230,1,14,15,12,3,12,0]
[231,3,12,15,12,3,1,11]
[232,3,12,15,8,7,8,0]
[233,7,8,15,8,7,0,11]
[234,7,11,18,15,3,12,0]
[235,3,12,15,8,7,0,11]
[236,7,11,18,11,7,8,0]
[237,7,8,15,10,5,0,11]
[238,5,11,16,6,10,5,0]
[239,10,5,15,6,9,0,11]
[240,9,11,20,11,9,6,0]
[241,9,6,15,13,2,2,11]
[242,2,13,15,16,-1,16,0]
[243,-1,16,15,9,6,0,11]
[244,6,11,17,9,8,7,0]
[245,8,7,15,11,4,0,11]
[246,4,11,15,8,7,8,0]
[247,7,8,15,4,11,0,11]
[248,11,11,22,9,13,2,0]
[249,13,2,15,12,3,1,11]
[250,3,12,15,9,6,9,0]
[251,6,9,15,13,2,2,11]
[252,2,13,15,10,5,10,0]
[253,5,10,15,15,0,4,11]
[254,0,15,15,14,1,14,0]
[255,1,14,15,9,6,0,11]
[256,6,11,17,11,6,9,0]
[257,6,9,15,13,2,2,11]
[258,2,13,15,12,3,12,0]
[259,3,12,15,9,6,0,11]
[260,6,11,17,11,6,9,0]
[261,6,9,15,9,6,0,11]
[262,6,11,17,10,7,8,0]
[263,7,8,15,15,0,4,11]
[264,0,15,15,13,2,13,0]
[265,2,13,15,11,4,0,11]
[266,4,11,15,7,8,7,0]
[267,8,7,15,7,8,0,11]
[268,8,11,19,16,3,12,0]
[269,3,12,15,15,0,4,11]
[270,0,15,15,11,4,11,0]
[271,4,11,15,12,3,1,11]
[272,3,12,15,14,1,14,0]
[273,1,14,15,8,7,0,11]
[274,7,11,18,14,4,11,0]
[275,4,11,15,14,1,3,11]
[276,1,14,15,16,-1,16,0]
[277,-1,16,15,10,5,0,11]
[278,5,11,16,9,7,8,0]
[279,7,8,15,7,8,0,11]
[280,8,11,19,16,3,12,0]
[281,3,12,15,11,4,0,11]
[282,4,11,15,7,8,7,0]
[283,8,7,15,11,4,0,11]
[284,4,11,15,13,2,13,0]
[285,2,13,15,6,9,0,11]
[286,9,11,20,9,11,4,0]
[287,11,4,15,11,4,0,11]
[288,4,11,15,9,6,9,0]
[289,6,9,15,9,6,0,11]
[290,6,11,17,13,4,11,0]
[291,4,11,15,12,3,1,11]
[292,3,12,15,11,4,11,0]
[293,4,11,15,8,7,0,11]
[294,7,11,18,14,4,11,0]
[295,4,11,15,14,1,3,11]
[296,1,14,15,10,5,10,0]
[297,5,10,15,14,1,3,11]
[298,1,14,15,13,2,13,0]
[299,2,13,15,13,2,2,11]
[300,2,13,15,12,3,12,0]
[301,3,12,15,10,5,0,11]
[302,5,11,16,9,7,8,0]
[303,7,8,15,15,0,4,11]
[304,0,15,15,8,7,8,0]
[305,7,8,15,12,3,1,11]
[306,3,12,15,9,6,9,0]
[307,6,9,15,10,5,0,11]
[308,5,11,16,11,5,10,0]
[309,5,10,15,8,7,0,11]
[310,7,11,18,15,3,12,0]
[311,3,12,15,13,2,2,11]
[312,2,13,15,9,6,9,0]
[313,6,9,15,12,3,1,11]
[314,3,12,15,14,1,14,0]
[315,1,14,15,15,0,4,11]
[316,0,15,15,16,-1,16,0]
[317,-1,16,15,7,8,0,11]
[318,8,11,19,7,12,3,0]
[319,12,3,15,6,9,0,11]
[320,9,11,20,5,15,0,0]
[321,15,0,15,13,2,2,11]
[322,2,13,15,8,7,8,0]
[323,7,8,15,11,4,0,11]
[324,4,11,15,10,5,10,0]
[325,5,10,15,13,2,2,11]
[326,2,13,15,5,10,5,0]
[327,10,5,15,10,5,0,11]
[328,5,11,16,12,4,11,0]
[329,4,11,15,13,2,2,11]
[330,2,13,15,9,6,9,0]
[331,6,9,15,11,4,0,11]
[332,4,11,15,8,7,8,0]
[333,7,8,15,8,7,0,11]
[334,7,11,18,12,6,9,0]
[335,6,9,15,12,3,1,11]
[336,3,12,15,10,5,10,0]
[337,5,10,15,13,2,2,11]
[338,2,13,15,13,2,13,0]
[339,2,13,15,10,5,0,11]
[340,5,11,16,11,5,10,0]
[341,5,10,15,9,6,0,11]
[342,6,11,17,9,8,7,0]
[343,8,7,15,16,-1,5,11]
[344,-1,16,15,9,6,9,0]
[345,6,9,15,12,3,1,11]
[346,3,12,15,8,7,8,0]
[347,7,8,15,16,-1,5,11]
[348,-1,16,15,8,7,8,0]
[349,7,8,15,16,-1,5,11]
[350,-1,16,15,10,5,10,0]
[351,5,10,15,14,1,3,11]
[352,1,14,15,9,6,9,0]
[353,6,9,15,12,3,1,11]
[354,3,12,15,11,4,11,0]
[355,4,11,15,12,3,1,11]
[356,3,12,15,13,2,13,0]
[357,2,13,15,12,3,1,11]
[358,3,12,15,13,2,13,0]
[359,2,13,15,9,6,0,11]
[360,6,11,17,15,2,13,0]
[361,2,13,15,13,2,2,11]
[362,2,13,15,10,5,10,0]
[363,5,10,15,8,7,0,11]
[364,7,11,18,12,6,9,0]
[365,6,9,15,10,5,0,11]
[366,5,11,16,16,0,15,0]
[367,0,15,15,12,3,1,11]
[368,3,12,15,16,-1,16,0]
[369,-1,16,15,9,6,0,11]
[370,6,11,17,14,3,12,0]
[371,3,12,15,11,4,0,11]
[372,4,11,15,11,4,11,0]
[373,4,11,15,12,3,1,11]
[374,3,12,15,13,2,13,0]
[375,2,13,15,10,5,0,11]
[376,5,11,16,12,4,11,0]
[377,4,11,15,15,0,4,11]
[378,0,15,15,10,5,10,0]
[379,5,10,15,12,3,1,11]
[380,3,12,15,15,0,15,0]
[381,0,15,15,11,4,0,11]
[382,4,11,15,16,-1,16,0]
[383,-1,16,15,7,8,0,11]
[384,8,11,19,6,13,2,0]
[385,13,2,15,10,5,0,11]
[386,5,11,16,13,3,12,0]
[387,3,12,15,10,5,0,11]
[388,5,11,16,13,3,12,0]
[389,3,12,15,9,6,0,11]
[390,6,11,17,7,10,5,0]
[391,10,5,15,11,4,0,11]
[392,4,11,15,13,2,13,0]
[393,2,13,15,9,6,0,11]
[394,6,11,17,13,4,11,0]
[395,4,11,15,13,2,2,11]
[396,2,13,15,13,2,13,0]
[397,2,13,15,11,4,0,11]
[398,4,11,15,11,4,11,0]
[399,4,11,15,13,2,2,11]
[400,2,13,15,12,3,12,0]
[401,3,12,15,7,8,0,11]
[402,8,11,19,9,10,5,0]
[403,10,5,15,7,8,0,11]
[404,8,11,19,9,10,5,0]
[405,10,5,15,6,9,0,11]
[406,9,11,20,8,12,3,0]
[407,12,3,15,10,5,0,11]
[408,5,11,16,14,2,13,0]
[409,2,13,15,9,6,0,11]
[410,6,11,17,12,5,10,0]
[411,5,10,15,11,4,0,11]
[412,4,11,15,13,2,13,0]
[413,2,13,15,10,5,0,11]
[414,5,11,16,6,10,5,0]
[415,10,5,15,14,1,3,11]
[416,1,14,15,12,3,12,0]
[417,3,12,15,9,6,0,11]
[418,6,11,17,10,7,8,0]
[419,7,8,15,12,3,1,11]
[420,3,12,15,18,-3,18,0]
[421,-3,18,15,15,0,4,11]
[422,0,15,15,7,8,7,0]
[423,8,7,15,12,3,1,11]
[424,3,12,15,11,4,11,0]
[425,4,11,15,9,6,0,11]
[426,6,11,17,10,7,8,0]
[427,7,8,15,12,3,1,11]
[428,3,12,15,9,6,9,0]
[429,6,9,15,10,5,0,11]
[430,5,11,16,4,12,3,0]
[431,12,3,15,10,5,0,11]
[432,5,11,16,14,2,13,0]
[433,2,13,15,7,8,0,11]
[434,8,11,19,12,7,8,0]
[435,7,8,15,11,4,0,11]
[436,4,11,15,4,11,4,0]
[437,11,4,15,12,3,1,11]
[438,3,12,15,9,6,9,0]
[439,6,9,15,9,6,0,11]
[440,6,11,17,15,2,13,0]
[441,2,13,15,13,2,2,11]
[442,2,13,15,9,6,9,0]
[443,6,9,15,13,2,2,11]
[444,2,13,15,13,2,13,0]
[445,2,13,15,8,7,0,11]
[446,7,11,18,17,1,14,0]
[447,1,14,15,12,3,1,11]
[448,3,12,15,14,1,14,0]
[449,1,14,15,14,1,3,11]
[450,1,14,15,9,6,9,0]
[451,6,9,15,7,8,0,11]
[452,8,11,19,8,11,4,0]
[453,11,4,15,10,5,0,11]
[454,5,11,16,8,8,7,0]
[455,8,7,15,9,6,0,11]
[456,6,11,17,10,7,8,0]
[457,7,8,15,10,5,0,11]
[458,5,11,16,11,5,10,0]
[459,5,10,15,9,6,0,11]
[460,6,11,17,8,9,6,0]
[461,9,6,15,14,1,3,11]
[462,1,14,15,10,5,10,0]
[463,5,10,15,12,3,1,11]
[464,3,12,15,7,8,7,0]
[465,8,7,15,8,7,0,11]
[466,7,11,18,8,10,5,0]
[467,10,5,15,7,8,0,11]
[468,8,11,19,10,9,6,0]
[469,9,6,15,11,4,0,11]
[470,4,11,15,9,6,9,0]
[471,6,9,15,4,11,0,11]
[472,11,11,22,9,13,2,0]
[473,13,2,15,9,6,0,11]
[474,6,11,17,10,7,8,0]
[475,7,8,15,11,4,0,11]
[476,4,11,15,6,9,6,0]
[477,9,6,15,11,4,0,11]
[478,4,11,15,13,2,13,0]
[479,2,13,15,9,6,0,11]
[480,6,11,17,14,3,12,0]
[481,3,12,15,9,6,0,11]
[482,6,11,17,7,10,5,0]
[483,10,5,15,9,6,0,11]
[484,6,11,17,7,10,5,0]
[485,10,5,15,8,7,0,11]
[486,7,11,18,9,9,6,0]
[487,9,6,15,9,6,0,11]
[488,6,11,17,10,7,8,0]
[489,7,8,15,5,10,0,11]
[490,10,11,21,11,10,5,0]
[491,10,5,15,12,3,1,11]
[492,3,12,15,12,3,12,0]
[493,3,12,15,16,-1,5,11]
[494,-1,16,15,10,5,10,0]
[495,5,10,15,11,4,0,11]
[496,4,11,15,8,7,8,0]
[497,7,8,15,14,1,3,11]
[498,1,14,15,11,4,11,0]
[499,4,11,15,17,-2,6,11]
[500,-2,17,15,12,3,12,0]
[501,3,12,15,7,8,0,11]
[502,8,11,19,10,9,6,0]
[503,9,6,15,7,8,0,11]
[504,8,11,19,9,10,5,0]
[505,10,5,15,14,1,3,11]
[506,1,14,15,3,12,3,0]
[507,12,3,15,13,2,2,11]
[508,2,13,15,4,11,4,0]
[509,11,4,15,10,5,0,11]
[510,5,11,16,12,4,11,0]
[511,4,11,15,9,6,0,11]
[512,6,11,17,17,0,15,0]
[513,0,15,15,13,2,2,11]
[514,2,13,15,16,-1,16,0]
[515,-1,16,15,11,4,0,11]
[516,4,11,15,9,6,9,0]
[517,6,9,15,10,5,0,11]
[518,5,11,16,13,3,12,0]
[519,3,12,15,14,1,3,11]
[520,1,14,15,15,0,15,0]
[521,0,15,15,12,3,1,11]
[522,3,12,15,10,5,10,0]
[523,5,10,15,13,2,2,11]
[524,2,13,15,11,4,11,0]
[525,4,11,15,9,6,0,11]
[526,6,11,17,15,2,13,0]
[527,2,13,15,6,9,0,11]
[528,9,11,20,11,9,6,0]
[529,9,6,15,6,9,0,11]
[530,9,11,20,10,10,5,0]
[531,10,5,15,16,-1,5,11]
[532,-1,16,15,14,1,14,0]
[533,1,14,15,9,6,0,11]
[534,6,11,17,5,12,3,0]
[535,12,3,15,7,8,0,11]
[536,8,11,19,16,3,12,0]
[537,3,12,15,12,3,1,11]
[538,3,12,15,8,7,8,0]
[539,7,8,15,12,3,1,11]
[540,3,12,15,10,5,10,0]
[541,5,10,15,11,4,0,11]
[542,4,11,15,13,2,13,0]
[543,2,13,15,11,4,0,11]
[544,4,11,15,11,4,11,0]
[545,4,11,15,6,9,0,11]
[546,9,11,20,12,8,7,0]
[547,8,7,15,15,0,4,11]
[548,0,15,15,10,5,10,0]
[549,5,10,15,8,7,0,11]
[550,7,11,18,13,5,10,0]
[551,5,10,15,5,10,0,11]
[552,10,11,21,13,8,7,0]
[553,8,7,15,7,8,0,11]
[554,8,11,19,12,7,8,0]
[555,7,8,15,10,5,0,11]
[556,5,11,16,12,4,11,0]
[557,4,11,15,9,6,0,11]
[558,6,11,17,15,2,13,0]
[559,2,13,15,11,4,0,11]
[560,4,11,15,9,6,9,0]
[561,6,9,15,11,4,0,11]
[562,4,11,15,10,5,10,0]
[563,5,10,15,8,7,0,11]
[564,7,11,18,15,3,12,0]
[565,3,12,15,7,8,0,11]
[566,8,11,19,8,11,4,0]
[567,11,4,15,15,0,4,11]
[568,0,15,15,7,8,7,0]
[569,8,7,15,8,7,0,11]
[570,7,11,18,15,3,12,0]
[571,3,12,15,9,6,0,11]
[572,6,11,17,10,7,8,0]
[573,7,8,15,10,5,0,11]
[574,5,11,16,12,4,11,0]
[575,4,11,15,8,7,0,11]
[576,7,11,18,7,11,4,0]
[577,11,4,15,15,0,4,11]
[578,0,15,15,12,3,12,0]
[579,3,12,15,5,10,0,11]
[580,10,11,21,6,15,0,0]
[581,15,0,15,15,0,4,11]
[582,0,15,15,12,3,12,0]
[583,3,12,15,13,2,2,11]
[584,2,13,15,8,7,8,0]
[585,7,8,15,15,0,4,11]
[586,0,15,15,13,2,13,0]
[587,2,13,15,17,-2,6,11]
[588,-2,17,15,12,3,12,0]
[589,3,12,15,17,-2,6,11]
[590,-2,17,15,10,5,10,0]
[591,5,10,15,16,-1,5,11]
[592,-1,16,15,16,-1,16,0]
[593,-1,16,15,8,7,0,11]
[594,7,11,18,13,5,10,0]
[595,5,10,15,8,7,0,11]
[596,7,11,18,12,6,9,0]
[597,6,9,15,11,4,0,11]
[598,4,11,15,15,0,15,0]
[599,0,15,15,12,3,1,11]
[600,3,12,15,11,4,11,0]
[601,4,11,15,5,10,0,11]
[602,10,11,21,8,13,2,0]
[603,13,2,15,9,6,0,11]
[604,6,11,17,9,8,7,0]
[605,8,7,15,16,-1,5,11]
[606,-1,16,15,10,5,10,0]
[607,5,10,15,7,8,0,11]
[608,8,11,19,10,9,6,0]
[609,9,6,15,10,5,0,11]
[610,5,11,16,17,-1,16,0]
[611,-1,16,15,6,9,0,11]
[612,9,11,20,11,9,6,0]
[613,9,6,15,10,5,0,11]
[614,5,11,16,8,8,7,0]
[615,8,7,15,11,4,0,11]
[616,4,11,15,16,-1,16,0]
[617,-1,16,15,13,2,2,11]
[618,2,13,15,11,4,11,0]
[619,4,11,15,9,6,0,11]
[620,6,11,17,16,1,14,0]
[621,1,14,15,8,7,0,11]
[622,7,11,18,10,8,7,0]
[623,8,7,15,6,9,0,11]
[624,9,11,20,13,7,8,0]
[625,7,8,15,10,5,0,11]
[626,5,11,16,13,3,12,0]
[627,3,12,15,11,4,0,11]
[628,4,11,15,9,6,9,0]
[629,6,9,15,12,3,1,11]
[630,3,12,15,9,6,9,0]
[631,6,9,15,12,3,1,11]
[632,3,12,15,14,1,14,0]
[633,1,14,15,8,7,0,11]
[634,7,11,18,13,5,10,0]
[635,5,10,15,12,3,1,11]
[636,3,12,15,11,4,11,0]
[637,4,11,15,7,8,0,11]
[638,8,11,19,11,8,7,0]
[639,8,7,15,11,4,0,11]
[640,4,11,15,12,3,12,0]
[641,3,12,15,9,6,0,11]
[642,6,11,17,9,8,7,0]
[643,8,7,15,11,4,0,11]
[644,4,11,15,17,-2,17,0]
[645,-2,17,15,8,7,0,11]
[646,7,11,18,6,12,3,0]
[647,12,3,15,10,5,0,11]
[648,5,11,16,12,4,11,0]
[649,4,11,15,8,7,0,11]
[650,7,11,18,13,5,10,0]
[651,5,10,15,8,7,0,11]
[652,7,11,18,9,9,6,0]
[653,9,6,15,12,3,1,11]
[654,3,12,15,10,5,10,0]
[655,5,10,15,7,8,0,11]
[656,8,11,19,10,9,6,0]
[657,9,6,15,8,7,0,11]
[658,7,11,18,13,5,10,0]
[659,5,10,15,13,2,2,11]
[660,2,13,15,15,0,15,0]
[661,0,15,15,10,5,0,11]
[662,5,11,16,7,9,6,0]
[663,9,6,15,13,2,2,11]
[664,2,13,15,13,2,13,0]
[665,2,13,15,13,2,2,11]
[666,2,13,15,14,1,14,0]
[667,1,14,15,15,0,4,11]
[668,0,15,15,8,7,8,0]
[669,7,8,15,11,4,0,11]
[670,4,11,15,13,2,13,0]
[671,2,13,15,11,4,0,11]
[672,4,11,15,13,2,13,0]
[673,2,13,15,9,6,0,11]
[674,6,11,17,11,6,9,0]
[675,6,9,15,7,8,0,11]
[676,8,11,19,9,10,5,0]
[677,10,5,15,8,7,0,11]
[678,7,11,18,16,2,13,0]
[679,2,13,15,11,4,0,11]
[680,4,11,15,8,7,8,0]
[681,7,8,15,7,8,0,11]
[682,8,11,19,10,9,6,0]
[683,9,6,15,5,10,0,11]
[684,10,11,21,9,12,3,0]
[685,12,3,15,13,2,2,11]
[686,2,13,15,8,7,8,0]
[687,7,8,15,11,4,0,11]
[688,4,11,15,11,4,11,0]
[689,4,11,15,7,8,0,11]
[690,8,11,19,5,14,1,0]
[691,14,1,15,16,-1,5,11]
[692,-1,16,15,7,8,7,0]
[693,8,7,15,10,5,0,11]
[694,5,11,16,7,9,6,0]
[695,9,6,15,10,5,0,11]
[696,5,11,16,12,4,11,0]
[697,4,11,15,14,1,3,11]
[698,1,14,15,16,-1,16,0]
[699,-1,16,15,13,2,2,11]
[700,2,13,15,7,8,7,0]
[701,8,7,15,12,3,1,11]
[702,3,12,15,8,7,8,0]
[703,7,8,15,16,-1,5,11]
[704,-1,16,15,16,-1,16,0]
[705,-1,16,15,11,4,0,11]
[706,4,11,15,10,5,10,0]
[707,5,10,15,13,2,2,11]
[708,2,13,15,12,3,12,0]
[709,3,12,15,11,4,0,11]
[710,4,11,15,17,-2,17,0]
[711,-2,17,15,9,6,0,11]
[712,6,11,17,13,4,11,0]
[713,4,11,15,14,1,3,11]
[714,1,14,15,9,6,9,0]
[715,6,9,15,10,5,0,11]
[716,5,11,16,8,8,7,0]
[717,8,7,15,14,1,3,11]
[718,1,14,15,9,6,9,0]
[719,6,9,15,7,8,0,11]
[720,8,11,19,13,6,9,0]
[721,6,9,15,8,7,0,11]
[722,7,11,18,10,8,7,0]
[723,8,7,15,8,7,0,11]
[724,7,11,18,9,9,6,0]
[725,9,6,15,14,1,3,11]
[726,1,14,15,17,-2,17,0]
[727,-2,17,15,11,4,0,11]
[728,4,11,15,8,7,8,0]
[729,7,8,15,12,3,1,11]
[730,3,12,15,13,2,13,0]
[731,2,13,15,16,-1,5,11]
[732,-1,16,15,13,2,13,0]
[733,2,13,15,7,8,0,11]
[734,8,11,19,8,11,4,0]
[735,11,4,15,13,2,2,11]
[736,2,13,15,8,7,8,0]
[737,7,8,15,13,2,2,11]
[738,2,13,15,10,5,10,0]
[739,5,10,15,11,4,0,11]
[740,4,11,15,13,2,13,0]
[741,2,13,15,8,7,0,11]
[742,7,11,18,10,8,7,0]
[743,8,7,15,16,-1,5,11]
[744,-1,16,15,11,4,11,0]
[745,4,11,15,8,7,0,11]
[746,7,11,18,13,5,10,0]
[747,5,10,15,9,6,0,11]
[748,6,11,17,12,5,10,0]
[749,5,10,15,10,5,0,11]
[750,5,11,16,15,1,14,0]
[751,1,14,15,12,3,1,11]
[752,3,12,15,9,6,9,0]
[753,6,9,15,7,8,0,11]
[754,8,11,19,8,11,4,0]
[755,11,4,15,9,6,0,11]
[756,6,11,17,12,5,10,0]
[757,5,10,15,14,1,3,11]
[758,1,14,15,9,6,9,0]
[759,6,9,15,9,6,0,11]
[760,6,11,17,15,2,13,0]
[761,2,13,15,8,7,0,11]
[762,7,11,18,5,13,2,0]
[763,13,2,15,10,5,0,11]
[764,5,11,16,4,12,3,0]
[765,12,3,15,10,5,0,11]
[766,5,11,16,7,9,6,0]
[767,9,6,15,13,2,2,11]
[768,2,13,15,9,6,9,0]
[769,6,9,15,12,3,1,11]
[770,3,12,15,9,6,9,0]
[771,6,9,15,11,4,0,11]
[772,4,11,15,6,9,6,0]
[773,9,6,15,10,5,0,11]
[774,5,11,16,6,10,5,0]
[775,10,5,15,10,5,0,11]
[776,5,11,16,14,2,13,0]
[777,2,13,15,10,5,0,11]
[778,5,11,16,12,4,11,0]
[779,4,11,15,11,4,0,11]
[780,4,11,15,11,4,11,0]
[781,4,11,15,8,7,0,11]
[782,7,11,18,12,6,9,0]
[783,6,9,15,16,-1,5,11]
[784,-1,16,15,9,6,9,0]
[785,6,9,15,11,4,0,11]
[786,4,11,15,10,5,10,0]
[787,5,10,15,11,4,0,11]
[788,4,11,15,9,6,9,0]
[789,6,9,15,11,4,0,11]
[790,4,11,15,10,5,10,0]
[791,5,10,15,8,7,0,11]
[792,7,11,18,6,12,3,0]
[793,12,3,15,15,0,4,11]
[794,0,15,15,12,3,12,0]
[795,3,12,15,11,4,0,11]
[796,4,11,15,6,9,6,0]
[797,9,6,15,13,2,2,11]
[798,2,13,15,8,7,8,0]
[799,7,8,15,12,3,1,11]
[800,3,12,15,16,-1,16,0]
[801,-1,16,15,17,-2,6,11]
[802,-2,17,15,10,5,10,0]
[803,5,10,15,11,4,0,11]
[804,4,11,15,8,7,8,0]
[805,7,8,15,10,5,0,11]
[806,5,11,16,15,1,14,0]
[807,1,14,15,11,4,0,11]
[808,4,11,15,15,0,15,0]
[809,0,15,15,14,1,3,11]
[810,1,14,15,11,4,11,0]
[811,4,11,15,10,5,0,11]
[812,5,11,16,11,5,10,0]
[813,5,10,15,12,3,1,11]
[814,3,12,15,12,3,12,0]
[815,3,12,15,11,4,0,11]
[816,4,11,15,8,7,8,0]
[817,7,8,15,11,4,0,11]
[818,4,11,15,13,2,13,0]
[819,2,13,15,6,9,0,11]
[820,9,11,20,9,11,4,0]
[821,11,4,15,11,4,0,11]
[822,4,11,15,13,2,13,0]
[823,2,13,15,9,6,0,11]
[824,6,11,17,9,8,7,0]
[825,8,7,15,11,4,0,11]
[826,4,11,15,11,4,11,0]
[827,4,11,15,5,10,0,11]
[828,10,11,21,6,15,0,0]
[829,15,0,15,5,10,0,11]
[830,10,11,21,8,13,2,0]
[831,13,2,15,12,3,1,11]
[832,3,12,15,8,7,8,0]
[833,7,8,15,11,4,0,11]
[834,4,11,15,10,5,10,0]
[835,5,10,15,7,8,0,11]
[836,8,11,19,7,12,3,0]
[837,12,3,15,9,6,0,11]
[838,6,11,17,14,3,12,0]
[839,3,12,15,7,8,0,11]
[840,8,11,19,10,9,6,0]
[841,9,6,15,4,11,0,11]
[842,11,11,22,12,10,5,0]
[843,10,5,15,5,10,0,11]
[844,10,11,21,9,12,3,0]
[845,12,3,15,10,5,0,11]
[846,5,11,16,8,8,7,0]
[847,8,7,15,12,3,1,11]
[848,3,12,15,14,1,14,0]
[849,1,14,15,11,4,0,11]
[850,4,11,15,11,4,11,0]
[851,4,11,15,11,4,0,11]
[852,4,11,15,16,-1,16,0]
[853,-1,16,15,14,1,3,11]
[854,1,14,15,7,8,7,0]
[855,8,7,15,11,4,0,11]
[856,4,11,15,11,4,11,0]
[857,4,11,15,13,2,2,11]
[858,2,13,15,6,9,6,0]
[859,9,6,15,15,0,4,11]
[860,0,15,15,13,2,13,0]
[861,2,13,15,16,-1,5,11]
[862,-1,16,15,16,-1,16,0]
[863,-1,16,15,13,2,2,11]
[864,2,13,15,11,4,11,0]
[865,4,11,15,7,8,0,11]
[866,8,11,19,15,4,11,0]
[867,4,11,15,13,2,2,11]
[868,2,13,15,11,4,11,0]
[869,4,11,15,13,2,2,11]
[870,2,13,15,16,-1,16,0]
[871,-1,16,15,12,3,1,11]
[872,3,12,15,13,2,13,0]
[873,2,13,15,6,9,0,11]
[874,9,11,20,16,4,11,0]
[875,4,11,15,8,7,0,11]
[876,7,11,18,9,9,6,0]
[877,9,6,15,12,3,1,11]
[878,3,12,15,8,7,8,0]
[879,7,8,15,12,3,1,11]
[880,3,12,15,10,5,10,0]
[881,5,10,15,14,1,3,11]
[882,1,14,15,14,1,14,0]
[883,1,14,15,7,8,0,11]
[884,8,11,19,10,9,6,0]
[885,9,6,15,6,9,0,11]
[886,9,11,20,11,9,6,0]
[887,9,6,15,12,3,1,11]
[888,3,12,15,4,11,4,0]
[889,11,4,15,7,8,0,11]
[890,8,11,19,12,7,8,0]
[891,7,8,15,8,7,0,11]
[892,7,11,18,4,14,1,0]
[893,14,1,15,7,8,0,11]
[894,8,11,19,7,12,3,0]
[895,12,3,15,7,8,0,11]
[896,8,11,19,6,13,2,0]
[897,13,2,15,12,3,1,11]
[898,3,12,15,7,8,7,0]
[899,8,7,15,6,9,0,11]
[900,9,11,20,11,9,6,0]
[901,9,6,15,11,4,0,11]
[902,4,11,15,10,5,10,0]
[903,5,10,15,10,5,0,11]
[904,5,11,16,13,3,12,0]
[905,3,12,15,10,5,0,11]
[906,5,11,16,10,6,9,0]
[907,6,9,15,13,2,2,11]
[908,2,13,15,10,5,10,0]
[909,5,10,15,13,2,2,11]
[910,2,13,15,8,7,8,0]
[911,7,8,15,15,0,4,11]
[912,0,15,15,3,12,3,0]
[913,12,3,15,10,5,0,11]
[914,5,11,16,17,-1,16,0]
[915,-1,16,15,15,0,4,11]
[916,0,15,15,10,5,10,0]
[917,5,10,15,17,-2,6,11]
[918,-2,17,15,7,8,7,0]
[919,8,7,15,11,4,0,11]
[920,4,11,15,12,3,12,0]
[921,3,12,15,13,2,2,11]
[922,2,13,15,13,2,13,0]
[923,2,13,15,10,5,0,11]
[924,5,11,16,16,0,15,0]
[925,0,15,15,11,4,0,11]
[926,4,11,15,14,1,14,0]
[927,1,14,15,11,4,0,11]
[928,4,11,15,8,7,8,0]
[929,7,8,15,8,7,0,11]
[930,7,11,18,10,8,7,0]
[931,8,7,15,14,1,3,11]
[932,1,14,15,9,6,9,0]
[933,6,9,15,12,3,1,11]
[934,3,12,15,12,3,12,0]
[935,3,12,15,13,2,2,11]
[936,2,13,15,9,6,9,0]
[937,6,9,15,10,5,0,11]
[938,5,11,16,5,11,4,0]
[939,11,4,15,8,7,0,11]
[940,7,11,18,14,4,11,0]
[941,4,11,15,10,5,0,11]
[942,5,11,16,8,8,7,0]
[943,8,7,15,12,3,1,11]
[944,3,12,15,16,-1,16,0]
[945,-1,16,15,13,2,2,11]
[946,2,13,15,12,3,12,0]
[947,3,12,15,16,-1,5,11]
[948,-1,16,15,9,6,9,0]
[949,6,9,15,7,8,0,11]
[950,8,11,19,14,5,10,0]
[951,5,10,15,16,-1,5,11]
[952,-1,16,15,9,6,9,0]
[953,6,9,15,12,3,1,11]
[954,3,12,15,14,1,14,0]
[955,1,14,15,12,3,1,11]
[956,3,12,15,8,7,8,0]
[957,7,8,15,8,7,0,11]
[958,7,11,18,9,9,6,0]
[959,9,6,15,6,9,0,11]
[960,9,11,20,17,3,12,0]
[961,3,12,15,16,-1,5,11]
[962,-1,16,15,6,9,6,0]
[963,9,6,15,13,2,2,11]
[964,2,13,15,8,7,8,0]
[965,7,8,15,10,5,0,11]
[966,5,11,16,8,8,7,0]
[967,8,7,15,12,3,1,11]
[968,3,12,15,7,8,7,0]
[969,8,7,15,7,8,0,11]
[970,8,11,19,15,4,11,0]
[971,4,11,15,7,8,0,11]
[972,8,11,19,9,10,5,0]
[973,10,5,15,10,5,0,11]
[974,5,11,16,12,4,11,0]
[975,4,11,15,8,7,0,11]
[976,7,11,18,7,11,4,0]
[977,11,4,15,8,7,0,11]
[978,7,11,18,13,5,10,0]
[979,5,10,15,11,4,0,11]
[980,4,11,15,11,4,11,0]
[981,4,11,15,12,3,1,11]
[982,3,12,15,13,2,13,0]
[983,2,13,15,13,2,2,11]
[984,2,13,15,12,3,12,0]
[985,3,12,15,5,10,0,11]
[986,10,11,21,10,11,4,0]
[987,11,4,15,10,5,0,11]
[988,5,11,16,11,5,10,0]
[989,5,10,15,9,6,0,11]
[990,6,11,17,13,4,11,0]
[991,4,11,15,12,3,1,11]
[992,3,12,15,11,4,11,0]
[993,4,11,15,9,6,0,11]
[994,6,11,17,7,10,5,0]
[995,10,5,15,13,2,2,11]
[996,2,13,15,11,4,11,0]
[997,4,11,15,13,2,2,11]
[998,2,13,15,14,1,14,0]
[999,1,14,15,7,8,0,11]
[1000,8,11,19,10,9,6,0]
[1001,9,6,15,13,2,2,11]
[1002,2,13,15,11,4,11,0]
[1003,4,11,15,6,9,0,11]
[1004,9,11,20,15,5,10,0]
[1005,5,10,15,10,5,0,11]
[1006,5,11,16,10,6,9,0]
[1007,6,9,15,9,6,0,11]
[1008,6,11,17,13,4,11,0]
[1009,4,11,15,8,7,0,11]
[1010,7,11,18,13,5,10,0]
[1011,5,10,15,14,1,3,11]
[1012,1,14,15,11,4,11,0]
[1013,4,11,15,7,8,0,11]
[1014,8,11,19,11,8,7,0]
[1015,8,7,15,15,0,4,11]
[1016,0,15,15,9,6,9,0]
[1017,6,9,15,16,-1,5,11]
[1018,-1,16,15,12,3,12,0]
[1019,3,12,15,14,1,3,11]
[1020,1,14,15,6,9,6,0]
[1021,9,6,15,16,-1,5,11]
[1022,-1,16,15,7,8,7,0]
[1023,8,7,15,14,1,3,11]
[1024,1,14,15,11,4,11,0]
[1025,4,11,15,7,8,0,11]
[1026,8,11,19,12,7,8,0]
[1027,7,8,15,13,2,2,11]
[1028,2,13,15,12,3,12,0]
[1029,3,12,15,15,0,4,11]
[1030,0,15,15,9,6,9,0]
[1031,6,9,15,9,6,0,11]
[1032,6,11,17,15,2,13,0]
[1033,2,13,15,14,1,3,11]
[1034,1,14,15,6,9,6,0]
[1035,9,6,15,7,8,0,11]
[1036,8,11,19,10,9,6,0]
[1037,9,6,15,11,4,0,11]
[1038,4,11,15,9,6,9,0]
[1039,6,9,15,14,1,3,11]
[1040,1,14,15,9,6,9,0]
[1041,6,9,15,18,-3,7,11]
[1042,-3,18,15,13,2,13,0]
[1043,2,13,15,8,7,0,11]
[1044,7,11,18,18,0,15,0]
[1045,0,15,15,9,6,0,11]
[1046,6,11,17,7,10,5,0]
[1047,10,5,15,12,3,1,11]
[1048,3,12,15,7,8,7,0]
[1049,8,7,15,7,8,0,11]
[1050,8,11,19,12,7,8,0]
[1051,7,8,15,11,4,0,11]
[1052,4,11,15,14,1,14,0]
[1053,1,14,15,11,4,0,11]
[1054,4,11,15,9,6,9,0]
[1055,6,9,15,7,8,0,11]
[1056,8,11,19,6,13,2,0]
[1057,13,2,15,12,3,1,11]
[1058,3,12,15,10,5,10,0]
[1059,5,10,15,8,7,0,11]
[1060,7,11,18,18,0,15,0]
[1061,0,15,15,8,7,0,11]
[1062,7,11,18,11,7,8,0]
[1063,7,8,15,10,5,0,11]
[1064,5,11,16,16,0,15,0]
[1065,0,15,15,10,5,0,11]
[1066,5,11,16,10,6,9,0]
[1067,6,9,15,6,9,0,11]
[1068,9,11,20,14,6,9,0]
[1069,6,9,15,10,5,0,11]
[1070,5,11,16,5,11,4,0]
[1071,11,4,15,10,5,0,11]
[1072,5,11,16,9,7,8,0]
[1073,7,8,15,6,9,0,11]
[1074,9,11,20,10,10,5,0]
[1075,10,5,15,10,5,0,11]
[1076,5,11,16,7,9,6,0]
[1077,9,6,15,7,8,0,11]
[1078,8,11,19,9,10,5,0]
[1079,10,5,15,12,3,1,11]
[1080,3,12,15,13,2,13,0]
[1081,2,13,15,5,10,0,11]
[1082,10,11,21,7,14,1,0]
[1083,14,1,15,8,7,0,11]
[1084,7,11,18,9,9,6,0]
[1085,9,6,15,9,6,0,11]
[1086,6,11,17,8,9,6,0]
[1087,9,6,15,15,0,4,11]
[1088,0,15,15,8,7,8,0]
[1089,7,8,15,12,3,1,11]
[1090,3,12,15,8,7,8,0]
[1091,7,8,15,9,6,0,11]
[1092,6,11,17,8,9,6,0]
[1093,9,6,15,16,-1,5,11]
[1094,-1,16,15,9,6,9,0]
[1095,6,9,15,11,4,0,11]
[1096,4,11,15,10,5,10,0]
[1097,5,10,15,10,5,0,11]
[1098,5,11,16,8,8,7,0]
[1099,8,7,15,6,9,0,11]
[1100,9,11,20,8,12,3,0]
[1101,12,3,15,14,1,3,11]
[1102,1,14,15,11,4,11,0]
[1103,4,11,15,12,3,1,11]
[1104,3,12,15,16,-1,16,0]
[1105,-1,16,15,6,9,0,11]
[1106,9,11,20,11,9,6,0]
[1107,9,6,15,14,1,3,11]
[1108,1,14,15,17,-2,17,0]
[1109,-2,17,15,9,6,0,11]
[1110,6,11,17,10,7,8,0]
[1111,7,8,15,7,8,0,11]
[1112,8,11,19,10,9,6,0]
[1113,9,6,15,10,5,0,11]
[1114,5,11,16,10,6,9,0]
[1115,6,9,15,17,-2,6,11]
[1116,-2,17,15,5,10,5,0]
[1117,10,5,15,10,5,0,11]
[1118,5,11,16,7,9,6,0]
[1119,9,6,15,7,8,0,11]
[1120,8,11,19,10,9,6,0]
[1121,9,6,15,10,5,0,11]
[1122,5,11,16,6,10,5,0]
[1123,10,5,15,9,6,0,11]
[1124,6,11,17,16,1,14,0]
[1125,1,14,15,7,8,0,11]
[1126,8,11,19,15,4,11,0]
[1127,4,11,15,15,0,4,11]
[1128,0,15,15,18,-3,18,0]
[1129,-3,18,15,12,3,1,11]
[1130,3,12,15,10,5,10,0]
[1131,5,10,15,13,2,2,11]
[1132,2,13,15,12,3,12,0]
[1133,3,12,15,7,8,0,11]
[1134,8,11,19,15,4,11,0]
[1135,4,11,15,16,-1,5,11]
[1136,-1,16,15,8,7,8,0]
[1137,7,8,15,14,1,3,11]
[1138,1,14,15,12,3,12,0]
[1139,3,12,15,8,7,0,11]
[1140,7,11,18,13,5,10,0]
[1141,5,10,15,16,-1,5,11]
[1142,-1,16,15,8,7,8,0]
[1143,7,8,15,10,5,0,11]
[1144,5,11,16,10,6,9,0]
[1145,6,9,15,11,4,0,11]
[1146,4,11,15,9,6,9,0]
[1147,6,9,15,9,6,0,11]
[1148,6,11,17,14,3,12,0]
[1149,3,12,15,8,7,0,11]
[1150,7,11,18,8,10,5,0]
[1151,10,5,15,7,8,0,11]
[1152,8,11,19,13,6,9,0]
[1153,6,9,15,8,7,0,11]
[1154,7,11,18,10,8,7,0]
[1155,8,7,15,11,4,0,11]
[1156,4,11,15,12,3,12,0]
[1157,3,12,15,8,7,0,11]
[1158,7,11,18,7,11,4,0]
[1159,11,4,15,9,6,0,11]
[1160,6,11,17,12,5,10,0]
[1161,5,10,15,11,4,0,11]
[1162,4,11,15,9,6,9,0]
[1163,6,9,15,9,6,0,11]
[1164,6,11,17,12,5,10,0]
[1165,5,10,15,10,5,0,11]
[1166,5,11,16,10,6,9,0]
[1167,6,9,15,14,1,3,11]
[1168,1,14,15,12,3,12,0]
[1169,3,12,15,13,2,2,11]
[1170,2,13,15,8,7,8,0]
[1171,7,8,15,7,8,0,11]
[1172,8,11,19,13,6,9,0]
[1173,6,9,15,7,8,0,11]
[1174,8,11,19,14,5,10,0]
[1175,5,10,15,14,1,3,11]
[1176,1,14,15,10,5,10,0]
[1177,5,10,15,7,8,0,11]
[1178,8,11,19,10,9,6,0]
[1179,9,6,15,11,4,0,11]
[1180,4,11,15,11,4,11,0]
[1181,4,11,15,8,7,0,11]
[1182,7,11,18,12,6,9,0]
[1183,6,9,15,10,5,0,11]
[1184,5,11,16,12,4,11,0]
[1185,4,11,15,13,2,2,11]
[1186,2,13,15,11,4,11,0]
[1187,4,11,15,12,3,1,11]
[1188,3,12,15,14,1,14,0]
[1189,1,14,15,10,5,0,11]
[1190,5,11,16,14,2,13,0]
[1191,2,13,15,14,1,3,11]
[1192,1,14,15,6,9,6,0]
[1193,9,6,15,16,-1,5,11]
[1194,-1,16,15,9,6,9,0]
[1195,6,9,15,15,0,4,11]
[1196,0,15,15,15,0,15,0]
[1197,0,15,15,8,7,0,11]
[1198,7,11,18,10,8,7,0]
[1199,8,7,15,7,8,0,11]
[1200,8,11,19,15,4,11,0]
[1201,4,11,15,13,2,2,11]
[1202,2,13,15,13,2,13,0]
[1203,2,13,15,7,8,0,11]
[1204,8,11,19,8,11,4,0]
[1205,11,4,15,13,2,2,11]
[1206,2,13,15,13,2,13,0]
[1207,2,13,15,9,6,0,11]
[1208,6,11,17,7,10,5,0]
[1209,10,5,15,12,3,1,11]
[1210,3,12,15,11,4,11,0]
[1211,4,11,15,14,1,3,11]
[1212,1,14,15,13,2,13,0]
[1213,2,13,15,4,11,0,11]
[1214,11,11,22,10,12,3,0]
[1215,12,3,15,9,6,0,11]
[1216,6,11,17,8,9,6,0]
[1217,9,6,15,5,10,0,11]
[1218,10,11,21,11,10,5,0]
[1219,10,5,15,12,3,1,11]
[1220,3,12,15,15,0,15,0]
[1221,0,15,15,11,4,0,11]
[1222,4,11,15,14,1,14,0]
[1223,1,14,15,6,9,0,11]
[1224,9,11,20,8,12,3,0]
[1225,12,3,15,11,4,0,11]
[1226,4,11,15,14,1,14,0]
[1227,1,14,15,5,10,0,11]
[1228,10,11,21,9,12,3,0]
[1229,12,3,15,11,4,0,11]
[1230,4,11,15,3,12,3,0]
[1231,12,3,15,11,4,0,11]
[1232,4,11,15,12,3,12,0]
[1233,3,12,15,9,6,0,11]
[1234,6,11,17,11,6,9,0]
[1235,6,9,15,7,8,0,11]
[1236,8,11,19,9,10,5,0]
[1237,10,5,15,13,2,2,11]
[1238,2,13,15,12,3,12,0]
[1239,3,12,15,10,5,0,11]
[1240,5,11,16,11,5,10,0]
[1241,5,10,15,14,1,3,11]
[1242,1,14,15,10,5,10,0]
[1243,5,10,15,13,2,2,11]
[1244,2,13,15,10,5,10,0]
[1245,5,10,15,9,6,0,11]
[1246,6,11,17,8,9,6,0]
[1247,9,6,15,13,2,2,11]
[1248,2,13,15,14,1,14,0]
[1249,1,14,15,10,5,0,11]
[1250,5,11,16,13,3,12,0]
[1251,3,12,15,11,4,0,11]
[1252,4,11,15,11,4,11,0]
[1253,4,11,15,12,3,1,11]
[1254,3,12,15,6,9,6,0]
[1255,9,6,15,7,8,0,11]
[1256,8,11,19,7,12,3,0]
[1257,12,3,15,14,1,3,11]
[1258,1,14,15,10,5,10,0]
[1259,5,10,15,12,3,1,11]
[1260,3,12,15,13,2,13,0]
[1261,2,13,15,9,6,0,11]
[1262,6,11,17,8,9,6,0]
[1263,9,6,15,9,6,0,11]
[1264,6,11,17,11,6,9,0]
[1265,6,9,15,11,4,0,11]
[1266,4,11,15,12,3,12,0]
[1267,3,12,15,10,5,0,11]
[1268,5,11,16,11,5,10,0]
[1269,5,10,15,14,1,3,11]
[1270,1,14,15,10,5,10,0]
[1271,5,10,15,10,5,0,11]
[1272,5,11,16,9,7,8,0]
[1273,7,8,15,14,1,3,11]
[1274,1,14,15,14,1,14,0]
[1275,1,14,15,12,3,1,11]
[1276,3,12,15,10,5,10,0]
[1277,5,10,15,13,2,2,11]
[1278,2,13,15,11,4,11,0]
[1279,4,11,15,17,-2,6,11]
[1280,-2,17,15,6,9,6,0]
[1281,9,6,15,11,4,0,11]
[1282,4,11,15,9,6,9,0]
[1283,6,9,15,10,5,0,11]
[1284,5,11,16,11,5,10,0]
[1285,5,10,15,9,6,0,11]
[1286,6,11,17,8,9,6,0]
[1287,9,6,15,12,3,1,11]
[1288,3,12,15,8,7,8,0]
[1289,7,8,15,7,8,0,11]
[1290,8,11,19,12,7,8,0]
[1291,7,8,15,10,5,0,11]
[1292,5,11,16,11,5,10,0]
[1293,5,10,15,6,9,0,11]
[1294,9,11,20,8,12,3,0]
[1295,12,3,15,8,7,0,11]
[1296,7,11,18,12,6,9,0]
[1297,6,9,15,14,1,3,11]
[1298,1,14,15,10,5,10,0]
[1299,5,10,15,7,8,0,11]
[1300,8,11,19,12,7,8,0]
[1301,7,8,15,11,4,0,11]
[1302,4,11,15,10,5,10,0]
[1303,5,10,15,17,-2,6,11]
[1304,-2,17,15,12,3,12,0]
[1305,3,12,15,13,2,2,11]
[1306,2,13,15,12,3,12,0]
[1307,3,12,15,13,2,2,11]
[1308,2,13,15,5,10,5,0]
[1309,10,5,15,8,7,0,11]
[1310,7,11,18,8,10,5,0]
[1311,10,5,15,7,8,0,11]
[1312,8,11,19,9,10,5,0]
[1313,10,5,15,14,1,3,11]
[1314,1,14,15,6,9,6,0]
[1315,9,6,15,10,5,0,11]
[1316,5,11,16,12,4,11,0]
[1317,4,11,15,9,6,0,11]
[1318,6,11,17,9,8,7,0]
[1319,8,7,15,9,6,0,11]
[1320,6,11,17,16,1,14,0]
[1321,1,14,15,7,8,0,11]
[1322,8,11,19,7,12,3,0]
[1323,12,3,15,9,6,0,11]
[1324,6,11,17,11,6,9,0]
[1325,6,9,15,8,7,0,11]
[1326,7,11,18,6,12,3,0]
[1327,12,3,15,5,10,0,11]
[1328,10,11,21,10,11,4,0]
[1329,11,4,15,9,6,0,11]
[1330,6,11,17,4,13,2,0]
[1331,13,2,15,14,1,3,11]
[1332,1,14,15,13,2,13,0]
[1333,2,13,15,12,3,1,11]
[1334,3,12,15,13,2,13,0]
[1335,2,13,15,16,-1,5,11]
[1336,-1,16,15,6,9,6,0]
[1337,9,6,15,9,6,0,11]
[1338,6,11,17,12,5,10,0]
[1339,5,10,15,9,6,0,11]
[1340,6,11,17,4,13,2,0]
[1341,13,2,15,14,1,3,11]
[1342,1,14,15,10,5,10,0]
[1343,5,10,15,7,8,0,11]
[1344,8,11,19,5,14,1,0]
[1345,14,1,15,12,3,1,11]
[1346,3,12,15,11,4,11,0]
[1347,4,11,15,10,5,0,11]
[1348,5,11,16,12,4,11,0]
[1349,4,11,15,14,1,3,11]
[1350,1,14,15,10,5,10,0]
[1351,5,10,15,11,4,0,11]
[1352,4,11,15,6,9,6,0]
[1353,9,6,15,15,0,4,11]
[1354,0,15,15,11,4,11,0]
[1355,4,11,15,8,7,0,11]
[1356,7,11,18,12,6,9,0]
[1357,6,9,15,10,5,0,11]
[1358,5,11,16,12,4,11,0]
[1359,4,11,15,8,7,0,11]
[1360,7,11,18,7,11,4,0]
[1361,11,4,15,10,5,0,11]
[1362,5,11,16,8,8,7,0]
[1363,8,7,15,13,2,2,11]
[1364,2,13,15,14,1,14,0]
[1365,1,14,15,12,3,1,11]
[1366,3,12,15,14,1,14,0]
[1367,1,14,15,4,11,0,11]
[1368,11,11,22,11,11,4,0]
[1369,11,4,15,11,4,0,11]
[1370,4,11,15,11,4,11,0]
[1371,4,11,15,5,10,0,11]
[1372,10,11,21,6,15,0,0]
[1373,15,0,15,14,1,3,11]
[1374,1,14,15,10,5,10,0]
[1375,5,10,15,8,7,0,11]
[1376,7,11,18,6,12,3,0]
[1377,12,3,15,10,5,0,11]
[1378,5,11,16,12,4,11,0]
[1379,4,11,15,5,10,0,11]
[1380,10,11,21,10,11,4,0]
[1381,11,4,15,11,4,0,11]
[1382,4,11,15,9,6,9,0]
[1383,6,9,15,8,7,0,11]
[1384,7,11,18,13,5,10,0]
[1385,5,10,15,12,3,1,11]
[1386,3,12,15,7,8,7,0]
[1387,8,7,15,7,8,0,11]
[1388,8,11,19,15,4,11,0]
[1389,4,11,15,14,1,3,11]
[1390,1,14,15,7,8,7,0]
[1391,8,7,15,6,9,0,11]
[1392,9,11,20,10,10,5,0]
[1393,10,5,15,14,1,3,11]
[1394,1,14,15,12,3,12,0]
[1395,3,12,15,7,8,0,11]
[1396,8,11,19,7,12,3,0]
[1397,12,3,15,9,6,0,11]
[1398,6,11,17,13,4,11,0]
[1399,4,11,15,3,12,0,11]
[1400,12,11,23,8,15,0,0]
[1401,15,0,15,7,8,0,11]
[1402,8,11,19,9,10,5,0]
[1403,10,5,15,11,4,0,11]
[1404,4,11,15,15,0,15,0]
[1405,0,15,15,14,1,3,11]
[1406,1,14,15,13,2,13,0]
[1407,2,13,15,14,1,3,11]
[1408,1,14,15,9,6,9,0]
[1409,6,9,15,10,5,0,11]
[1410,5,11,16,9,7,8,0]
[1411,7,8,15,14,1,3,11]
[1412,1,14,15,8,7,8,0]
[1413,7,8,15,15,0,4,11]
[1414,0,15,15,12,3,12,0]
[1415,3,12,15,10,5,0,11]
[1416,5,11,16,14,2,13,0]
[1417,2,13,15,14,1,3,11]
[1418,1,14,15,7,8,7,0]
[1419,8,7,15,10,5,0,11]
[1420,5,11,16,12,4,11,0]
[1421,4,11,15,7,8,0,11]
[1422,8,11,19,10,9,6,0]
[1423,9,6,15,7,8,0,11]
[1424,8,11,19,10,9,6,0]
[1425,9,6,15,8,7,0,11]
[1426,7,11,18,8,10,5,0]
[1427,10,5,15,9,6,0,11]
[1428,6,11,17,15,2,13,0]
[1429,2,13,15,9,6,0,11]
[1430,6,11,17,7,10,5,0]
[1431,10,5,15,16,-1,5,11]
[1432,-1,16,15,12,3,12,0]
[1433,3,12,15,6,9,0,11]
[1434,9,11,20,11,9,6,0]
[1435,9,6,15,14,1,3,11]
[1436,1,14,15,10,5,10,0]
[1437,5,10,15,13,2,2,11]
[1438,2,13,15,11,4,11,0]
[1439,4,11,15,10,5,0,11]
[1440,5,11,16,9,7,8,0]
[1441,7,8,15,7,8,0,11]
[1442,8,11,19,10,9,6,0]
[1443,9,6,15,7,8,0,11]
[1444,8,11,19,11,8,7,0]
[1445,8,7,15,10,5,0,11]
[1446,5,11,16,13,3,12,0]
[1447,3,12,15,12,3,1,11]
[1448,3,12,15,7,8,7,0]
[1449,8,7,15,11,4,0,11]
[1450,4,11,15,8,7,8,0]
[1451,7,8,15,5,10,0,11]
[1452,10,11,21,8,13,2,0]
[1453,13,2,15,14,1,3,11]
[1454,1,14,15,9,6,9,0]
[1455,6,9,15,14,1,3,11]
[1456,1,14,15,14,1,14,0]
[1457,1,14,15,14,1,3,11]
[1458,1,14,15,7,8,7,0]
[1459,8,7,15,12,3,1,11]
[1460,3,12,15,11,4,11,0]
[1461,4,11,15,10,5,0,11]
[1462,5,11,16,9,7,8,0]
[1463,7,8,15,8,7,0,11]
[1464,7,11,18,11,7,8,0]
[1465,7,8,15,14,1,3,11]
[1466,1,14,15,15,0,15,0]
[1467,0,15,15,9,6,0,11]
[1468,6,11,17,12,5,10,0]
[1469,5,10,15,10,5,0,11]
[1470,5,11,16,15,1,14,0]
[1471,1,14,15,10,5,0,11]
[1472,5,11,16,6,10,5,0]
[1473,10,5,15,9,6,0,11]
[1474,6,11,17,4,13,2,0]
[1475,13,2,15,13,2,2,11]
[1476,2,13,15,10,5,10,0]
[1477,5,10,15,12,3,1,11]
[1478,3,12,15,7,8,7,0]
[1479,8,7,15,11,4,0,11]
[1480,4,11,15,10,5,10,0]
[1481,5,10,15,13,2,2,11]
[1482,2,13,15,10,5,10,0]
[1483,5,10,15,12,3,1,11]
[1484,3,12,15,11,4,11,0]
[1485,4,11,15,6,9,0,11]
[1486,9,11,20,15,5,10,0]
[1487,5,10,15,10,5,0,11]
[1488,5,11,16,11,5,10,0]
[1489,5,10,15,8,7,0,11]
[1490,7,11,18,9,9,6,0]
[1491,9,6,15,7,8,0,11]
[1492,8,11,19,13,6,9,0]
[1493,6,9,15,11,4,0,11]
[1494,4,11,15,10,5,10,0]
[1495,5,10,15,15,0,4,11]
[1496,0,15,15,9,6,9,0]
[1497,6,9,15,7,8,0,11]
[1498,8,11,19,9,10,5,0]
[1499,10,5,15,10,5,0,11]
[1500,5,11,16,16,0,15,0]
[1501,0,15,15,14,1,3,11]
[1502,1,14,15,9,6,9,0]
[1503,6,9,15,15,0,4,11]
[1504,0,15,15,9,6,9,0]
[1505,6,9,15,12,3,1,11]
[1506,3,12,15,10,5,10,0]
[1507,5,10,15,9,6,0,11]
[1508,6,11,17,16,1,14,0]
[1509,1,14,15,10,5,0,11]
[1510,5,11,16,17,-1,16,0]
[1511,-1,16,15,8,7,0,11]
[1512,7,11,18,13,5,10,0]
[1513,5,10,15,15,0,4,11]
[1514,0,15,15,12,3,12,0]
[1515,3,12,15,8,7,0,11]
[1516,7,11,18,13,5,10,0]
[1517,5,10,15,12,3,1,11]
[1518,3,12,15,4,11,4,0]
[1519,11,4,15,9,6,0,11]
[1520,6,11,17,12,5,10,0]
[1521,5,10,15,8,7,0,11]
[1522,7,11,18,12,6,9,0]
[1523,6,9,15,9,6,0,11]
[1524,6,11,17,8,9,6,0]
[1525,9,6,15,13,2,2,11]
[1526,2,13,15,14,1,14,0]
[1527,1,14,15,8,7,0,11]
[1528,7,11,18,10,8,7,0]
[1529,8,7,15,11,4,0,11]
[1530,4,11,15,13,2,13,0]
[1531,2,13,15,8,7,0,11]
[1532,7,11,18,15,3,12,0]
[1533,3,12,15,12,3,1,11]
[1534,3,12,15,11,4,11,0]
[1535,4,11,15,7,8,0,11]
[1536,8,11,19,6,13,2,0]
[1537,13,2,15,12,3,1,11]
[1538,3,12,15,10,5,10,0]
[1539,5,10,15,16,-1,5,11]
[1540,-1,16,15,14,1,14,0]
[1541,1,14,15,8,7,0,11]
[1542,7,11,18,12,6,9,0]
[1543,6,9,15,11,4,0,11]
[1544,4,11,15,13,2,13,0]
[1545,2,13,15,15,0,4,11]
[1546,0,15,15,8,7,8,0]
[1547,7,8,15,12,3,1,11]
[1548,3,12,15,12,3,12,0]
[1549,3,12,15,7,8,0,11]
[1550,8,11,19,11,8,7,0]
[1551,8,7,15,12,3,1,11]
[1552,3,12,15,11,4,11,0]
[1553,4,11,15,8,7,0,11]
[1554,7,11,18,8,10,5,0]
[1555,10,5,15,15,0,4,11]
[1556,0,15,15,5,10,5,0]
[1557,10,5,15,12,3,1,11]
[1558,3,12,15,14,1,14,0]
[1559,1,14,15,9,6,0,11]
[1560,6,11,17,10,7,8,0]
[1561,7,8,15,12,3,1,11]
[1562,3,12,15,9,6,9,0]
[1563,6,9,15,11,4,0,11]
[1564,4,11,15,10,5,10,0]
[1565,5,10,15,9,6,0,11]
[1566,6,11,17,9,8,7,0]
[1567,8,7,15,9,6,0,11]
[1568,6,11,17,15,2,13,0]
[1569,2,13,15,10,5,0,11]
[1570,5,11,16,13,3,12,0]
[1571,3,12,15,5,10,0,11]
[1572,10,11,21,8,13,2,0]
[1573,13,2,15,14,1,3,11]
[1574,1,14,15,13,2,13,0]
[1575,2,13,15,17,-2,6,11]
[1576,-2,17,15,9,6,9,0]
[1577,6,9,15,4,11,0,11]
[1578,11,11,22,10,12,3,0]
[1579,12,3,15,9,6,0,11]
[1580,6,11,17,4,13,2,0]
[1581,13,2,15,6,9,0,11]
[1582,9,11,20,11,9,6,0]
[1583,9,6,15,11,4,0,11]
[1584,4,11,15,11,4,11,0]
[1585,4,11,15,14,1,3,11]
[1586,1,14,15,15,0,15,0]
[1587,0,15,15,8,7,0,11]
[1588,7,11,18,9,9,6,0]
[1589,9,6,15,14,1,3,11]
[1590,1,14,15,9,6,9,0]
[1591,6,9,15,13,2,2,11]
[1592,2,13,15,9,6,9,0]
[1593,6,9,15,13,2,2,11]
[1594,2,13,15,3,12,3,0]
[1595,12,3,15,8,7,0,11]
[1596,7,11,18,14,4,11,0]
[1597,4,11,15,9,6,0,11]
[1598,6,11,17,13,4,11,0]
[1599,4,11,15,9,6,0,11]
[1600,6,11,17,5,12,3,0]
[1601,12,3,15,5,10,0,11]
[1602,10,11,21,9,12,3,0]
[1603,12,3,15,16,-1,5,11]
[1604,-1,16,15,12,3,12,0]
[1605,3,12,15,12,3,1,11]
[1606,3,12,15,9,6,9,0]
[1607,6,9,15,10,5,0,11]
[1608,5,11,16,12,4,11,0]
[1609,4,11,15,9,6,0,11]
[1610,6,11,17,10,7,8,0]
[1611,7,8,15,11,4,0,11]
[1612,4,11,15,11,4,11,0]
[1613,4,11,15,11,4,0,11]
[1614,4,11,15,12,3,12,0]
[1615,3,12,15,15,0,4,11]
[1616,0,15,15,12,3,12,0]
[1617,3,12,15,12,3,1,11]
[1618,3,12,15,13,2,13,0]
[1619,2,13,15,6,9,0,11]
[1620,9,11,20,15,5,10,0]
[1621,5,10,15,11,4,0,11]
[1622,4,11,15,13,2,13,0]
[1623,2,13,15,11,4,0,11]
[1624,4,11,15,5,10,5,0]
[1625,10,5,15,10,5,0,11]
[1626,5,11,16,8,8,7,0]
[1627,8,7,15,4,11,0,11]
[1628,11,11,22,9,13,2,0]
[1629,13,2,15,10,5,0,11]
[1630,5,11,16,14,2,13,0]
[1631,2,13,15,15,0,4,11]
[1632,0,15,15,10,5,10,0]
[1633,5,10,15,10,5,0,11]
[1634,5,11,16,8,8,7,0]
[1635,8,7,15,6,9,0,11]
[1636,9,11,20,11,9,6,0]
[1637,9,6,15,10,5,0,11]
[1638,5,11,16,6,10,5,0]
[1639,10,5,15,12,3,1,11]
[1640,3,12,15,9,6,9,0]
[1641,6,9,15,11,4,0,11]
[1642,4,11,15,8,7,8,0]
[1643,7,8,15,15,0,4,11]
[1644,0,15,15,8,7,8,0]
[1645,7,8,15,7,8,0,11]
[1646,8,11,19,12,7,8,0]
[1647,7,8,15,7,8,0,11]
[1648,8,11,19,12,7,8,0]
[1649,7,8,15,13,2,2,11]
[1650,2,13,15,8,7,8,0]
[1651,7,8,15,14,1,3,11]
[1652,1,14,15,13,2,13,0]
[1653,2,13,15,9,6,0,11]
[1654,6,11,17,10,7,8,0]
[1655,7,8,15,10,5,0,11]
[1656,5,11,16,10,6,9,0]
[1657,6,9,15,11,4,0,11]
[1658,4,11,15,6,9,6,0]
[1659,9,6,15,12,3,1,11]
[1660,3,12,15,16,-1,16,0]
[1661,-1,16,15,8,7,0,11]
[1662,7,11,18,12,6,9,0]
[1663,6,9,15,16,-1,5,11]
[1664,-1,16,15,9,6,9,0]
[1665,6,9,15,10,5,0,11]
[1666,5,11,16,9,7,8,0]
[1667,7,8,15,11,4,0,11]
[1668,4,11,15,11,4,11,0]
[1669,4,11,15,11,4,0,11]
[1670,4,11,15,8,7,8,0]
[1671,7,8,15,6,9,0,11]
[1672,9,11,20,8,12,3,0]
[1673,12,3,15,13,2,2,11]
[1674,2,13,15,9,6,9,0]
[1675,6,9,15,12,3,1,11]
[1676,3,12,15,14,1,14,0]
[1677,1,14,15,11,4,0,11]
[1678,4,11,15,11,4,11,0]
[1679,4,11,15,10,5,0,11]
[1680,5,11,16,17,-1,16,0]
[1681,-1,16,15,7,8,0,11]
[1682,8,11,19,12,7,8,0]
[1683,7,8,15,11,4,0,11]
[1684,4,11,15,16,-1,16,0]
[1685,-1,16,15,10,5,0,11]
[1686,5,11,16,11,5,10,0]
[1687,5,10,15,6,9,0,11]
[1688,9,11,20,10,10,5,0]
[1689,10,5,15,9,6,0,11]
[1690,6,11,17,18,-1,16,0]
[1691,-1,16,15,12,3,1,11]
[1692,3,12,15,17,-2,17,0]
[1693,-2,17,15,10,5,0,11]
[1694,5,11,16,7,9,6,0]
[1695,9,6,15,8,7,0,11]
[1696,7,11,18,12,6,9,0]
[1697,6,9,15,11,4,0,11]
[1698,4,11,15,10,5,10,0]
[1699,5,10,15,11,4,0,11]
[1700,4,11,15,8,7,8,0]
[1701,7,8,15,11,4,0,11]
[1702,4,11,15,7,8,7,0]
[1703,8,7,15,8,7,0,11]
[1704,7,11,18,16,2,13,0]
[1705,2,13,15,13,2,2,11]
[1706,2,13,15,9,6,9,0]
[1707,6,9,15,13,2,2,11]
[1708,2,13,15,14,1,14,0]
[1709,1,14,15,8,7,0,11]
[1710,7,11,18,9,9,6,0]
[1711,9,6,15,10,5,0,11]
[1712,5,11,16,8,8,7,0]
[1713,8,7,15,9,6,0,11]
[1714,6,11,17,11,6,9,0]
[1715,6,9,15,7,8,0,11]
[1716,8,11,19,13,6,9,0]
[1717,6,9,15,15,0,4,11]
[1718,0,15,15,9,6,9,0]
[1719,6,9,15,11,4,0,11]
[1720,4,11,15,11,4,11,0]
[1721,4,11,15,7,8,0,11]
[1722,8,11,19,8,11,4,0]
[1723,11,4,15,4,11,0,11]
[1724,11,11,22,11,11,4,0]
[1725,11,4,15,8,7,0,11]
[1726,7,11,18,8,10,5,0]
[1727,10,5,15,11,4,0,11]
[1728,4,11,15,9,6,9,0]
[1729,6,9,15,11,4,0,11]
[1730,4,11,15,5,10,5,0]
[1731,10,5,15,8,7,0,11]
[1732,7,11,18,10,8,7,0]
[1733,8,7,15,16,-1,5,11]
[1734,-1,16,15,12,3,12,0]
[1735,3,12,15,12,3,1,11]
[1736,3,12,15,13,2,13,0]
[1737,2,13,15,9,6,0,11]
[1738,6,11,17,7,10,5,0]
[1739,10,5,15,11,4,0,11]
[1740,4,11,15,8,7,8,0]
[1741,7,8,15,9,6,0,11]
[1742,6,11,17,11,6,9,0]
[1743,6,9,15,17,-2,6,11]
[1744,-2,17,15,9,6,9,0]
[1745,6,9,15,12,3,1,11]
[1746,3,12,15,10,5,10,0]
[1747,5,10,15,12,3,1,11]
[1748,3,12,15,10,5,10,0]
[1749,5,10,15,14,1,3,11]
[1750,1,14,15,13,2,13,0]
[1751,2,13,15,10,5,0,11]
[1752,5,11,16,13,3,12,0]
[1753,3,12,15,9,6,0,11]
[1754,6,11,17,10,7,8,0]
[1755,7,8,15,11,4,0,11]
[1756,4,11,15,15,0,15,0]
[1757,0,15,15,10,5,0,11]
[1758,5,11,16,13,3,12,0]
[1759,3,12,15,5,10,0,11]
[1760,10,11,21,14,7,8,0]
[1761,7,8,15,6,9,0,11]
[1762,9,11,20,13,7,8,0]
[1763,7,8,15,13,2,2,11]
[1764,2,13,15,17,-2,17,0]
[1765,-2,17,15,13,2,2,11]
[1766,2,13,15,8,7,8,0]
[1767,7,8,15,13,2,2,11]
[1768,2,13,15,11,4,11,0]
[1769,4,11,15,12,3,1,11]
[1770,3,12,15,9,6,9,0]
[1771,6,9,15,13,2,2,11]
[1772,2,13,15,15,0,15,0]
[1773,0,15,15,10,5,0,11]
[1774,5,11,16,9,7,8,0]
[1775,7,8,15,15,0,4,11]
[1776,0,15,15,9,6,9,0]
[1777,6,9,15,15,0,4,11]
[1778,0,15,15,11,4,11,0]
[1779,4,11,15,14,1,3,11]
[1780,1,14,15,10,5,10,0]
[1781,5,10,15,10,5,0,11]
[1782,5,11,16,7,9,6,0]
[1783,9,6,15,10,5,0,11]
[1784,5,11,16,13,3,12,0]
[1785,3,12,15,12,3,1,11]
[1786,3,12,15,14,1,14,0]
[1787,1,14,15,7,8,0,11]
[1788,8,11,19,5,14,1,0]
[1789,14,1,15,8,7,0,11]
[1790,7,11,18,9,9,6,0]
[1791,9,6,15,8,7,0,11]
[1792,7,11,18,14,4,11,0]
[1793,4,11,15,4,11,0,11]
[1794,11,11,22,9,13,2,0]
[1795,13,2,15,8,7,0,11]
[1796,7,11,18,15,3,12,0]
[1797,3,12,15,11,4,0,11]
[1798,4,11,15,6,9,6,0]
[1799,9,6,15,14,1,3,11]
[1800,1,14,15,14,1,14,0]
[1801,1,14,15,7,8,0,11]
[1802,8,11,19,11,8,7,0]
[1803,8,7,15,11,4,0,11]
[1804,4,11,15,8,7,8,0]
[1805,7,8,15,10,5,0,11]
[1806,5,11,16,12,4,11,0]
[1807,4,11,15,10,5,0,11]
[1808,5,11,16,9,7,8,0]
[1809,7,8,15,11,4,0,11]
[1810,4,11,15,13,2,13,0]
[1811,2,13,15,13,2,2,11]
[1812,2,13,15,7,8,7,0]
[1813,8,7,15,14,1,3,11]
[1814,1,14,15,9,6,9,0]
[1815,6,9,15,7,8,0,11]
[1816,8,11,19,11,8,7,0]
[1817,8,7,15,9,6,0,11]
[1818,6,11,17,7,10,5,0]
[1819,10,5,15,11,4,0,11]
[1820,4,11,15,5,10,5,0]
[1821,10,5,15,12,3,1,11]
[1822,3,12,15,9,6,9,0]
[1823,6,9,15,13,2,2,11]
[1824,2,13,15,11,4,11,0]
[1825,4,11,15,6,9,0,11]
[1826,9,11,20,5,15,0,0]
[1827,15,0,15,8,7,0,11]
[1828,7,11,18,13,5,10,0]
[1829,5,10,15,13,2,2,11]
[1830,2,13,15,13,2,13,0]
[1831,2,13,15,11,4,0,11]
[1832,4,11,15,12,3,12,0]
[1833,3,12,15,14,1,3,11]
[1834,1,14,15,17,-2,17,0]
[1835,-2,17,15,9,6,0,11]
[1836,6,11,17,15,2,13,0]
[1837,2,13,15,14,1,3,11]
[1838,1,14,15,12,3,12,0]
[1839,3,12,15,14,1,3,11]
[1840,1,14,15,14,1,14,0]
[1841,1,14,15,13,2,2,11]
[1842,2,13,15,13,2,13,0]
[1843,2,13,15,9,6,0,11]
[1844,6,11,17,9,8,7,0]
[1845,8,7,15,10,5,0,11]
[1846,5,11,16,7,9,6,0]
[1847,9,6,15,9,6,0,11]
[1848,6,11,17,15,2,13,0]
[1849,2,13,15,14,1,3,11]
[1850,1,14,15,10,5,10,0]
[1851,5,10,15,14,1,3,11]
[1852,1,14,15,9,6,9,0]
[1853,6,9,15,10,5,0,11]
[1854,5,11,16,16,0,15,0]
[1855,0,15,15,12,3,1,11]
[1856,3,12,15,10,5,10,0]
[1857,5,10,15,10,5,0,11]
[1858,5,11,16,12,4,11,0]
[1859,4,11,15,16,-1,5,11]
[1860,-1,16,15,13,2,13,0]
[1861,2,13,15,13,2,2,11]
[1862,2,13,15,9,6,9,0]
[1863,6,9,15,14,1,3,11]
[1864,1,14,15,11,4,11,0]
[1865,4,11,15,12,3,1,11]
[1866,3,12,15,9,6,9,0]
[1867,6,9,15,15,0,4,11]
[1868,0,15,15,13,2,13,0]
[1869,2,13,15,13,2,2,11]
[1870,2,13,15,6,9,6,0]
[1871,9,6,15,11,4,0,11]
[1872,4,11,15,13,2,13,0]
[1873,2,13,15,5,10,0,11]
[1874,10,11,21,13,8,7,0]
[1875,8,7,15,9,6,0,11]
[1876,6,11,17,5,12,3,0]
[1877,12,3,15,12,3,1,11]
[1878,3,12,15,7,8,7,0]
[1879,8,7,15,12,3,1,11]
[1880,3,12,15,6,9,6,0]
[1881,9,6,15,4,11,0,11]
[1882,11,11,22,11,11,4,0]
[1883,11,4,15,10,5,0,11]
[1884,5,11,16,11,5,10,0]
[1885,5,10,15,14,1,3,11]
[1886,1,14,15,6,9,6,0]
[1887,9,6,15,15,0,4,11]
[1888,0,15,15,13,2,13,0]
[1889,2,13,15,12,3,1,11]
[1890,3,12,15,6,9,6,0]
[1891,9,6,15,12,3,1,11]
[1892,3,12,15,7,8,7,0]
[1893,8,7,15,11,4,0,11]
[1894,4,11,15,11,4,11,0]
[1895,4,11,15,8,7,0,11]
[1896,7,11,18,10,8,7,0]
[1897,8,7,15,4,11,0,11]
[1898,11,11,22,8,14,1,0]
[1899,14,1,15,10,5,0,11]
[1900,5,11,16,6,10,5,0]
[1901,10,5,15,11,4,0,11]
[1902,4,11,15,17,-2,17,0]
[1903,-2,17,15,9,6,0,11]
[1904,6,11,17,12,5,10,0]
[1905,5,10,15,9,6,0,11]
[1906,6,11,17,8,9,6,0]
[1907,9,6,15,5,10,0,11]
[1908,10,11,21,14,7,8,0]
[1909,7,8,15,13,2,2,11]
[1910,2,13,15,8,7,8,0]
[1911,7,8,15,10,5,0,11]
[1912,5,11,16,9,7,8,0]
[1913,7,8,15,16,-1,5,11]
[1914,-1,16,15,15,0,15,0]
[1915,0,15,15,9,6,0,11]
[1916,6,11,17,13,4,11,0]
[1917,4,11,15,14,1,3,11]
[1918,1,14,15,11,4,11,0]
[1919,4,11,15,10,5,0,11]
[1920,5,11,16,13,3,12,0]
[1921,3,12,15,16,-1,5,11]
[1922,-1,16,15,7,8,7,0]
[1923,8,7,15,16,-1,5,11]
[1924,-1,16,15,13,2,13,0]
[1925,2,13,15,9,6,0,11]
[1926,6,11,17,10,7,8,0]
[1927,7,8,15,14,1,3,11]
[1928,1,14,15,14,1,14,0]
[1929,1,14,15,6,9,0,11]
[1930,9,11,20,12,8,7,0]
[1931,8,7,15,8,7,0,11]
[1932,7,11,18,9,9,6,0]
[1933,9,6,15,6,9,0,11]
[1934,9,11,20,13,7,8,0]
[1935,7,8,15,8,7,0,11]
[1936,7,11,18,6,12,3,0]
[1937,12,3,15,11,4,0,11]
[1938,4,11,15,13,2,13,0]
[1939,2,13,15,10,5,0,11]
[1940,5,11,16,10,6,9,0]
[1941,6,9,15,14,1,3,11]
[1942,1,14,15,9,6,9,0]
[1943,6,9,15,15,0,4,11]
[1944,0,15,15,12,3,12,0]
[1945,3,12,15,13,2,2,11]
[1946,2,13,15,9,6,9,0]
[1947,6,9,15,14,1,3,11]
[1948,1,14,15,12,3,12,0]
[1949,3,12,15,14,1,3,11]
[1950,1,14,15,9,6,9,0]
[1951,6,9,15,8,7,0,11]
[1952,7,11,18,9,9,6,0]
[1953,9,6,15,4,11,0,11]
[1954,11,11,22,7,15,0,0]
[1955,15,0,15,14,1,3,11]
[1956,1,14,15,12,3,12,0]
[1957,3,12,15,13,2,2,11]
[1958,2,13,15,12,3,12,0]
[1959,3,12,15,6,9,0,11]
[1960,9,11,20,8,12,3,0]
[1961,12,3,15,8,7,0,11]
[1962,7,11,18,10,8,7,0]
[1963,8,7,15,12,3,1,11]
[1964,3,12,15,10,5,10,0]
[1965,5,10,15,13,2,2,11]
[1966,2,13,15,18,-3,18,0]
[1967,-3,18,15,11,4,0,11]
[1968,4,11,15,9,6,9,0]
[1969,6,9,15,13,2,2,11]
[1970,2,13,15,11,4,11,0]
[1971,4,11,15,11,4,0,11]
[1972,4,11,15,10,5,10,0]
[1973,5,10,15,13,2,2,11]
[1974,2,13,15,8,7,8,0]
[1975,7,8,15,9,6,0,11]
[1976,6,11,17,14,3,12,0]
[1977,3,12,15,5,10,0,11]
[1978,10,11,21,13,8,7,0]
[1979,8,7,15,14,1,3,11]
[1980,1,14,15,9,6,9,0]
[1981,6,9,15,18,-3,7,11]
[1982,-3,18,15,5,10,5,0]
[1983,10,5,15,12,3,1,11]
[1984,3,12,15,4,11,4,0]
[1985,11,4,15,8,7,0,11]
[1986,7,11,18,9,9,6,0]
[1987,9,6,15,8,7,0,11]
[1988,7,11,18,11,7,8,0]
[1989,7,8,15,11,4,0,11]
[1990,4,11,15,9,6,9,0]
[1991,6,9,15,12,3,1,11]
[1992,3,12,15,15,0,15,0]
[1993,0,15,15,10,5,0,11]
[1994,5,11,16,8,8,7,0]
[1995,8,7,15,13,2,2,11]
[1996,2,13,15,9,6,9,0]
[1997,6,9,15,11,4,0,11]
[1998,4,11,15,8,7,8,0]
[1999,7,8,15,8,7,0,11]
[2000,7,11,18,7,11,4,0]

{"sheet":"artwork","index":4,"n_rows":0,"n_cols":0,"rows_kept":0,"cut":false,"hidden":false,"merged":[]}

{"sheet":"Demand","index":5,"n_rows":217,"n_cols":14,"rows_kept":217,"cut":false,"hidden":false,"merged":[]}
["Pattern","Dice 1","Dice 2","Dice 3","Prob.","Total"]
[1,1,1,1,{"$f":"1/6/6/6","v":4.6296296296296294E-3},{"$f":"SUM(B2:D2)","v":3}]
[2,1,1,2,{"$f":"1/6/6/6","v":4.6296296296296294E-3},{"$f":"SUM(B3:D3)","v":4}]
[3,1,1,3,4.6296296296296294E-3,5,null,null,null,null,null,"Bin","Frequency","Cumulative %"]
[4,1,1,4,4.6296296296296294E-3,6,null,null,null,null,null,3,1,4.6296296296296294E-3]
[5,1,1,5,4.6296296296296294E-3,7,null,null,"BIN",null,null,4,3,1.8518518518518517E-2]
[6,1,1,6,4.6296296296296294E-3,8,null,null,3,null,null,5,6,4.6296296296296294E-2]
[7,1,2,1,4.6296296296296294E-3,4,null,null,4,null,null,6,10,9.2592592592592587E-2]
[8,1,2,2,4.6296296296296294E-3,5,null,null,5,null,null,7,15,0.16203703703703703]
[9,1,2,3,4.6296296296296294E-3,6,null,null,6,null,null,8,21,0.25925925925925924]
[10,1,2,4,4.6296296296296294E-3,7,null,null,7,null,null,9,25,0.375]
[11,1,2,5,4.6296296296296294E-3,8,null,null,8,null,null,10,27,0.5]
[12,1,2,6,4.6296296296296294E-3,9,null,null,9,null,null,11,27,0.625]
[13,1,3,1,4.6296296296296294E-3,5,null,null,10,null,null,12,25,0.7407407407407407]
[14,1,3,2,4.6296296296296294E-3,6,null,null,11,null,null,13,21,0.83796296296296291]
[15,1,3,3,4.6296296296296294E-3,7,null,null,12,null,null,14,14,0.90277777777777779]
[16,1,3,4,4.6296296296296294E-3,8,null,null,13,null,null,15,11,0.95370370370370372]
[17,1,3,5,4.6296296296296294E-3,9,null,null,14,null,null,16,6,0.98148148148148151]
[18,1,3,6,4.6296296296296294E-3,10,null,null,15,null,null,17,3,0.99537037037037035]
[19,1,4,1,4.6296296296296294E-3,6,null,null,16,null,null,18,1,1]
[20,1,4,2,4.6296296296296294E-3,7,null,null,17,null,null,"More",0,1]
[21,1,4,3,4.6296296296296294E-3,8,null,null,18]
[22,1,4,4,4.6296296296296294E-3,9]
[23,1,4,5,4.6296296296296294E-3,10]
[24,1,4,6,4.6296296296296294E-3,11,null,null,null,null,null,null,{"$f":"SUM(M5:M20)","v":216}]
[25,1,5,1,4.6296296296296294E-3,7]
[26,1,5,2,4.6296296296296294E-3,8]
[27,1,5,3,4.6296296296296294E-3,9]
[28,1,5,4,4.6296296296296294E-3,10]
[29,1,5,5,4.6296296296296294E-3,11,null,null,{"$f":"AVERAGE(F2:F217)","v":10.50462962962963}]
[30,1,5,6,4.6296296296296294E-3,12,null,null,{"$f":"STDEV(F2:F217)","v":2.9711757678708794}]
[31,1,6,1,4.6296296296296294E-3,8]
[32,1,6,2,4.6296296296296294E-3,9]
[33,1,6,3,4.6296296296296294E-3,10]
[34,1,6,4,4.6296296296296294E-3,11]
[35,1,6,5,4.6296296296296294E-3,12]
[36,1,6,6,4.6296296296296294E-3,13]
[37,2,1,1,4.6296296296296294E-3,4]
[38,2,1,2,4.6296296296296294E-3,5,null,null,null,null,null,"Bin","Frequency"]
[39,2,1,3,4.6296296296296294E-3,6,null,null,null,null,null,3,{"$f":"M5/$M$25","v":4.6296296296296294E-3}]
[40,2,1,4,4.6296296296296294E-3,7,null,null,null,null,null,4,{"$f":"M6/$M$25","v":1.3888888888888888E-2}]
[41,2,1,5,4.6296296296296294E-3,8,null,null,null,null,null,5,2.7777777777777776E-2]
[42,2,1,6,4.6296296296296294E-3,9,null,null,null,null,null,6,4.6296296296296294E-2]
[43,2,2,1,4.6296296296296294E-3,5,null,null,null,null,null,7,6.9444444444444448E-2]
[44,2,2,2,4.6296296296296294E-3,6,null,null,null,null,null,8,9.7222222222222224E-2]
[45,2,2,3,4.6296296296296294E-3,7,null,null,null,null,null,9,0.11574074074074074]
[46,2,2,4,4.6296296296296294E-3,8,null,null,null,null,null,10,0.125]
[47,2,2,5,4.6296296296296294E-3,9,null,null,null,null,null,11,0.125]
[48,2,2,6,4.6296296296296294E-3,10,null,null,null,null,null,12,0.11574074074074074]
[49,2,3,1,4.6296296296296294E-3,6,null,null,null,null,null,13,9.7222222222222224E-2]
[50,2,3,2,4.6296296296296294E-3,7,null,null,null,null,null,14,6.4814814814814811E-2]
[51,2,3,3,4.6296296296296294E-3,8,null,null,null,null,null,15,5.0925925925925923E-2]
[52,2,3,4,4.6296296296296294E-3,9,null,null,null,null,null,16,2.7777777777777776E-2]
[53,2,3,5,4.6296296296296294E-3,10,null,null,null,null,null,17,1.3888888888888888E-2]
[54,2,3,6,4.6296296296296294E-3,11,null,null,null,null,null,18,4.6296296296296294E-3]
[55,2,4,1,4.6296296296296294E-3,7]
[56,2,4,2,4.6296296296296294E-3,8]
[57,2,4,3,4.6296296296296294E-3,9]
[58,2,4,4,4.6296296296296294E-3,10]
[59,2,4,5,4.6296296296296294E-3,11]
[60,2,4,6,4.6296296296296294E-3,12]
[61,2,5,1,4.6296296296296294E-3,8]
[62,2,5,2,4.6296296296296294E-3,9]
[63,2,5,3,4.6296296296296294E-3,10]
[64,2,5,4,4.6296296296296294E-3,11]
[65,2,5,5,4.6296296296296294E-3,12]
[66,2,5,6,{"$f":"1/6/6/6","v":4.6296296296296294E-3},{"$f":"SUM(B67:D67)","v":13}]
[67,2,6,1,4.6296296296296294E-3,9]
[68,2,6,2,4.6296296296296294E-3,10]
[69,2,6,3,4.6296296296296294E-3,11]
[70,2,6,4,4.6296296296296294E-3,12]
[71,2,6,5,4.6296296296296294E-3,13]
[72,3,6,6,4.6296296296296294E-3,15]
[73,3,1,1,4.6296296296296294E-3,5]
[74,3,1,2,4.6296296296296294E-3,6]
[75,3,1,3,4.6296296296296294E-3,7]
[76,3,1,4,4.6296296296296294E-3,8]
[77,3,1,5,4.6296296296296294E-3,9]
[78,3,1,6,4.6296296296296294E-3,10]
[79,3,2,1,4.6296296296296294E-3,6]
[80,3,2,2,4.6296296296296294E-3,7]
[81,3,2,3,4.6296296296296294E-3,8]
[82,3,2,4,4.6296296296296294E-3,9]
[83,3,2,5,4.6296296296296294E-3,10]
[84,3,2,6,4.6296296296296294E-3,11]
[85,3,3,1,4.6296296296296294E-3,7]
[86,3,3,2,4.6296296296296294E-3,8]
[87,3,3,3,4.6296296296296294E-3,9]
[88,3,3,4,4.6296296296296294E-3,10]
[89,3,3,5,4.6296296296296294E-3,11]
[90,3,3,6,4.6296296296296294E-3,12]
[91,3,4,1,4.6296296296296294E-3,8]
[92,3,4,2,4.6296296296296294E-3,9]
[93,3,4,3,4.6296296296296294E-3,10]
[94,3,4,4,4.6296296296296294E-3,11]
[95,3,4,5,4.6296296296296294E-3,12]
[96,3,4,6,4.6296296296296294E-3,13]
[97,3,5,1,4.6296296296296294E-3,9]
[98,3,5,2,4.6296296296296294E-3,10]
[99,3,5,3,4.6296296296296294E-3,11]
[100,3,5,4,4.6296296296296294E-3,12]
[101,3,5,5,4.6296296296296294E-3,13]
[102,3,5,6,4.6296296296296294E-3,14]
[103,3,6,1,4.6296296296296294E-3,10]
[104,3,6,2,4.6296296296296294E-3,11]
[105,3,6,3,4.6296296296296294E-3,12]
[106,3,6,4,4.6296296296296294E-3,13]
[107,3,6,5,4.6296296296296294E-3,14]
[108,3,6,6,4.6296296296296294E-3,15]
[109,4,1,1,4.6296296296296294E-3,6]
[110,4,1,2,4.6296296296296294E-3,7]
[111,4,1,3,4.6296296296296294E-3,8]
[112,4,1,4,4.6296296296296294E-3,9]
[113,4,1,5,4.6296296296296294E-3,10]
[114,4,1,6,4.6296296296296294E-3,11]
[115,4,2,1,4.6296296296296294E-3,7]
[116,4,2,2,4.6296296296296294E-3,8]
[117,4,2,3,4.6296296296296294E-3,9]
[118,4,2,4,4.6296296296296294E-3,10]
[119,4,2,5,4.6296296296296294E-3,11]
[120,4,2,6,4.6296296296296294E-3,12]
[121,4,3,1,4.6296296296296294E-3,8]
[122,4,3,2,4.6296296296296294E-3,9]
[123,4,3,3,4.6296296296296294E-3,10]
[124,4,3,4,4.6296296296296294E-3,11]
[125,4,3,5,4.6296296296296294E-3,12]
[126,4,3,6,4.6296296296296294E-3,13]
[127,4,4,1,4.6296296296296294E-3,9]
[128,4,4,2,4.6296296296296294E-3,10]
[129,4,4,3,4.6296296296296294E-3,11]
[130,4,4,4,{"$f":"1/6/6/6","v":4.6296296296296294E-3},{"$f":"SUM(B131:D131)","v":12}]
[131,4,4,5,4.6296296296296294E-3,13]
[132,4,4,6,4.6296296296296294E-3,14]
[133,4,5,1,4.6296296296296294E-3,10]
[134,4,5,2,4.6296296296296294E-3,11]
[135,4,5,3,4.6296296296296294E-3,12]
[136,4,5,4,4.6296296296296294E-3,13]
[137,4,5,5,4.6296296296296294E-3,14]
[138,4,5,6,4.6296296296296294E-3,15]
[139,4,6,1,4.6296296296296294E-3,11]
[140,4,6,2,4.6296296296296294E-3,12]
[141,4,6,3,4.6296296296296294E-3,13]
[142,4,6,4,4.6296296296296294E-3,14]
[143,4,6,5,4.6296296296296294E-3,15]
[144,4,6,6,4.6296296296296294E-3,16]
[145,5,1,1,4.6296296296296294E-3,7]
[146,5,1,2,4.6296296296296294E-3,8]
[147,5,1,3,4.6296296296296294E-3,9]
[148,5,1,4,4.6296296296296294E-3,10]
[149,5,1,5,4.6296296296296294E-3,11]
[150,5,1,6,4.6296296296296294E-3,12]
[151,5,2,1,4.6296296296296294E-3,8]
[152,5,2,2,4.6296296296296294E-3,9]
[153,5,2,3,4.6296296296296294E-3,10]
[154,5,2,4,4.6296296296296294E-3,11]
[155,5,2,5,4.6296296296296294E-3,12]
[156,5,2,6,4.6296296296296294E-3,13]
[157,5,3,1,4.6296296296296294E-3,9]
[158,5,3,2,4.6296296296296294E-3,10]
[159,5,3,3,4.6296296296296294E-3,11]
[160,5,3,4,4.6296296296296294E-3,12]
[161,5,3,5,4.6296296296296294E-3,13]
[162,5,3,6,4.6296296296296294E-3,14]
[163,5,4,1,4.6296296296296294E-3,10]
[164,5,4,2,4.6296296296296294E-3,11]
[165,5,4,3,4.6296296296296294E-3,12]
[166,5,4,4,4.6296296296296294E-3,13]
[167,5,4,5,4.6296296296296294E-3,14]
[168,5,4,6,4.6296296296296294E-3,15]
[169,5,5,1,4.6296296296296294E-3,11]
[170,5,5,2,4.6296296296296294E-3,12]
[171,5,5,3,4.6296296296296294E-3,13]
[172,5,5,4,4.6296296296296294E-3,14]
[173,5,5,5,4.6296296296296294E-3,15]
[174,5,5,6,4.6296296296296294E-3,16]
[175,5,6,1,4.6296296296296294E-3,12]
[176,5,6,2,4.6296296296296294E-3,13]
[177,5,6,3,4.6296296296296294E-3,14]
[178,5,6,4,4.6296296296296294E-3,15]
[179,5,6,5,4.6296296296296294E-3,16]
[180,5,6,6,4.6296296296296294E-3,17]
[181,6,1,1,4.6296296296296294E-3,8]
[182,6,1,2,4.6296296296296294E-3,9]
[183,6,1,3,4.6296296296296294E-3,10]
[184,6,1,4,4.6296296296296294E-3,11]
[185,6,1,5,4.6296296296296294E-3,12]
[186,6,1,6,4.6296296296296294E-3,13]
[187,6,2,1,4.6296296296296294E-3,9]
[188,6,2,2,4.6296296296296294E-3,10]
[189,6,2,3,4.6296296296296294E-3,11]
[190,6,2,4,4.6296296296296294E-3,12]
[191,6,2,5,4.6296296296296294E-3,13]
[192,6,2,6,4.6296296296296294E-3,14]
[193,6,3,1,4.6296296296296294E-3,10]
[194,6,3,2,{"$f":"1/6/6/6","v":4.6296296296296294E-3},{"$f":"SUM(B195:D195)","v":11}]
[195,6,3,3,4.6296296296296294E-3,12]
[196,6,3,4,4.6296296296296294E-3,13]
[197,6,3,5,4.6296296296296294E-3,14]
[198,6,3,6,4.6296296296296294E-3,15]
[199,6,4,1,4.6296296296296294E-3,11]
[200,6,4,2,4.6296296296296294E-3,12]
[201,6,4,3,4.6296296296296294E-3,13]
[202,6,4,4,4.6296296296296294E-3,14]
[203,6,4,5,4.6296296296296294E-3,15]
[204,6,4,6,4.6296296296296294E-3,16]
[205,6,5,1,4.6296296296296294E-3,12]
[206,6,5,2,4.6296296296296294E-3,13]
[207,6,5,3,4.6296296296296294E-3,14]
[208,6,5,4,4.6296296296296294E-3,15]
[209,6,5,5,4.6296296296296294E-3,16]
[210,6,5,6,4.6296296296296294E-3,17]
[211,6,6,1,4.6296296296296294E-3,13]
[212,6,6,2,4.6296296296296294E-3,14]
[213,6,6,3,4.6296296296296294E-3,15]
[214,6,6,4,4.6296296296296294E-3,16]
[215,6,6,5,4.6296296296296294E-3,17]
[216,6,6,6,4.6296296296296294E-3,18]