{"text_format":"1","workbook":"xlsx","n_sheets":6,"sheets":["Casino","Deck2","Pocket2","Pocket","Deck","Chart"],"not_rendered":{"charts":0,"images":10,"macros":1,"external_links":0,"defined_names":124,"comments":0,"pivot_tables":0},"unopened":[],"bounds":{"document_bytes":16777216,"sheet_cells":100000,"rows_first":2000,"rows_last":500,"rows_between":2000,"halvings":0,"cell_chars":16384,"cell_head_chars":4096},"cells_cut":0,"cells_raw":0,"read":"whole","date_system":"1900"}

{"sheet":"Casino","index":0,"n_rows":27,"n_cols":29,"rows_kept":27,"cut":false,"hidden":false,"merged":[[1,28,10,28],[1,7,5,13],[24,4,24,5],[24,10,24,11],[24,16,24,17]]}
[0,null,null,null,null,null,null,null,null,null,null,null,null,null,null,null,null,"Rounds played:",null,null,1,null,null,"Pre-pocket","Pre-flop","Post-flop","Post-turn","Post-river"]
[1,null,null,null,null,null,null,"School Logo",null,null,null,null,null,null,null,null,null,null,null,null,null,null,"Royal Flush",{"$f":"(4*(COMBIN(52-13,2)+COMBIN(13-5,1)*COMBIN(52-13,1)+COMBIN(13-5,2)))/COMBIN(52,7)","v":3.2320620555914667E-5},null,null,null,null,"Simulated probability distributions"]
[0,null,null,null,null,null,null,null,null,null,null,null,null,null,null,null,null,null,null,null,null,null,"Straight Flush",{"$f":"(4*(10*COMBIN(52-13,2)+71*COMBIN(52-13,1)+217)-4*(COMBIN(52-13,2)+COMBIN(13-5,1)*COMBIN(52-13,1)+COMBIN(13-5,2)))/COMBIN(52,7)","v":2.7850747500309447E-4}]
[0,null,null,null,null,null,null,null,null,null,null,null,null,null,null,null,null,null,null,null,null,null,"Four of a Kind",{"$f":"(COMBIN(13,1)*COMBIN(52-4,7-4))/COMBIN(52,7)","v":1.6806722689075627E-3}]
[0,null,null,null,null,null,null,null,null,null,null,null,null,null,null,null,null,null,null,null,null,null,"Full House",{"$f":"(COMBIN(13,4) *COMBIN(4,3)*COMBIN(4,2)*COMBIN(4,1)^2*COMBIN(4,2)*COMBIN(2,1)+COMBIN(13,3)*COMBIN(4,3)*COMBIN(4,2)*COMBIN(4,2)*COMBIN(3,1)+COMBIN(13,2)*COMBIN(4,3)^2*COMBIN(52-8,7-6))/COMBIN(52,7)","v":2.5961022706955116E-2}]
[null,null,null,null,null,null,null,null,null,null,null,null,null,null,null,null,null,null,null,null,null,null,"Flush",{"$f":"(4*(COMBIN(13,5)*COMBIN(52-13,2)+COMBIN(13,6)*COMBIN(52-13,1)+COMBIN(13,7))-4*(10*COMBIN(52-13,2)+71*COMBIN(52-13,1)+217))/COMBIN(52,7)","v":3.0254941227896546E-2}]
[null,null,null,null,null,null,null,null,null,null,null,null,null,null,null,null,null,null,null,null,null,null,"Straight",{"$f":"(217 *( 4^7 - 4* COMBIN(7,5)* 3^2 - 4* COMBIN(7,6)* 3 - 4* COMBIN(7,7))+71*COMBIN(6,1)*COMBIN(4,2)*(4^5-COMBIN(2,1)*(COMBIN(5,4)*3+COMBIN(5,5))-COMBIN(4-2,1))+10*COMBIN(5,2)*( COMBIN(4,2)^2 *4^3 - 4* 3^2)+10*COMBIN(5,1)*COMBIN(4,3)*(4^4 - COMBIN(3,1)))/COMBIN(52,7)","v":4.6193820871406971E-2}]
[1,null,null,null,null,null,null,null,null,null,null,null,null,null,null,null,null,null,null,null,null,null,"Three of a Kind",{"$f":"((COMBIN(13,5)-10)*  COMBIN(5,1) * COMBIN(4,3)* ( 4^4 - COMBIN(3,1)))/COMBIN(52,7)","v":4.8298697547758861E-2}]
[null,null,null,null,null,null,null,null,null,null,null,null,null,null,null,null,null,null,null,null,null,null,"Two Pair",{"$f":"(COMBIN(13,3)* COMBIN(4,2)^3*COMBIN(52-12,7-6)+(COMBIN(13,5)-10)*COMBIN(5,2)*(COMBIN(4,2)^2*4^3-4*COMBIN(4-1,2)^2))/COMBIN(52,7)","v":0.23495536405695838}]
[2,null,null,null,null,null,null,null,null,null,null,null,null,null,null,null,null,null,null,null,null,null,"One Pair",{"$f":"((COMBIN(13,6)-71)* COMBIN(6,1) *COMBIN(4,2)  *( 4^5 - COMBIN(2,1)*(COMBIN(5,4)*3 + COMBIN(5,5)) - COMBIN(4-2,1)))/COMBIN(52,7)","v":0.438225457407043}]
[4,"Smal/Big blinds",null,null,null,null,null,null,null,null,null,null,null,null,null,null,null,null,null,null,null,null,"High Card",{"$f":"((COMBIN(13,7)-217) *( 4^7 - 4* COMBIN(7,5)* 3^2 - 4*COMBIN(7,6) *3 - 4* COMBIN(7,7)))/COMBIN(52,7)","v":0.17411919581751434}]
[null,"$2/$4",null,null,null,null,null,null,null,null,null,null,null,null,null,null,null,null,null,null,null,null,"Conditional probability"]
[null,null,null,null,null,null,null,null,null,null,null,null,null,null,null,null,null,null,null,null,null,null,"Probability that my opponent bluffs:"]
[null,null,null,null,null,null,null,null,null,null,null,null,null,null,null,null,null,null,null,null,null,null,"Probability that my opponent raises:"]
[null,null,null,null,null,null,null,null,null,null,null,null,null,null,null,null,null,null,null,null,null,null,"Probability that he raises AND bluffs:"]
[null,null,null,null,null,null,null,null,null,null,null,null,null,null,null,null,null,null,null,null,null,null,"What is the chance that he raises given he has bluffed?"]
[null,null,null,null,null,null,null,null,null,null,null,null,null,null,null,null,null,null,null,null,null,null,"Bayes' Rule (conditional probability using new information)"]
[null,null,null,null,null,null,null,null,null,null,null,null,null,null,null,null,null,null,null,null,null,null,"Probability that my opponent bluffs:"]
[null,1,null,null,null,null,null,null,null,null,null,null,null,null,null,null,null,null,null,null,null,null,"Probability that he raises given he has bluffed (new info.) :"]
[null,0,null,null,null,null,null,null,null,null,null,null,null,null,null,null,null,null,null,null,null,null,"Probability that he raises given he has not bluffed (new info.):"]
[null,"",null,null,null,null,null,null,null,null,null,null,null,null,null,null,null,null,null,null,"Bluffer",null,"What is the chance that he is bluffing given he has raised the bet? "]
[]
[]
[]
[null,null,null,"D",null,null,null,null,null,null,900,null,null,null,null,null,900]
[null,null,null,null,null,null,null,null,null,null,null,null,null,null,null,null,null,null,null,null,null,null,"The info. that he has bluffed enables us to replace the prior probability "]
[null,null,null,null,null,null,null,null,null,null,null,null,null,null,null,null,null,null,null,null,null,null,"P(Bluff) by the posterior probability P(Bluff | Raise)"]

{"sheet":"Deck2","index":1,"n_rows":233,"n_cols":190,"rows_kept":233,"cut":false,"hidden":true,"merged":[[253,12,253,13]]}
[1,"♠A",6.8163871765136719E-2,{"$f":"RANK(C1,$C$1:$C$52)","v":51},"S",1,null,"Royal Flush",1,null,null,{"$f":"RANK(L8,$L$8:$P$8,1)","v":{"$error":"#N/A"}},{"$f":"RANK(M8,$L$8:$P$8,1)","v":{"$error":"#N/A"}},{"$f":"RANK(N8,$L$8:$P$8,1)","v":{"$error":"#N/A"}},{"$f":"RANK(O8,$L$8:$P$8,1)","v":{"$error":"#N/A"}},{"$f":"RANK(P8,$L$8:$P$8,1)","v":{"$error":"#N/A"}},null,{"$f":"RANK(R8,$R$8:$V$8,1)","v":{"$error":"#N/A"}},{"$f":"RANK(S8,$R$8:$V$8,1)","v":{"$error":"#N/A"}},{"$error":"#N/A"},{"$error":"#N/A"},{"$error":"#N/A"},null,null,null,null,null,null,null,null,null,null,null,null,null,null,null,null,null,"Student",null,null,null,null,null,null,null,"Robot1",null,null,null,null,null,null,null,null,null,null,null,null,null,null,null,null,null,null,null,null,null,null,null,null,null,null,null,null,"Match?",null,null,"Match?"]
[2,"♠2",0.76603949069976807,13,"S",2,null,"Straight Flush",2,1,null,{"$f":"[0]!Player11","v":0},{"$f":"[0]!Player12","v":0},{"$f":"[0]!House1","v":0},{"$f":"[0]!House2","v":0},{"$f":"[0]!House3","v":0},null,{"$f":"[0]!Player21","v":0},{"$f":"[0]!Player22","v":0},{"$f":"[0]!House1","v":0},{"$f":"[0]!House2","v":0},{"$f":"[0]!House3","v":0},null,null,null,null,null,null,null,null,null,null,null,null,null,null,null,null,null,null,null,null,null,null,null,null,null,null,null,null,null,null,null,null,null,null,null,null,null,null,null,null,null,null,null,null,null,null,null,null,null,null,null,null,"Student",null,null,"Robot1"]
[3,"♠3",0.5373985767364502,29,"S",3,null,"Four of a Kind",3,null,null,{"$f":"VLOOKUP(L2,$B$1:$F$52,5,0)","v":{"$error":"#N/A"}},{"$f":"VLOOKUP(M2,$B$1:$F$52,5,0)","v":{"$error":"#N/A"}},{"$f":"VLOOKUP(N2,$B$1:$F$52,5,0)","v":{"$error":"#N/A"}},{"$f":"VLOOKUP(O2,$B$1:$F$52,5,0)","v":{"$error":"#N/A"}},{"$f":"VLOOKUP(P2,$B$1:$F$52,5,0)","v":{"$error":"#N/A"}},null,{"$f":"VLOOKUP(R2,$B$1:$F$52,5,0)","v":{"$error":"#N/A"}},{"$f":"VLOOKUP(S2,$B$1:$F$52,5,0)","v":{"$error":"#N/A"}},{"$f":"VLOOKUP(T2,$B$1:$F$52,5,0)","v":{"$error":"#N/A"}},{"$f":"VLOOKUP(U2,$B$1:$F$52,5,0)","v":{"$error":"#N/A"}},{"$f":"VLOOKUP(V2,$B$1:$F$52,5,0)","v":{"$error":"#N/A"}},null,null,null,null,null,null,null,null,null,null,null,null,null,null,null,null,null,null,null,null,null,null,null,null,null,null,null,null,null,null,null,null,null,null,null,null,null,null,null,null,null,null,null,null,null,null,null,null,null,null,null,null,"Number","Suit","Total","Number","Suit","Total"]
[4,"♠4",0.39393699169158936,35,"S",4,null,"Full House",4,null,null,{"$f":"VLOOKUP(L2,$B$1:$F$52,4,0)","v":{"$error":"#N/A"}},{"$f":"VLOOKUP(M2,$B$1:$F$52,4,0)","v":{"$error":"#N/A"}},{"$f":"VLOOKUP(N2,$B$1:$F$52,4,0)","v":{"$error":"#N/A"}},{"$f":"VLOOKUP(O2,$B$1:$F$52,4,0)","v":{"$error":"#N/A"}},{"$f":"VLOOKUP(P2,$B$1:$F$52,4,0)","v":{"$error":"#N/A"}},null,{"$f":"VLOOKUP(R2,$B$1:$F$52,4,0)","v":{"$error":"#N/A"}},{"$f":"VLOOKUP(S2,$B$1:$F$52,4,0)","v":{"$error":"#N/A"}},{"$f":"VLOOKUP(T2,$B$1:$F$52,4,0)","v":{"$error":"#N/A"}},{"$f":"VLOOKUP(U2,$B$1:$F$52,4,0)","v":{"$error":"#N/A"}},{"$f":"VLOOKUP(V2,$B$1:$F$52,4,0)","v":{"$error":"#N/A"}},null,null,null,null,null,null,null,null,null,null,null,1,{"$f":"L5","v":{"$error":"#N/A"}},{"$f":"M5","v":{"$error":"#N/A"}},{"$f":"N5","v":{"$error":"#N/A"}},{"$f":"O5","v":{"$error":"#N/A"}},{"$f":"P5","v":{"$error":"#N/A"}},{"$f":"INDEX($BV$4:$BV$13,MATCH(1,$BY$4:$BY$13,0))","v":{"$error":"#N/A"}},{"$f":"INDEX($BU$4:$BU$13,MATCH(AN4,$BV$4:$BV$13,0))","v":{"$error":"#N/A"}},1,{"$f":"R5","v":{"$error":"#N/A"}},{"$f":"S5","v":{"$error":"#N/A"}},{"$f":"T5","v":{"$error":"#N/A"}},{"$f":"U5","v":{"$error":"#N/A"}},{"$f":"V5","v":{"$error":"#N/A"}},{"$f":"INDEX($BV$4:$BV$13,MATCH(1,$CB$4:$CB$13,0))","v":{"$error":"#N/A"}},{"$f":"INDEX($BU$4:$BU$13,MATCH(AV4,$BV$4:$BV$13,0))","v":{"$error":"#N/A"}},null,null,null,null,null,null,null,null,null,null,null,null,null,null,null,null,null,null,null,null,null,null,null,1,{"$f":"CG4","v":"Royal Flush"},{"$f":"CH4","v":{"$error":"#N/A"}},{"$error":"#N/A"},{"$error":"#N/A"},{"$error":"#N/A"},{"$error":"#N/A"},{"$error":"#N/A"},null,null,null,null,"Royal Flush",{"$f":"IF(AND(10=AI4,11=AJ4,12=AK4,13=AL4,1=AM4),1,0)","v":{"$error":"#N/A"}},{"$f":"IF(AND(AI25=AJ25,AJ25=AK25,AK25=AL25,AL25=AM25),1,0)","v":{"$error":"#N/A"}},{"$f":"CH4*CI4","v":{"$error":"#N/A"}},{"$f":"IF(AND(10=AQ4,11=AR4,12=AS4,13=AT4,1=AU4),1,0)","v":{"$error":"#N/A"}},{"$f":"IF(AND(AQ25=AR25,AR25=AS25,AS25=AT25,AT25=AU25),1,0)","v":{"$error":"#N/A"}},{"$f":"CK4*CL4","v":{"$error":"#N/A"}},null,null,null,null,"Straight Flush",{"$f":"IF(OR(AND(AI4<10,AJ4=AI4+1,AK4=AJ4+1,AL4=AK4+1,AM4=AL4+1),AND(AI4=2,AJ4=3,AK4=4,AL4=5,AM4=1)),1,0)","v":{"$error":"#N/A"}},{"$f":"IF(AND(AI25=AJ25,AJ25=AK25,AK25=AL25,AL25=AM25),1,0)","v":{"$error":"#N/A"}},{"$f":"CS4*CT4","v":{"$error":"#N/A"}},{"$f":"IF(OR(AND(AQ4<10,AR4=AQ4+1,AS4=AR4+1,AT4=AS4+1,AU4=AT4+1),AND(AQ4=2,AR4=3,AS4=4,AT4=5,AU4=1)),1,0)","v":{"$error":"#N/A"}},{"$f":"IF(AND(AQ25=AR25,AR25=AS25,AS25=AT25,AT25=AU25),1,0)","v":{"$error":"#N/A"}},{"$f":"CV4*CW4","v":{"$error":"#N/A"}},null,null,null,null,"Four of a Kind",{"$f":"IF(OR(AND(AI4=AJ4,AJ4=AK4,AK4=AL4),AND(AJ4=AK4,AK4=AL4,AL4=AM4)),1,0)","v":{"$error":"#N/A"}},null,{"$f":"DD4","v":{"$error":"#N/A"}},{"$f":"IF(OR(AND(AQ4=AR4,AR4=AS4,AS4=AT4),AND(AR4=AS4,AS4=AT4,AT4=AU4)),1,0)","v":{"$error":"#N/A"}},null,{"$f":"DG4","v":{"$error":"#N/A"}},null,null,null,null,"Full House",{"$f":"IF(OR(AND(AI4=AJ4,AJ4=AK4,AL4=AM4),AND(AI4=AJ4,AK4=AL4,AL4=AM4)),1,0)","v":{"$error":"#N/A"}},null,{"$f":"DO4","v":{"$error":"#N/A"}},{"$f":"IF(OR(AND(AQ4=AR4,AR4=AS4,AT4=AU4),AND(AQ4=AR4,AS4=AT4,AT4=AU4)),1,0)","v":{"$error":"#N/A"}},null,{"$f":"DR4","v":{"$error":"#N/A"}},null,null,null,null,"Flush",{"$f":"IF(AND(AI25=AJ25,AJ25=AK25,AK25=AL25,AL25=AM25),1,0)","v":{"$error":"#N/A"}},null,{"$f":"DZ4","v":{"$error":"#N/A"}},{"$f":"IF(AND(AQ25=AR25,AR25=AS25,AS25=AT25,AT25=AU25),1,0)","v":{"$error":"#N/A"}},null,{"$f":"EC4","v":{"$error":"#N/A"}},null,null,null,null,"Straight",{"$f":"IF(\nOR(\nAND(AI4<10,AJ4=AI4+1,AK4=AJ4+1,AL4=AK4+1,AM4=AL4+1),\nAND(AI4=10,AJ4=11,AK4=12,AL4=13,AM4=1)\n),1,0)","v":{"$error":"#N/A"}},{"$f":"IF(AND(AI25=AJ25,AJ25=AK25,AK25=AL25,AL25=AM25),0,1)","v":{"$error":"#N/A"}},{"$f":"EK4*EL4","v":{"$error":"#N/A"}},{"$f":"IF(OR(\nAND(AQ4<10,AR4=AQ4+1,AS4=AR4+1,AT4=AS4+1,AU4=AT4+1),\nAND(AQ4=10,AR4=11,AS4=12,AT4=13,AU4=1),\n),1,0)","v":{"$error":"#N/A"}},{"$f":"IF(AND(AQ25=AR25,AR25=AS25,AS25=AT25,AT25=AU25),0,1)","v":{"$error":"#N/A"}},{"$f":"EN4*EO4","v":{"$error":"#N/A"}},null,null,null,null,"Three of a Kind",{"$f":"IF(OR(AND(AI4=AJ4,AJ4=AK4,AL4<>AM4),AND(AI4<>AJ4,AK4=AL4,AL4=AM4),AND(AJ4=AK4,AK4=AL4)),1,0)","v":{"$error":"#N/A"}},null,{"$f":"EV4","v":{"$error":"#N/A"}},{"$f":"IF(OR(AND(AQ4=AR4,AR4=AS4,AT4<>AU4),AND(AQ4<>AR4,AS4=AT4,AT4=AU4),AND(AR4=AS4,AS4=AT4)),1,0)","v":{"$error":"#N/A"}},null,{"$f":"EY4","v":{"$error":"#N/A"}},null,null,null,null,"Two Pair",{"$f":"IF(OR(AND(AI4=AJ4,AK4=AL4,AM4<>AI4,AM4<>AK4,AJ4<>AK4),AND(AJ4=AK4,AL4=AM4,AI4<>AJ4,AI4<>AL4,AK4<>AL4),AND(AI4=AJ4,AL4=AM4,AK4<>AJ4,AK4<>AL4,AJ4<>AL4)),1,0)","v":{"$error":"#N/A"}},null,{"$f":"FG4","v":{"$error":"#N/A"}},{"$f":"IF(OR(AND(AQ4=AR4,AS4=AT4,AU4<>AQ4,AU4<>AS4,AR4<>AS4),AND(AR4=AS4,AT4=AU4,AQ4<>AR4,AQ4<>AT4,AS4<>AT4),AND(AQ4=AR4,AT4=AU4,AS4<>AR4,AS4<>AT4,AR4<>AT4)),1,0)","v":{"$error":"#N/A"}},null,{"$f":"FJ4","v":{"$error":"#N/A"}},null,null,null,null,"One Pair",{"$f":"IF(OR(AND(AI4=AJ4,AJ4<>AK4,AK4<>AL4,AL4<>AM4),AND(AI4<>AJ4,AJ4=AK4,AK4<>AL4,AL4<>AM4),AND(AI4<>AJ4,AJ4<>AK4,AK4=AL4,AL4<>AM4),AND(AI4<>AJ4,AJ4<>AK4,AK4<>AL4,AL4=AM4)),1,0)","v":{"$error":"#N/A"}},null,{"$f":"FR4","v":{"$error":"#N/A"}},{"$f":"IF(OR(AND(AQ4=AR4,AR4<>AS4,AS4<>AT4,AT4<>AU4),AND(AQ4<>AR4,AR4=AS4,AS4<>AT4,AT4<>AU4),AND(AQ4<>AR4,AR4<>AS4,AS4=AT4,AT4<>AU4),AND(AQ4<>AR4,AR4<>AS4,AS4<>AT4,AT4=AU4)),1,0)","v":{"$error":"#N/A"}},null,{"$f":"FU4","v":{"$error":"#N/A"}},null,null,null,null,"High Card",{"$f":"IF(AND(AI4<>AJ4,AJ4<>AK4,AK4<>AL4,AL4<>AM4),1,0)","v":{"$error":"#N/A"}},null,{"$f":"GC4","v":{"$error":"#N/A"}},{"$f":"IF(AND(AQ4<>AR4,AR4<>AS4,AS4<>AT4,AT4<>AU4),1,0)","v":{"$error":"#N/A"}},null,{"$f":"GF4","v":{"$error":"#N/A"}}]
[5,"♠5",0.8315424919128418,7,"S",5,null,"Flush",5,null,null,{"$f":"HLOOKUP(L7,$L$1:$P$4,3,0)","v":{"$error":"#N/A"}},{"$f":"HLOOKUP(M7,$L$1:$P$4,3,0)","v":{"$error":"#N/A"}},{"$f":"HLOOKUP(N7,$L$1:$P$4,3,0)","v":{"$error":"#N/A"}},{"$f":"HLOOKUP(O7,$L$1:$P$4,3,0)","v":{"$error":"#N/A"}},{"$f":"HLOOKUP(P7,$L$1:$P$4,3,0)","v":{"$error":"#N/A"}},null,{"$f":"HLOOKUP(R7,$R$1:$V$4,3,0)","v":{"$error":"#N/A"}},{"$f":"HLOOKUP(S7,$R$1:$V$4,3,0)","v":{"$error":"#N/A"}},{"$f":"HLOOKUP(T7,$R$1:$V$4,3,0)","v":{"$error":"#N/A"}},{"$f":"HLOOKUP(U7,$R$1:$V$4,3,0)","v":{"$error":"#N/A"}},{"$f":"HLOOKUP(V7,$R$1:$V$4,3,0)","v":{"$error":"#N/A"}},null,null,null,null,null,null,null,null,null,null,null,2,{"$f":"L14","v":{"$error":"#N/A"}},{"$f":"M14","v":{"$error":"#N/A"}},{"$f":"N14","v":{"$error":"#N/A"}},{"$f":"O14","v":{"$error":"#N/A"}},{"$f":"P14","v":{"$error":"#N/A"}},{"$f":"INDEX($BV$15:$BV$24,MATCH(1,$BY$15:$BY$24,0))","v":{"$error":"#N/A"}},{"$error":"#N/A"},2,{"$f":"R14","v":{"$error":"#N/A"}},{"$f":"S14","v":{"$error":"#N/A"}},{"$f":"T14","v":{"$error":"#N/A"}},{"$f":"U14","v":{"$error":"#N/A"}},{"$f":"V14","v":{"$error":"#N/A"}},{"$f":"INDEX($BV$15:$BV$24,MATCH(1,$CB$15:$CB$24,0))","v":{"$error":"#N/A"}},{"$error":"#N/A"},null,null,null,null,null,null,null,null,null,null,null,null,null,null,null,null,null,null,null,null,null,null,null,2,{"$f":"CR4","v":"Straight Flush"},{"$f":"CS4","v":{"$error":"#N/A"}},{"$error":"#N/A"},{"$error":"#N/A"},{"$error":"#N/A"},{"$error":"#N/A"},{"$error":"#N/A"},null,null,null,null,"Royal Flush",{"$error":"#N/A"},{"$error":"#N/A"},{"$error":"#N/A"},{"$error":"#N/A"},{"$error":"#N/A"},{"$error":"#N/A"},null,null,null,null,"Straight Flush",{"$f":"IF(OR(AND(AI5<10,AJ5=AI5+1,AK5=AJ5+1,AL5=AK5+1,AM5=AL5+1),AND(AI5=2,AJ5=3,AK5=4,AL5=5,AM5=1)),1,0)","v":{"$error":"#N/A"}},{"$error":"#N/A"},{"$error":"#N/A"},{"$f":"IF(OR(AND(AQ5<10,AR5=AQ5+1,AS5=AR5+1,AT5=AS5+1,AU5=AT5+1),AND(AQ5=2,AR5=3,AS5=4,AT5=5,AU5=1)),1,0)","v":{"$error":"#N/A"}},{"$error":"#N/A"},{"$f":"CV5*CW5","v":{"$error":"#N/A"}},null,null,null,null,"Four of a Kind",{"$error":"#N/A"},null,{"$error":"#N/A"},{"$error":"#N/A"},null,{"$error":"#N/A"},null,null,null,null,"Full House",{"$error":"#N/A"},null,{"$error":"#N/A"},{"$error":"#N/A"},null,{"$error":"#N/A"},null,null,null,null,"Flush",{"$error":"#N/A"},null,{"$error":"#N/A"},{"$error":"#N/A"},null,{"$error":"#N/A"},null,null,null,null,"Straight",{"$f":"IF(\nOR(\nAND(AI5<10,AJ5=AI5+1,AK5=AJ5+1,AL5=AK5+1,AM5=AL5+1),\nAND(AI5=10,AJ5=11,AK5=12,AL5=13,AM5=1)\n),1,0)","v":{"$error":"#N/A"}},{"$f":"IF(AND(AI26=AJ26,AJ26=AK26,AK26=AL26,AL26=AM26),0,1)","v":{"$error":"#N/A"}},{"$error":"#N/A"},{"$f":"IF(OR(\nAND(AQ5<10,AR5=AQ5+1,AS5=AR5+1,AT5=AS5+1,AU5=AT5+1),\nAND(AQ5=10,AR5=11,AS5=12,AT5=13,AU5=1),\n),1,0)","v":{"$error":"#N/A"}},{"$error":"#N/A"},{"$error":"#N/A"},null,null,null,null,"Three of a Kind",{"$error":"#N/A"},null,{"$error":"#N/A"},{"$error":"#N/A"},null,{"$error":"#N/A"},null,null,null,null,"Two Pair",{"$error":"#N/A"},null,{"$error":"#N/A"},{"$error":"#N/A"},null,{"$error":"#N/A"},null,null,null,null,"One Pair",{"$error":"#N/A"},null,{"$error":"#N/A"},{"$error":"#N/A"},null,{"$error":"#N/A"},null,null,null,null,"High Card",{"$error":"#N/A"},null,{"$error":"#N/A"},{"$error":"#N/A"},null,{"$error":"#N/A"}]
[6,"♠6",0.82882988452911377,8,"S",6,null,"Straight",6,null,null,{"$f":"HLOOKUP(L7,$L$1:$P$4,4,0)","v":{"$error":"#N/A"}},{"$f":"HLOOKUP(M7,$L$1:$P$4,4,0)","v":{"$error":"#N/A"}},{"$f":"HLOOKUP(N7,$L$1:$P$4,4,0)","v":{"$error":"#N/A"}},{"$f":"HLOOKUP(O7,$L$1:$P$4,4,0)","v":{"$error":"#N/A"}},{"$f":"HLOOKUP(P7,$L$1:$P$4,4,0)","v":{"$error":"#N/A"}},null,{"$f":"HLOOKUP(R7,$R$1:$V$4,4,0)","v":{"$error":"#N/A"}},{"$f":"HLOOKUP(S7,$R$1:$V$4,4,0)","v":{"$error":"#N/A"}},{"$f":"HLOOKUP(T7,$R$1:$V$4,4,0)","v":{"$error":"#N/A"}},{"$f":"HLOOKUP(U7,$R$1:$V$4,4,0)","v":{"$error":"#N/A"}},{"$f":"HLOOKUP(V7,$R$1:$V$4,4,0)","v":{"$error":"#N/A"}},null,null,null,null,null,null,null,null,null,null,null,3,{"$f":"L23","v":{"$error":"#N/A"}},{"$f":"M23","v":{"$error":"#N/A"}},{"$f":"N23","v":{"$error":"#N/A"}},{"$f":"O23","v":{"$error":"#N/A"}},{"$f":"P23","v":{"$error":"#N/A"}},{"$f":"INDEX($BV$26:$BV$35,MATCH(1,$BY$26:$BY$35,0))","v":{"$error":"#N/A"}},{"$error":"#N/A"},3,{"$f":"R23","v":{"$error":"#N/A"}},{"$f":"S23","v":{"$error":"#N/A"}},{"$f":"T23","v":{"$error":"#N/A"}},{"$f":"U23","v":{"$error":"#N/A"}},{"$f":"V23","v":{"$error":"#N/A"}},{"$f":"INDEX($BV$26:$BV$35,MATCH(1,$CB$26:$CB$35,0))","v":{"$error":"#N/A"}},{"$error":"#N/A"},null,null,null,null,null,null,null,null,null,null,null,null,null,null,null,null,null,null,null,null,null,null,null,3,{"$f":"DC4","v":"Four of a Kind"},{"$f":"DD4","v":{"$error":"#N/A"}},0,{"$error":"#N/A"},{"$error":"#N/A"},0,{"$error":"#N/A"},null,null,null,null,"Royal Flush",{"$error":"#N/A"},{"$error":"#N/A"},{"$error":"#N/A"},{"$error":"#N/A"},{"$error":"#N/A"},{"$error":"#N/A"},null,null,null,null,"Straight Flush",{"$error":"#N/A"},{"$error":"#N/A"},{"$error":"#N/A"},{"$error":"#N/A"},{"$error":"#N/A"},{"$error":"#N/A"},null,null,null,null,"Four of a Kind",{"$error":"#N/A"},null,{"$error":"#N/A"},{"$error":"#N/A"},null,{"$error":"#N/A"},null,null,null,null,"Full House",{"$error":"#N/A"},null,{"$error":"#N/A"},{"$error":"#N/A"},null,{"$error":"#N/A"},null,null,null,null,"Flush",{"$error":"#N/A"},null,{"$error":"#N/A"},{"$error":"#N/A"},null,{"$error":"#N/A"},null,null,null,null,"Straight",{"$error":"#N/A"},{"$error":"#N/A"},{"$error":"#N/A"},{"$error":"#N/A"},{"$error":"#N/A"},{"$error":"#N/A"},null,null,null,null,"Three of a Kind",{"$error":"#N/A"},null,{"$error":"#N/A"},{"$error":"#N/A"},null,{"$error":"#N/A"},null,null,null,null,"Two Pair",{"$error":"#N/A"},null,{"$error":"#N/A"},{"$error":"#N/A"},null,{"$error":"#N/A"},null,null,null,null,"One Pair",{"$error":"#N/A"},null,{"$error":"#N/A"},{"$error":"#N/A"},null,{"$error":"#N/A"},null,null,null,null,"High Card",{"$error":"#N/A"},null,{"$error":"#N/A"},{"$error":"#N/A"},null,{"$error":"#N/A"}]
[7,"♠7",0.83395743370056152,6,"S",7,null,"Three of a Kind",7,null,null,1,2,3,4,5,null,1,2,3,4,5,null,null,null,null,null,null,null,null,null,null,null,4,{"$f":"L32","v":{"$error":"#N/A"}},{"$f":"M32","v":{"$error":"#N/A"}},{"$f":"N32","v":{"$error":"#N/A"}},{"$f":"O32","v":{"$error":"#N/A"}},{"$f":"P32","v":{"$error":"#N/A"}},{"$f":"INDEX($BV$37:$BV$46,MATCH(1,$BY$37:$BY$46,0))","v":{"$error":"#N/A"}},{"$error":"#N/A"},4,{"$f":"R32","v":{"$error":"#N/A"}},{"$f":"S32","v":{"$error":"#N/A"}},{"$f":"T32","v":{"$error":"#N/A"}},{"$f":"U32","v":{"$error":"#N/A"}},{"$f":"V32","v":{"$error":"#N/A"}},{"$f":"INDEX($BV$37:$BV$46,MATCH(1,$CB$37:$CB$46,0))","v":{"$error":"#N/A"}},{"$error":"#N/A"},null,null,null,null,null,null,null,null,null,null,null,null,null,null,null,null,null,null,null,null,null,null,null,4,{"$f":"DN4","v":"Full House"},{"$f":"DO4","v":{"$error":"#N/A"}},0,{"$error":"#N/A"},{"$error":"#N/A"},0,{"$error":"#N/A"},null,null,null,null,"Royal Flush",{"$error":"#N/A"},{"$error":"#N/A"},{"$error":"#N/A"},{"$error":"#N/A"},{"$error":"#N/A"},{"$error":"#N/A"},null,null,null,null,"Straight Flush",{"$error":"#N/A"},{"$error":"#N/A"},{"$error":"#N/A"},{"$error":"#N/A"},{"$error":"#N/A"},{"$error":"#N/A"},null,null,null,null,"Four of a Kind",{"$error":"#N/A"},null,{"$error":"#N/A"},{"$error":"#N/A"},null,{"$error":"#N/A"},null,null,null,null,"Full House",{"$error":"#N/A"},null,{"$error":"#N/A"},{"$error":"#N/A"},null,{"$error":"#N/A"},null,null,null,null,"Flush",{"$error":"#N/A"},null,{"$error":"#N/A"},{"$error":"#N/A"},null,{"$error":"#N/A"},null,null,null,null,"Straight",{"$error":"#N/A"},{"$error":"#N/A"},{"$error":"#N/A"},{"$error":"#N/A"},{"$error":"#N/A"},{"$error":"#N/A"},null,null,null,null,"Three of a Kind",{"$error":"#N/A"},null,{"$error":"#N/A"},{"$error":"#N/A"},null,{"$error":"#N/A"},null,null,null,null,"Two Pair",{"$error":"#N/A"},null,{"$error":"#N/A"},{"$error":"#N/A"},null,{"$error":"#N/A"},null,null,null,null,"One Pair",{"$error":"#N/A"},null,{"$error":"#N/A"},{"$error":"#N/A"},null,{"$error":"#N/A"},null,null,null,null,"High Card",{"$error":"#N/A"},null,{"$error":"#N/A"},{"$error":"#N/A"},null,{"$error":"#N/A"}]
[8,"♠8",0.64597451686859131,21,"S",8,null,"Two Pair",8,null,null,{"$f":"L3+IF(L3=1,13+RAND()^3,RAND()^3)","v":{"$error":"#N/A"}},{"$f":"M3+IF(M3=1,13+RAND()^3,RAND()^3)","v":{"$error":"#N/A"}},{"$error":"#N/A"},{"$error":"#N/A"},{"$error":"#N/A"},5.7040591087585181E-4,{"$error":"#N/A"},{"$error":"#N/A"},{"$error":"#N/A"},{"$error":"#N/A"},{"$error":"#N/A"},7.630522142723254E-3,null,null,null,null,null,null,null,null,null,null,5,{"$f":"L41","v":{"$error":"#N/A"}},{"$f":"M41","v":{"$error":"#N/A"}},{"$f":"N41","v":{"$error":"#N/A"}},{"$f":"O41","v":{"$error":"#N/A"}},{"$f":"P41","v":{"$error":"#N/A"}},{"$f":"INDEX($BV$48:$BV$57,MATCH(1,$BY$48:$BY$57,0))","v":{"$error":"#N/A"}},{"$error":"#N/A"},5,{"$f":"R41","v":{"$error":"#N/A"}},{"$f":"S41","v":{"$error":"#N/A"}},{"$f":"T41","v":{"$error":"#N/A"}},{"$f":"U41","v":{"$error":"#N/A"}},{"$f":"V41","v":{"$error":"#N/A"}},{"$f":"INDEX($BV$48:$BV$57,MATCH(1,$CB$48:$CB$57,0))","v":{"$error":"#N/A"}},{"$error":"#N/A"},null,null,null,null,null,null,null,null,null,null,null,null,null,null,null,null,null,null,null,null,null,null,null,5,{"$f":"DY4","v":"Flush"},{"$f":"DZ4","v":{"$error":"#N/A"}},0,{"$error":"#N/A"},{"$error":"#N/A"},0,{"$error":"#N/A"},null,null,null,null,"Royal Flush",{"$error":"#N/A"},{"$error":"#N/A"},{"$error":"#N/A"},{"$error":"#N/A"},{"$error":"#N/A"},{"$error":"#N/A"},null,null,null,null,"Straight Flush",{"$error":"#N/A"},{"$error":"#N/A"},{"$error":"#N/A"},{"$error":"#N/A"},{"$error":"#N/A"},{"$error":"#N/A"},null,null,null,null,"Four of a Kind",{"$error":"#N/A"},null,{"$error":"#N/A"},{"$error":"#N/A"},null,{"$error":"#N/A"},null,null,null,null,"Full House",{"$error":"#N/A"},null,{"$error":"#N/A"},{"$error":"#N/A"},null,{"$error":"#N/A"},null,null,null,null,"Flush",{"$error":"#N/A"},null,{"$error":"#N/A"},{"$error":"#N/A"},null,{"$error":"#N/A"},null,null,null,null,"Straight",{"$error":"#N/A"},{"$error":"#N/A"},{"$error":"#N/A"},{"$error":"#N/A"},{"$error":"#N/A"},{"$error":"#N/A"},null,null,null,null,"Three of a Kind",{"$error":"#N/A"},null,{"$error":"#N/A"},{"$error":"#N/A"},null,{"$error":"#N/A"},null,null,null,null,"Two Pair",{"$error":"#N/A"},null,{"$error":"#N/A"},{"$error":"#N/A"},null,{"$error":"#N/A"},null,null,null,null,"One Pair",{"$error":"#N/A"},null,{"$error":"#N/A"},{"$error":"#N/A"},null,{"$error":"#N/A"},null,null,null,null,"High Card",{"$error":"#N/A"},null,{"$error":"#N/A"},{"$error":"#N/A"},null,{"$error":"#N/A"}]
[9,"♠9",0.34695053100585938,39,"S",9,null,"One Pair",9,null,null,null,null,null,null,null,null,null,null,null,null,null,null,null,null,null,null,null,null,null,null,null,null,6,{"$f":"L50","v":{"$error":"#N/A"}},{"$f":"M50","v":{"$error":"#N/A"}},{"$f":"N50","v":{"$error":"#N/A"}},{"$f":"O50","v":{"$error":"#N/A"}},{"$f":"P50","v":{"$error":"#N/A"}},{"$f":"INDEX($BV$59:$BV$68,MATCH(1,$BY$59:$BY$68,0))","v":{"$error":"#N/A"}},{"$error":"#N/A"},6,{"$f":"R50","v":{"$error":"#N/A"}},{"$f":"S50","v":{"$error":"#N/A"}},{"$f":"T50","v":{"$error":"#N/A"}},{"$f":"U50","v":{"$error":"#N/A"}},{"$f":"V50","v":{"$error":"#N/A"}},{"$f":"INDEX($BV$59:$BV$68,MATCH(1,$CB$59:$CB$68,0))","v":{"$error":"#N/A"}},{"$error":"#N/A"},null,null,null,null,null,null,null,null,null,null,null,null,null,null,null,null,null,null,null,null,null,null,null,6,{"$f":"EJ4","v":"Straight"},{"$f":"EK4","v":{"$error":"#N/A"}},{"$error":"#N/A"},{"$error":"#N/A"},{"$error":"#N/A"},{"$error":"#N/A"},{"$error":"#N/A"},null,null,null,null,"Royal Flush",{"$error":"#N/A"},{"$error":"#N/A"},{"$error":"#N/A"},{"$error":"#N/A"},{"$error":"#N/A"},{"$error":"#N/A"},null,null,null,null,"Straight Flush",{"$error":"#N/A"},{"$error":"#N/A"},{"$error":"#N/A"},{"$error":"#N/A"},{"$error":"#N/A"},{"$error":"#N/A"},null,null,null,null,"Four of a Kind",{"$error":"#N/A"},null,{"$error":"#N/A"},{"$error":"#N/A"},null,{"$error":"#N/A"},null,null,null,null,"Full House",{"$error":"#N/A"},null,{"$error":"#N/A"},{"$error":"#N/A"},null,{"$error":"#N/A"},null,null,null,null,"Flush",{"$error":"#N/A"},null,{"$error":"#N/A"},{"$error":"#N/A"},null,{"$error":"#N/A"},null,null,null,null,"Straight",{"$error":"#N/A"},{"$error":"#N/A"},{"$error":"#N/A"},{"$error":"#N/A"},{"$error":"#N/A"},{"$error":"#N/A"},null,null,null,null,"Three of a Kind",{"$error":"#N/A"},null,{"$error":"#N/A"},{"$error":"#N/A"},null,{"$error":"#N/A"},null,null,null,null,"Two Pair",{"$error":"#N/A"},null,{"$error":"#N/A"},{"$error":"#N/A"},null,{"$error":"#N/A"},null,null,null,null,"One Pair",{"$error":"#N/A"},null,{"$error":"#N/A"},{"$error":"#N/A"},null,{"$error":"#N/A"},null,null,null,null,"High Card",{"$error":"#N/A"},null,{"$error":"#N/A"},{"$error":"#N/A"},null,{"$error":"#N/A"}]
[10,"♠10",0.69113504886627197,19,"S",10,null,"High Card",10,null,null,{"$f":"RANK(L17,$L$17:$P$17,1)","v":{"$error":"#N/A"}},{"$f":"RANK(M17,$L$17:$P$17,1)","v":{"$error":"#N/A"}},{"$f":"RANK(N17,$L$17:$P$17,1)","v":{"$error":"#N/A"}},{"$f":"RANK(O17,$L$17:$P$17,1)","v":{"$error":"#N/A"}},{"$f":"RANK(P17,$L$17:$P$17,1)","v":{"$error":"#N/A"}},null,{"$f":"RANK(R17,$R$17:$V$17,1)","v":{"$error":"#N/A"}},{"$f":"RANK(S17,$R$17:$V$17,1)","v":{"$error":"#N/A"}},{"$f":"RANK(T17,$R$17:$V$17,1)","v":{"$error":"#N/A"}},{"$f":"RANK(U17,$R$17:$V$17,1)","v":{"$error":"#N/A"}},{"$f":"RANK(V17,$R$17:$V$17,1)","v":{"$error":"#N/A"}},null,null,null,null,null,null,null,null,null,null,null,7,{"$f":"L59","v":{"$error":"#N/A"}},{"$f":"M59","v":{"$error":"#N/A"}},{"$f":"N59","v":{"$error":"#N/A"}},{"$f":"O59","v":{"$error":"#N/A"}},{"$f":"P59","v":{"$error":"#N/A"}},{"$f":"INDEX($BV$70:$BV$79,MATCH(1,$BY$70:$BY$79,0))","v":{"$error":"#N/A"}},{"$error":"#N/A"},7,{"$f":"R59","v":{"$error":"#N/A"}},{"$f":"S59","v":{"$error":"#N/A"}},{"$f":"T59","v":{"$error":"#N/A"}},{"$f":"U59","v":{"$error":"#N/A"}},{"$f":"V59","v":{"$error":"#N/A"}},{"$f":"INDEX($BV$70:$BV$79,MATCH(1,$CB$70:$CB$79,0))","v":{"$error":"#N/A"}},{"$error":"#N/A"},null,null,null,null,null,null,null,null,null,null,null,null,null,null,null,null,null,null,null,null,null,null,null,7,{"$f":"EU4","v":"Three of a Kind"},{"$f":"EV4","v":{"$error":"#N/A"}},0,{"$error":"#N/A"},{"$error":"#N/A"},0,{"$error":"#N/A"},null,null,null,null,"Royal Flush",{"$error":"#N/A"},{"$error":"#N/A"},{"$error":"#N/A"},{"$error":"#N/A"},{"$error":"#N/A"},{"$error":"#N/A"},null,null,null,null,"Straight Flush",{"$error":"#N/A"},{"$error":"#N/A"},{"$error":"#N/A"},{"$error":"#N/A"},{"$error":"#N/A"},{"$error":"#N/A"},null,null,null,null,"Four of a Kind",{"$error":"#N/A"},null,{"$error":"#N/A"},{"$error":"#N/A"},null,{"$error":"#N/A"},null,null,null,null,"Full House",{"$error":"#N/A"},null,{"$error":"#N/A"},{"$error":"#N/A"},null,{"$error":"#N/A"},null,null,null,null,"Flush",{"$error":"#N/A"},null,{"$error":"#N/A"},{"$error":"#N/A"},null,{"$error":"#N/A"},null,null,null,null,"Straight",{"$error":"#N/A"},{"$error":"#N/A"},{"$error":"#N/A"},{"$error":"#N/A"},{"$error":"#N/A"},{"$error":"#N/A"},null,null,null,null,"Three of a Kind",{"$error":"#N/A"},null,{"$error":"#N/A"},{"$error":"#N/A"},null,{"$error":"#N/A"},null,null,null,null,"Two Pair",{"$error":"#N/A"},null,{"$error":"#N/A"},{"$error":"#N/A"},null,{"$error":"#N/A"},null,null,null,null,"One Pair",{"$error":"#N/A"},null,{"$error":"#N/A"},{"$error":"#N/A"},null,{"$error":"#N/A"},null,null,null,null,"High Card",{"$error":"#N/A"},null,{"$error":"#N/A"},{"$error":"#N/A"},null,{"$error":"#N/A"}]
[11,"♠J",0.60739922523498535,23,"S",11,null,null,null,2,null,{"$f":"[0]!Player11","v":0},{"$f":"[0]!Player12","v":0},{"$f":"[0]!House1","v":0},{"$f":"[0]!House2","v":0},{"$f":"[0]!House4","v":0},null,{"$f":"[0]!Player21","v":0},{"$f":"[0]!Player22","v":0},{"$f":"[0]!House1","v":0},{"$f":"[0]!House2","v":0},{"$f":"[0]!House4","v":0},null,null,null,null,null,null,null,null,null,null,null,8,{"$f":"L68","v":{"$error":"#N/A"}},{"$f":"M68","v":{"$error":"#N/A"}},{"$f":"N68","v":{"$error":"#N/A"}},{"$f":"O68","v":{"$error":"#N/A"}},{"$f":"P68","v":{"$error":"#N/A"}},{"$f":"INDEX($BV$81:$BV$90,MATCH(1,$BY$81:$BY$90,0))","v":{"$error":"#N/A"}},{"$error":"#N/A"},8,{"$f":"R68","v":{"$error":"#N/A"}},{"$f":"S68","v":{"$error":"#N/A"}},{"$f":"T68","v":{"$error":"#N/A"}},{"$f":"U68","v":{"$error":"#N/A"}},{"$f":"V68","v":{"$error":"#N/A"}},{"$f":"INDEX($BV$81:$BV$90,MATCH(1,$CB$81:$CB$90,0))","v":{"$error":"#N/A"}},{"$error":"#N/A"},null,null,null,null,null,null,null,null,null,null,null,null,null,null,null,null,null,null,null,null,null,null,null,8,{"$f":"FF4","v":"Two Pair"},{"$f":"FG4","v":{"$error":"#N/A"}},0,{"$error":"#N/A"},{"$error":"#N/A"},0,{"$error":"#N/A"},null,null,null,null,"Royal Flush",{"$error":"#N/A"},{"$error":"#N/A"},{"$error":"#N/A"},{"$error":"#N/A"},{"$error":"#N/A"},{"$error":"#N/A"},null,null,null,null,"Straight Flush",{"$error":"#N/A"},{"$error":"#N/A"},{"$error":"#N/A"},{"$error":"#N/A"},{"$error":"#N/A"},{"$error":"#N/A"},null,null,null,null,"Four of a Kind",{"$error":"#N/A"},null,{"$error":"#N/A"},{"$error":"#N/A"},null,{"$error":"#N/A"},null,null,null,null,"Full House",{"$error":"#N/A"},null,{"$error":"#N/A"},{"$error":"#N/A"},null,{"$error":"#N/A"},null,null,null,null,"Flush",{"$error":"#N/A"},null,{"$error":"#N/A"},{"$error":"#N/A"},null,{"$error":"#N/A"},null,null,null,null,"Straight",{"$error":"#N/A"},{"$error":"#N/A"},{"$error":"#N/A"},{"$error":"#N/A"},{"$error":"#N/A"},{"$error":"#N/A"},null,null,null,null,"Three of a Kind",{"$error":"#N/A"},null,{"$error":"#N/A"},{"$error":"#N/A"},null,{"$error":"#N/A"},null,null,null,null,"Two Pair",{"$error":"#N/A"},null,{"$error":"#N/A"},{"$error":"#N/A"},null,{"$error":"#N/A"},null,null,null,null,"One Pair",{"$error":"#N/A"},null,{"$error":"#N/A"},{"$error":"#N/A"},null,{"$error":"#N/A"},null,null,null,null,"High Card",{"$error":"#N/A"},null,{"$error":"#N/A"},{"$error":"#N/A"},null,{"$error":"#N/A"}]
[12,"♠Q",0.72120845317840576,16,"S",12,null,null,null,null,null,{"$f":"VLOOKUP(L11,$B$1:$F$52,5,0)","v":{"$error":"#N/A"}},{"$f":"VLOOKUP(M11,$B$1:$F$52,5,0)","v":{"$error":"#N/A"}},{"$f":"VLOOKUP(N11,$B$1:$F$52,5,0)","v":{"$error":"#N/A"}},{"$f":"VLOOKUP(O11,$B$1:$F$52,5,0)","v":{"$error":"#N/A"}},{"$f":"VLOOKUP(P11,$B$1:$F$52,5,0)","v":{"$error":"#N/A"}},null,{"$f":"VLOOKUP(R11,$B$1:$F$52,5,0)","v":{"$error":"#N/A"}},{"$f":"VLOOKUP(S11,$B$1:$F$52,5,0)","v":{"$error":"#N/A"}},{"$f":"VLOOKUP(T11,$B$1:$F$52,5,0)","v":{"$error":"#N/A"}},{"$f":"VLOOKUP(U11,$B$1:$F$52,5,0)","v":{"$error":"#N/A"}},{"$f":"VLOOKUP(V11,$B$1:$F$52,5,0)","v":{"$error":"#N/A"}},null,null,null,null,null,null,null,null,null,null,null,9,{"$f":"L77","v":{"$error":"#N/A"}},{"$f":"M77","v":{"$error":"#N/A"}},{"$f":"N77","v":{"$error":"#N/A"}},{"$f":"O77","v":{"$error":"#N/A"}},{"$f":"P77","v":{"$error":"#N/A"}},{"$f":"INDEX($BV$92:$BV$101,MATCH(1,$BY$92:$BY$101,0))","v":{"$error":"#N/A"}},{"$error":"#N/A"},9,{"$f":"R77","v":{"$error":"#N/A"}},{"$f":"S77","v":{"$error":"#N/A"}},{"$f":"T77","v":{"$error":"#N/A"}},{"$f":"U77","v":{"$error":"#N/A"}},{"$f":"V77","v":{"$error":"#N/A"}},{"$f":"INDEX($BV$92:$BV$101,MATCH(1,$CB$92:$CB$101,0))","v":{"$error":"#N/A"}},{"$error":"#N/A"},null,null,null,null,null,null,null,null,null,null,null,null,null,null,null,null,null,null,null,null,null,null,null,9,{"$f":"FQ4","v":"One Pair"},{"$f":"FR4","v":{"$error":"#N/A"}},0,{"$error":"#N/A"},{"$error":"#N/A"},0,{"$error":"#N/A"},null,null,null,null,"Royal Flush",{"$error":"#N/A"},{"$error":"#N/A"},{"$error":"#N/A"},{"$error":"#N/A"},{"$error":"#N/A"},{"$error":"#N/A"},null,null,null,null,"Straight Flush",{"$error":"#N/A"},{"$error":"#N/A"},{"$error":"#N/A"},{"$error":"#N/A"},{"$error":"#N/A"},{"$error":"#N/A"},null,null,null,null,"Four of a Kind",{"$error":"#N/A"},null,{"$error":"#N/A"},{"$error":"#N/A"},null,{"$error":"#N/A"},null,null,null,null,"Full House",{"$error":"#N/A"},null,{"$error":"#N/A"},{"$error":"#N/A"},null,{"$error":"#N/A"},null,null,null,null,"Flush",{"$error":"#N/A"},null,{"$error":"#N/A"},{"$error":"#N/A"},null,{"$error":"#N/A"},null,null,null,null,"Straight",{"$error":"#N/A"},{"$error":"#N/A"},{"$error":"#N/A"},{"$error":"#N/A"},{"$error":"#N/A"},{"$error":"#N/A"},null,null,null,null,"Three of a Kind",{"$error":"#N/A"},null,{"$error":"#N/A"},{"$error":"#N/A"},null,{"$error":"#N/A"},null,null,null,null,"Two Pair",{"$error":"#N/A"},null,{"$error":"#N/A"},{"$error":"#N/A"},null,{"$error":"#N/A"},null,null,null,null,"One Pair",{"$error":"#N/A"},null,{"$error":"#N/A"},{"$error":"#N/A"},null,{"$error":"#N/A"},null,null,null,null,"High Card",{"$error":"#N/A"},null,{"$error":"#N/A"},{"$error":"#N/A"},null,{"$error":"#N/A"}]
[13,"♠K",5.2376270294189453E-2,52,"S",13,null,null,null,null,null,{"$f":"VLOOKUP(L11,$B$1:$F$52,4,0)","v":{"$error":"#N/A"}},{"$f":"VLOOKUP(M11,$B$1:$F$52,4,0)","v":{"$error":"#N/A"}},{"$f":"VLOOKUP(N11,$B$1:$F$52,4,0)","v":{"$error":"#N/A"}},{"$f":"VLOOKUP(O11,$B$1:$F$52,4,0)","v":{"$error":"#N/A"}},{"$f":"VLOOKUP(P11,$B$1:$F$52,4,0)","v":{"$error":"#N/A"}},null,{"$f":"VLOOKUP(R11,$B$1:$F$52,4,0)","v":{"$error":"#N/A"}},{"$f":"VLOOKUP(S11,$B$1:$F$52,4,0)","v":{"$error":"#N/A"}},{"$f":"VLOOKUP(T11,$B$1:$F$52,4,0)","v":{"$error":"#N/A"}},{"$f":"VLOOKUP(U11,$B$1:$F$52,4,0)","v":{"$error":"#N/A"}},{"$f":"VLOOKUP(V11,$B$1:$F$52,4,0)","v":{"$error":"#N/A"}},null,null,null,null,null,null,null,null,null,null,null,10,{"$f":"L86","v":{"$error":"#N/A"}},{"$f":"M86","v":{"$error":"#N/A"}},{"$f":"N86","v":{"$error":"#N/A"}},{"$f":"O86","v":{"$error":"#N/A"}},{"$f":"P86","v":{"$error":"#N/A"}},{"$f":"INDEX($BV$103:$BV$112,MATCH(1,$BY$103:$BY$112,0))","v":{"$error":"#N/A"}},{"$error":"#N/A"},10,{"$f":"R86","v":{"$error":"#N/A"}},{"$f":"S86","v":{"$error":"#N/A"}},{"$f":"T86","v":{"$error":"#N/A"}},{"$f":"U86","v":{"$error":"#N/A"}},{"$f":"V86","v":{"$error":"#N/A"}},{"$f":"INDEX($BV$103:$BV$112,MATCH(1,$CB$103:$CB$112,0))","v":{"$error":"#N/A"}},{"$error":"#N/A"},null,null,null,null,null,null,null,null,null,null,null,null,null,null,null,null,null,null,null,null,null,null,null,10,{"$f":"GB4","v":"High Card"},{"$f":"GC4","v":{"$error":"#N/A"}},0,{"$error":"#N/A"},{"$error":"#N/A"},0,{"$error":"#N/A"},null,null,null,null,"Royal Flush",{"$error":"#N/A"},{"$error":"#N/A"},{"$error":"#N/A"},{"$error":"#N/A"},{"$error":"#N/A"},{"$error":"#N/A"},null,null,null,null,"Straight Flush",{"$error":"#N/A"},{"$error":"#N/A"},{"$error":"#N/A"},{"$error":"#N/A"},{"$error":"#N/A"},{"$error":"#N/A"},null,null,null,null,"Four of a Kind",{"$error":"#N/A"},null,{"$error":"#N/A"},{"$error":"#N/A"},null,{"$error":"#N/A"},null,null,null,null,"Full House",{"$error":"#N/A"},null,{"$error":"#N/A"},{"$error":"#N/A"},null,{"$error":"#N/A"},null,null,null,null,"Flush",{"$error":"#N/A"},null,{"$error":"#N/A"},{"$error":"#N/A"},null,{"$error":"#N/A"},null,null,null,null,"Straight",{"$error":"#N/A"},{"$error":"#N/A"},{"$error":"#N/A"},{"$error":"#N/A"},{"$error":"#N/A"},{"$error":"#N/A"},null,null,null,null,"Three of a Kind",{"$error":"#N/A"},null,{"$error":"#N/A"},{"$error":"#N/A"},null,{"$error":"#N/A"},null,null,null,null,"Two Pair",{"$error":"#N/A"},null,{"$error":"#N/A"},{"$error":"#N/A"},null,{"$error":"#N/A"},null,null,null,null,"One Pair",{"$error":"#N/A"},null,{"$error":"#N/A"},{"$error":"#N/A"},null,{"$error":"#N/A"},null,null,null,null,"High Card",{"$error":"#N/A"},null,{"$error":"#N/A"},{"$error":"#N/A"},null,{"$error":"#N/A"}]
[14,"♣A",0.29484951496124268,45,"C",1,null,null,null,null,null,{"$f":"HLOOKUP(L16,$L$10:$P$13,3,0)","v":{"$error":"#N/A"}},{"$f":"HLOOKUP(M16,$L$10:$P$13,3,0)","v":{"$error":"#N/A"}},{"$f":"HLOOKUP(N16,$L$10:$P$13,3,0)","v":{"$error":"#N/A"}},{"$f":"HLOOKUP(O16,$L$10:$P$13,3,0)","v":{"$error":"#N/A"}},{"$f":"HLOOKUP(P16,$L$10:$P$13,3,0)","v":{"$error":"#N/A"}},null,{"$f":"HLOOKUP(R16,$R$10:$V$13,3,0)","v":{"$error":"#N/A"}},{"$f":"HLOOKUP(S16,$R$10:$V$13,3,0)","v":{"$error":"#N/A"}},{"$f":"HLOOKUP(T16,$R$10:$V$13,3,0)","v":{"$error":"#N/A"}},{"$f":"HLOOKUP(U16,$R$10:$V$13,3,0)","v":{"$error":"#N/A"}},{"$f":"HLOOKUP(V16,$R$10:$V$13,3,0)","v":{"$error":"#N/A"}},null,null,null,null,null,null,null,null,null,null,null,11,{"$f":"L95","v":{"$error":"#N/A"}},{"$f":"M95","v":{"$error":"#N/A"}},{"$f":"N95","v":{"$error":"#N/A"}},{"$f":"O95","v":{"$error":"#N/A"}},{"$f":"P95","v":{"$error":"#N/A"}},{"$f":"INDEX($BV$114:$BV$123,MATCH(1,$BY$114:$BY$123,0))","v":{"$error":"#N/A"}},{"$error":"#N/A"},11,{"$f":"R95","v":{"$error":"#N/A"}},{"$f":"S95","v":{"$error":"#N/A"}},{"$f":"T95","v":{"$error":"#N/A"}},{"$f":"U95","v":{"$error":"#N/A"}},{"$f":"V95","v":{"$error":"#N/A"}},{"$f":"INDEX($BV$114:$BV$123,MATCH(1,$CB$114:$CB$123,0))","v":{"$error":"#N/A"}},{"$error":"#N/A"},null,null,null,null,null,null,null,null,null,null,null,null,null,null,null,null,null,null,null,null,null,null,null,null,null,null,null,null,null,null,null,null,null,null,null,"Royal Flush",{"$error":"#N/A"},{"$error":"#N/A"},{"$error":"#N/A"},{"$error":"#N/A"},{"$error":"#N/A"},{"$error":"#N/A"},null,null,null,null,"Straight Flush",{"$error":"#N/A"},{"$error":"#N/A"},{"$error":"#N/A"},{"$error":"#N/A"},{"$error":"#N/A"},{"$error":"#N/A"},null,null,null,null,"Four of a Kind",{"$error":"#N/A"},null,{"$error":"#N/A"},{"$error":"#N/A"},null,{"$error":"#N/A"},null,null,null,null,"Full House",{"$error":"#N/A"},null,{"$error":"#N/A"},{"$error":"#N/A"},null,{"$error":"#N/A"},null,null,null,null,"Flush",{"$error":"#N/A"},null,{"$error":"#N/A"},{"$error":"#N/A"},null,{"$error":"#N/A"},null,null,null,null,"Straight",{"$error":"#N/A"},{"$error":"#N/A"},{"$error":"#N/A"},{"$error":"#N/A"},{"$error":"#N/A"},{"$error":"#N/A"},null,null,null,null,"Three of a Kind",{"$error":"#N/A"},null,{"$error":"#N/A"},{"$error":"#N/A"},null,{"$error":"#N/A"},null,null,null,null,"Two Pair",{"$error":"#N/A"},null,{"$error":"#N/A"},{"$error":"#N/A"},null,{"$error":"#N/A"},null,null,null,null,"One Pair",{"$error":"#N/A"},null,{"$error":"#N/A"},{"$error":"#N/A"},null,{"$error":"#N/A"},null,null,null,null,"High Card",{"$error":"#N/A"},null,{"$error":"#N/A"},{"$error":"#N/A"},null,{"$error":"#N/A"}]
[15,"♣2",0.33477473258972168,40,"C",2,null,null,null,null,null,{"$f":"HLOOKUP(L16,$L$10:$P$13,4,0)","v":{"$error":"#N/A"}},{"$f":"HLOOKUP(M16,$L$10:$P$13,4,0)","v":{"$error":"#N/A"}},{"$f":"HLOOKUP(N16,$L$10:$P$13,4,0)","v":{"$error":"#N/A"}},{"$f":"HLOOKUP(O16,$L$10:$P$13,4,0)","v":{"$error":"#N/A"}},{"$f":"HLOOKUP(P16,$L$10:$P$13,4,0)","v":{"$error":"#N/A"}},null,{"$f":"HLOOKUP(R16,$R$10:$V$13,4,0)","v":{"$error":"#N/A"}},{"$f":"HLOOKUP(S16,$R$10:$V$13,4,0)","v":{"$error":"#N/A"}},{"$f":"HLOOKUP(T16,$R$10:$V$13,4,0)","v":{"$error":"#N/A"}},{"$f":"HLOOKUP(U16,$R$10:$V$13,4,0)","v":{"$error":"#N/A"}},{"$f":"HLOOKUP(V16,$R$10:$V$13,4,0)","v":{"$error":"#N/A"}},null,null,null,null,null,null,null,null,null,null,null,12,{"$f":"L104","v":{"$error":"#N/A"}},{"$f":"M104","v":{"$error":"#N/A"}},{"$f":"N104","v":{"$error":"#N/A"}},{"$f":"O104","v":{"$error":"#N/A"}},{"$f":"P104","v":{"$error":"#N/A"}},{"$f":"INDEX($BV$125:$BV$134,MATCH(1,$BY$125:$BY$134,0))","v":{"$error":"#N/A"}},{"$error":"#N/A"},12,{"$f":"R104","v":{"$error":"#N/A"}},{"$f":"S104","v":{"$error":"#N/A"}},{"$f":"T104","v":{"$error":"#N/A"}},{"$f":"U104","v":{"$error":"#N/A"}},{"$f":"V104","v":{"$error":"#N/A"}},{"$f":"INDEX($BV$125:$BV$134,MATCH(1,$CB$125:$CB$134,0))","v":{"$error":"#N/A"}},{"$error":"#N/A"},null,null,null,null,null,null,null,null,null,null,null,null,null,null,null,null,null,null,null,null,null,null,null,2,{"$f":"CG5","v":"Royal Flush"},{"$f":"CH5","v":{"$error":"#N/A"}},{"$error":"#N/A"},{"$error":"#N/A"},{"$error":"#N/A"},{"$error":"#N/A"},{"$error":"#N/A"},null,null,null,null,"Royal Flush",{"$error":"#N/A"},{"$error":"#N/A"},{"$error":"#N/A"},{"$error":"#N/A"},{"$error":"#N/A"},{"$error":"#N/A"},null,null,null,null,"Straight Flush",{"$error":"#N/A"},{"$error":"#N/A"},{"$error":"#N/A"},{"$error":"#N/A"},{"$error":"#N/A"},{"$error":"#N/A"},null,null,null,null,"Four of a Kind",{"$error":"#N/A"},null,{"$error":"#N/A"},{"$error":"#N/A"},null,{"$error":"#N/A"},null,null,null,null,"Full House",{"$error":"#N/A"},null,{"$error":"#N/A"},{"$error":"#N/A"},null,{"$error":"#N/A"},null,null,null,null,"Flush",{"$error":"#N/A"},null,{"$error":"#N/A"},{"$error":"#N/A"},null,{"$error":"#N/A"},null,null,null,null,"Straight",{"$error":"#N/A"},{"$error":"#N/A"},{"$error":"#N/A"},{"$error":"#N/A"},{"$error":"#N/A"},{"$error":"#N/A"},null,null,null,null,"Three of a Kind",{"$error":"#N/A"},null,{"$error":"#N/A"},{"$error":"#N/A"},null,{"$error":"#N/A"},null,null,null,null,"Two Pair",{"$error":"#N/A"},null,{"$error":"#N/A"},{"$error":"#N/A"},null,{"$error":"#N/A"},null,null,null,null,"One Pair",{"$error":"#N/A"},null,{"$error":"#N/A"},{"$error":"#N/A"},null,{"$error":"#N/A"},null,null,null,null,"High Card",{"$error":"#N/A"},null,{"$error":"#N/A"},{"$error":"#N/A"},null,{"$error":"#N/A"}]
[16,"♣3",0.91309583187103271,5,"C",3,null,null,null,null,null,1,2,3,4,5,null,1,2,3,4,5,null,null,null,null,null,null,null,null,null,null,null,13,{"$f":"L113","v":{"$error":"#N/A"}},{"$f":"M113","v":{"$error":"#N/A"}},{"$f":"N113","v":{"$error":"#N/A"}},{"$f":"O113","v":{"$error":"#N/A"}},{"$f":"P113","v":{"$error":"#N/A"}},{"$f":"INDEX($BV$136:$BV$145,MATCH(1,$BY$136:$BY$145,0))","v":{"$error":"#N/A"}},{"$error":"#N/A"},13,{"$f":"R113","v":{"$error":"#N/A"}},{"$f":"S113","v":{"$error":"#N/A"}},{"$f":"T113","v":{"$error":"#N/A"}},{"$f":"U113","v":{"$error":"#N/A"}},{"$f":"V113","v":{"$error":"#N/A"}},{"$f":"INDEX($BV$136:$BV$145,MATCH(1,$CB$136:$CB$145,0))","v":{"$error":"#N/A"}},{"$error":"#N/A"},null,null,null,null,null,null,null,null,null,null,null,null,null,null,null,null,null,null,null,null,null,null,null,null,{"$f":"CR5","v":"Straight Flush"},{"$f":"CS5","v":{"$error":"#N/A"}},{"$error":"#N/A"},{"$error":"#N/A"},{"$error":"#N/A"},{"$error":"#N/A"},{"$error":"#N/A"},null,null,null,null,"Royal Flush",{"$error":"#N/A"},{"$error":"#N/A"},{"$error":"#N/A"},{"$error":"#N/A"},{"$error":"#N/A"},{"$error":"#N/A"},null,null,null,null,"Straight Flush",{"$error":"#N/A"},{"$error":"#N/A"},{"$error":"#N/A"},{"$error":"#N/A"},{"$error":"#N/A"},{"$error":"#N/A"},null,null,null,null,"Four of a Kind",{"$error":"#N/A"},null,{"$error":"#N/A"},{"$error":"#N/A"},null,{"$error":"#N/A"},null,null,null,null,"Full House",{"$error":"#N/A"},null,{"$error":"#N/A"},{"$error":"#N/A"},null,{"$error":"#N/A"},null,null,null,null,"Flush",{"$error":"#N/A"},null,{"$error":"#N/A"},{"$error":"#N/A"},null,{"$error":"#N/A"},null,null,null,null,"Straight",{"$error":"#N/A"},{"$error":"#N/A"},{"$error":"#N/A"},{"$error":"#N/A"},{"$error":"#N/A"},{"$error":"#N/A"},null,null,null,null,"Three of a Kind",{"$error":"#N/A"},null,{"$error":"#N/A"},{"$error":"#N/A"},null,{"$error":"#N/A"},null,null,null,null,"Two Pair",{"$error":"#N/A"},null,{"$error":"#N/A"},{"$error":"#N/A"},null,{"$error":"#N/A"},null,null,null,null,"One Pair",{"$error":"#N/A"},null,{"$error":"#N/A"},{"$error":"#N/A"},null,{"$error":"#N/A"},null,null,null,null,"High Card",{"$error":"#N/A"},null,{"$error":"#N/A"},{"$error":"#N/A"},null,{"$error":"#N/A"}]
[17,"♣4",0.58893299102783203,25,"C",4,null,null,null,null,null,{"$f":"L12+IF(L12=1,13+RAND()^3,RAND()^3)","v":{"$error":"#N/A"}},{"$f":"M12+IF(M12=1,13+RAND()^3,RAND()^3)","v":{"$error":"#N/A"}},{"$error":"#N/A"},{"$error":"#N/A"},{"$error":"#N/A"},0.8206461876107165,{"$error":"#N/A"},{"$error":"#N/A"},{"$error":"#N/A"},{"$error":"#N/A"},{"$error":"#N/A"},1.6788354940135596E-2,null,null,null,null,null,null,null,null,null,null,14,{"$f":"L122","v":{"$error":"#N/A"}},{"$f":"M122","v":{"$error":"#N/A"}},{"$f":"N122","v":{"$error":"#N/A"}},{"$f":"O122","v":{"$error":"#N/A"}},{"$f":"P122","v":{"$error":"#N/A"}},{"$f":"INDEX($BV$147:$BV$156,MATCH(1,$BY$147:$BY$156,0))","v":{"$error":"#N/A"}},{"$error":"#N/A"},14,{"$f":"R122","v":{"$error":"#N/A"}},{"$f":"S122","v":{"$error":"#N/A"}},{"$f":"T122","v":{"$error":"#N/A"}},{"$f":"U122","v":{"$error":"#N/A"}},{"$f":"V122","v":{"$error":"#N/A"}},{"$f":"INDEX($BV$147:$BV$156,MATCH(1,$CB$147:$CB$156,0))","v":{"$error":"#N/A"}},{"$error":"#N/A"},null,null,null,null,null,null,null,null,null,null,null,null,null,null,null,null,null,null,null,null,null,null,null,null,{"$f":"DC5","v":"Four of a Kind"},{"$f":"DD5","v":{"$error":"#N/A"}},0,{"$error":"#N/A"},{"$error":"#N/A"},0,{"$error":"#N/A"},null,null,null,null,"Royal Flush",{"$error":"#N/A"},{"$error":"#N/A"},{"$error":"#N/A"},{"$error":"#N/A"},{"$error":"#N/A"},{"$error":"#N/A"},null,null,null,null,"Straight Flush",{"$error":"#N/A"},{"$error":"#N/A"},{"$error":"#N/A"},{"$error":"#N/A"},{"$error":"#N/A"},{"$error":"#N/A"},null,null,null,null,"Four of a Kind",{"$error":"#N/A"},null,{"$error":"#N/A"},{"$error":"#N/A"},null,{"$error":"#N/A"},null,null,null,null,"Full House",{"$error":"#N/A"},null,{"$error":"#N/A"},{"$error":"#N/A"},null,{"$error":"#N/A"},null,null,null,null,"Flush",{"$error":"#N/A"},null,{"$error":"#N/A"},{"$error":"#N/A"},null,{"$error":"#N/A"},null,null,null,null,"Straight",{"$error":"#N/A"},{"$error":"#N/A"},{"$error":"#N/A"},{"$error":"#N/A"},{"$error":"#N/A"},{"$error":"#N/A"},null,null,null,null,"Three of a Kind",{"$error":"#N/A"},null,{"$error":"#N/A"},{"$error":"#N/A"},null,{"$error":"#N/A"},null,null,null,null,"Two Pair",{"$error":"#N/A"},null,{"$error":"#N/A"},{"$error":"#N/A"},null,{"$error":"#N/A"},null,null,null,null,"One Pair",{"$error":"#N/A"},null,{"$error":"#N/A"},{"$error":"#N/A"},null,{"$error":"#N/A"},null,null,null,null,"High Card",{"$error":"#N/A"},null,{"$error":"#N/A"},{"$error":"#N/A"},null,{"$error":"#N/A"}]
[18,"♣5",0.40999281406402588,32,"C",5,null,null,null,null,null,null,null,null,null,null,null,null,null,null,null,null,null,null,null,null,null,null,null,null,null,null,null,15,{"$f":"L131","v":{"$error":"#N/A"}},{"$f":"M131","v":{"$error":"#N/A"}},{"$f":"N131","v":{"$error":"#N/A"}},{"$f":"O131","v":{"$error":"#N/A"}},{"$f":"P131","v":{"$error":"#N/A"}},{"$f":"INDEX($BV$158:$BV$167,MATCH(1,$BY$158:$BY$167,0))","v":{"$error":"#N/A"}},{"$error":"#N/A"},15,{"$f":"R131","v":{"$error":"#N/A"}},{"$f":"S131","v":{"$error":"#N/A"}},{"$f":"T131","v":{"$error":"#N/A"}},{"$f":"U131","v":{"$error":"#N/A"}},{"$f":"V131","v":{"$error":"#N/A"}},{"$f":"INDEX($BV$158:$BV$167,MATCH(1,$CB$158:$CB$167,0))","v":{"$error":"#N/A"}},{"$error":"#N/A"},null,null,null,null,null,null,null,null,null,null,null,null,null,null,null,null,null,null,null,null,null,null,null,null,{"$f":"DN5","v":"Full House"},{"$f":"DO5","v":{"$error":"#N/A"}},0,{"$error":"#N/A"},{"$error":"#N/A"},0,{"$error":"#N/A"},null,null,null,null,"Royal Flush",{"$error":"#N/A"},{"$error":"#N/A"},{"$error":"#N/A"},{"$error":"#N/A"},{"$error":"#N/A"},{"$error":"#N/A"},null,null,null,null,"Straight Flush",{"$error":"#N/A"},{"$error":"#N/A"},{"$error":"#N/A"},{"$error":"#N/A"},{"$error":"#N/A"},{"$error":"#N/A"},null,null,null,null,"Four of a Kind",{"$error":"#N/A"},null,{"$error":"#N/A"},{"$error":"#N/A"},null,{"$error":"#N/A"},null,null,null,null,"Full House",{"$error":"#N/A"},null,{"$error":"#N/A"},{"$error":"#N/A"},null,{"$error":"#N/A"},null,null,null,null,"Flush",{"$error":"#N/A"},null,{"$error":"#N/A"},{"$error":"#N/A"},null,{"$error":"#N/A"},null,null,null,null,"Straight",{"$error":"#N/A"},{"$error":"#N/A"},{"$error":"#N/A"},{"$error":"#N/A"},{"$error":"#N/A"},{"$error":"#N/A"},null,null,null,null,"Three of a Kind",{"$error":"#N/A"},null,{"$error":"#N/A"},{"$error":"#N/A"},null,{"$error":"#N/A"},null,null,null,null,"Two Pair",{"$error":"#N/A"},null,{"$error":"#N/A"},{"$error":"#N/A"},null,{"$error":"#N/A"},null,null,null,null,"One Pair",{"$error":"#N/A"},null,{"$error":"#N/A"},{"$error":"#N/A"},null,{"$error":"#N/A"},null,null,null,null,"High Card",{"$error":"#N/A"},null,{"$error":"#N/A"},{"$error":"#N/A"},null,{"$error":"#N/A"}]
[19,"♣6",0.94625973701477051,4,"C",6,null,null,null,null,null,{"$f":"RANK(L26,$L$26:$P$26,1)","v":{"$error":"#N/A"}},{"$f":"RANK(M26,$L$26:$P$26,1)","v":{"$error":"#N/A"}},{"$f":"RANK(N26,$L$26:$P$26,1)","v":{"$error":"#N/A"}},{"$f":"RANK(O26,$L$26:$P$26,1)","v":{"$error":"#N/A"}},{"$f":"RANK(P26,$L$26:$P$26,1)","v":{"$error":"#N/A"}},null,{"$f":"RANK(R26,$R$26:$V$26,1)","v":{"$error":"#N/A"}},{"$f":"RANK(S26,$R$26:$V$26,1)","v":{"$error":"#N/A"}},{"$f":"RANK(T26,$R$26:$V$26,1)","v":{"$error":"#N/A"}},{"$f":"RANK(U26,$R$26:$V$26,1)","v":{"$error":"#N/A"}},{"$f":"RANK(V26,$R$26:$V$26,1)","v":{"$error":"#N/A"}},null,null,null,null,null,null,null,null,null,null,null,16,{"$f":"L140","v":{"$error":"#N/A"}},{"$f":"M140","v":{"$error":"#N/A"}},{"$f":"N140","v":{"$error":"#N/A"}},{"$f":"O140","v":{"$error":"#N/A"}},{"$f":"P140","v":{"$error":"#N/A"}},{"$f":"INDEX($BV$169:$BV$178,MATCH(1,$BY$169:$BY$178,0))","v":{"$error":"#N/A"}},{"$error":"#N/A"},16,{"$f":"R140","v":{"$error":"#N/A"}},{"$f":"S140","v":{"$error":"#N/A"}},{"$f":"T140","v":{"$error":"#N/A"}},{"$f":"U140","v":{"$error":"#N/A"}},{"$f":"V140","v":{"$error":"#N/A"}},{"$f":"INDEX($BV$169:$BV$178,MATCH(1,$CB$169:$CB$178,0))","v":{"$error":"#N/A"}},{"$error":"#N/A"},null,null,null,null,null,null,null,null,null,null,null,null,null,null,null,null,null,null,null,null,null,null,null,null,{"$f":"DY5","v":"Flush"},{"$f":"DZ5","v":{"$error":"#N/A"}},0,{"$error":"#N/A"},{"$error":"#N/A"},0,{"$error":"#N/A"},null,null,null,null,"Royal Flush",{"$error":"#N/A"},{"$error":"#N/A"},{"$error":"#N/A"},{"$error":"#N/A"},{"$error":"#N/A"},{"$error":"#N/A"},null,null,null,null,"Straight Flush",{"$error":"#N/A"},{"$error":"#N/A"},{"$error":"#N/A"},{"$error":"#N/A"},{"$error":"#N/A"},{"$error":"#N/A"},null,null,null,null,"Four of a Kind",{"$error":"#N/A"},null,{"$error":"#N/A"},{"$error":"#N/A"},null,{"$error":"#N/A"},null,null,null,null,"Full House",{"$error":"#N/A"},null,{"$error":"#N/A"},{"$error":"#N/A"},null,{"$error":"#N/A"},null,null,null,null,"Flush",{"$error":"#N/A"},null,{"$error":"#N/A"},{"$error":"#N/A"},null,{"$error":"#N/A"},null,null,null,null,"Straight",{"$error":"#N/A"},{"$error":"#N/A"},{"$error":"#N/A"},{"$error":"#N/A"},{"$error":"#N/A"},{"$error":"#N/A"},null,null,null,null,"Three of a Kind",{"$error":"#N/A"},null,{"$error":"#N/A"},{"$error":"#N/A"},null,{"$error":"#N/A"},null,null,null,null,"Two Pair",{"$error":"#N/A"},null,{"$error":"#N/A"},{"$error":"#N/A"},null,{"$error":"#N/A"},null,null,null,null,"One Pair",{"$error":"#N/A"},null,{"$error":"#N/A"},{"$error":"#N/A"},null,{"$error":"#N/A"},null,null,null,null,"High Card",{"$error":"#N/A"},null,{"$error":"#N/A"},{"$error":"#N/A"},null,{"$error":"#N/A"}]
[20,"♣7",0.59321868419647217,24,"C",7,null,null,null,3,null,{"$f":"[0]!Player11","v":0},{"$f":"[0]!Player12","v":0},{"$f":"[0]!House1","v":0},{"$f":"[0]!House2","v":0},{"$f":"[0]!House5","v":0},null,{"$f":"[0]!Player21","v":0},{"$f":"[0]!Player22","v":0},{"$f":"[0]!House1","v":0},{"$f":"[0]!House2","v":0},{"$f":"[0]!House5","v":0},null,null,null,null,null,null,null,null,null,null,null,17,{"$f":"L149","v":{"$error":"#N/A"}},{"$f":"M149","v":{"$error":"#N/A"}},{"$f":"N149","v":{"$error":"#N/A"}},{"$f":"O149","v":{"$error":"#N/A"}},{"$f":"P149","v":{"$error":"#N/A"}},{"$f":"INDEX($BV$180:$BV$189,MATCH(1,$BY$180:$BY$189,0))","v":{"$error":"#N/A"}},{"$error":"#N/A"},17,{"$f":"R149","v":{"$error":"#N/A"}},{"$f":"S149","v":{"$error":"#N/A"}},{"$f":"T149","v":{"$error":"#N/A"}},{"$f":"U149","v":{"$error":"#N/A"}},{"$f":"V149","v":{"$error":"#N/A"}},{"$f":"INDEX($BV$180:$BV$189,MATCH(1,$CB$180:$CB$189,0))","v":{"$error":"#N/A"}},{"$error":"#N/A"},null,null,null,null,null,null,null,null,null,null,null,null,null,null,null,null,null,null,null,null,null,null,null,null,{"$f":"EJ5","v":"Straight"},{"$f":"EK5","v":{"$error":"#N/A"}},{"$error":"#N/A"},{"$error":"#N/A"},{"$error":"#N/A"},{"$error":"#N/A"},{"$error":"#N/A"},null,null,null,null,"Royal Flush",{"$error":"#N/A"},{"$error":"#N/A"},{"$error":"#N/A"},{"$error":"#N/A"},{"$error":"#N/A"},{"$error":"#N/A"},null,null,null,null,"Straight Flush",{"$error":"#N/A"},{"$error":"#N/A"},{"$error":"#N/A"},{"$error":"#N/A"},{"$error":"#N/A"},{"$error":"#N/A"},null,null,null,null,"Four of a Kind",{"$error":"#N/A"},null,{"$error":"#N/A"},{"$error":"#N/A"},null,{"$error":"#N/A"},null,null,null,null,"Full House",{"$error":"#N/A"},null,{"$error":"#N/A"},{"$error":"#N/A"},null,{"$error":"#N/A"},null,null,null,null,"Flush",{"$error":"#N/A"},null,{"$error":"#N/A"},{"$error":"#N/A"},null,{"$error":"#N/A"},null,null,null,null,"Straight",{"$error":"#N/A"},{"$error":"#N/A"},{"$error":"#N/A"},{"$error":"#N/A"},{"$error":"#N/A"},{"$error":"#N/A"},null,null,null,null,"Three of a Kind",{"$error":"#N/A"},null,{"$error":"#N/A"},{"$error":"#N/A"},null,{"$error":"#N/A"},null,null,null,null,"Two Pair",{"$error":"#N/A"},null,{"$error":"#N/A"},{"$error":"#N/A"},null,{"$error":"#N/A"},null,null,null,null,"One Pair",{"$error":"#N/A"},null,{"$error":"#N/A"},{"$error":"#N/A"},null,{"$error":"#N/A"},null,null,null,null,"High Card",{"$error":"#N/A"},null,{"$error":"#N/A"},{"$error":"#N/A"},null,{"$error":"#N/A"}]
[21,"♣8",0.30085897445678711,43,"C",8,null,null,null,null,null,{"$f":"VLOOKUP(L20,$B$1:$F$52,5,0)","v":{"$error":"#N/A"}},{"$f":"VLOOKUP(M20,$B$1:$F$52,5,0)","v":{"$error":"#N/A"}},{"$f":"VLOOKUP(N20,$B$1:$F$52,5,0)","v":{"$error":"#N/A"}},{"$f":"VLOOKUP(O20,$B$1:$F$52,5,0)","v":{"$error":"#N/A"}},{"$f":"VLOOKUP(P20,$B$1:$F$52,5,0)","v":{"$error":"#N/A"}},null,{"$f":"VLOOKUP(R20,$B$1:$F$52,5,0)","v":{"$error":"#N/A"}},{"$f":"VLOOKUP(S20,$B$1:$F$52,5,0)","v":{"$error":"#N/A"}},{"$f":"VLOOKUP(T20,$B$1:$F$52,5,0)","v":{"$error":"#N/A"}},{"$f":"VLOOKUP(U20,$B$1:$F$52,5,0)","v":{"$error":"#N/A"}},{"$f":"VLOOKUP(V20,$B$1:$F$52,5,0)","v":{"$error":"#N/A"}},null,null,null,null,null,null,null,null,null,null,null,18,{"$f":"L158","v":{"$error":"#N/A"}},{"$f":"M158","v":{"$error":"#N/A"}},{"$f":"N158","v":{"$error":"#N/A"}},{"$f":"O158","v":{"$error":"#N/A"}},{"$f":"P158","v":{"$error":"#N/A"}},{"$f":"INDEX($BV$191:$BV$200,MATCH(1,$BY$191:$BY$200,0))","v":{"$error":"#N/A"}},{"$error":"#N/A"},18,{"$f":"R158","v":{"$error":"#N/A"}},{"$f":"S158","v":{"$error":"#N/A"}},{"$f":"T158","v":{"$error":"#N/A"}},{"$f":"U158","v":{"$error":"#N/A"}},{"$f":"V158","v":{"$error":"#N/A"}},{"$f":"INDEX($BV$191:$BV$200,MATCH(1,$CB$191:$CB$200,0))","v":{"$error":"#N/A"}},{"$error":"#N/A"},null,null,null,null,null,null,null,null,null,null,null,null,null,null,null,null,null,null,null,null,null,null,null,null,{"$f":"EU5","v":"Three of a Kind"},{"$f":"EV5","v":{"$error":"#N/A"}},0,{"$error":"#N/A"},{"$error":"#N/A"},0,{"$error":"#N/A"},null,null,null,null,"Royal Flush",{"$error":"#N/A"},{"$error":"#N/A"},{"$error":"#N/A"},{"$error":"#N/A"},{"$error":"#N/A"},{"$error":"#N/A"},null,null,null,null,"Straight Flush",{"$error":"#N/A"},{"$error":"#N/A"},{"$error":"#N/A"},{"$error":"#N/A"},{"$error":"#N/A"},{"$error":"#N/A"},null,null,null,null,"Four of a Kind",{"$error":"#N/A"},null,{"$error":"#N/A"},{"$error":"#N/A"},null,{"$error":"#N/A"},null,null,null,null,"Full House",{"$error":"#N/A"},null,{"$error":"#N/A"},{"$error":"#N/A"},null,{"$error":"#N/A"},null,null,null,null,"Flush",{"$error":"#N/A"},null,{"$error":"#N/A"},{"$error":"#N/A"},null,{"$error":"#N/A"},null,null,null,null,"Straight",{"$error":"#N/A"},{"$error":"#N/A"},{"$error":"#N/A"},{"$error":"#N/A"},{"$error":"#N/A"},{"$error":"#N/A"},null,null,null,null,"Three of a Kind",{"$error":"#N/A"},null,{"$error":"#N/A"},{"$error":"#N/A"},null,{"$error":"#N/A"},null,null,null,null,"Two Pair",{"$error":"#N/A"},null,{"$error":"#N/A"},{"$error":"#N/A"},null,{"$error":"#N/A"},null,null,null,null,"One Pair",{"$error":"#N/A"},null,{"$error":"#N/A"},{"$error":"#N/A"},null,{"$error":"#N/A"},null,null,null,null,"High Card",{"$error":"#N/A"},null,{"$error":"#N/A"},{"$error":"#N/A"},null,{"$error":"#N/A"}]
[22,"♣9",0.13470947742462158,48,"C",9,null,null,null,null,null,{"$f":"VLOOKUP(L20,$B$1:$F$52,4,0)","v":{"$error":"#N/A"}},{"$f":"VLOOKUP(M20,$B$1:$F$52,4,0)","v":{"$error":"#N/A"}},{"$f":"VLOOKUP(N20,$B$1:$F$52,4,0)","v":{"$error":"#N/A"}},{"$f":"VLOOKUP(O20,$B$1:$F$52,4,0)","v":{"$error":"#N/A"}},{"$f":"VLOOKUP(P20,$B$1:$F$52,4,0)","v":{"$error":"#N/A"}},null,{"$f":"VLOOKUP(R20,$B$1:$F$52,4,0)","v":{"$error":"#N/A"}},{"$f":"VLOOKUP(S20,$B$1:$F$52,4,0)","v":{"$error":"#N/A"}},{"$f":"VLOOKUP(T20,$B$1:$F$52,4,0)","v":{"$error":"#N/A"}},{"$f":"VLOOKUP(U20,$B$1:$F$52,4,0)","v":{"$error":"#N/A"}},{"$f":"VLOOKUP(V20,$B$1:$F$52,4,0)","v":{"$error":"#N/A"}},null,null,null,null,null,null,null,null,null,null,null,19,{"$f":"L167","v":{"$error":"#N/A"}},{"$f":"M167","v":{"$error":"#N/A"}},{"$f":"N167","v":{"$error":"#N/A"}},{"$f":"O167","v":{"$error":"#N/A"}},{"$f":"P167","v":{"$error":"#N/A"}},{"$f":"INDEX($BV$202:$BV$211,MATCH(1,$BY$202:$BY$211,0))","v":{"$error":"#N/A"}},{"$error":"#N/A"},19,{"$f":"R167","v":{"$error":"#N/A"}},{"$f":"S167","v":{"$error":"#N/A"}},{"$f":"T167","v":{"$error":"#N/A"}},{"$f":"U167","v":{"$error":"#N/A"}},{"$f":"V167","v":{"$error":"#N/A"}},{"$f":"INDEX($BV$202:$BV$211,MATCH(1,$CB$202:$CB$211,0))","v":{"$error":"#N/A"}},{"$error":"#N/A"},null,null,null,null,null,null,null,null,null,null,null,null,null,null,null,null,null,null,null,null,null,null,null,null,{"$f":"FF5","v":"Two Pair"},{"$f":"FG5","v":{"$error":"#N/A"}},0,{"$error":"#N/A"},{"$error":"#N/A"},0,{"$error":"#N/A"},null,null,null,null,"Royal Flush",{"$error":"#N/A"},{"$error":"#N/A"},{"$error":"#N/A"},{"$error":"#N/A"},{"$error":"#N/A"},{"$error":"#N/A"},null,null,null,null,"Straight Flush",{"$error":"#N/A"},{"$error":"#N/A"},{"$error":"#N/A"},{"$error":"#N/A"},{"$error":"#N/A"},{"$error":"#N/A"},null,null,null,null,"Four of a Kind",{"$error":"#N/A"},null,{"$error":"#N/A"},{"$error":"#N/A"},null,{"$error":"#N/A"},null,null,null,null,"Full House",{"$error":"#N/A"},null,{"$error":"#N/A"},{"$error":"#N/A"},null,{"$error":"#N/A"},null,null,null,null,"Flush",{"$error":"#N/A"},null,{"$error":"#N/A"},{"$error":"#N/A"},null,{"$error":"#N/A"},null,null,null,null,"Straight",{"$error":"#N/A"},{"$error":"#N/A"},{"$error":"#N/A"},{"$error":"#N/A"},{"$error":"#N/A"},{"$error":"#N/A"},null,null,null,null,"Three of a Kind",{"$error":"#N/A"},null,{"$error":"#N/A"},{"$error":"#N/A"},null,{"$error":"#N/A"},null,null,null,null,"Two Pair",{"$error":"#N/A"},null,{"$error":"#N/A"},{"$error":"#N/A"},null,{"$error":"#N/A"},null,null,null,null,"One Pair",{"$error":"#N/A"},null,{"$error":"#N/A"},{"$error":"#N/A"},null,{"$error":"#N/A"},null,null,null,null,"High Card",{"$error":"#N/A"},null,{"$error":"#N/A"},{"$error":"#N/A"},null,{"$error":"#N/A"}]
[23,"♣10",0.32515501976013184,41,"C",10,null,null,null,null,null,{"$f":"HLOOKUP(L25,$L$19:$P$22,3,0)","v":{"$error":"#N/A"}},{"$f":"HLOOKUP(M25,$L$19:$P$22,3,0)","v":{"$error":"#N/A"}},{"$f":"HLOOKUP(N25,$L$19:$P$22,3,0)","v":{"$error":"#N/A"}},{"$f":"HLOOKUP(O25,$L$19:$P$22,3,0)","v":{"$error":"#N/A"}},{"$f":"HLOOKUP(P25,$L$19:$P$22,3,0)","v":{"$error":"#N/A"}},null,{"$f":"HLOOKUP(R25,$R$19:$V$22,3,0)","v":{"$error":"#N/A"}},{"$f":"HLOOKUP(S25,$R$19:$V$22,3,0)","v":{"$error":"#N/A"}},{"$f":"HLOOKUP(T25,$R$19:$V$22,3,0)","v":{"$error":"#N/A"}},{"$f":"HLOOKUP(U25,$R$19:$V$22,3,0)","v":{"$error":"#N/A"}},{"$f":"HLOOKUP(V25,$R$19:$V$22,3,0)","v":{"$error":"#N/A"}},null,null,null,null,null,null,null,null,null,null,null,20,{"$f":"L176","v":{"$error":"#N/A"}},{"$f":"M176","v":{"$error":"#N/A"}},{"$f":"N176","v":{"$error":"#N/A"}},{"$f":"O176","v":{"$error":"#N/A"}},{"$f":"P176","v":{"$error":"#N/A"}},{"$f":"INDEX($BV$213:$BV$222,MATCH(1,$BY$213:$BY$222,0))","v":{"$error":"#N/A"}},{"$error":"#N/A"},20,{"$f":"R176","v":{"$error":"#N/A"}},{"$f":"S176","v":{"$error":"#N/A"}},{"$f":"T176","v":{"$error":"#N/A"}},{"$f":"U176","v":{"$error":"#N/A"}},{"$f":"V176","v":{"$error":"#N/A"}},{"$f":"INDEX($BV$213:$BV$222,MATCH(1,$CB$213:$CB$222,0))","v":{"$error":"#N/A"}},{"$error":"#N/A"},null,null,null,null,null,null,null,null,null,null,null,null,null,null,null,null,null,null,null,null,null,null,null,null,{"$f":"FQ5","v":"One Pair"},{"$f":"FR5","v":{"$error":"#N/A"}},0,{"$error":"#N/A"},{"$error":"#N/A"},0,{"$error":"#N/A"},null,null,null,null,"Royal Flush",{"$error":"#N/A"},{"$error":"#N/A"},{"$error":"#N/A"},{"$error":"#N/A"},{"$error":"#N/A"},{"$error":"#N/A"},null,null,null,null,"Straight Flush",{"$error":"#N/A"},{"$error":"#N/A"},{"$error":"#N/A"},{"$error":"#N/A"},{"$error":"#N/A"},{"$error":"#N/A"},null,null,null,null,"Four of a Kind",{"$error":"#N/A"},null,{"$error":"#N/A"},{"$error":"#N/A"},null,{"$error":"#N/A"},null,null,null,null,"Full House",{"$error":"#N/A"},null,{"$error":"#N/A"},{"$error":"#N/A"},null,{"$error":"#N/A"},null,null,null,null,"Flush",{"$error":"#N/A"},null,{"$error":"#N/A"},{"$error":"#N/A"},null,{"$error":"#N/A"},null,null,null,null,"Straight",{"$error":"#N/A"},{"$error":"#N/A"},{"$error":"#N/A"},{"$error":"#N/A"},{"$error":"#N/A"},{"$error":"#N/A"},null,null,null,null,"Three of a Kind",{"$error":"#N/A"},null,{"$error":"#N/A"},{"$error":"#N/A"},null,{"$error":"#N/A"},null,null,null,null,"Two Pair",{"$error":"#N/A"},null,{"$error":"#N/A"},{"$error":"#N/A"},null,{"$error":"#N/A"},null,null,null,null,"One Pair",{"$error":"#N/A"},null,{"$error":"#N/A"},{"$error":"#N/A"},null,{"$error":"#N/A"},null,null,null,null,"High Card",{"$error":"#N/A"},null,{"$error":"#N/A"},{"$error":"#N/A"},null,{"$error":"#N/A"}]
[24,"♣J",0.71128404140472412,17,"C",11,null,null,null,null,null,{"$f":"HLOOKUP(L25,$L$19:$P$22,4,0)","v":{"$error":"#N/A"}},{"$f":"HLOOKUP(M25,$L$19:$P$22,4,0)","v":{"$error":"#N/A"}},{"$f":"HLOOKUP(N25,$L$19:$P$22,4,0)","v":{"$error":"#N/A"}},{"$f":"HLOOKUP(O25,$L$19:$P$22,4,0)","v":{"$error":"#N/A"}},{"$f":"HLOOKUP(P25,$L$19:$P$22,4,0)","v":{"$error":"#N/A"}},null,{"$f":"HLOOKUP(R25,$R$19:$V$22,4,0)","v":{"$error":"#N/A"}},{"$f":"HLOOKUP(S25,$R$19:$V$22,4,0)","v":{"$error":"#N/A"}},{"$f":"HLOOKUP(T25,$R$19:$V$22,4,0)","v":{"$error":"#N/A"}},{"$f":"HLOOKUP(U25,$R$19:$V$22,4,0)","v":{"$error":"#N/A"}},{"$f":"HLOOKUP(V25,$R$19:$V$22,4,0)","v":{"$error":"#N/A"}},null,null,null,null,null,null,null,null,null,null,null,21,{"$f":"L185","v":{"$error":"#N/A"}},{"$f":"M185","v":{"$error":"#N/A"}},{"$f":"N185","v":{"$error":"#N/A"}},{"$f":"O185","v":{"$error":"#N/A"}},{"$f":"P185","v":{"$error":"#N/A"}},{"$f":"INDEX($BV$224:$BV$233,MATCH(1,$BY$224:$BY$233,0))","v":{"$error":"#N/A"}},{"$error":"#N/A"},21,{"$f":"R185","v":{"$error":"#N/A"}},{"$f":"S185","v":{"$error":"#N/A"}},{"$f":"T185","v":{"$error":"#N/A"}},{"$f":"U185","v":{"$error":"#N/A"}},{"$f":"V185","v":{"$error":"#N/A"}},{"$f":"INDEX($BV$224:$BV$233,MATCH(1,$CB$224:$CB$233,0))","v":{"$error":"#N/A"}},{"$error":"#N/A"},null,null,null,null,null,null,null,null,null,null,null,null,null,null,null,null,null,null,null,null,null,null,null,null,{"$f":"GB5","v":"High Card"},{"$f":"GC5","v":{"$error":"#N/A"}},0,{"$error":"#N/A"},{"$error":"#N/A"},0,{"$error":"#N/A"},null,null,null,null,"Royal Flush",{"$error":"#N/A"},{"$error":"#N/A"},{"$error":"#N/A"},{"$error":"#N/A"},{"$error":"#N/A"},{"$error":"#N/A"},null,null,null,null,"Straight Flush",{"$error":"#N/A"},{"$error":"#N/A"},{"$error":"#N/A"},{"$error":"#N/A"},{"$error":"#N/A"},{"$error":"#N/A"},null,null,null,null,"Four of a Kind",{"$error":"#N/A"},null,{"$error":"#N/A"},{"$error":"#N/A"},null,{"$error":"#N/A"},null,null,null,null,"Full House",{"$error":"#N/A"},null,{"$error":"#N/A"},{"$error":"#N/A"},null,{"$error":"#N/A"},null,null,null,null,"Flush",{"$error":"#N/A"},null,{"$error":"#N/A"},{"$error":"#N/A"},null,{"$error":"#N/A"},null,null,null,null,"Straight",{"$error":"#N/A"},{"$error":"#N/A"},{"$error":"#N/A"},{"$error":"#N/A"},{"$error":"#N/A"},{"$error":"#N/A"},null,null,null,null,"Three of a Kind",{"$error":"#N/A"},null,{"$error":"#N/A"},{"$error":"#N/A"},null,{"$error":"#N/A"},null,null,null,null,"Two Pair",{"$error":"#N/A"},null,{"$error":"#N/A"},{"$error":"#N/A"},null,{"$error":"#N/A"},null,null,null,null,"One Pair",{"$error":"#N/A"},null,{"$error":"#N/A"},{"$error":"#N/A"},null,{"$error":"#N/A"},null,null,null,null,"High Card",{"$error":"#N/A"},null,{"$error":"#N/A"},{"$error":"#N/A"},null,{"$error":"#N/A"}]
[25,"♣Q",0.73551750183105469,15,"C",12,null,null,null,null,null,1,2,3,4,5,null,1,2,3,4,5,null,null,null,null,null,null,null,null,null,null,null,1,{"$f":"L6","v":{"$error":"#N/A"}},{"$f":"M6","v":{"$error":"#N/A"}},{"$f":"N6","v":{"$error":"#N/A"}},{"$f":"O6","v":{"$error":"#N/A"}},{"$f":"P6","v":{"$error":"#N/A"}},null,null,1,{"$f":"R6","v":{"$error":"#N/A"}},{"$f":"S6","v":{"$error":"#N/A"}},{"$f":"T6","v":{"$error":"#N/A"}},{"$f":"U6","v":{"$error":"#N/A"}},{"$f":"V6","v":{"$error":"#N/A"}}]
[26,"♣K",0.39526903629302979,34,"C",13,null,null,null,null,null,{"$f":"L21+IF(L21=1,13+RAND()^3,RAND()^3)","v":{"$error":"#N/A"}},{"$f":"M21+IF(M21=1,13+RAND()^3,RAND()^3)","v":{"$error":"#N/A"}},{"$error":"#N/A"},{"$error":"#N/A"},{"$error":"#N/A"},0.62556183223964845,{"$error":"#N/A"},{"$error":"#N/A"},{"$error":"#N/A"},{"$error":"#N/A"},{"$error":"#N/A"},0.17096624332086222,null,null,null,null,null,null,null,null,null,null,2,{"$f":"L15","v":{"$error":"#N/A"}},{"$f":"M15","v":{"$error":"#N/A"}},{"$f":"N15","v":{"$error":"#N/A"}},{"$f":"O15","v":{"$error":"#N/A"}},{"$f":"P15","v":{"$error":"#N/A"}},null,null,2,{"$f":"R15","v":{"$error":"#N/A"}},{"$f":"S15","v":{"$error":"#N/A"}},{"$f":"T15","v":{"$error":"#N/A"}},{"$f":"U15","v":{"$error":"#N/A"}},{"$f":"V15","v":{"$error":"#N/A"}},null,null,null,null,null,null,null,null,null,null,null,null,null,null,null,null,null,null,null,null,null,null,null,null,null,3,{"$f":"CG6","v":"Royal Flush"},{"$f":"CH6","v":{"$error":"#N/A"}},{"$error":"#N/A"},{"$error":"#N/A"},{"$error":"#N/A"},{"$error":"#N/A"},{"$error":"#N/A"}]
[27,"♦A",0.80788636207580566,10,"D",1,null,null,null,null,null,null,null,null,null,null,null,null,null,null,null,null,null,null,null,null,null,null,null,null,null,null,null,3,{"$f":"L24","v":{"$error":"#N/A"}},{"$f":"M24","v":{"$error":"#N/A"}},{"$f":"N24","v":{"$error":"#N/A"}},{"$f":"O24","v":{"$error":"#N/A"}},{"$f":"P24","v":{"$error":"#N/A"}},null,null,3,{"$f":"R24","v":{"$error":"#N/A"}},{"$f":"S24","v":{"$error":"#N/A"}},{"$f":"T24","v":{"$error":"#N/A"}},{"$f":"U24","v":{"$error":"#N/A"}},{"$f":"V24","v":{"$error":"#N/A"}},null,null,null,null,null,null,null,null,null,null,null,null,null,null,null,null,null,null,null,null,null,null,null,null,null,null,{"$f":"CR6","v":"Straight Flush"},{"$f":"CS6","v":{"$error":"#N/A"}},{"$error":"#N/A"},{"$error":"#N/A"},{"$error":"#N/A"},{"$error":"#N/A"},{"$error":"#N/A"}]
[28,"♦2",0.29512393474578857,44,"D",2,null,null,null,null,null,{"$f":"RANK(L35,$L$35:$P$35,1)","v":{"$error":"#N/A"}},{"$f":"RANK(M35,$L$35:$P$35,1)","v":{"$error":"#N/A"}},{"$f":"RANK(N35,$L$35:$P$35,1)","v":{"$error":"#N/A"}},{"$f":"RANK(O35,$L$35:$P$35,1)","v":{"$error":"#N/A"}},{"$f":"RANK(P35,$L$35:$P$35,1)","v":{"$error":"#N/A"}},null,{"$f":"RANK(R35,$R$35:$V$35,1)","v":{"$error":"#N/A"}},{"$f":"RANK(S35,$R$35:$V$35,1)","v":{"$error":"#N/A"}},{"$f":"RANK(T35,$R$35:$V$35,1)","v":{"$error":"#N/A"}},{"$f":"RANK(U35,$R$35:$V$35,1)","v":{"$error":"#N/A"}},{"$f":"RANK(V35,$R$35:$V$35,1)","v":{"$error":"#N/A"}},null,null,null,null,null,null,null,null,null,null,null,4,{"$f":"L33","v":{"$error":"#N/A"}},{"$f":"M33","v":{"$error":"#N/A"}},{"$f":"N33","v":{"$error":"#N/A"}},{"$f":"O33","v":{"$error":"#N/A"}},{"$f":"P33","v":{"$error":"#N/A"}},null,null,4,{"$f":"R33","v":{"$error":"#N/A"}},{"$f":"S33","v":{"$error":"#N/A"}},{"$f":"T33","v":{"$error":"#N/A"}},{"$f":"U33","v":{"$error":"#N/A"}},{"$f":"V33","v":{"$error":"#N/A"}},null,null,null,null,null,null,null,null,null,null,null,null,null,null,null,null,null,null,null,null,null,null,null,null,null,null,{"$f":"DC6","v":"Four of a Kind"},{"$f":"DD6","v":{"$error":"#N/A"}},0,{"$error":"#N/A"},{"$error":"#N/A"},0,{"$error":"#N/A"}]
[29,"♦3",0.14339685440063477,47,"D",3,null,null,null,4,null,{"$f":"[0]!Player11","v":0},{"$f":"[0]!Player12","v":0},{"$f":"[0]!House1","v":0},{"$f":"[0]!House3","v":0},{"$f":"[0]!House4","v":0},null,{"$f":"[0]!Player21","v":0},{"$f":"[0]!Player22","v":0},{"$f":"[0]!House1","v":0},{"$f":"[0]!House3","v":0},{"$f":"[0]!House4","v":0},null,null,null,null,null,null,null,null,null,null,null,5,{"$f":"L42","v":{"$error":"#N/A"}},{"$f":"M42","v":{"$error":"#N/A"}},{"$f":"N42","v":{"$error":"#N/A"}},{"$f":"O42","v":{"$error":"#N/A"}},{"$f":"P42","v":{"$error":"#N/A"}},null,null,5,{"$f":"R42","v":{"$error":"#N/A"}},{"$f":"S42","v":{"$error":"#N/A"}},{"$f":"T42","v":{"$error":"#N/A"}},{"$f":"U42","v":{"$error":"#N/A"}},{"$f":"V42","v":{"$error":"#N/A"}},null,null,null,null,null,null,null,null,null,null,null,null,null,null,null,null,null,null,null,null,null,null,null,null,null,null,{"$f":"DN6","v":"Full House"},{"$f":"DO6","v":{"$error":"#N/A"}},0,{"$error":"#N/A"},{"$error":"#N/A"},0,{"$error":"#N/A"}]
[30,"♦4",0.44606602191925049,30,"D",4,null,null,null,null,null,{"$f":"VLOOKUP(L29,$B$1:$F$52,5,0)","v":{"$error":"#N/A"}},{"$f":"VLOOKUP(M29,$B$1:$F$52,5,0)","v":{"$error":"#N/A"}},{"$f":"VLOOKUP(N29,$B$1:$F$52,5,0)","v":{"$error":"#N/A"}},{"$f":"VLOOKUP(O29,$B$1:$F$52,5,0)","v":{"$error":"#N/A"}},{"$f":"VLOOKUP(P29,$B$1:$F$52,5,0)","v":{"$error":"#N/A"}},null,{"$f":"VLOOKUP(R29,$B$1:$F$52,5,0)","v":{"$error":"#N/A"}},{"$f":"VLOOKUP(S29,$B$1:$F$52,5,0)","v":{"$error":"#N/A"}},{"$f":"VLOOKUP(T29,$B$1:$F$52,5,0)","v":{"$error":"#N/A"}},{"$f":"VLOOKUP(U29,$B$1:$F$52,5,0)","v":{"$error":"#N/A"}},{"$f":"VLOOKUP(V29,$B$1:$F$52,5,0)","v":{"$error":"#N/A"}},null,null,null,null,null,null,null,null,null,null,null,6,{"$f":"L51","v":{"$error":"#N/A"}},{"$f":"M51","v":{"$error":"#N/A"}},{"$f":"N51","v":{"$error":"#N/A"}},{"$f":"O51","v":{"$error":"#N/A"}},{"$f":"P51","v":{"$error":"#N/A"}},null,null,6,{"$f":"R51","v":{"$error":"#N/A"}},{"$f":"S51","v":{"$error":"#N/A"}},{"$f":"T51","v":{"$error":"#N/A"}},{"$f":"U51","v":{"$error":"#N/A"}},{"$f":"V51","v":{"$error":"#N/A"}},null,null,null,null,null,null,null,null,null,null,null,null,null,null,null,null,null,null,null,null,null,null,null,null,null,null,{"$f":"DY6","v":"Flush"},{"$f":"DZ6","v":{"$error":"#N/A"}},0,{"$error":"#N/A"},{"$error":"#N/A"},0,{"$error":"#N/A"}]
[31,"♦5",0.68400454521179199,20,"D",5,null,null,null,null,null,{"$f":"VLOOKUP(L29,$B$1:$F$52,4,0)","v":{"$error":"#N/A"}},{"$f":"VLOOKUP(M29,$B$1:$F$52,4,0)","v":{"$error":"#N/A"}},{"$f":"VLOOKUP(N29,$B$1:$F$52,4,0)","v":{"$error":"#N/A"}},{"$f":"VLOOKUP(O29,$B$1:$F$52,4,0)","v":{"$error":"#N/A"}},{"$f":"VLOOKUP(P29,$B$1:$F$52,4,0)","v":{"$error":"#N/A"}},null,{"$f":"VLOOKUP(R29,$B$1:$F$52,4,0)","v":{"$error":"#N/A"}},{"$f":"VLOOKUP(S29,$B$1:$F$52,4,0)","v":{"$error":"#N/A"}},{"$f":"VLOOKUP(T29,$B$1:$F$52,4,0)","v":{"$error":"#N/A"}},{"$f":"VLOOKUP(U29,$B$1:$F$52,4,0)","v":{"$error":"#N/A"}},{"$f":"VLOOKUP(V29,$B$1:$F$52,4,0)","v":{"$error":"#N/A"}},null,null,null,null,null,null,null,null,null,null,null,7,{"$f":"L60","v":{"$error":"#N/A"}},{"$f":"M60","v":{"$error":"#N/A"}},{"$f":"N60","v":{"$error":"#N/A"}},{"$f":"O60","v":{"$error":"#N/A"}},{"$f":"P60","v":{"$error":"#N/A"}},null,null,7,{"$f":"R60","v":{"$error":"#N/A"}},{"$f":"S60","v":{"$error":"#N/A"}},{"$f":"T60","v":{"$error":"#N/A"}},{"$f":"U60","v":{"$error":"#N/A"}},{"$f":"V60","v":{"$error":"#N/A"}},null,null,null,null,null,null,null,null,null,null,null,null,null,null,null,null,null,null,null,null,null,null,null,null,null,null,{"$f":"EJ6","v":"Straight"},{"$f":"EK6","v":{"$error":"#N/A"}},{"$error":"#N/A"},{"$error":"#N/A"},{"$error":"#N/A"},{"$error":"#N/A"},{"$error":"#N/A"}]
[32,"♦6",0.95069539546966553,3,"D",6,null,null,null,null,null,{"$f":"HLOOKUP(L34,$L$28:$P$31,3,0)","v":{"$error":"#N/A"}},{"$f":"HLOOKUP(M34,$L$28:$P$31,3,0)","v":{"$error":"#N/A"}},{"$f":"HLOOKUP(N34,$L$28:$P$31,3,0)","v":{"$error":"#N/A"}},{"$f":"HLOOKUP(O34,$L$28:$P$31,3,0)","v":{"$error":"#N/A"}},{"$f":"HLOOKUP(P34,$L$28:$P$31,3,0)","v":{"$error":"#N/A"}},null,{"$f":"HLOOKUP(R34,$R$28:$V$31,3,0)","v":{"$error":"#N/A"}},{"$f":"HLOOKUP(S34,$R$28:$V$31,3,0)","v":{"$error":"#N/A"}},{"$f":"HLOOKUP(T34,$R$28:$V$31,3,0)","v":{"$error":"#N/A"}},{"$f":"HLOOKUP(U34,$R$28:$V$31,3,0)","v":{"$error":"#N/A"}},{"$f":"HLOOKUP(V34,$R$28:$V$31,3,0)","v":{"$error":"#N/A"}},null,null,null,null,null,null,null,null,null,null,null,8,{"$f":"L69","v":{"$error":"#N/A"}},{"$f":"M69","v":{"$error":"#N/A"}},{"$f":"N69","v":{"$error":"#N/A"}},{"$f":"O69","v":{"$error":"#N/A"}},{"$f":"P69","v":{"$error":"#N/A"}},null,null,8,{"$f":"R69","v":{"$error":"#N/A"}},{"$f":"S69","v":{"$error":"#N/A"}},{"$f":"T69","v":{"$error":"#N/A"}},{"$f":"U69","v":{"$error":"#N/A"}},{"$f":"V69","v":{"$error":"#N/A"}},null,null,null,null,null,null,null,null,null,null,null,null,null,null,null,null,null,null,null,null,null,null,null,null,null,null,{"$f":"EU6","v":"Three of a Kind"},{"$f":"EV6","v":{"$error":"#N/A"}},0,{"$error":"#N/A"},{"$error":"#N/A"},0,{"$error":"#N/A"}]
[33,"♦7",0.97811031341552734,2,"D",7,null,null,null,null,null,{"$f":"HLOOKUP(L34,$L$28:$P$31,4,0)","v":{"$error":"#N/A"}},{"$f":"HLOOKUP(M34,$L$28:$P$31,4,0)","v":{"$error":"#N/A"}},{"$f":"HLOOKUP(N34,$L$28:$P$31,4,0)","v":{"$error":"#N/A"}},{"$f":"HLOOKUP(O34,$L$28:$P$31,4,0)","v":{"$error":"#N/A"}},{"$f":"HLOOKUP(P34,$L$28:$P$31,4,0)","v":{"$error":"#N/A"}},null,{"$f":"HLOOKUP(R34,$R$28:$V$31,4,0)","v":{"$error":"#N/A"}},{"$f":"HLOOKUP(S34,$R$28:$V$31,4,0)","v":{"$error":"#N/A"}},{"$f":"HLOOKUP(T34,$R$28:$V$31,4,0)","v":{"$error":"#N/A"}},{"$f":"HLOOKUP(U34,$R$28:$V$31,4,0)","v":{"$error":"#N/A"}},{"$f":"HLOOKUP(V34,$R$28:$V$31,4,0)","v":{"$error":"#N/A"}},null,null,null,null,null,null,null,null,null,null,null,9,{"$f":"L78","v":{"$error":"#N/A"}},{"$f":"M78","v":{"$error":"#N/A"}},{"$f":"N78","v":{"$error":"#N/A"}},{"$f":"O78","v":{"$error":"#N/A"}},{"$f":"P78","v":{"$error":"#N/A"}},null,null,9,{"$f":"R78","v":{"$error":"#N/A"}},{"$f":"S78","v":{"$error":"#N/A"}},{"$f":"T78","v":{"$error":"#N/A"}},{"$f":"U78","v":{"$error":"#N/A"}},{"$f":"V78","v":{"$error":"#N/A"}},null,null,null,null,null,null,null,null,null,null,null,null,null,null,null,null,null,null,null,null,null,null,null,null,null,null,{"$f":"FF6","v":"Two Pair"},{"$f":"FG6","v":{"$error":"#N/A"}},0,{"$error":"#N/A"},{"$error":"#N/A"},0,{"$error":"#N/A"}]
[34,"♦8",0.36961996555328369,36,"D",8,null,null,null,null,null,1,2,3,4,5,null,1,2,3,4,5,null,null,null,null,null,null,null,null,null,null,null,10,{"$f":"L87","v":{"$error":"#N/A"}},{"$f":"M87","v":{"$error":"#N/A"}},{"$f":"N87","v":{"$error":"#N/A"}},{"$f":"O87","v":{"$error":"#N/A"}},{"$f":"P87","v":{"$error":"#N/A"}},null,null,10,{"$f":"R87","v":{"$error":"#N/A"}},{"$f":"S87","v":{"$error":"#N/A"}},{"$f":"T87","v":{"$error":"#N/A"}},{"$f":"U87","v":{"$error":"#N/A"}},{"$f":"V87","v":{"$error":"#N/A"}},null,null,null,null,null,null,null,null,null,null,null,null,null,null,null,null,null,null,null,null,null,null,null,null,null,null,{"$f":"FQ6","v":"One Pair"},{"$f":"FR6","v":{"$error":"#N/A"}},0,{"$error":"#N/A"},{"$error":"#N/A"},0,{"$error":"#N/A"}]
[35,"♦9",0.69618535041809082,18,"D",9,null,null,null,null,null,{"$f":"L30+IF(L30=1,13+RAND()^3,RAND()^3)","v":{"$error":"#N/A"}},{"$f":"M30+IF(M30=1,13+RAND()^3,RAND()^3)","v":{"$error":"#N/A"}},{"$error":"#N/A"},{"$error":"#N/A"},{"$error":"#N/A"},2.1975800268605652E-2,{"$error":"#N/A"},{"$error":"#N/A"},{"$error":"#N/A"},{"$error":"#N/A"},{"$error":"#N/A"},0.16892585922524977,null,null,null,null,null,null,null,null,null,null,11,{"$f":"L96","v":{"$error":"#N/A"}},{"$f":"M96","v":{"$error":"#N/A"}},{"$f":"N96","v":{"$error":"#N/A"}},{"$f":"O96","v":{"$error":"#N/A"}},{"$f":"P96","v":{"$error":"#N/A"}},null,null,11,{"$f":"R96","v":{"$error":"#N/A"}},{"$f":"S96","v":{"$error":"#N/A"}},{"$f":"T96","v":{"$error":"#N/A"}},{"$f":"U96","v":{"$error":"#N/A"}},{"$f":"V96","v":{"$error":"#N/A"}},null,null,null,null,null,null,null,null,null,null,null,null,null,null,null,null,null,null,null,null,null,null,null,null,null,null,{"$f":"GB6","v":"High Card"},{"$f":"GC6","v":{"$error":"#N/A"}},0,{"$error":"#N/A"},{"$error":"#N/A"},0,{"$error":"#N/A"}]
[36,"♦10",0.36208045482635498,38,"D",10,null,null,null,null,null,null,null,null,null,null,null,null,null,null,null,null,null,null,null,null,null,null,null,null,null,null,null,12,{"$f":"L105","v":{"$error":"#N/A"}},{"$f":"M105","v":{"$error":"#N/A"}},{"$f":"N105","v":{"$error":"#N/A"}},{"$f":"O105","v":{"$error":"#N/A"}},{"$f":"P105","v":{"$error":"#N/A"}},null,null,12,{"$f":"R105","v":{"$error":"#N/A"}},{"$f":"S105","v":{"$error":"#N/A"}},{"$f":"T105","v":{"$error":"#N/A"}},{"$f":"U105","v":{"$error":"#N/A"}},{"$f":"V105","v":{"$error":"#N/A"}}]
[37,"♦J",0.39639616012573242,33,"D",11,null,null,null,null,null,{"$f":"RANK(L44,$L$44:$P$44,1)","v":{"$error":"#N/A"}},{"$f":"RANK(M44,$L$44:$P$44,1)","v":{"$error":"#N/A"}},{"$f":"RANK(N44,$L$44:$P$44,1)","v":{"$error":"#N/A"}},{"$f":"RANK(O44,$L$44:$P$44,1)","v":{"$error":"#N/A"}},{"$f":"RANK(P44,$L$44:$P$44,1)","v":{"$error":"#N/A"}},null,{"$f":"RANK(R44,$R$44:$V$44,1)","v":{"$error":"#N/A"}},{"$f":"RANK(S44,$R$44:$V$44,1)","v":{"$error":"#N/A"}},{"$f":"RANK(T44,$R$44:$V$44,1)","v":{"$error":"#N/A"}},{"$f":"RANK(U44,$R$44:$V$44,1)","v":{"$error":"#N/A"}},{"$f":"RANK(V44,$R$44:$V$44,1)","v":{"$error":"#N/A"}},null,null,null,null,null,null,null,null,null,null,null,13,{"$f":"L114","v":{"$error":"#N/A"}},{"$f":"M114","v":{"$error":"#N/A"}},{"$f":"N114","v":{"$error":"#N/A"}},{"$f":"O114","v":{"$error":"#N/A"}},{"$f":"P114","v":{"$error":"#N/A"}},null,null,13,{"$f":"R114","v":{"$error":"#N/A"}},{"$f":"S114","v":{"$error":"#N/A"}},{"$f":"T114","v":{"$error":"#N/A"}},{"$f":"U114","v":{"$error":"#N/A"}},{"$f":"V114","v":{"$error":"#N/A"}},null,null,null,null,null,null,null,null,null,null,null,null,null,null,null,null,null,null,null,null,null,null,null,null,null,4,{"$f":"CG7","v":"Royal Flush"},{"$f":"CH7","v":{"$error":"#N/A"}},{"$error":"#N/A"},{"$error":"#N/A"},{"$error":"#N/A"},{"$error":"#N/A"},{"$error":"#N/A"}]
[38,"♦Q",0.57657539844512939,27,"D",12,null,null,null,5,null,{"$f":"[0]!Player11","v":0},{"$f":"[0]!Player12","v":0},{"$f":"[0]!House1","v":0},{"$f":"[0]!House3","v":0},{"$f":"[0]!House5","v":0},null,{"$f":"[0]!Player21","v":0},{"$f":"[0]!Player22","v":0},{"$f":"[0]!House1","v":0},{"$f":"[0]!House3","v":0},{"$f":"[0]!House5","v":0},null,null,null,null,null,null,null,null,null,null,null,14,{"$f":"L123","v":{"$error":"#N/A"}},{"$f":"M123","v":{"$error":"#N/A"}},{"$f":"N123","v":{"$error":"#N/A"}},{"$f":"O123","v":{"$error":"#N/A"}},{"$f":"P123","v":{"$error":"#N/A"}},null,null,14,{"$f":"R123","v":{"$error":"#N/A"}},{"$f":"S123","v":{"$error":"#N/A"}},{"$f":"T123","v":{"$error":"#N/A"}},{"$f":"U123","v":{"$error":"#N/A"}},{"$f":"V123","v":{"$error":"#N/A"}},null,null,null,null,null,null,null,null,null,null,null,null,null,null,null,null,null,null,null,null,null,null,null,null,null,null,{"$f":"CR7","v":"Straight Flush"},{"$f":"CS7","v":{"$error":"#N/A"}},{"$error":"#N/A"},{"$error":"#N/A"},{"$error":"#N/A"},{"$error":"#N/A"},{"$error":"#N/A"}]
[39,"♦K",0.54022955894470215,28,"D",13,null,null,null,null,null,{"$f":"VLOOKUP(L38,$B$1:$F$52,5,0)","v":{"$error":"#N/A"}},{"$f":"VLOOKUP(M38,$B$1:$F$52,5,0)","v":{"$error":"#N/A"}},{"$f":"VLOOKUP(N38,$B$1:$F$52,5,0)","v":{"$error":"#N/A"}},{"$f":"VLOOKUP(O38,$B$1:$F$52,5,0)","v":{"$error":"#N/A"}},{"$f":"VLOOKUP(P38,$B$1:$F$52,5,0)","v":{"$error":"#N/A"}},null,{"$f":"VLOOKUP(R38,$B$1:$F$52,5,0)","v":{"$error":"#N/A"}},{"$f":"VLOOKUP(S38,$B$1:$F$52,5,0)","v":{"$error":"#N/A"}},{"$f":"VLOOKUP(T38,$B$1:$F$52,5,0)","v":{"$error":"#N/A"}},{"$f":"VLOOKUP(U38,$B$1:$F$52,5,0)","v":{"$error":"#N/A"}},{"$f":"VLOOKUP(V38,$B$1:$F$52,5,0)","v":{"$error":"#N/A"}},null,null,null,null,null,null,null,null,null,null,null,15,{"$f":"L132","v":{"$error":"#N/A"}},{"$f":"M132","v":{"$error":"#N/A"}},{"$f":"N132","v":{"$error":"#N/A"}},{"$f":"O132","v":{"$error":"#N/A"}},{"$f":"P132","v":{"$error":"#N/A"}},null,null,15,{"$f":"R132","v":{"$error":"#N/A"}},{"$f":"S132","v":{"$error":"#N/A"}},{"$f":"T132","v":{"$error":"#N/A"}},{"$f":"U132","v":{"$error":"#N/A"}},{"$f":"V132","v":{"$error":"#N/A"}},null,null,null,null,null,null,null,null,null,null,null,null,null,null,null,null,null,null,null,null,null,null,null,null,null,null,{"$f":"DC7","v":"Four of a Kind"},{"$f":"DD7","v":{"$error":"#N/A"}},0,{"$error":"#N/A"},{"$error":"#N/A"},0,{"$error":"#N/A"}]
[40,"♥A",0.79148614406585693,11,"H",1,null,null,null,null,null,{"$f":"VLOOKUP(L38,$B$1:$F$52,4,0)","v":{"$error":"#N/A"}},{"$f":"VLOOKUP(M38,$B$1:$F$52,4,0)","v":{"$error":"#N/A"}},{"$f":"VLOOKUP(N38,$B$1:$F$52,4,0)","v":{"$error":"#N/A"}},{"$f":"VLOOKUP(O38,$B$1:$F$52,4,0)","v":{"$error":"#N/A"}},{"$f":"VLOOKUP(P38,$B$1:$F$52,4,0)","v":{"$error":"#N/A"}},null,{"$f":"VLOOKUP(R38,$B$1:$F$52,4,0)","v":{"$error":"#N/A"}},{"$f":"VLOOKUP(S38,$B$1:$F$52,4,0)","v":{"$error":"#N/A"}},{"$f":"VLOOKUP(T38,$B$1:$F$52,4,0)","v":{"$error":"#N/A"}},{"$f":"VLOOKUP(U38,$B$1:$F$52,4,0)","v":{"$error":"#N/A"}},{"$f":"VLOOKUP(V38,$B$1:$F$52,4,0)","v":{"$error":"#N/A"}},null,null,null,null,null,null,null,null,null,null,null,16,{"$f":"L141","v":{"$error":"#N/A"}},{"$f":"M141","v":{"$error":"#N/A"}},{"$f":"N141","v":{"$error":"#N/A"}},{"$f":"O141","v":{"$error":"#N/A"}},{"$f":"P141","v":{"$error":"#N/A"}},null,null,16,{"$f":"R141","v":{"$error":"#N/A"}},{"$f":"S141","v":{"$error":"#N/A"}},{"$f":"T141","v":{"$error":"#N/A"}},{"$f":"U141","v":{"$error":"#N/A"}},{"$f":"V141","v":{"$error":"#N/A"}},null,null,null,null,null,null,null,null,null,null,null,null,null,null,null,null,null,null,null,null,null,null,null,null,null,null,{"$f":"DN7","v":"Full House"},{"$f":"DO7","v":{"$error":"#N/A"}},0,{"$error":"#N/A"},{"$error":"#N/A"},0,{"$error":"#N/A"}]
[41,"♥2",0.75811767578125,14,"H",2,null,null,null,null,null,{"$f":"HLOOKUP(L43,$L$37:$P$40,3,0)","v":{"$error":"#N/A"}},{"$f":"HLOOKUP(M43,$L$37:$P$40,3,0)","v":{"$error":"#N/A"}},{"$f":"HLOOKUP(N43,$L$37:$P$40,3,0)","v":{"$error":"#N/A"}},{"$f":"HLOOKUP(O43,$L$37:$P$40,3,0)","v":{"$error":"#N/A"}},{"$f":"HLOOKUP(P43,$L$37:$P$40,3,0)","v":{"$error":"#N/A"}},null,{"$f":"HLOOKUP(R43,$R$37:$V$40,3,0)","v":{"$error":"#N/A"}},{"$f":"HLOOKUP(S43,$R$37:$V$40,3,0)","v":{"$error":"#N/A"}},{"$f":"HLOOKUP(T43,$R$37:$V$40,3,0)","v":{"$error":"#N/A"}},{"$f":"HLOOKUP(U43,$R$37:$V$40,3,0)","v":{"$error":"#N/A"}},{"$f":"HLOOKUP(V43,$R$37:$V$40,3,0)","v":{"$error":"#N/A"}},null,null,null,null,null,null,null,null,null,null,null,17,{"$f":"L150","v":{"$error":"#N/A"}},{"$f":"M150","v":{"$error":"#N/A"}},{"$f":"N150","v":{"$error":"#N/A"}},{"$f":"O150","v":{"$error":"#N/A"}},{"$f":"P150","v":{"$error":"#N/A"}},null,null,17,{"$f":"R150","v":{"$error":"#N/A"}},{"$f":"S150","v":{"$error":"#N/A"}},{"$f":"T150","v":{"$error":"#N/A"}},{"$f":"U150","v":{"$error":"#N/A"}},{"$f":"V150","v":{"$error":"#N/A"}},null,null,null,null,null,null,null,null,null,null,null,null,null,null,null,null,null,null,null,null,null,null,null,null,null,null,{"$f":"DY7","v":"Flush"},{"$f":"DZ7","v":{"$error":"#N/A"}},0,{"$error":"#N/A"},{"$error":"#N/A"},0,{"$error":"#N/A"}]
[42,"♥3",0.3057018518447876,42,"H",3,null,null,null,null,null,{"$f":"HLOOKUP(L43,$L$37:$P$40,4,0)","v":{"$error":"#N/A"}},{"$f":"HLOOKUP(M43,$L$37:$P$40,4,0)","v":{"$error":"#N/A"}},{"$f":"HLOOKUP(N43,$L$37:$P$40,4,0)","v":{"$error":"#N/A"}},{"$f":"HLOOKUP(O43,$L$37:$P$40,4,0)","v":{"$error":"#N/A"}},{"$f":"HLOOKUP(P43,$L$37:$P$40,4,0)","v":{"$error":"#N/A"}},null,{"$f":"HLOOKUP(R43,$R$37:$V$40,4,0)","v":{"$error":"#N/A"}},{"$f":"HLOOKUP(S43,$R$37:$V$40,4,0)","v":{"$error":"#N/A"}},{"$f":"HLOOKUP(T43,$R$37:$V$40,4,0)","v":{"$error":"#N/A"}},{"$f":"HLOOKUP(U43,$R$37:$V$40,4,0)","v":{"$error":"#N/A"}},{"$f":"HLOOKUP(V43,$R$37:$V$40,4,0)","v":{"$error":"#N/A"}},null,null,null,null,null,null,null,null,null,null,null,18,{"$f":"L159","v":{"$error":"#N/A"}},{"$f":"M159","v":{"$error":"#N/A"}},{"$f":"N159","v":{"$error":"#N/A"}},{"$f":"O159","v":{"$error":"#N/A"}},{"$f":"P159","v":{"$error":"#N/A"}},null,null,18,{"$f":"R159","v":{"$error":"#N/A"}},{"$f":"S159","v":{"$error":"#N/A"}},{"$f":"T159","v":{"$error":"#N/A"}},{"$f":"U159","v":{"$error":"#N/A"}},{"$f":"V159","v":{"$error":"#N/A"}},null,null,null,null,null,null,null,null,null,null,null,null,null,null,null,null,null,null,null,null,null,null,null,null,null,null,{"$f":"EJ7","v":"Straight"},{"$f":"EK7","v":{"$error":"#N/A"}},{"$error":"#N/A"},{"$error":"#N/A"},{"$error":"#N/A"},{"$error":"#N/A"},{"$error":"#N/A"}]
[43,"♥4",0.36506295204162598,37,"H",4,null,null,null,null,null,1,2,3,4,5,null,1,2,3,4,5,null,null,null,null,null,null,null,null,null,null,null,19,{"$f":"L168","v":{"$error":"#N/A"}},{"$f":"M168","v":{"$error":"#N/A"}},{"$f":"N168","v":{"$error":"#N/A"}},{"$f":"O168","v":{"$error":"#N/A"}},{"$f":"P168","v":{"$error":"#N/A"}},null,null,19,{"$f":"R168","v":{"$error":"#N/A"}},{"$f":"S168","v":{"$error":"#N/A"}},{"$f":"T168","v":{"$error":"#N/A"}},{"$f":"U168","v":{"$error":"#N/A"}},{"$f":"V168","v":{"$error":"#N/A"}},null,null,null,null,null,null,null,null,null,null,null,null,null,null,null,null,null,null,null,null,null,null,null,null,null,null,{"$f":"EU7","v":"Three of a Kind"},{"$f":"EV7","v":{"$error":"#N/A"}},0,{"$error":"#N/A"},{"$error":"#N/A"},0,{"$error":"#N/A"}]
[44,"♥5",0.57924449443817139,26,"H",5,null,null,null,null,null,{"$f":"L39+IF(L39=1,13+RAND()^3,RAND()^3)","v":{"$error":"#N/A"}},{"$f":"M39+IF(M39=1,13+RAND()^3,RAND()^3)","v":{"$error":"#N/A"}},{"$error":"#N/A"},{"$error":"#N/A"},{"$error":"#N/A"},9.1841794651933914E-2,{"$error":"#N/A"},{"$error":"#N/A"},{"$error":"#N/A"},{"$error":"#N/A"},{"$error":"#N/A"},2.2152543841548497E-3,null,null,null,null,null,null,null,null,null,null,20,{"$f":"L177","v":{"$error":"#N/A"}},{"$f":"M177","v":{"$error":"#N/A"}},{"$f":"N177","v":{"$error":"#N/A"}},{"$f":"O177","v":{"$error":"#N/A"}},{"$f":"P177","v":{"$error":"#N/A"}},null,null,20,{"$f":"R177","v":{"$error":"#N/A"}},{"$f":"S177","v":{"$error":"#N/A"}},{"$f":"T177","v":{"$error":"#N/A"}},{"$f":"U177","v":{"$error":"#N/A"}},{"$f":"V177","v":{"$error":"#N/A"}},null,null,null,null,null,null,null,null,null,null,null,null,null,null,null,null,null,null,null,null,null,null,null,null,null,null,{"$f":"FF7","v":"Two Pair"},{"$f":"FG7","v":{"$error":"#N/A"}},0,{"$error":"#N/A"},{"$error":"#N/A"},0,{"$error":"#N/A"}]
[45,"♥6",0.12626314163208008,49,"H",6,null,null,null,null,null,null,null,null,null,null,null,null,null,null,null,null,null,null,null,null,null,null,null,null,null,null,null,21,{"$f":"L186","v":{"$error":"#N/A"}},{"$f":"M186","v":{"$error":"#N/A"}},{"$f":"N186","v":{"$error":"#N/A"}},{"$f":"O186","v":{"$error":"#N/A"}},{"$f":"P186","v":{"$error":"#N/A"}},null,null,21,{"$f":"R186","v":{"$error":"#N/A"}},{"$f":"S186","v":{"$error":"#N/A"}},{"$f":"T186","v":{"$error":"#N/A"}},{"$f":"U186","v":{"$error":"#N/A"}},{"$f":"V186","v":{"$error":"#N/A"}},null,null,null,null,null,null,null,null,null,null,null,null,null,null,null,null,null,null,null,null,null,null,null,null,null,null,{"$f":"FQ7","v":"One Pair"},{"$f":"FR7","v":{"$error":"#N/A"}},0,{"$error":"#N/A"},{"$error":"#N/A"},0,{"$error":"#N/A"}]
[46,"♥7",0.1238938570022583,50,"H",7,null,null,null,null,null,{"$f":"RANK(L53,$L$53:$P$53,1)","v":{"$error":"#N/A"}},{"$f":"RANK(M53,$L$53:$P$53,1)","v":{"$error":"#N/A"}},{"$f":"RANK(N53,$L$53:$P$53,1)","v":{"$error":"#N/A"}},{"$f":"RANK(O53,$L$53:$P$53,1)","v":{"$error":"#N/A"}},{"$f":"RANK(P53,$L$53:$P$53,1)","v":{"$error":"#N/A"}},null,{"$f":"RANK(R53,$R$53:$V$53,1)","v":{"$error":"#N/A"}},{"$f":"RANK(S53,$R$53:$V$53,1)","v":{"$error":"#N/A"}},{"$f":"RANK(T53,$R$53:$V$53,1)","v":{"$error":"#N/A"}},{"$f":"RANK(U53,$R$53:$V$53,1)","v":{"$error":"#N/A"}},{"$f":"RANK(V53,$R$53:$V$53,1)","v":{"$error":"#N/A"}},null,null,null,null,null,null,null,null,null,null,null,null,null,null,null,null,null,null,null,null,null,null,null,null,null,null,null,null,null,null,null,null,null,null,null,null,null,null,null,null,null,null,null,null,null,null,null,null,null,null,null,{"$f":"GB7","v":"High Card"},{"$f":"GC7","v":{"$error":"#N/A"}},0,{"$error":"#N/A"},{"$error":"#N/A"},0,{"$error":"#N/A"}]
[47,"♥8",0.2727363109588623,46,"H",8,null,null,null,6,null,{"$f":"[0]!Player11","v":0},{"$f":"[0]!Player12","v":0},{"$f":"[0]!House1","v":0},{"$f":"[0]!House4","v":0},{"$f":"[0]!House5","v":0},null,{"$f":"[0]!Player21","v":0},{"$f":"[0]!Player22","v":0},{"$f":"[0]!House1","v":0},{"$f":"[0]!House4","v":0},{"$f":"[0]!House5","v":0},null,null,null,null,null,null,null,null,null,null,null,"Seq","1st","2nd","3rd","4th","5th","Hand","Rank","Seq","1st","2nd","3rd","4th","5th","Hand","Rank"]
[48,"♥9",0.64381253719329834,22,"H",9,null,null,null,null,null,{"$f":"VLOOKUP(L47,$B$1:$F$52,5,0)","v":{"$error":"#N/A"}},{"$f":"VLOOKUP(M47,$B$1:$F$52,5,0)","v":{"$error":"#N/A"}},{"$f":"VLOOKUP(N47,$B$1:$F$52,5,0)","v":{"$error":"#N/A"}},{"$f":"VLOOKUP(O47,$B$1:$F$52,5,0)","v":{"$error":"#N/A"}},{"$f":"VLOOKUP(P47,$B$1:$F$52,5,0)","v":{"$error":"#N/A"}},null,{"$f":"VLOOKUP(R47,$B$1:$F$52,5,0)","v":{"$error":"#N/A"}},{"$f":"VLOOKUP(S47,$B$1:$F$52,5,0)","v":{"$error":"#N/A"}},{"$f":"VLOOKUP(T47,$B$1:$F$52,5,0)","v":{"$error":"#N/A"}},{"$f":"VLOOKUP(U47,$B$1:$F$52,5,0)","v":{"$error":"#N/A"}},{"$f":"VLOOKUP(V47,$B$1:$F$52,5,0)","v":{"$error":"#N/A"}},null,null,null,null,null,null,null,null,null,null,null,17,3,3,8,8,9,"Two Pair",8,17,3,3,8,8,9,"Two Pair",8,0,0,0,0,0,0,0,0,null,null,null,null,null,null,null,null,null,null,null,null,null,null,null,5,{"$f":"CG8","v":"Royal Flush"},{"$f":"CH8","v":{"$error":"#N/A"}},{"$error":"#N/A"},{"$error":"#N/A"},{"$error":"#N/A"},{"$error":"#N/A"},{"$error":"#N/A"}]
[49,"♥10",0.76694583892822266,12,"H",10,null,null,null,null,null,{"$f":"VLOOKUP(L47,$B$1:$F$52,4,0)","v":{"$error":"#N/A"}},{"$f":"VLOOKUP(M47,$B$1:$F$52,4,0)","v":{"$error":"#N/A"}},{"$f":"VLOOKUP(N47,$B$1:$F$52,4,0)","v":{"$error":"#N/A"}},{"$f":"VLOOKUP(O47,$B$1:$F$52,4,0)","v":{"$error":"#N/A"}},{"$f":"VLOOKUP(P47,$B$1:$F$52,4,0)","v":{"$error":"#N/A"}},null,{"$f":"VLOOKUP(R47,$B$1:$F$52,4,0)","v":{"$error":"#N/A"}},{"$f":"VLOOKUP(S47,$B$1:$F$52,4,0)","v":{"$error":"#N/A"}},{"$f":"VLOOKUP(T47,$B$1:$F$52,4,0)","v":{"$error":"#N/A"}},{"$f":"VLOOKUP(U47,$B$1:$F$52,4,0)","v":{"$error":"#N/A"}},{"$f":"VLOOKUP(V47,$B$1:$F$52,4,0)","v":{"$error":"#N/A"}},null,null,null,null,null,null,null,null,null,null,null,19,3,3,6,8,8,"Two Pair",8,5,3,3,7,8,8,"Two Pair",8,0,0,0,0,0,0,0,0,null,null,null,null,null,null,null,null,null,null,null,null,null,null,null,null,{"$f":"CR8","v":"Straight Flush"},{"$f":"CS8","v":{"$error":"#N/A"}},{"$error":"#N/A"},{"$error":"#N/A"},{"$error":"#N/A"},{"$error":"#N/A"},{"$error":"#N/A"}]
[50,"♥J",0.4261709451675415,31,"H",11,null,null,null,null,null,{"$f":"HLOOKUP(L52,$L$46:$P$49,3,0)","v":{"$error":"#N/A"}},{"$f":"HLOOKUP(M52,$L$46:$P$49,3,0)","v":{"$error":"#N/A"}},{"$f":"HLOOKUP(N52,$L$46:$P$49,3,0)","v":{"$error":"#N/A"}},{"$f":"HLOOKUP(O52,$L$46:$P$49,3,0)","v":{"$error":"#N/A"}},{"$f":"HLOOKUP(P52,$L$46:$P$49,3,0)","v":{"$error":"#N/A"}},null,{"$f":"HLOOKUP(R52,$R$46:$V$49,3,0)","v":{"$error":"#N/A"}},{"$f":"HLOOKUP(S52,$R$46:$V$49,3,0)","v":{"$error":"#N/A"}},{"$f":"HLOOKUP(T52,$R$46:$V$49,3,0)","v":{"$error":"#N/A"}},{"$f":"HLOOKUP(U52,$R$46:$V$49,3,0)","v":{"$error":"#N/A"}},{"$f":"HLOOKUP(V52,$R$46:$V$49,3,0)","v":{"$error":"#N/A"}},null,null,null,null,null,null,null,null,null,null,null,5,2,3,3,8,8,"Two Pair",8,19,3,3,6,8,8,"Two Pair",8,0,0,0,0,0,0,0,0,null,null,null,null,null,null,null,null,null,null,null,null,null,null,null,null,{"$f":"DC8","v":"Four of a Kind"},{"$f":"DD8","v":{"$error":"#N/A"}},0,{"$error":"#N/A"},{"$error":"#N/A"},0,{"$error":"#N/A"}]
[51,"♥Q",0.81842541694641113,9,"H",12,null,null,null,null,null,{"$f":"HLOOKUP(L52,$L$46:$P$49,4,0)","v":{"$error":"#N/A"}},{"$f":"HLOOKUP(M52,$L$46:$P$49,4,0)","v":{"$error":"#N/A"}},{"$f":"HLOOKUP(N52,$L$46:$P$49,4,0)","v":{"$error":"#N/A"}},{"$f":"HLOOKUP(O52,$L$46:$P$49,4,0)","v":{"$error":"#N/A"}},{"$f":"HLOOKUP(P52,$L$46:$P$49,4,0)","v":{"$error":"#N/A"}},null,{"$f":"HLOOKUP(R52,$R$46:$V$49,4,0)","v":{"$error":"#N/A"}},{"$f":"HLOOKUP(S52,$R$46:$V$49,4,0)","v":{"$error":"#N/A"}},{"$f":"HLOOKUP(T52,$R$46:$V$49,4,0)","v":{"$error":"#N/A"}},{"$f":"HLOOKUP(U52,$R$46:$V$49,4,0)","v":{"$error":"#N/A"}},{"$f":"HLOOKUP(V52,$R$46:$V$49,4,0)","v":{"$error":"#N/A"}},null,null,null,null,null,null,null,null,null,null,null,18,3,6,8,8,9,"One Pair",9,13,6,7,8,8,9,"One Pair",9,0,0,0,0,0,0,0,0,null,null,null,null,null,null,null,null,null,null,null,null,null,null,null,null,{"$f":"DN8","v":"Full House"},{"$f":"DO8","v":{"$error":"#N/A"}},0,{"$error":"#N/A"},{"$error":"#N/A"},0,{"$error":"#N/A"}]
[52,"♥K",0.98177230358123779,1,"H",13,null,null,null,null,null,1,2,3,4,5,null,1,2,3,4,5,null,null,null,null,null,null,null,null,null,null,null,21,3,6,8,8,9,"One Pair",9,3,3,7,8,8,9,"One Pair",9,0,0,0,0,0,0,0,0,null,null,null,null,null,null,null,null,null,null,null,null,null,null,null,null,{"$f":"DY8","v":"Flush"},{"$f":"DZ8","v":{"$error":"#N/A"}},0,{"$error":"#N/A"},{"$error":"#N/A"},0,{"$error":"#N/A"}]
[null,null,null,null,null,null,null,null,null,null,null,{"$f":"L48+IF(L48=1,13+RAND()^3,RAND()^3)","v":{"$error":"#N/A"}},{"$f":"M48+IF(M48=1,13+RAND()^3,RAND()^3)","v":{"$error":"#N/A"}},{"$error":"#N/A"},{"$error":"#N/A"},{"$error":"#N/A"},0.28682311922232945,{"$error":"#N/A"},{"$error":"#N/A"},{"$error":"#N/A"},{"$error":"#N/A"},{"$error":"#N/A"},0.35228847578728745,null,null,null,null,null,null,null,null,null,null,13,2,6,8,8,9,"One Pair",9,12,3,7,8,8,9,"One Pair",9,0,0,0,0,0,0,0,0,null,null,null,null,null,null,null,null,null,null,null,null,null,null,null,null,{"$f":"EJ8","v":"Straight"},{"$f":"EK8","v":{"$error":"#N/A"}},{"$error":"#N/A"},{"$error":"#N/A"},{"$error":"#N/A"},{"$error":"#N/A"},{"$error":"#N/A"}]
[null,null,null,null,null,null,null,null,null,null,null,null,null,null,null,null,null,null,null,null,null,null,null,null,null,null,null,null,null,null,null,null,null,3,2,3,8,8,9,"One Pair",9,18,3,6,8,8,9,"One Pair",9,0,0,0,0,0,0,0,0,null,null,null,null,null,null,null,null,null,null,null,null,null,null,null,null,{"$f":"EU8","v":"Three of a Kind"},{"$f":"EV8","v":{"$error":"#N/A"}},0,{"$error":"#N/A"},{"$error":"#N/A"},0,{"$error":"#N/A"}]
[null,null,null,null,null,null,null,null,null,null,null,{"$f":"RANK(L62,$L$62:$P$62,1)","v":{"$error":"#N/A"}},{"$f":"RANK(M62,$L$62:$P$62,1)","v":{"$error":"#N/A"}},{"$f":"RANK(N62,$L$62:$P$62,1)","v":{"$error":"#N/A"}},{"$f":"RANK(O62,$L$62:$P$62,1)","v":{"$error":"#N/A"}},{"$f":"RANK(P62,$L$62:$P$62,1)","v":{"$error":"#N/A"}},null,{"$f":"RANK(R62,$R$62:$V$62,1)","v":{"$error":"#N/A"}},{"$f":"RANK(S62,$R$62:$V$62,1)","v":{"$error":"#N/A"}},{"$f":"RANK(T62,$R$62:$V$62,1)","v":{"$error":"#N/A"}},{"$f":"RANK(U62,$R$62:$V$62,1)","v":{"$error":"#N/A"}},{"$f":"RANK(V62,$R$62:$V$62,1)","v":{"$error":"#N/A"}},null,null,null,null,null,null,null,null,null,null,null,12,2,3,8,8,9,"One Pair",9,21,3,6,8,8,9,"One Pair",9,0,0,0,0,0,0,0,0,null,null,null,null,null,null,null,null,null,null,null,null,null,null,null,null,{"$f":"FF8","v":"Two Pair"},{"$f":"FG8","v":{"$error":"#N/A"}},0,{"$error":"#N/A"},{"$error":"#N/A"},0,{"$error":"#N/A"}]
[null,null,null,null,null,null,null,null,null,7,null,{"$f":"[0]!Player11","v":0},{"$f":"[0]!Player12","v":0},{"$f":"[0]!House2","v":0},{"$f":"[0]!House3","v":0},{"$f":"[0]!House4","v":0},null,{"$f":"[0]!Player21","v":0},{"$f":"[0]!Player22","v":0},{"$f":"[0]!House2","v":0},{"$f":"[0]!House3","v":0},{"$f":"[0]!House4","v":0},null,null,null,null,null,null,null,null,null,null,null,16,3,3,6,8,9,"One Pair",9,1,3,3,7,8,9,"One Pair",9,0,0,0,0,0,0,0,0,null,null,null,null,null,null,null,null,null,null,null,null,null,null,null,null,{"$f":"FQ8","v":"One Pair"},{"$f":"FR8","v":{"$error":"#N/A"}},0,{"$error":"#N/A"},{"$error":"#N/A"},0,{"$error":"#N/A"}]
[null,null,null,null,null,null,null,null,null,null,null,{"$f":"VLOOKUP(L56,$B$1:$F$52,5,0)","v":{"$error":"#N/A"}},{"$f":"VLOOKUP(M56,$B$1:$F$52,5,0)","v":{"$error":"#N/A"}},{"$f":"VLOOKUP(N56,$B$1:$F$52,5,0)","v":{"$error":"#N/A"}},{"$f":"VLOOKUP(O56,$B$1:$F$52,5,0)","v":{"$error":"#N/A"}},{"$f":"VLOOKUP(P56,$B$1:$F$52,5,0)","v":{"$error":"#N/A"}},null,{"$f":"VLOOKUP(R56,$B$1:$F$52,5,0)","v":{"$error":"#N/A"}},{"$f":"VLOOKUP(S56,$B$1:$F$52,5,0)","v":{"$error":"#N/A"}},{"$f":"VLOOKUP(T56,$B$1:$F$52,5,0)","v":{"$error":"#N/A"}},{"$f":"VLOOKUP(U56,$B$1:$F$52,5,0)","v":{"$error":"#N/A"}},{"$f":"VLOOKUP(V56,$B$1:$F$52,5,0)","v":{"$error":"#N/A"}},null,null,null,null,null,null,null,null,null,null,null,20,3,3,6,8,9,"One Pair",9,8,3,3,7,8,9,"One Pair",9,0,0,0,0,0,0,0,0,null,null,null,null,null,null,null,null,null,null,null,null,null,null,null,null,{"$f":"GB8","v":"High Card"},{"$f":"GC8","v":{"$error":"#N/A"}},0,{"$error":"#N/A"},{"$error":"#N/A"},0,{"$error":"#N/A"}]
[null,null,null,null,null,null,null,null,null,null,null,{"$f":"VLOOKUP(L56,$B$1:$F$52,4,0)","v":{"$error":"#N/A"}},{"$f":"VLOOKUP(M56,$B$1:$F$52,4,0)","v":{"$error":"#N/A"}},{"$f":"VLOOKUP(N56,$B$1:$F$52,4,0)","v":{"$error":"#N/A"}},{"$f":"VLOOKUP(O56,$B$1:$F$52,4,0)","v":{"$error":"#N/A"}},{"$f":"VLOOKUP(P56,$B$1:$F$52,4,0)","v":{"$error":"#N/A"}},null,{"$f":"VLOOKUP(R56,$B$1:$F$52,4,0)","v":{"$error":"#N/A"}},{"$f":"VLOOKUP(S56,$B$1:$F$52,4,0)","v":{"$error":"#N/A"}},{"$f":"VLOOKUP(T56,$B$1:$F$52,4,0)","v":{"$error":"#N/A"}},{"$f":"VLOOKUP(U56,$B$1:$F$52,4,0)","v":{"$error":"#N/A"}},{"$f":"VLOOKUP(V56,$B$1:$F$52,4,0)","v":{"$error":"#N/A"}},null,null,null,null,null,null,null,null,null,null,null,1,2,3,3,8,9,"One Pair",9,16,3,3,6,8,9,"One Pair",9,0,0,0,0,0,0,0,0]
[null,null,null,null,null,null,null,null,null,null,null,{"$f":"HLOOKUP(L61,$L$55:$P$58,3,0)","v":{"$error":"#N/A"}},{"$f":"HLOOKUP(M61,$L$55:$P$58,3,0)","v":{"$error":"#N/A"}},{"$f":"HLOOKUP(N61,$L$55:$P$58,3,0)","v":{"$error":"#N/A"}},{"$f":"HLOOKUP(O61,$L$55:$P$58,3,0)","v":{"$error":"#N/A"}},{"$f":"HLOOKUP(P61,$L$55:$P$58,3,0)","v":{"$error":"#N/A"}},null,{"$f":"HLOOKUP(R61,$R$55:$V$58,3,0)","v":{"$error":"#N/A"}},{"$f":"HLOOKUP(S61,$R$55:$V$58,3,0)","v":{"$error":"#N/A"}},{"$f":"HLOOKUP(T61,$R$55:$V$58,3,0)","v":{"$error":"#N/A"}},{"$f":"HLOOKUP(U61,$R$55:$V$58,3,0)","v":{"$error":"#N/A"}},{"$f":"HLOOKUP(V61,$R$55:$V$58,3,0)","v":{"$error":"#N/A"}},null,null,null,null,null,null,null,null,null,null,null,8,2,3,3,8,9,"One Pair",9,20,3,3,6,8,9,"One Pair",9,0,0,0,0,0,0,0,0,null,null,null,null,null,null,null,null,null,null,null,null,null,null,null,6,{"$f":"CG9","v":"Royal Flush"},{"$f":"CH9","v":{"$error":"#N/A"}},{"$error":"#N/A"},{"$error":"#N/A"},{"$error":"#N/A"},{"$error":"#N/A"},{"$error":"#N/A"}]
[null,null,null,null,null,null,null,null,null,null,null,{"$f":"HLOOKUP(L61,$L$55:$P$58,4,0)","v":{"$error":"#N/A"}},{"$f":"HLOOKUP(M61,$L$55:$P$58,4,0)","v":{"$error":"#N/A"}},{"$f":"HLOOKUP(N61,$L$55:$P$58,4,0)","v":{"$error":"#N/A"}},{"$f":"HLOOKUP(O61,$L$55:$P$58,4,0)","v":{"$error":"#N/A"}},{"$f":"HLOOKUP(P61,$L$55:$P$58,4,0)","v":{"$error":"#N/A"}},null,{"$f":"HLOOKUP(R61,$R$55:$V$58,4,0)","v":{"$error":"#N/A"}},{"$f":"HLOOKUP(S61,$R$55:$V$58,4,0)","v":{"$error":"#N/A"}},{"$f":"HLOOKUP(T61,$R$55:$V$58,4,0)","v":{"$error":"#N/A"}},{"$f":"HLOOKUP(U61,$R$55:$V$58,4,0)","v":{"$error":"#N/A"}},{"$f":"HLOOKUP(V61,$R$55:$V$58,4,0)","v":{"$error":"#N/A"}},null,null,null,null,null,null,null,null,null,null,null,7,2,3,3,6,9,"One Pair",9,7,3,3,6,7,9,"One Pair",9,0,0,0,0,0,0,0,0,null,null,null,null,null,null,null,null,null,null,null,null,null,null,null,null,{"$f":"CR9","v":"Straight Flush"},{"$f":"CS9","v":{"$error":"#N/A"}},{"$error":"#N/A"},{"$error":"#N/A"},{"$error":"#N/A"},{"$error":"#N/A"},{"$error":"#N/A"}]
[null,null,null,null,null,null,null,null,null,null,null,1,2,3,4,5,null,1,2,3,4,5,null,null,null,null,null,null,null,null,null,null,null,6,2,3,6,8,8,"One Pair",9,6,3,6,7,8,8,"One Pair",9,0,0,0,0,0,0,0,0,null,null,null,null,null,null,null,null,null,null,null,null,null,null,null,null,{"$f":"DC9","v":"Four of a Kind"},{"$f":"DD9","v":{"$error":"#N/A"}},0,{"$error":"#N/A"},{"$error":"#N/A"},0,{"$error":"#N/A"}]
[null,null,null,null,null,null,null,null,null,null,null,{"$f":"L57+IF(L57=1,13+RAND()^3,RAND()^3)","v":{"$error":"#N/A"}},{"$f":"M57+IF(M57=1,13+RAND()^3,RAND()^3)","v":{"$error":"#N/A"}},{"$error":"#N/A"},{"$error":"#N/A"},{"$error":"#N/A"},3.9176100906531904E-2,{"$error":"#N/A"},{"$error":"#N/A"},{"$error":"#N/A"},{"$error":"#N/A"},{"$error":"#N/A"},4.4593646432406597E-2,null,null,null,null,null,null,null,null,null,null,14,2,3,6,8,8,"One Pair",9,14,3,6,7,8,8,"One Pair",9,0,0,0,0,0,0,0,0,null,null,null,null,null,null,null,null,null,null,null,null,null,null,null,null,{"$f":"DN9","v":"Full House"},{"$f":"DO9","v":{"$error":"#N/A"}},0,{"$error":"#N/A"},{"$error":"#N/A"},0,{"$error":"#N/A"}]
[null,null,null,null,null,null,null,null,null,null,null,null,null,null,null,null,null,null,null,null,null,null,null,null,null,null,null,null,null,null,null,null,null,4,2,3,3,6,8,"One Pair",9,4,3,3,6,7,8,"One Pair",9,0,0,0,0,0,0,0,0,null,null,null,null,null,null,null,null,null,null,null,null,null,null,null,null,{"$f":"DY9","v":"Flush"},{"$f":"DZ9","v":{"$error":"#N/A"}},0,{"$error":"#N/A"},{"$error":"#N/A"},0,{"$error":"#N/A"}]
[null,null,null,null,null,null,null,null,null,null,null,{"$f":"RANK(L71,$L$71:$P$71,1)","v":{"$error":"#N/A"}},{"$f":"RANK(M71,$L$71:$P$71,1)","v":{"$error":"#N/A"}},{"$f":"RANK(N71,$L$71:$P$71,1)","v":{"$error":"#N/A"}},{"$f":"RANK(O71,$L$71:$P$71,1)","v":{"$error":"#N/A"}},{"$f":"RANK(P71,$L$71:$P$71,1)","v":{"$error":"#N/A"}},null,{"$f":"RANK(R71,$R$71:$V$71,1)","v":{"$error":"#N/A"}},{"$f":"RANK(S71,$R$71:$V$71,1)","v":{"$error":"#N/A"}},{"$f":"RANK(T71,$R$71:$V$71,1)","v":{"$error":"#N/A"}},{"$f":"RANK(U71,$R$71:$V$71,1)","v":{"$error":"#N/A"}},{"$f":"RANK(V71,$R$71:$V$71,1)","v":{"$error":"#N/A"}},null,null,null,null,null,null,null,null,null,null,null,10,2,3,3,6,8,"One Pair",9,10,3,3,6,7,8,"One Pair",9,0,0,0,0,0,0,0,0,null,null,null,null,null,null,null,null,null,null,null,null,null,null,null,null,{"$f":"EJ9","v":"Straight"},{"$f":"EK9","v":{"$error":"#N/A"}},{"$error":"#N/A"},{"$error":"#N/A"},{"$error":"#N/A"},{"$error":"#N/A"},{"$error":"#N/A"}]
[null,null,null,null,null,null,null,null,null,8,null,{"$f":"[0]!Player11","v":0},{"$f":"[0]!Player12","v":0},{"$f":"[0]!House2","v":0},{"$f":"[0]!House3","v":0},{"$f":"[0]!House5","v":0},null,{"$f":"[0]!Player21","v":0},{"$f":"[0]!Player22","v":0},{"$f":"[0]!House2","v":0},{"$f":"[0]!House3","v":0},{"$f":"[0]!House5","v":0},null,null,null,null,null,null,null,null,null,null,null,2,2,3,6,8,9,"High Card",10,2,3,6,7,8,9,"High Card",10,0,0,0,0,0,0,0,0,null,null,null,null,null,null,null,null,null,null,null,null,null,null,null,null,{"$f":"EU9","v":"Three of a Kind"},{"$f":"EV9","v":{"$error":"#N/A"}},0,{"$error":"#N/A"},{"$error":"#N/A"},0,{"$error":"#N/A"}]
[null,null,null,null,null,null,null,null,null,null,null,{"$f":"VLOOKUP(L65,$B$1:$F$52,5,0)","v":{"$error":"#N/A"}},{"$f":"VLOOKUP(M65,$B$1:$F$52,5,0)","v":{"$error":"#N/A"}},{"$f":"VLOOKUP(N65,$B$1:$F$52,5,0)","v":{"$error":"#N/A"}},{"$f":"VLOOKUP(O65,$B$1:$F$52,5,0)","v":{"$error":"#N/A"}},{"$f":"VLOOKUP(P65,$B$1:$F$52,5,0)","v":{"$error":"#N/A"}},null,{"$f":"VLOOKUP(R65,$B$1:$F$52,5,0)","v":{"$error":"#N/A"}},{"$f":"VLOOKUP(S65,$B$1:$F$52,5,0)","v":{"$error":"#N/A"}},{"$f":"VLOOKUP(T65,$B$1:$F$52,5,0)","v":{"$error":"#N/A"}},{"$f":"VLOOKUP(U65,$B$1:$F$52,5,0)","v":{"$error":"#N/A"}},{"$f":"VLOOKUP(V65,$B$1:$F$52,5,0)","v":{"$error":"#N/A"}},null,null,null,null,null,null,null,null,null,null,null,9,2,3,6,8,9,"High Card",10,9,3,6,7,8,9,"High Card",10,0,0,0,0,0,0,0,0,null,null,null,null,null,null,null,null,null,null,null,null,null,null,null,null,{"$f":"FF9","v":"Two Pair"},{"$f":"FG9","v":{"$error":"#N/A"}},0,{"$error":"#N/A"},{"$error":"#N/A"},0,{"$error":"#N/A"}]
[null,null,null,null,null,null,null,null,null,null,null,{"$f":"VLOOKUP(L65,$B$1:$F$52,4,0)","v":{"$error":"#N/A"}},{"$f":"VLOOKUP(M65,$B$1:$F$52,4,0)","v":{"$error":"#N/A"}},{"$f":"VLOOKUP(N65,$B$1:$F$52,4,0)","v":{"$error":"#N/A"}},{"$f":"VLOOKUP(O65,$B$1:$F$52,4,0)","v":{"$error":"#N/A"}},{"$f":"VLOOKUP(P65,$B$1:$F$52,4,0)","v":{"$error":"#N/A"}},null,{"$f":"VLOOKUP(R65,$B$1:$F$52,4,0)","v":{"$error":"#N/A"}},{"$f":"VLOOKUP(S65,$B$1:$F$52,4,0)","v":{"$error":"#N/A"}},{"$f":"VLOOKUP(T65,$B$1:$F$52,4,0)","v":{"$error":"#N/A"}},{"$f":"VLOOKUP(U65,$B$1:$F$52,4,0)","v":{"$error":"#N/A"}},{"$f":"VLOOKUP(V65,$B$1:$F$52,4,0)","v":{"$error":"#N/A"}},null,null,null,null,null,null,null,null,null,null,null,11,2,3,6,8,9,"High Card",10,11,3,6,7,8,9,"High Card",10,0,0,0,0,0,0,0,0,null,null,null,null,null,null,null,null,null,null,null,null,null,null,null,null,{"$f":"FQ9","v":"One Pair"},{"$f":"FR9","v":{"$error":"#N/A"}},0,{"$error":"#N/A"},{"$error":"#N/A"},0,{"$error":"#N/A"}]
[null,null,null,null,null,null,null,null,null,null,null,{"$f":"HLOOKUP(L70,$L$64:$P$67,3,0)","v":{"$error":"#N/A"}},{"$f":"HLOOKUP(M70,$L$64:$P$67,3,0)","v":{"$error":"#N/A"}},{"$f":"HLOOKUP(N70,$L$64:$P$67,3,0)","v":{"$error":"#N/A"}},{"$f":"HLOOKUP(O70,$L$64:$P$67,3,0)","v":{"$error":"#N/A"}},{"$f":"HLOOKUP(P70,$L$64:$P$67,3,0)","v":{"$error":"#N/A"}},null,{"$f":"HLOOKUP(R70,$R$64:$V$67,3,0)","v":{"$error":"#N/A"}},{"$f":"HLOOKUP(S70,$R$64:$V$67,3,0)","v":{"$error":"#N/A"}},{"$f":"HLOOKUP(T70,$R$64:$V$67,3,0)","v":{"$error":"#N/A"}},{"$f":"HLOOKUP(U70,$R$64:$V$67,3,0)","v":{"$error":"#N/A"}},{"$f":"HLOOKUP(V70,$R$64:$V$67,3,0)","v":{"$error":"#N/A"}},null,null,null,null,null,null,null,null,null,null,null,15,2,3,6,8,9,"High Card",10,15,3,6,7,8,9,"High Card",10,0,0,0,0,0,0,0,0,null,null,null,null,null,null,null,null,null,null,null,null,null,null,null,null,{"$f":"GB9","v":"High Card"},{"$f":"GC9","v":{"$error":"#N/A"}},0,{"$error":"#N/A"},{"$error":"#N/A"},0,{"$error":"#N/A"}]
[null,null,null,null,null,null,null,null,null,null,null,{"$f":"HLOOKUP(L70,$L$64:$P$67,4,0)","v":{"$error":"#N/A"}},{"$f":"HLOOKUP(M70,$L$64:$P$67,4,0)","v":{"$error":"#N/A"}},{"$f":"HLOOKUP(N70,$L$64:$P$67,4,0)","v":{"$error":"#N/A"}},{"$f":"HLOOKUP(O70,$L$64:$P$67,4,0)","v":{"$error":"#N/A"}},{"$f":"HLOOKUP(P70,$L$64:$P$67,4,0)","v":{"$error":"#N/A"}},null,{"$f":"HLOOKUP(R70,$R$64:$V$67,4,0)","v":{"$error":"#N/A"}},{"$f":"HLOOKUP(S70,$R$64:$V$67,4,0)","v":{"$error":"#N/A"}},{"$f":"HLOOKUP(T70,$R$64:$V$67,4,0)","v":{"$error":"#N/A"}},{"$f":"HLOOKUP(U70,$R$64:$V$67,4,0)","v":{"$error":"#N/A"}},{"$f":"HLOOKUP(V70,$R$64:$V$67,4,0)","v":{"$error":"#N/A"}},null,null,null,null,null,null,null,null,null,"straight flush/flush",null,null,{"$f":"IF(AND($AI$79=$AJ$79,$AJ$79=$AK$79,$AK$79=$AL$79,$AL$79=$AM$79),IF(MIN(AI78:AM78)=1,14,LARGE($AI$78:$AM$78,1)),0)*IF(OR(AO80=2,AO80=5),1,0)","v":{"$error":"#N/A"}},{"$f":"IF(AND($AI$79=$AJ$79,$AJ$79=$AK$79,$AK$79=$AL$79,$AL$79=$AM$79),IF(AI69=14,LARGE($AI$78:$AM$78,1),LARGE($AI$78:$AM$78,2)),0)*IF(OR(AO80=2,AO80=5),1,0)","v":{"$error":"#N/A"}},{"$f":"IF(AND($AI$79=$AJ$79,$AJ$79=$AK$79,$AK$79=$AL$79,$AL$79=$AM$79),IF(AI69=14,LARGE($AI$78:$AM$78,2),LARGE($AI$78:$AM$78,3)),0)*IF(OR(AO80=2,AO80=5),1,0)","v":{"$error":"#N/A"}},{"$f":"IF(AND($AI$79=$AJ$79,$AJ$79=$AK$79,$AK$79=$AL$79,$AL$79=$AM$79),IF(AI69=14,LARGE($AI$78:$AM$78,3),LARGE($AI$78:$AM$78,4)),0)*IF(OR(AO80=2,AO80=5),1,0)","v":{"$error":"#N/A"}},{"$f":"IF(AND($AI$79=$AJ$79,$AJ$79=$AK$79,$AK$79=$AL$79,$AL$79=$AM$79),IF(AI69=14,LARGE($AI$78:$AM$78,4),LARGE($AI$78:$AM$78,5)),0)*IF(OR(AO80=2,AO80=5),1,0)","v":{"$error":"#N/A"}},null,null,null,{"$f":"IF(AND($AQ$79=$AR$79,$AR$79=$AS$79,$AS$79=$AT$79,$AT$79=$AU$79),IF(MIN(AQ78:AU78)=1,14,LARGE($AQ$78:$AU$78,1)),0)*IF(OR(AW80=2,AW80=5),1,0)","v":{"$error":"#N/A"}},{"$f":"IF(AND($AQ$79=$AR$79,$AR$79=$AS$79,$AS$79=$AT$79,$AT$79=$AU$79),IF($AQ$69=14,LARGE($AQ$78:$AU$78,1),LARGE($AQ$78:$AU$78,2)),0)*IF(OR(AW80=2,AW80=5),1,0)","v":{"$error":"#N/A"}},{"$f":"IF(AND($AQ$79=$AR$79,$AR$79=$AS$79,$AS$79=$AT$79,$AT$79=$AU$79),IF(AQ69=14,LARGE($AQ$78:$AU$78,2),LARGE($AQ$78:$AU$78,3)),0)*IF(OR(AW80=2,AW80=5),1,0)","v":{"$error":"#N/A"}},{"$f":"IF(AND($AQ$79=$AR$79,$AR$79=$AS$79,$AS$79=$AT$79,$AT$79=$AU$79),IF(AQ69=14,LARGE($AQ$78:$AU$78,3),LARGE($AQ$78:$AU$78,4)),0)*IF(OR(AW80=2,AW80=5),1,0)","v":{"$error":"#N/A"}},{"$f":"IF(AND($AQ$79=$AR$79,$AR$79=$AS$79,$AS$79=$AT$79,$AT$79=$AU$79),IF(AQ69=14,LARGE($AQ$78:$AU$78,4),LARGE($AQ$78:$AU$78,5)),0)*IF(OR(AW80=2,AW80=5),1,0)","v":{"$error":"#N/A"}}]
[null,null,null,null,null,null,null,null,null,null,null,1,2,3,4,5,null,1,2,3,4,5,null,null,null,null,null,null,null,null,null,"high card/straight",null,null,{"$f":"IF(MIN(AI78:AM78)=1,14,LARGE($AI$78:$AM$78,1))*IF(OR($AO$80=10,$AO$80=6),1,0)","v":0},{"$f":"IF(AI70=14,LARGE($AI$78:$AM$78,1),LARGE($AI$78:$AM$78,2))*IF(OR($AO$80=10,$AO$80=6),1,0)","v":0},{"$f":"IF(AI70=14,LARGE($AI$78:$AM$78,2),LARGE($AI$78:$AM$78,3))*IF(OR($AO$80=10,$AO$80=6),1,0)","v":0},{"$f":"IF(AI70=14,LARGE($AI$78:$AM$78,3),LARGE($AI$78:$AM$78,4))*IF(OR($AO$80=10,$AO$80=6),1,0)","v":0},{"$f":"IF(AI70=14,LARGE($AI$78:$AM$78,4),LARGE($AI$78:$AM$78,5))*IF(OR($AO$80=10,$AO$80=6),1,0)","v":0},null,null,null,{"$f":"IF(MIN(AQ78:AU78)=1,14,LARGE($AQ$78:$AU$78,1))*IF(OR($AW$80=10,$AW$80=6),1,0)","v":0},{"$f":"IF($AQ$70=14,LARGE($AQ$78:$AU$78,1),LARGE($AQ$78:$AU$78,2))*IF(OR($AW$80=10,$AW$80=6),1,0)","v":0},{"$f":"IF(AQ70=14,LARGE($AQ$78:$AU$78,2),LARGE($AQ$78:$AU$78,3))*IF(OR($AW$80=10,$AW$80=6),1,0)","v":0},{"$f":"IF(AQ70=14,LARGE($AQ$78:$AU$78,3),LARGE($AQ$78:$AU$78,4))*IF(OR($AW$80=10,$AW$80=6),1,0)","v":0},{"$f":"IF(AQ70=14,LARGE($AQ$78:$AU$78,4),LARGE($AQ$78:$AU$78,5))*IF(OR($AW$80=10,$AW$80=6),1,0)","v":0},null,null,null,null,null,null,null,null,null,null,null,null,null,null,null,null,null,null,null,null,null,null,null,null,null,7,{"$f":"CG10","v":"Royal Flush"},{"$f":"CH10","v":{"$error":"#N/A"}},{"$error":"#N/A"},{"$error":"#N/A"},{"$error":"#N/A"},{"$error":"#N/A"},{"$error":"#N/A"}]
[null,null,null,null,null,null,null,null,null,null,null,{"$f":"L66+IF(L66=1,13+RAND()^3,RAND()^3)","v":{"$error":"#N/A"}},{"$f":"M66+IF(M66=1,13+RAND()^3,RAND()^3)","v":{"$error":"#N/A"}},{"$error":"#N/A"},{"$error":"#N/A"},{"$error":"#N/A"},0.50518283669606534,{"$error":"#N/A"},{"$error":"#N/A"},{"$error":"#N/A"},{"$error":"#N/A"},{"$error":"#N/A"},0.2181107893942642,null,null,null,null,null,null,null,null,"one pair",null,null,{"$f":"IF(ISNUMBER(MAX($AO$77:$AO$78)),MAX($AO$77:$AO$78),SMALL($AI$78:$AM$78,1))*IF(AO80=9,1,0)","v":0},null,{"$f":"IF(LARGE($AI$77:$AM$77,3)=1,14,LARGE($AI$77:$AM$77,1))*IF(AO80=9,1,0)","v":0},{"$f":"IF(AK71=14,LARGE($AI$77:$AM$77,1),LARGE($AI$77:$AM$77,2))*IF(AO80=9,1,0)","v":0},{"$f":"IF(AK71=14,LARGE($AI$77:$AM$77,2),LARGE($AI$77:$AM$77,3))*IF(AO80=9,1,0)","v":0},null,null,null,{"$f":"IF(ISNUMBER(MAX($AW$77:$AW$78)),MAX($AW$77:$AW$78),SMALL($AQ$78:$AU$78,1))*IF(AW80=9,1,0)","v":0},null,{"$f":"IF(LARGE($AQ$77:$AU$77,3)=1,14,LARGE($AQ$77:$AU$77,1))*IF(AW80=9,1,0)","v":0},{"$f":"IF(AS71=14,LARGE($AQ$77:$AU$77,1),LARGE($AQ$77:$AU$77,2))*IF(AW80=9,1,0)","v":0},{"$f":"IF(AS71=14,LARGE($AQ$77:$AU$77,2),LARGE($AQ$77:$AU$77,3))*IF(AW80=9,1,0)","v":0},null,null,null,null,null,null,null,null,null,null,null,null,null,null,null,null,null,null,null,null,null,null,null,null,null,null,{"$f":"CR10","v":"Straight Flush"},{"$f":"CS10","v":{"$error":"#N/A"}},{"$error":"#N/A"},{"$error":"#N/A"},{"$error":"#N/A"},{"$error":"#N/A"},{"$error":"#N/A"}]
[null,null,null,null,null,null,null,null,null,null,null,null,null,null,null,null,null,null,null,null,null,null,null,null,null,null,null,null,null,null,null,"three of a kind",null,null,{"$f":"IF(ISNUMBER(MAX($AO$77:$AO$78)),MAX($AO$77:$AO$78),SMALL($AI$78:$AM$78,1))*IF(AO80=7,1,0)","v":0},null,{"$f":"IF(LARGE(AI77:AM77,2)=1,14,LARGE(AI77:AM77,1))*IF(AO80=7,1,0)","v":0},{"$f":"IF(AK72=14,LARGE(AI77:AM77,1),LARGE(AI77:AM77,2))*IF(AO80=7,1,0)","v":0},null,null,null,null,{"$f":"IF(ISNUMBER(MAX($AW$77:$AW$78)),MAX($AW$77:$AW$78),SMALL($AQ$78:$AU$78,1))*IF(AW80=7,1,0)","v":0},null,{"$f":"IF(LARGE(AQ77:AU77,2)=1,14,LARGE(AQ77:AU77,1))*IF(AW80=7,1,0)","v":0},{"$f":"IF(AS72=14,LARGE(AQ77:AU77,1),LARGE(AQ77:AU77,2))*IF(AW80=7,1,0)","v":0},null,null,null,null,null,null,null,null,null,null,null,null,null,null,null,null,null,null,null,null,null,null,null,null,null,null,null,{"$f":"DC10","v":"Four of a Kind"},{"$f":"DD10","v":{"$error":"#N/A"}},0,{"$error":"#N/A"},{"$error":"#N/A"},0,{"$error":"#N/A"}]
[null,null,null,null,null,null,null,null,null,null,null,{"$f":"RANK(L80,$L$80:$P$80,1)","v":{"$error":"#N/A"}},{"$f":"RANK(M80,$L$80:$P$80,1)","v":{"$error":"#N/A"}},{"$f":"RANK(N80,$L$80:$P$80,1)","v":{"$error":"#N/A"}},{"$f":"RANK(O80,$L$80:$P$80,1)","v":{"$error":"#N/A"}},{"$f":"RANK(P80,$L$80:$P$80,1)","v":{"$error":"#N/A"}},null,{"$f":"RANK(R80,$R$80:$V$80,1)","v":{"$error":"#N/A"}},{"$f":"RANK(S80,$R$80:$V$80,1)","v":{"$error":"#N/A"}},{"$f":"RANK(T80,$R$80:$V$80,1)","v":{"$error":"#N/A"}},{"$f":"RANK(U80,$R$80:$V$80,1)","v":{"$error":"#N/A"}},{"$f":"RANK(V80,$R$80:$V$80,1)","v":{"$error":"#N/A"}},null,null,null,null,null,null,null,null,null,"two pairs",null,null,{"$f":"IF(ISNUMBER(MAX($AO$77:$AO$78)),MAX($AO$77:$AO$78),SMALL($AI$78:$AM$78,1))*IF(AO80=8,1,0)","v":8},{"$f":"IF(ISNUMBER(MIN($AO$77:$AO$78)),MIN($AO$77:$AO$78),SMALL($AI$78:$AM$78,2))*IF(AO80=8,1,0)","v":3},{"$f":"IF(OR($AI$77=1,$AJ$77=1,$AK$77=1,$AL$77=1,$AM$77=1),14,MAX($AI$77:$AM$77))*IF(AO80=8,1,0)","v":9},null,null,null,null,null,{"$f":"IF(ISNUMBER(MAX($AW$77:$AW$78)),MAX($AW$77:$AW$78),SMALL($AQ$78:$AU$78,1))*IF(AW80=8,1,0)","v":8},{"$f":"IF(ISNUMBER(MIN($AW$77:$AW$78)),MIN($AW$77:$AW$78),SMALL($AQ$78:$AU$78,2))*IF(AW80=8,1,0)","v":3},{"$f":"IF(OR($AQ$77=1,$AR$77=1,$AS$77=1,$AT$77=1,$AU$77=1),14,MAX($AQ$77:$AU$77))*IF(AW80=8,1,0)","v":9},null,null,null,null,null,null,null,null,null,null,null,null,null,null,null,null,null,null,null,null,null,null,null,null,null,null,null,null,{"$f":"DN10","v":"Full House"},{"$f":"DO10","v":{"$error":"#N/A"}},0,{"$error":"#N/A"},{"$error":"#N/A"},0,{"$error":"#N/A"}]
[null,null,null,null,null,null,null,null,null,9,null,{"$f":"[0]!Player11","v":0},{"$f":"[0]!Player12","v":0},{"$f":"[0]!House2","v":0},{"$f":"[0]!House4","v":0},{"$f":"[0]!House5","v":0},null,{"$f":"[0]!Player21","v":0},{"$f":"[0]!Player22","v":0},{"$f":"[0]!House2","v":0},{"$f":"[0]!House4","v":0},{"$f":"[0]!House5","v":0},null,null,null,null,null,null,null,null,null,"full house",null,null,{"$f":"IF(OR(AND($AN$79=2,$AO$79=3),AND($AN$79=3,$AO$79=2)),LARGE($AI$78:$AM$78,1),0)*IF($AO$80=4,1,0)","v":0},{"$f":"IF(OR(AND($AN$79=2,$AO$79=3),AND($AN$79=3,$AO$79=2)),SMALL($AI$78:$AM$78,1),0)*IF($AO$80=4,1,0)","v":0},null,null,null,null,null,null,{"$f":"IF(OR(AND($AV$79=2,$AW$79=3),AND($AV$79=3,$AW$79=2)),LARGE($AQ$78:$AU$78,1),0)*IF($AW$80=4,1,0)","v":0},{"$f":"IF(OR(AND($AV$79=2,$AW$79=3),AND($AV$79=3,$AW$79=2)),SMALL($AQ$78:$AU$78,1),0)*IF($AW$80=4,1,0)","v":0},null,null,null,null,null,null,null,null,null,null,null,null,null,null,null,null,null,null,null,null,null,null,null,null,null,null,null,null,null,{"$f":"DY10","v":"Flush"},{"$f":"DZ10","v":{"$error":"#N/A"}},0,{"$error":"#N/A"},{"$error":"#N/A"},0,{"$error":"#N/A"}]
[null,null,null,null,null,null,null,null,null,null,null,{"$f":"VLOOKUP(L74,$B$1:$F$52,5,0)","v":{"$error":"#N/A"}},{"$f":"VLOOKUP(M74,$B$1:$F$52,5,0)","v":{"$error":"#N/A"}},{"$f":"VLOOKUP(N74,$B$1:$F$52,5,0)","v":{"$error":"#N/A"}},{"$f":"VLOOKUP(O74,$B$1:$F$52,5,0)","v":{"$error":"#N/A"}},{"$f":"VLOOKUP(P74,$B$1:$F$52,5,0)","v":{"$error":"#N/A"}},null,{"$f":"VLOOKUP(R74,$B$1:$F$52,5,0)","v":{"$error":"#N/A"}},{"$f":"VLOOKUP(S74,$B$1:$F$52,5,0)","v":{"$error":"#N/A"}},{"$f":"VLOOKUP(T74,$B$1:$F$52,5,0)","v":{"$error":"#N/A"}},{"$f":"VLOOKUP(U74,$B$1:$F$52,5,0)","v":{"$error":"#N/A"}},{"$f":"VLOOKUP(V74,$B$1:$F$52,5,0)","v":{"$error":"#N/A"}},null,null,null,null,null,null,null,null,null,"four of a kind",null,null,{"$f":"IF(ISNUMBER(MAX($AO$77:$AO$78)),MAX($AO$77:$AO$78),SMALL($AI$78:$AM$78,1))*IF(AO80=3,1,0)","v":0},null,{"$f":"IF(OR($AI$77=1,$AJ$77=1,$AK$77=1,$AL$77=1,$AM$77=1),14,MAX($AI$77:$AM$77))*IF(AO80=3,1,0)","v":0},null,null,null,null,null,{"$f":"IF(ISNUMBER(MAX($AW$77:$AW$78)),MAX($AW$77:$AW$78),SMALL($AQ$78:$AU$78,1))*IF(AW80=3,1,0)","v":0},null,{"$f":"IF(OR($AQ$77=1,$AR$77=1,$AS$77=1,$AT$77=1,$AU$77=1),14,MAX($AQ$77:$AU$77))*IF(AW80=3,1,0)","v":0},null,null,null,null,null,null,null,null,null,null,null,null,null,null,null,null,null,null,null,null,null,null,null,null,null,null,null,null,{"$f":"EJ10","v":"Straight"},{"$f":"EK10","v":{"$error":"#N/A"}},{"$error":"#N/A"},{"$error":"#N/A"},{"$error":"#N/A"},{"$error":"#N/A"},{"$error":"#N/A"}]
[null,null,null,null,null,null,null,null,null,null,null,{"$f":"VLOOKUP(L74,$B$1:$F$52,4,0)","v":{"$error":"#N/A"}},{"$f":"VLOOKUP(M74,$B$1:$F$52,4,0)","v":{"$error":"#N/A"}},{"$f":"VLOOKUP(N74,$B$1:$F$52,4,0)","v":{"$error":"#N/A"}},{"$f":"VLOOKUP(O74,$B$1:$F$52,4,0)","v":{"$error":"#N/A"}},{"$f":"VLOOKUP(P74,$B$1:$F$52,4,0)","v":{"$error":"#N/A"}},null,{"$f":"VLOOKUP(R74,$B$1:$F$52,4,0)","v":{"$error":"#N/A"}},{"$f":"VLOOKUP(S74,$B$1:$F$52,4,0)","v":{"$error":"#N/A"}},{"$f":"VLOOKUP(T74,$B$1:$F$52,4,0)","v":{"$error":"#N/A"}},{"$f":"VLOOKUP(U74,$B$1:$F$52,4,0)","v":{"$error":"#N/A"}},{"$f":"VLOOKUP(V74,$B$1:$F$52,4,0)","v":{"$error":"#N/A"}},null,null,null,null,null,null,null,null,null,null,null,null,{"$f":"AO77","v":3},{"$f":"AO78","v":8},null,null,null,null,null,null,{"$f":"AW77","v":3},{"$f":"AW78","v":8},null,null,null,null,null,null,null,null,null,null,null,null,null,null,null,null,null,null,null,null,null,null,null,null,null,null,null,null,null,{"$f":"EU10","v":"Three of a Kind"},{"$f":"EV10","v":{"$error":"#N/A"}},0,{"$error":"#N/A"},{"$error":"#N/A"},0,{"$error":"#N/A"}]
[null,null,null,null,null,null,null,null,null,null,null,{"$f":"HLOOKUP(L79,$L$73:$P$76,3,0)","v":{"$error":"#N/A"}},{"$f":"HLOOKUP(M79,$L$73:$P$76,3,0)","v":{"$error":"#N/A"}},{"$f":"HLOOKUP(N79,$L$73:$P$76,3,0)","v":{"$error":"#N/A"}},{"$f":"HLOOKUP(O79,$L$73:$P$76,3,0)","v":{"$error":"#N/A"}},{"$f":"HLOOKUP(P79,$L$73:$P$76,3,0)","v":{"$error":"#N/A"}},null,{"$f":"HLOOKUP(R79,$R$73:$V$76,3,0)","v":{"$error":"#N/A"}},{"$f":"HLOOKUP(S79,$R$73:$V$76,3,0)","v":{"$error":"#N/A"}},{"$f":"HLOOKUP(T79,$R$73:$V$76,3,0)","v":{"$error":"#N/A"}},{"$f":"HLOOKUP(U79,$R$73:$V$76,3,0)","v":{"$error":"#N/A"}},{"$f":"HLOOKUP(V79,$R$73:$V$76,3,0)","v":{"$error":"#N/A"}},null,null,null,null,null,null,null,null,null,null,null,null,{"$f":"IF(AND($AI$78<>$AJ$78,$AJ$78<>$AK$78,$AK$78<>$AL$78,$AL$78<>$AM$78),AI78,IF(OR(AI78=$AN$77,AI78=$AN$78),0,AI78))","v":0},{"$f":"IF(AND($AI$78<>$AJ$78,$AJ$78<>$AK$78,$AK$78<>$AL$78,$AL$78<>$AM$78),AJ78,IF(OR(AJ78=$AN$77,AJ78=$AN$78),0,AJ78))","v":0},{"$f":"IF(AND($AI$78<>$AJ$78,$AJ$78<>$AK$78,$AK$78<>$AL$78,$AL$78<>$AM$78),AK78,IF(OR(AK78=$AN$77,AK78=$AN$78),0,AK78))","v":0},{"$f":"IF(AND($AI$78<>$AJ$78,$AJ$78<>$AK$78,$AK$78<>$AL$78,$AL$78<>$AM$78),AL78,IF(OR(AL78=$AN$77,AL78=$AN$78),0,AL78))","v":0},{"$f":"IF(AND($AI$78<>$AJ$78,$AJ$78<>$AK$78,$AK$78<>$AL$78,$AL$78<>$AM$78),AM78,IF(OR(AM78=$AN$77,AM78=$AN$78),0,AM78))","v":9},{"$f":"_xlfn.MODE.MULT(AI78:AM78)","v":3},{"$f":"IF(ISNUMBER(AN77),IF(AN77=1,14,AN77),0)","v":3},null,{"$f":"IF(AND($AQ$78<>$AR$78,$AR$78<>$AS$78,$AS$78<>$AT$78,$AT$78<>$AU$78),AQ78,IF(OR(AQ78=$AV$77,AQ78=$AV$78),0,AQ78))","v":0},{"$f":"IF(AND($AQ$78<>$AR$78,$AR$78<>$AS$78,$AS$78<>$AT$78,$AT$78<>$AU$78),AR78,IF(OR(AR78=$AV$77,AR78=$AV$78),0,AR78))","v":0},{"$f":"IF(AND($AQ$78<>$AR$78,$AR$78<>$AS$78,$AS$78<>$AT$78,$AT$78<>$AU$78),AS78,IF(OR(AS78=$AV$77,AS78=$AV$78),0,AS78))","v":0},{"$f":"IF(AND($AQ$78<>$AR$78,$AR$78<>$AS$78,$AS$78<>$AT$78,$AT$78<>$AU$78),AT78,IF(OR(AT78=$AV$77,AT78=$AV$78),0,AT78))","v":0},{"$f":"IF(AND($AQ$78<>$AR$78,$AR$78<>$AS$78,$AS$78<>$AT$78,$AT$78<>$AU$78),AU78,IF(OR(AU78=$AV$77,AU78=$AV$78),0,AU78))","v":9},{"$f":"_xlfn.MODE.MULT(AQ78:AU78)","v":3},{"$f":"IF(ISNUMBER(AV77),IF(AV77=1,14,AV77),0)","v":3},null,null,null,null,null,null,null,null,null,null,null,null,null,null,null,null,null,null,null,null,null,null,null,null,{"$f":"FF10","v":"Two Pair"},{"$f":"FG10","v":{"$error":"#N/A"}},0,{"$error":"#N/A"},{"$error":"#N/A"},0,{"$error":"#N/A"}]
[null,null,null,null,null,null,null,null,null,null,null,{"$f":"HLOOKUP(L79,$L$73:$P$76,4,0)","v":{"$error":"#N/A"}},{"$f":"HLOOKUP(M79,$L$73:$P$76,4,0)","v":{"$error":"#N/A"}},{"$f":"HLOOKUP(N79,$L$73:$P$76,4,0)","v":{"$error":"#N/A"}},{"$f":"HLOOKUP(O79,$L$73:$P$76,4,0)","v":{"$error":"#N/A"}},{"$f":"HLOOKUP(P79,$L$73:$P$76,4,0)","v":{"$error":"#N/A"}},null,{"$f":"HLOOKUP(R79,$R$73:$V$76,4,0)","v":{"$error":"#N/A"}},{"$f":"HLOOKUP(S79,$R$73:$V$76,4,0)","v":{"$error":"#N/A"}},{"$f":"HLOOKUP(T79,$R$73:$V$76,4,0)","v":{"$error":"#N/A"}},{"$f":"HLOOKUP(U79,$R$73:$V$76,4,0)","v":{"$error":"#N/A"}},{"$f":"HLOOKUP(V79,$R$73:$V$76,4,0)","v":{"$error":"#N/A"}},null,null,null,null,null,null,null,null,null,null,null,{"$f":"AH48","v":17},3,3,8,8,9,8,{"$f":"IF(AN78=AN77,0,IF(ISNUMBER(AN78),IF(AN78=1,14,AN78),0))","v":8},{"$f":"AP48","v":17},3,3,8,8,9,8,{"$f":"IF(AV78=AV77,0,IF(ISNUMBER(AV78),IF(AV78=1,14,AV78),0))","v":8},null,null,null,null,null,null,null,null,null,null,null,null,null,null,null,null,null,null,null,null,null,null,null,null,{"$f":"FQ10:FQ10","v":"One Pair"},{"$f":"FR10:FR10","v":{"$error":"#N/A"}},0,{"$error":"#N/A"},{"$error":"#N/A"},0,{"$error":"#N/A"}]
[null,null,null,null,null,null,null,null,null,null,null,1,2,3,4,5,null,1,2,3,4,5,null,null,null,null,null,null,null,null,null,null,null,{"$f":"AH78","v":17},{"$f":"VLOOKUP($AH$79,$AH$25:$AM$45,2,0)","v":{"$error":"#N/A"}},{"$f":"VLOOKUP($AH$79,$AH$25:$AM$45,3,0)","v":{"$error":"#N/A"}},{"$f":"VLOOKUP($AH$79,$AH$25:$AM$45,4,0)","v":{"$error":"#N/A"}},{"$f":"VLOOKUP($AH$79,$AH$25:$AM$45,5,0)","v":{"$error":"#N/A"}},{"$f":"VLOOKUP($AH$79,$AH$25:$AM$45,6,0)","v":{"$error":"#N/A"}},{"$f":"COUNTIF($AI$78:$AM$78,AI78)","v":2},{"$f":"COUNTIF($AI$78:$AM$78,AM78)","v":1},{"$f":"AP78","v":17},{"$f":"VLOOKUP($AP$79,$AP$25:$AU$45,2,0)","v":{"$error":"#N/A"}},{"$f":"VLOOKUP($AP$79,$AP$25:$AU$45,3,0)","v":{"$error":"#N/A"}},{"$f":"VLOOKUP($AP$79,$AP$25:$AU$45,4,0)","v":{"$error":"#N/A"}},{"$f":"VLOOKUP($AP$79,$AP$25:$AU$45,5,0)","v":{"$error":"#N/A"}},{"$f":"VLOOKUP($AP$79,$AP$25:$AU$45,6,0)","v":{"$error":"#N/A"}},{"$f":"COUNTIF($AQ$78:$AU$78,AQ78)","v":2},{"$f":"COUNTIF($AQ$78:$AU$78,AU78)","v":1},null,null,null,null,null,null,null,null,null,null,null,null,null,null,null,null,null,null,null,null,null,null,null,null,{"$f":"GB10","v":"High Card"},{"$f":"GC10","v":{"$error":"#N/A"}},0,{"$error":"#N/A"},{"$error":"#N/A"},0,{"$error":"#N/A"}]
[null,null,null,null,null,null,null,null,null,null,null,{"$f":"L75+IF(L75=1,13+RAND()^3,RAND()^3)","v":{"$error":"#N/A"}},{"$f":"M75+IF(M75=1,13+RAND()^3,RAND()^3)","v":{"$error":"#N/A"}},{"$error":"#N/A"},{"$error":"#N/A"},{"$error":"#N/A"},0.4155269155324684,{"$error":"#N/A"},{"$error":"#N/A"},{"$error":"#N/A"},{"$error":"#N/A"},{"$error":"#N/A"},7.0303916045147838E-2,null,null,null,null,null,null,null,null,null,null,{"$f":"AH79","v":17},{"$f":"VLOOKUP($AH$78,$J$2:$AB$182,3,0)","v":0},{"$f":"VLOOKUP($AH$78,$J$2:$AB$182,4,0)","v":0},{"$f":"VLOOKUP($AH$78,$J$2:$AB$182,5,0)","v":0},{"$f":"VLOOKUP($AH$78,$J$2:$AB$182,6,0)","v":0},{"$f":"VLOOKUP($AH$78,$J$2:$AB$182,7,0)","v":0},{"$f":"INDEX($AN$48:$AN$68,MATCH($AO$80,$AO$48:$AO$68,0))","v":"Two Pair"},{"$f":"SMALL($AO$48:$AO$68,1)","v":8},{"$f":"AP79","v":17},{"$f":"VLOOKUP($AP$78,$J$2:$AB$182,9,0)","v":0},{"$f":"VLOOKUP($AP$78,$J$2:$AB$182,10,0)","v":0},{"$f":"VLOOKUP($AP$78,$J$2:$AB$182,11,0)","v":0},{"$f":"VLOOKUP($AP$78,$J$2:$AB$182,12,0)","v":0},{"$f":"VLOOKUP($AP$78,$J$2:$AB$182,13,0)","v":0},{"$f":"INDEX($AV$48:$AV$68,MATCH($AW$80,$AW$48:$AW$68,0))","v":"Two Pair"},{"$f":"SMALL($AW$48:$AW$68,1)","v":8}]
[null,null,null,null,null,null,null,null,null,null,null,null,null,null,null,null,null,null,null,null,null,null,null,null,null,null,null,null,null,null,null,null,null,null,{"$f":"INDEX($A$1:$A$52,MATCH(AI80,$B$1:$B$52,0))","v":{"$error":"#N/A"}},{"$f":"INDEX($A$1:$A$52,MATCH(AJ80,$B$1:$B$52,0))","v":{"$error":"#N/A"}},{"$error":"#N/A"},{"$error":"#N/A"},{"$error":"#N/A"},null,null,null,{"$f":"INDEX($A$1:$A$52,MATCH(AQ80,$B$1:$B$52,0))","v":{"$error":"#N/A"}},{"$f":"INDEX($A$1:$A$52,MATCH(AR80,$B$1:$B$52,0))","v":{"$error":"#N/A"}},{"$error":"#N/A"},{"$error":"#N/A"},{"$error":"#N/A"},null,null,null,null,null,null,null,null,null,null,null,null,null,null,null,null,null,null,null,null,null,null,null,null,null,8,{"$f":"CG11","v":"Royal Flush"},{"$f":"CH11","v":{"$error":"#N/A"}},{"$error":"#N/A"},{"$error":"#N/A"},{"$error":"#N/A"},{"$error":"#N/A"},{"$error":"#N/A"}]
[null,null,null,null,null,null,null,null,null,null,null,{"$f":"RANK(L89,$L$89:$P$89,1)","v":{"$error":"#N/A"}},{"$f":"RANK(M89,$L$89:$P$89,1)","v":{"$error":"#N/A"}},{"$f":"RANK(N89,$L$89:$P$89,1)","v":{"$error":"#N/A"}},{"$f":"RANK(O89,$L$89:$P$89,1)","v":{"$error":"#N/A"}},{"$f":"RANK(P89,$L$89:$P$89,1)","v":{"$error":"#N/A"}},null,{"$f":"RANK(R89,$R$89:$V$89,1)","v":{"$error":"#N/A"}},{"$f":"RANK(S89,$R$89:$V$89,1)","v":{"$error":"#N/A"}},{"$f":"RANK(T89,$R$89:$V$89,1)","v":{"$error":"#N/A"}},{"$f":"RANK(U89,$R$89:$V$89,1)","v":{"$error":"#N/A"}},{"$f":"RANK(V89,$R$89:$V$89,1)","v":{"$error":"#N/A"}},null,null,null,null,null,null,null,null,null,null,null,null,null,null,null,null,null,null,null,null,null,null,null,null,null,null,null,null,null,null,null,null,null,null,null,null,null,null,null,null,null,null,null,null,null,null,null,null,null,null,null,{"$f":"CR11","v":"Straight Flush"},{"$f":"CS11","v":{"$error":"#N/A"}},{"$error":"#N/A"},{"$error":"#N/A"},{"$error":"#N/A"},{"$error":"#N/A"},{"$error":"#N/A"}]
[null,null,null,null,null,null,null,null,null,10,null,{"$f":"[0]!Player11","v":0},{"$f":"[0]!Player12","v":0},{"$f":"[0]!House3","v":0},{"$f":"[0]!House4","v":0},{"$f":"[0]!House5","v":0},null,{"$f":"[0]!Player21","v":0},{"$f":"[0]!Player22","v":0},{"$f":"[0]!House3","v":0},{"$f":"[0]!House4","v":0},{"$f":"[0]!House5","v":0},null,null,null,null,null,null,null,null,null,"All equal hands",{"$f":"IF(AND(AI78=AQ78,AJ78=AR78,AK78=AS78,AL78=AT78,AM78=AU78,AO80<>11,AW80<>11),1,0)","v":1},1,1,null,{"$f":"$AG83*AH83","v":1},1,null,null,null,null,null,null,null,null,null,null,null,null,null,null,null,null,null,null,null,null,null,null,null,null,null,null,null,null,null,null,null,null,null,null,null,{"$f":"DC11","v":"Four of a Kind"},{"$f":"DD11","v":{"$error":"#N/A"}},0,{"$error":"#N/A"},{"$error":"#N/A"},0,{"$error":"#N/A"}]
[null,null,null,null,null,null,null,null,null,null,null,{"$f":"VLOOKUP(L83,$B$1:$F$52,5,0)","v":{"$error":"#N/A"}},{"$f":"VLOOKUP(M83,$B$1:$F$52,5,0)","v":{"$error":"#N/A"}},{"$f":"VLOOKUP(N83,$B$1:$F$52,5,0)","v":{"$error":"#N/A"}},{"$f":"VLOOKUP(O83,$B$1:$F$52,5,0)","v":{"$error":"#N/A"}},{"$f":"VLOOKUP(P83,$B$1:$F$52,5,0)","v":{"$error":"#N/A"}},null,{"$f":"VLOOKUP(R83,$B$1:$F$52,5,0)","v":{"$error":"#N/A"}},{"$f":"VLOOKUP(S83,$B$1:$F$52,5,0)","v":{"$error":"#N/A"}},{"$f":"VLOOKUP(T83,$B$1:$F$52,5,0)","v":{"$error":"#N/A"}},{"$f":"VLOOKUP(U83,$B$1:$F$52,5,0)","v":{"$error":"#N/A"}},{"$f":"VLOOKUP(V83,$B$1:$F$52,5,0)","v":{"$error":"#N/A"}},null,null,null,null,null,null,null,null,null,"first win",{"$f":"IF(AND(AX84<0),1,0)","v":0},1,0,null,0,0,null,null,{"$f":"AO80","v":8},null,null,null,null,null,null,null,{"$f":"AW80","v":8},{"$f":"AO84-AW84","v":0},null,null,null,null,null,null,null,null,null,null,null,null,null,null,null,null,null,null,null,null,null,null,null,{"$f":"DN11","v":"Full House"},{"$f":"DO11","v":{"$error":"#N/A"}},0,{"$error":"#N/A"},{"$error":"#N/A"},0,{"$error":"#N/A"}]
[null,null,null,null,null,null,null,null,null,null,null,{"$f":"VLOOKUP(L83,$B$1:$F$52,4,0)","v":{"$error":"#N/A"}},{"$f":"VLOOKUP(M83,$B$1:$F$52,4,0)","v":{"$error":"#N/A"}},{"$f":"VLOOKUP(N83,$B$1:$F$52,4,0)","v":{"$error":"#N/A"}},{"$f":"VLOOKUP(O83,$B$1:$F$52,4,0)","v":{"$error":"#N/A"}},{"$f":"VLOOKUP(P83,$B$1:$F$52,4,0)","v":{"$error":"#N/A"}},null,{"$f":"VLOOKUP(R83,$B$1:$F$52,4,0)","v":{"$error":"#N/A"}},{"$f":"VLOOKUP(S83,$B$1:$F$52,4,0)","v":{"$error":"#N/A"}},{"$f":"VLOOKUP(T83,$B$1:$F$52,4,0)","v":{"$error":"#N/A"}},{"$f":"VLOOKUP(U83,$B$1:$F$52,4,0)","v":{"$error":"#N/A"}},{"$f":"VLOOKUP(V83,$B$1:$F$52,4,0)","v":{"$error":"#N/A"}},null,null,null,null,null,null,null,null,null,"second win",{"$f":"IF(AND(AP85<0),1,0)","v":0},0,1,null,0,0,null,null,{"$f":"AO84","v":8},{"$f":"AW85-AO85","v":0},null,null,null,null,null,null,{"$f":"AW84","v":8},null,null,null,null,null,null,null,null,null,null,null,null,null,null,null,null,null,null,null,null,null,null,null,null,{"$f":"DY11","v":"Flush"},{"$f":"DZ11","v":{"$error":"#N/A"}},0,{"$error":"#N/A"},{"$error":"#N/A"},0,{"$error":"#N/A"}]
[null,null,null,null,null,null,null,null,null,null,null,{"$f":"HLOOKUP(L88,$L$82:$P$85,3,0)","v":{"$error":"#N/A"}},{"$f":"HLOOKUP(M88,$L$82:$P$85,3,0)","v":{"$error":"#N/A"}},{"$f":"HLOOKUP(N88,$L$82:$P$85,3,0)","v":{"$error":"#N/A"}},{"$f":"HLOOKUP(O88,$L$82:$P$85,3,0)","v":{"$error":"#N/A"}},{"$f":"HLOOKUP(P88,$L$82:$P$85,3,0)","v":{"$error":"#N/A"}},null,{"$f":"HLOOKUP(R88,$R$82:$V$85,3,0)","v":{"$error":"#N/A"}},{"$f":"HLOOKUP(S88,$R$82:$V$85,3,0)","v":{"$error":"#N/A"}},{"$f":"HLOOKUP(T88,$R$82:$V$85,3,0)","v":{"$error":"#N/A"}},{"$f":"HLOOKUP(U88,$R$82:$V$85,3,0)","v":{"$error":"#N/A"}},{"$f":"HLOOKUP(V88,$R$82:$V$85,3,0)","v":{"$error":"#N/A"}},null,null,null,null,null,null,null,null,null,null,null,null,null,null,null,null,null,null,null,null,null,null,null,null,null,null,null,null,null,null,null,null,null,null,null,null,null,null,null,null,null,null,null,null,null,null,null,null,null,null,null,{"$f":"EJ11","v":"Straight"},{"$f":"EK11","v":{"$error":"#N/A"}},{"$error":"#N/A"},{"$error":"#N/A"},{"$error":"#N/A"},{"$error":"#N/A"},{"$error":"#N/A"}]
[null,null,null,null,null,null,null,null,null,null,null,{"$f":"HLOOKUP(L88,$L$82:$P$85,4,0)","v":{"$error":"#N/A"}},{"$f":"HLOOKUP(M88,$L$82:$P$85,4,0)","v":{"$error":"#N/A"}},{"$f":"HLOOKUP(N88,$L$82:$P$85,4,0)","v":{"$error":"#N/A"}},{"$f":"HLOOKUP(O88,$L$82:$P$85,4,0)","v":{"$error":"#N/A"}},{"$f":"HLOOKUP(P88,$L$82:$P$85,4,0)","v":{"$error":"#N/A"}},null,{"$f":"HLOOKUP(R88,$R$82:$V$85,4,0)","v":{"$error":"#N/A"}},{"$f":"HLOOKUP(S88,$R$82:$V$85,4,0)","v":{"$error":"#N/A"}},{"$f":"HLOOKUP(T88,$R$82:$V$85,4,0)","v":{"$error":"#N/A"}},{"$f":"HLOOKUP(U88,$R$82:$V$85,4,0)","v":{"$error":"#N/A"}},{"$f":"HLOOKUP(V88,$R$82:$V$85,4,0)","v":{"$error":"#N/A"}},null,null,null,null,null,null,null,null,null,null,null,null,null,null,null,null,null,null,null,null,null,null,null,null,null,null,null,null,null,null,null,null,null,null,null,null,null,null,null,null,null,null,null,null,null,null,null,null,null,null,null,{"$f":"EU11","v":"Three of a Kind"},{"$f":"EV11","v":{"$error":"#N/A"}},0,{"$error":"#N/A"},{"$error":"#N/A"},0,{"$error":"#N/A"}]
[null,null,null,null,null,null,null,null,null,null,null,1,2,3,4,5,null,1,2,3,4,5,null,null,null,null,null,null,null,null,null,"Royal Flush",1,"1 win","2 win",null,null,null,null,null,null,null,null,null,null,null,null,null,null,null,null,null,null,null,null,null,null,null,null,null,null,null,null,null,null,null,null,null,null,null,null,null,null,{"$f":"FF11","v":"Two Pair"},{"$f":"FG11","v":{"$error":"#N/A"}},0,{"$error":"#N/A"},{"$error":"#N/A"},0,{"$error":"#N/A"}]
[null,null,null,null,null,null,null,null,null,null,null,{"$f":"L84+IF(L84=1,13+RAND()^3,RAND()^3)","v":{"$error":"#N/A"}},{"$f":"M84+IF(M84=1,13+RAND()^3,RAND()^3)","v":{"$error":"#N/A"}},{"$error":"#N/A"},{"$error":"#N/A"},{"$error":"#N/A"},0.47270874027915621,{"$error":"#N/A"},{"$error":"#N/A"},{"$error":"#N/A"},{"$error":"#N/A"},{"$error":"#N/A"},1.723836619546738E-6,null,null,null,null,null,null,null,null,"All equal hands",{"$f":"IF(AND($AG$83=0,$AO$80=AG88,$AO$80=$AW$80),1,0)","v":0},1,1,null,{"$f":"$AG89*AH89","v":0},{"$f":"$AG89*AI89","v":0},null,null,null,null,null,null,null,null,null,null,null,null,null,null,null,null,null,null,null,null,null,null,null,null,null,null,null,null,null,null,null,null,null,null,null,{"$f":"FQ11","v":"One Pair"},{"$f":"FR11","v":{"$error":"#N/A"}},0,{"$error":"#N/A"},{"$error":"#N/A"},0,{"$error":"#N/A"}]
[null,null,null,null,null,null,null,null,null,null,null,null,null,null,null,null,null,null,null,null,null,null,null,null,null,null,null,null,null,null,null,null,null,null,null,null,null,null,null,null,null,null,null,null,null,null,null,null,null,null,null,null,null,null,null,null,null,null,null,null,null,null,null,null,null,null,null,null,null,null,null,null,null,{"$f":"GB11","v":"High Card"},{"$f":"GC11","v":{"$error":"#N/A"}},0,{"$error":"#N/A"},{"$error":"#N/A"},0,{"$error":"#N/A"}]
[null,null,null,null,null,null,null,null,null,null,null,{"$f":"RANK(L98,$L$98:$P$98,1)","v":{"$error":"#N/A"}},{"$f":"RANK(M98,$L$98:$P$98,1)","v":{"$error":"#N/A"}},{"$error":"#N/A"},{"$error":"#N/A"},{"$error":"#N/A"},null,{"$f":"RANK(R98,$R$98:$V$98,1)","v":{"$error":"#N/A"}},{"$f":"RANK(S98,$R$98:$V$98,1)","v":{"$error":"#N/A"}},{"$error":"#N/A"},{"$error":"#N/A"},{"$error":"#N/A"}]
[null,null,null,null,null,null,null,null,null,11,null,{"$f":"[0]!Player11","v":0},{"$f":"[0]!House1","v":0},{"$f":"[0]!House2","v":0},{"$f":"[0]!House3","v":0},{"$f":"[0]!House4","v":0},null,{"$f":"[0]!Player21","v":0},{"$f":"[0]!House1","v":0},{"$f":"[0]!House2","v":0},{"$f":"[0]!House3","v":0},{"$f":"[0]!House4","v":0},null,null,null,null,null,null,null,null,null,null,null,null,null,null,null,null,null,null,null,null,null,null,null,null,null,null,null,null,null,null,null,null,null,null,null,null,null,null,null,null,null,null,null,null,null,null,null,null,null,null,9,{"$f":"CG12","v":"Royal Flush"},{"$f":"CH12","v":{"$error":"#N/A"}},{"$error":"#N/A"},{"$error":"#N/A"},{"$error":"#N/A"},{"$error":"#N/A"},{"$error":"#N/A"}]
[null,null,null,null,null,null,null,null,null,null,null,{"$f":"VLOOKUP(L92,$B$1:$F$52,5,0)","v":{"$error":"#N/A"}},{"$f":"VLOOKUP(M92,$B$1:$F$52,5,0)","v":{"$error":"#N/A"}},{"$f":"VLOOKUP(N92,$B$1:$F$52,5,0)","v":{"$error":"#N/A"}},{"$f":"VLOOKUP(O92,$B$1:$F$52,5,0)","v":{"$error":"#N/A"}},{"$f":"VLOOKUP(P92,$B$1:$F$52,5,0)","v":{"$error":"#N/A"}},null,{"$f":"VLOOKUP(R92,$B$1:$F$52,5,0)","v":{"$error":"#N/A"}},{"$f":"VLOOKUP(S92,$B$1:$F$52,5,0)","v":{"$error":"#N/A"}},{"$f":"VLOOKUP(T92,$B$1:$F$52,5,0)","v":{"$error":"#N/A"}},{"$f":"VLOOKUP(U92,$B$1:$F$52,5,0)","v":{"$error":"#N/A"}},{"$f":"VLOOKUP(V92,$B$1:$F$52,5,0)","v":{"$error":"#N/A"}},null,null,null,null,null,null,null,null,null,"Straight Flush",2,null,null,null,null,null,null,null,null,null,null,null,null,null,null,null,null,"STRAIGHT FLUSH",null,null,null,null,null,null,null,null,null,null,null,null,null,null,null,null,null,null,null,null,null,null,null,{"$f":"CR12","v":"Straight Flush"},{"$f":"CS12","v":{"$error":"#N/A"}},{"$error":"#N/A"},{"$error":"#N/A"},{"$error":"#N/A"},{"$error":"#N/A"},{"$error":"#N/A"}]
[null,null,null,null,null,null,null,null,null,null,null,{"$f":"VLOOKUP(L92,$B$1:$F$52,4,0)","v":{"$error":"#N/A"}},{"$f":"VLOOKUP(M92,$B$1:$F$52,4,0)","v":{"$error":"#N/A"}},{"$f":"VLOOKUP(N92,$B$1:$F$52,4,0)","v":{"$error":"#N/A"}},{"$f":"VLOOKUP(O92,$B$1:$F$52,4,0)","v":{"$error":"#N/A"}},{"$f":"VLOOKUP(P92,$B$1:$F$52,4,0)","v":{"$error":"#N/A"}},null,{"$f":"VLOOKUP(R92,$B$1:$F$52,4,0)","v":{"$error":"#N/A"}},{"$f":"VLOOKUP(S92,$B$1:$F$52,4,0)","v":{"$error":"#N/A"}},{"$f":"VLOOKUP(T92,$B$1:$F$52,4,0)","v":{"$error":"#N/A"}},{"$f":"VLOOKUP(U92,$B$1:$F$52,4,0)","v":{"$error":"#N/A"}},{"$f":"VLOOKUP(V92,$B$1:$F$52,4,0)","v":{"$error":"#N/A"}},null,null,null,null,null,null,null,null,null,"All equal hands",{"$f":"IF(AND($AO$80=AG93,$AO$80=$AW$80,AM78=AU78),1,0)","v":0},1,1,null,{"$f":"$AG94*AH94","v":0},{"$f":"$AG94*AI94","v":0},null,null,null,null,null,null,null,null,null,null,null,"first win",null,{"$f":"AI69","v":{"$error":"#N/A"}},null,{"$f":"AQ69","v":{"$error":"#N/A"}},{"$f":"AZ94-BB94","v":{"$error":"#N/A"}},null,null,null,null,null,null,null,null,null,null,null,null,null,null,null,null,null,null,{"$f":"DC12","v":"Four of a Kind"},{"$f":"DD12","v":{"$error":"#N/A"}},0,{"$error":"#N/A"},{"$error":"#N/A"},0,{"$error":"#N/A"}]
[null,null,null,null,null,null,null,null,null,null,null,{"$f":"HLOOKUP(L97,$L$91:$P$94,3,0)","v":{"$error":"#N/A"}},{"$f":"HLOOKUP(M97,$L$91:$P$94,3,0)","v":{"$error":"#N/A"}},{"$error":"#N/A"},{"$error":"#N/A"},{"$error":"#N/A"},null,{"$f":"HLOOKUP(R97,$R$91:$V$94,3,0)","v":{"$error":"#N/A"}},{"$f":"HLOOKUP(S97,$R$91:$V$94,3,0)","v":{"$error":"#N/A"}},{"$error":"#N/A"},{"$error":"#N/A"},{"$error":"#N/A"},null,null,null,null,null,null,null,null,null,null,null,null,null,null,null,null,null,null,null,null,null,null,null,null,null,null,null,null,null,{"$f":"AJ69","v":{"$error":"#N/A"}},null,{"$f":"AR69","v":{"$error":"#N/A"}},{"$f":"AZ95-BB95","v":{"$error":"#N/A"}},null,null,null,null,null,null,null,null,null,null,null,null,null,null,null,null,null,null,{"$f":"DN12","v":"Full House"},{"$f":"DO12","v":{"$error":"#N/A"}},0,{"$error":"#N/A"},{"$error":"#N/A"},0,{"$error":"#N/A"}]
[null,null,null,null,null,null,null,null,null,null,null,{"$f":"HLOOKUP(L97,$L$91:$P$94,4,0)","v":{"$error":"#N/A"}},{"$f":"HLOOKUP(M97,$L$91:$P$94,4,0)","v":{"$error":"#N/A"}},{"$error":"#N/A"},{"$error":"#N/A"},{"$error":"#N/A"},null,{"$f":"HLOOKUP(R97,$R$91:$V$94,4,0)","v":{"$error":"#N/A"}},{"$f":"HLOOKUP(S97,$R$91:$V$94,4,0)","v":{"$error":"#N/A"}},{"$error":"#N/A"},{"$error":"#N/A"},{"$error":"#N/A"},null,null,null,null,null,null,null,null,null,null,null,null,null,null,null,null,null,null,null,null,null,null,null,null,null,null,null,null,null,{"$f":"AK69","v":{"$error":"#N/A"}},null,{"$f":"AS69","v":{"$error":"#N/A"}},{"$error":"#N/A"},null,null,null,null,null,null,null,null,null,null,null,null,null,null,null,null,null,null,{"$f":"DY12","v":"Flush"},{"$f":"DZ12","v":{"$error":"#N/A"}},0,{"$error":"#N/A"},{"$error":"#N/A"},0,{"$error":"#N/A"}]
[null,null,null,null,null,null,null,null,null,null,null,1,2,3,4,5,null,1,2,3,4,5,null,null,null,null,null,null,null,null,null,null,null,null,null,null,null,null,null,null,null,null,null,null,null,null,null,null,null,null,null,{"$f":"AL69","v":{"$error":"#N/A"}},null,{"$f":"AT69","v":{"$error":"#N/A"}},{"$error":"#N/A"},null,null,null,null,null,null,null,null,null,null,null,null,null,null,null,null,null,null,{"$f":"EJ12","v":"Straight"},{"$f":"EK12","v":{"$error":"#N/A"}},{"$error":"#N/A"},{"$error":"#N/A"},{"$error":"#N/A"},{"$error":"#N/A"},{"$error":"#N/A"}]
[null,null,null,null,null,null,null,null,null,null,null,{"$f":"L93+IF(L93=1,13+RAND()^3,RAND()^3)","v":{"$error":"#N/A"}},{"$f":"M93+IF(M93=1,13+RAND()^3,RAND()^3)","v":{"$error":"#N/A"}},{"$error":"#N/A"},{"$error":"#N/A"},{"$error":"#N/A"},1.9154204855557362E-2,{"$error":"#N/A"},{"$error":"#N/A"},{"$error":"#N/A"},{"$error":"#N/A"},{"$error":"#N/A"},0.42095404403605091,null,null,null,null,null,null,null,null,"first win",{"$f":"IF(AND($AO$80=$AG$93,$AO$80=MIN($AO$80,$AW$80),$AG$84=0,$BC$100>0),1,0)","v":0},1,0,null,{"$f":"$AG98*AH98","v":0},0,null,null,null,null,null,null,null,null,null,null,null,null,null,{"$f":"AM69","v":{"$error":"#N/A"}},null,{"$f":"AU69","v":{"$error":"#N/A"}},{"$error":"#N/A"},null,null,null,null,null,null,null,null,null,null,null,null,null,null,null,null,null,null,{"$f":"EU12","v":"Three of a Kind"},{"$f":"EV12","v":{"$error":"#N/A"}},0,{"$error":"#N/A"},{"$error":"#N/A"},0,{"$error":"#N/A"}]
[null,null,null,null,null,null,null,null,null,null,null,null,null,null,null,null,null,null,null,null,null,null,null,null,null,null,null,null,null,null,null,"second win",{"$f":"IF(AND($AW$80=$AG$93,$AW$80=MIN($AO$80,$AW$80),$AG$85=0,$BA$107>0),1,0)","v":0},0,1,null,0,0,null,null,null,null,null,null,null,null,null,null,null,null,null,null,null,null,{"$f":"INDEX(BC94:BC98,MATCH(TRUE,INDEX(BC94:BC98<>0,),0))","v":{"$error":"#N/A"}},null,null,null,null,null,null,null,null,null,null,null,null,null,null,null,null,null,null,{"$f":"FF12","v":"Two Pair"},{"$f":"FG12","v":{"$error":"#N/A"}},0,{"$error":"#N/A"},{"$error":"#N/A"},0,{"$error":"#N/A"}]
[null,null,null,null,null,null,null,null,null,null,null,{"$f":"RANK(L107,$L$107:$P$107,1)","v":{"$error":"#N/A"}},{"$f":"RANK(M107,$L$107:$P$107,1)","v":{"$error":"#N/A"}},{"$error":"#N/A"},{"$error":"#N/A"},{"$error":"#N/A"},null,{"$f":"RANK(R107,$R$107:$V$107,1)","v":{"$error":"#N/A"}},{"$f":"RANK(S107,$R$107:$V$107,1)","v":{"$error":"#N/A"}},{"$error":"#N/A"},{"$error":"#N/A"},{"$error":"#N/A"},null,null,null,null,null,null,null,null,null,null,null,null,null,null,null,null,null,null,null,null,null,null,null,null,null,null,null,null,null,null,null,null,{"$f":"IF(ISNUMBER(BC99),BC99,0)","v":0},null,null,null,null,null,null,null,null,null,null,null,null,null,null,null,null,null,null,{"$f":"FQ12","v":"One Pair"},{"$f":"FR12","v":{"$error":"#N/A"}},0,{"$error":"#N/A"},{"$error":"#N/A"},0,{"$error":"#N/A"}]
[null,null,null,null,null,null,null,null,null,12,null,{"$f":"[0]!Player11","v":0},{"$f":"[0]!House1","v":0},{"$f":"[0]!House2","v":0},{"$f":"[0]!House3","v":0},{"$f":"[0]!House5","v":0},null,{"$f":"[0]!Player21","v":0},{"$f":"[0]!House1","v":0},{"$f":"[0]!House2","v":0},{"$f":"[0]!House3","v":0},{"$f":"[0]!House5","v":0},null,null,null,null,null,null,null,null,null,"Four of a Kind",3,null,null,null,null,null,null,null,"FOUR OF A KIND",null,null,null,null,null,null,null,null,"second win",null,{"$f":"AZ94","v":{"$error":"#N/A"}},{"$f":"BB101-AZ101","v":{"$error":"#N/A"}},{"$f":"BB94","v":{"$error":"#N/A"}},null,null,null,null,null,null,null,null,null,null,null,null,null,null,null,null,null,null,null,{"$f":"GB12","v":"High Card"},{"$f":"GC12","v":{"$error":"#N/A"}},0,{"$error":"#N/A"},{"$error":"#N/A"},0,{"$error":"#N/A"}]
[null,null,null,null,null,null,null,null,null,null,null,{"$f":"VLOOKUP(L101,$B$1:$F$52,5,0)","v":{"$error":"#N/A"}},{"$f":"VLOOKUP(M101,$B$1:$F$52,5,0)","v":{"$error":"#N/A"}},{"$f":"VLOOKUP(N101,$B$1:$F$52,5,0)","v":{"$error":"#N/A"}},{"$f":"VLOOKUP(O101,$B$1:$F$52,5,0)","v":{"$error":"#N/A"}},{"$f":"VLOOKUP(P101,$B$1:$F$52,5,0)","v":{"$error":"#N/A"}},null,{"$f":"VLOOKUP(R101,$B$1:$F$52,5,0)","v":{"$error":"#N/A"}},{"$f":"VLOOKUP(S101,$B$1:$F$52,5,0)","v":{"$error":"#N/A"}},{"$f":"VLOOKUP(T101,$B$1:$F$52,5,0)","v":{"$error":"#N/A"}},{"$f":"VLOOKUP(U101,$B$1:$F$52,5,0)","v":{"$error":"#N/A"}},{"$f":"VLOOKUP(V101,$B$1:$F$52,5,0)","v":{"$error":"#N/A"}},null,null,null,null,null,null,null,null,null,"All equal hands",{"$f":"IF(AND($AO$80=AG101,$AO$80=$AW$80,$AW$80=$BE$80,AI75=AQ75,AQ75=AY75),1,0)","v":0},1,1,null,{"$f":"$AG102*AH102","v":0},{"$f":"$AG102*AI102","v":0},null,null,"first win",null,{"$f":"AI75","v":0},null,{"$f":"AQ75","v":0},{"$f":"AQ102-AS102","v":0},null,null,null,null,null,{"$f":"AZ95","v":{"$error":"#N/A"}},{"$f":"BB102-AZ102","v":{"$error":"#N/A"}},{"$f":"BB95","v":{"$error":"#N/A"}}]
[null,null,null,null,null,null,null,null,null,null,null,{"$f":"VLOOKUP(L101,$B$1:$F$52,4,0)","v":{"$error":"#N/A"}},{"$f":"VLOOKUP(M101,$B$1:$F$52,4,0)","v":{"$error":"#N/A"}},{"$f":"VLOOKUP(N101,$B$1:$F$52,4,0)","v":{"$error":"#N/A"}},{"$f":"VLOOKUP(O101,$B$1:$F$52,4,0)","v":{"$error":"#N/A"}},{"$f":"VLOOKUP(P101,$B$1:$F$52,4,0)","v":{"$error":"#N/A"}},null,{"$f":"VLOOKUP(R101,$B$1:$F$52,4,0)","v":{"$error":"#N/A"}},{"$f":"VLOOKUP(S101,$B$1:$F$52,4,0)","v":{"$error":"#N/A"}},{"$f":"VLOOKUP(T101,$B$1:$F$52,4,0)","v":{"$error":"#N/A"}},{"$f":"VLOOKUP(U101,$B$1:$F$52,4,0)","v":{"$error":"#N/A"}},{"$f":"VLOOKUP(V101,$B$1:$F$52,4,0)","v":{"$error":"#N/A"}},null,null,null,null,null,null,null,null,null,null,null,null,null,null,null,null,null,null,null,null,{"$f":"AK75","v":0},null,{"$f":"AS75","v":0},{"$f":"AQ103-AS103","v":0},null,null,null,null,null,{"$error":"#N/A"},{"$error":"#N/A"},{"$error":"#N/A"},null,null,null,null,null,null,null,null,null,null,null,null,null,null,null,null,null,null,10,{"$f":"CG13","v":"Royal Flush"},{"$f":"CH13","v":{"$error":"#N/A"}},{"$error":"#N/A"},{"$error":"#N/A"},{"$error":"#N/A"},{"$error":"#N/A"},{"$error":"#N/A"}]
[null,null,null,null,null,null,null,null,null,null,null,{"$f":"HLOOKUP(L106,$L$100:$P$103,3,0)","v":{"$error":"#N/A"}},{"$f":"HLOOKUP(M106,$L$100:$P$103,3,0)","v":{"$error":"#N/A"}},{"$error":"#N/A"},{"$error":"#N/A"},{"$error":"#N/A"},null,{"$f":"HLOOKUP(R106,$R$100:$V$103,3,0)","v":{"$error":"#N/A"}},{"$f":"HLOOKUP(S106,$R$100:$V$103,3,0)","v":{"$error":"#N/A"}},{"$error":"#N/A"},{"$error":"#N/A"},{"$error":"#N/A"},null,null,null,null,null,null,null,null,null,null,null,null,null,null,null,null,null,null,null,null,null,null,null,{"$f":"INDEX(AT102:AT103,MATCH(TRUE,INDEX(AT102:AT103<>0,),0))","v":{"$error":"#N/A"}},null,null,null,null,null,{"$error":"#N/A"},{"$error":"#N/A"},{"$error":"#N/A"},null,null,null,null,null,null,null,null,null,null,null,null,null,null,null,null,null,null,null,{"$f":"CR13","v":"Straight Flush"},{"$f":"CS13","v":{"$error":"#N/A"}},{"$error":"#N/A"},{"$error":"#N/A"},{"$error":"#N/A"},{"$error":"#N/A"},{"$error":"#N/A"}]
[null,null,null,null,null,null,null,null,null,null,null,{"$f":"HLOOKUP(L106,$L$100:$P$103,4,0)","v":{"$error":"#N/A"}},{"$f":"HLOOKUP(M106,$L$100:$P$103,4,0)","v":{"$error":"#N/A"}},{"$error":"#N/A"},{"$error":"#N/A"},{"$error":"#N/A"},null,{"$f":"HLOOKUP(R106,$R$100:$V$103,4,0)","v":{"$error":"#N/A"}},{"$f":"HLOOKUP(S106,$R$100:$V$103,4,0)","v":{"$error":"#N/A"}},{"$error":"#N/A"},{"$error":"#N/A"},{"$error":"#N/A"},null,null,null,null,null,null,null,null,null,null,null,null,null,null,null,null,null,null,null,null,null,null,null,{"$f":"IF(ISNUMBER(AT104),AT104,0)","v":0},null,null,null,null,null,{"$error":"#N/A"},{"$error":"#N/A"},{"$error":"#N/A"},null,null,null,null,null,null,null,null,null,null,null,null,null,null,null,null,null,null,null,{"$f":"DC13","v":"Four of a Kind"},{"$f":"DD13","v":{"$error":"#N/A"}},0,{"$error":"#N/A"},{"$error":"#N/A"},0,{"$error":"#N/A"}]
[null,null,null,null,null,null,null,null,null,null,null,1,2,3,4,5,null,1,2,3,4,5,null,null,null,null,null,null,null,null,null,"first win",{"$f":"IF(AND($AO$80=$AG$101,$AO$80=MIN($AO$80,$AW$80),$AG$84=0,$AT$105>0),1,0)","v":0},1,0,null,{"$f":"$AG106*AH106","v":0},0,null,null,"second win",null,{"$f":"AQ102","v":0},{"$f":"AS106-AQ106","v":0},{"$f":"AS102","v":0},null,null,null,null,null,null,null,{"$f":"INDEX(BA101:BA105,MATCH(TRUE,INDEX(BA101:BA105<>0,),0))","v":{"$error":"#N/A"}},null,null,null,null,null,null,null,null,null,null,null,null,null,null,null,null,null,null,null,null,{"$f":"DN13","v":"Full House"},{"$f":"DO13","v":{"$error":"#N/A"}},0,{"$error":"#N/A"},{"$error":"#N/A"},0,{"$error":"#N/A"}]
[null,null,null,null,null,null,null,null,null,null,null,{"$f":"L102+IF(L102=1,13+RAND()^3,RAND()^3)","v":{"$error":"#N/A"}},{"$f":"M102+IF(M102=1,13+RAND()^3,RAND()^3)","v":{"$error":"#N/A"}},{"$error":"#N/A"},{"$error":"#N/A"},{"$error":"#N/A"},0.77072116405450219,{"$error":"#N/A"},{"$error":"#N/A"},{"$error":"#N/A"},{"$error":"#N/A"},{"$error":"#N/A"},0.41015016672090177,null,null,null,null,null,null,null,null,"second win",{"$f":"IF(AND($AW$80=$AG$101,$AW$80=MIN($AO$80,$AW$80),$AG$85=0,$AR$109>0),1,0)","v":0},0,1,null,0,0,null,null,null,null,{"$f":"AQ103","v":0},{"$f":"AS107-AQ107","v":0},{"$f":"AS103","v":0},null,null,null,null,null,null,null,{"$f":"IF(ISNUMBER(BA106),BA106,0)","v":0},null,null,null,null,null,null,null,null,null,null,null,null,null,null,null,null,null,null,null,null,{"$f":"DY13","v":"Flush"},{"$f":"DZ13","v":{"$error":"#N/A"}},0,{"$error":"#N/A"},{"$error":"#N/A"},0,{"$error":"#N/A"}]
[null,null,null,null,null,null,null,null,null,null,null,null,null,null,null,null,null,null,null,null,null,null,null,null,null,null,null,null,null,null,null,null,null,null,null,null,null,null,null,null,null,null,null,{"$f":"INDEX(AR106:AR107,MATCH(TRUE,INDEX(AR106:AR107<>0,),0))","v":{"$error":"#N/A"}},null,null,null,null,null,"third win",null,{"$f":"AZ101","v":{"$error":"#N/A"}},{"$f":"BD108-AZ108","v":{"$error":"#N/A"}},{"$f":"BB101","v":{"$error":"#N/A"}},{"$f":"BD108-BB108","v":{"$error":"#N/A"}},null,null,null,null,null,null,null,null,null,null,null,null,null,null,null,null,null,null,{"$f":"EJ13","v":"Straight"},{"$f":"EK13","v":{"$error":"#N/A"}},{"$error":"#N/A"},{"$error":"#N/A"},{"$error":"#N/A"},{"$error":"#N/A"},{"$error":"#N/A"}]
[null,null,null,null,null,null,null,null,null,null,null,{"$f":"RANK(L116,$L$116:$P$116,1)","v":{"$error":"#N/A"}},{"$f":"RANK(M116,$L$116:$P$116,1)","v":{"$error":"#N/A"}},{"$error":"#N/A"},{"$error":"#N/A"},{"$error":"#N/A"},null,{"$f":"RANK(R116,$R$116:$V$116,1)","v":{"$error":"#N/A"}},{"$f":"RANK(S116,$R$116:$V$116,1)","v":{"$error":"#N/A"}},{"$error":"#N/A"},{"$error":"#N/A"},{"$error":"#N/A"},null,null,null,null,null,null,null,null,null,"Full House",4,null,null,null,null,null,null,null,null,null,null,{"$f":"IF(ISNUMBER(AR108),AR108,0)","v":0},null,null,null,null,null,null,null,{"$f":"AZ102","v":{"$error":"#N/A"}},{"$f":"BD109-AZ109","v":{"$error":"#N/A"}},{"$error":"#N/A"},{"$f":"BD109-BB109","v":{"$error":"#N/A"}},null,null,null,null,null,null,null,null,null,null,null,null,null,null,null,null,null,null,{"$f":"EU13","v":"Three of a Kind"},{"$f":"EV13","v":{"$error":"#N/A"}},0,{"$error":"#N/A"},{"$error":"#N/A"},0,{"$error":"#N/A"}]
[null,null,null,null,null,null,null,null,null,13,null,{"$f":"[0]!Player11","v":0},{"$f":"[0]!House1","v":0},{"$f":"[0]!House2","v":0},{"$f":"[0]!House4","v":0},{"$f":"[0]!House5","v":0},null,{"$f":"[0]!Player21","v":0},{"$f":"[0]!House1","v":0},{"$f":"[0]!House2","v":0},{"$f":"[0]!House4","v":0},{"$f":"[0]!House5","v":0},null,null,null,null,null,null,null,null,null,"All equal hands",{"$f":"IF(AND($AO$80=AG109,$AO$80=$AW$80,AI83=AQ83,AQ83=AY83),1,0)","v":0},1,1,null,{"$f":"$AG110*AH110","v":0},{"$f":"$AG110*AI110","v":0},null,null,"third win",null,{"$f":"AQ106","v":0},{"$f":"AU110-AQ110","v":0},{"$f":"AS106","v":0},{"$f":"AU110-AS110","v":0},null,null,null,null,null,{"$error":"#N/A"},{"$error":"#N/A"},{"$error":"#N/A"},{"$error":"#N/A"},null,null,null,null,null,null,null,null,null,null,null,null,null,null,null,null,null,null,{"$f":"FF13","v":"Two Pair"},{"$f":"FG13","v":{"$error":"#N/A"}},0,{"$error":"#N/A"},{"$error":"#N/A"},0,{"$error":"#N/A"}]
[null,null,null,null,null,null,null,null,null,null,null,{"$f":"VLOOKUP(L110,$B$1:$F$52,5,0)","v":{"$error":"#N/A"}},{"$f":"VLOOKUP(M110,$B$1:$F$52,5,0)","v":{"$error":"#N/A"}},{"$f":"VLOOKUP(N110,$B$1:$F$52,5,0)","v":{"$error":"#N/A"}},{"$f":"VLOOKUP(O110,$B$1:$F$52,5,0)","v":{"$error":"#N/A"}},{"$f":"VLOOKUP(P110,$B$1:$F$52,5,0)","v":{"$error":"#N/A"}},null,{"$f":"VLOOKUP(R110,$B$1:$F$52,5,0)","v":{"$error":"#N/A"}},{"$f":"VLOOKUP(S110,$B$1:$F$52,5,0)","v":{"$error":"#N/A"}},{"$f":"VLOOKUP(T110,$B$1:$F$52,5,0)","v":{"$error":"#N/A"}},{"$f":"VLOOKUP(U110,$B$1:$F$52,5,0)","v":{"$error":"#N/A"}},{"$f":"VLOOKUP(V110,$B$1:$F$52,5,0)","v":{"$error":"#N/A"}},null,null,null,null,null,null,null,null,null,null,null,null,null,null,null,null,null,null,null,null,{"$f":"AQ107","v":0},{"$f":"AU111-AQ111","v":0},{"$f":"AS107","v":0},{"$f":"AU111-AS111","v":0},null,null,null,null,null,{"$error":"#N/A"},{"$error":"#N/A"},{"$error":"#N/A"},{"$error":"#N/A"},null,null,null,null,null,null,null,null,null,null,null,null,null,null,null,null,null,null,{"$f":"FQ13","v":"One Pair"},{"$f":"FR13","v":{"$error":"#N/A"}},0,{"$error":"#N/A"},{"$error":"#N/A"},0,{"$error":"#N/A"}]
[null,null,null,null,null,null,null,null,null,null,null,{"$f":"VLOOKUP(L110,$B$1:$F$52,4,0)","v":{"$error":"#N/A"}},{"$f":"VLOOKUP(M110,$B$1:$F$52,4,0)","v":{"$error":"#N/A"}},{"$f":"VLOOKUP(N110,$B$1:$F$52,4,0)","v":{"$error":"#N/A"}},{"$f":"VLOOKUP(O110,$B$1:$F$52,4,0)","v":{"$error":"#N/A"}},{"$f":"VLOOKUP(P110,$B$1:$F$52,4,0)","v":{"$error":"#N/A"}},null,{"$f":"VLOOKUP(R110,$B$1:$F$52,4,0)","v":{"$error":"#N/A"}},{"$f":"VLOOKUP(S110,$B$1:$F$52,4,0)","v":{"$error":"#N/A"}},{"$f":"VLOOKUP(T110,$B$1:$F$52,4,0)","v":{"$error":"#N/A"}},{"$f":"VLOOKUP(U110,$B$1:$F$52,4,0)","v":{"$error":"#N/A"}},{"$f":"VLOOKUP(V110,$B$1:$F$52,4,0)","v":{"$error":"#N/A"}},null,null,null,null,null,null,null,null,null,null,null,null,null,null,null,null,null,null,null,null,null,{"$f":"INDEX(AR110:AR111,MATCH(TRUE,INDEX(AR110:AR111<>0,),0))","v":{"$error":"#N/A"}},null,{"$f":"INDEX(AT110:AT111,MATCH(TRUE,INDEX(AT110:AT111<>0,),0))","v":{"$error":"#N/A"}},null,null,null,null,null,{"$error":"#N/A"},{"$error":"#N/A"},{"$error":"#N/A"},{"$error":"#N/A"},null,null,null,null,null,null,null,null,null,null,null,null,null,null,null,null,null,null,{"$f":"GB13","v":"High Card"},{"$f":"GC13","v":{"$error":"#N/A"}},0,{"$error":"#N/A"},{"$error":"#N/A"},0,{"$error":"#N/A"}]
[null,null,null,null,null,null,null,null,null,null,null,{"$f":"HLOOKUP(L115,$L$109:$P$112,3,0)","v":{"$error":"#N/A"}},{"$f":"HLOOKUP(M115,$L$109:$P$112,3,0)","v":{"$error":"#N/A"}},{"$error":"#N/A"},{"$error":"#N/A"},{"$error":"#N/A"},null,{"$f":"HLOOKUP(R115,$R$109:$V$112,3,0)","v":{"$error":"#N/A"}},{"$f":"HLOOKUP(S115,$R$109:$V$112,3,0)","v":{"$error":"#N/A"}},{"$error":"#N/A"},{"$error":"#N/A"},{"$error":"#N/A"},null,null,null,null,null,null,null,null,null,null,null,null,null,null,null,null,null,null,null,null,null,{"$f":"IF(ISNUMBER(AR112),AR112,0)","v":0},null,{"$f":"IF(ISNUMBER(AT112),AT112,0)","v":0},null,null,null,null,null,null,{"$f":"INDEX(BA108:BA112,MATCH(TRUE,INDEX(BA108:BA112<>0,),0))","v":{"$error":"#N/A"}},null,{"$f":"INDEX(BC108:BC112,MATCH(TRUE,INDEX(BC108:BC112<>0,),0))","v":{"$error":"#N/A"}}]
[null,null,null,null,null,null,null,null,null,null,null,{"$f":"HLOOKUP(L115,$L$109:$P$112,4,0)","v":{"$error":"#N/A"}},{"$f":"HLOOKUP(M115,$L$109:$P$112,4,0)","v":{"$error":"#N/A"}},{"$error":"#N/A"},{"$error":"#N/A"},{"$error":"#N/A"},null,{"$f":"HLOOKUP(R115,$R$109:$V$112,4,0)","v":{"$error":"#N/A"}},{"$f":"HLOOKUP(S115,$R$109:$V$112,4,0)","v":{"$error":"#N/A"}},{"$error":"#N/A"},{"$error":"#N/A"},{"$error":"#N/A"},null,null,null,null,null,null,null,null,null,"first win",{"$f":"IF(AND($AO$80=$AG$109,$AO$80=MIN($AO$80,$AW$80),$AG$84=0,$AT$119>0),1,0)","v":0},1,1,null,{"$f":"$AG114*AH114","v":0},0,null,null,null,null,null,null,null,null,null,null,null,null,null,null,{"$f":"IF(ISNUMBER(BA113),BA113,0)","v":0},null,{"$f":"IF(ISNUMBER(BC113),BC113,0)","v":0},null,null,null,null,null,null,null,null,null,null,null,null,null,null,null,null,null,11,{"$f":"CG14","v":"Royal Flush"},{"$f":"CH14","v":{"$error":"#N/A"}},{"$error":"#N/A"},{"$error":"#N/A"},{"$error":"#N/A"},{"$error":"#N/A"},{"$error":"#N/A"}]
[null,null,null,null,null,null,null,null,null,null,null,1,2,3,4,5,null,1,2,3,4,5,null,null,null,null,null,null,null,null,null,"second win",{"$f":"IF(AND($AW$80=$AG$109,$AW$80=MIN($AO$80,$AW$80),$AG$85=0,$AR$123>0),1,0)","v":0},0,1,null,0,0,null,null,"FULL HOUSE",null,null,null,null,null,null,null,null,null,null,null,null,null,null,null,null,null,null,null,null,null,null,null,null,null,null,null,null,null,null,null,null,{"$f":"CR14","v":"Straight Flush"},{"$f":"CS14","v":{"$error":"#N/A"}},{"$error":"#N/A"},{"$error":"#N/A"},{"$error":"#N/A"},{"$error":"#N/A"},{"$error":"#N/A"}]
[null,null,null,null,null,null,null,null,null,null,null,{"$f":"L111+IF(L111=1,13+RAND()^3,RAND()^3)","v":{"$error":"#N/A"}},{"$f":"M111+IF(M111=1,13+RAND()^3,RAND()^3)","v":{"$error":"#N/A"}},{"$error":"#N/A"},{"$error":"#N/A"},{"$error":"#N/A"},0.32256780224770554,{"$error":"#N/A"},{"$error":"#N/A"},{"$error":"#N/A"},{"$error":"#N/A"},{"$error":"#N/A"},1.3028489795697427E-3,null,null,null,null,null,null,null,null,null,null,null,null,null,null,null,null,null,"first win",null,{"$f":"AI74","v":0},null,{"$f":"AQ74","v":0},{"$f":"AQ116-AS116","v":0},null,null,null,null,null,null,null,null,null,null,null,null,null,null,null,null,null,null,null,null,null,null,null,null,null,null,null,{"$f":"DC14","v":"Four of a Kind"},{"$f":"DD14","v":{"$error":"#N/A"}},0,{"$error":"#N/A"},{"$error":"#N/A"},0,{"$error":"#N/A"}]
[null,null,null,null,null,null,null,null,null,null,null,null,null,null,null,null,null,null,null,null,null,null,null,null,null,null,null,null,null,null,null,"Flush",5,null,null,null,null,null,null,null,null,null,{"$f":"AJ74","v":0},null,{"$f":"AR74","v":0},{"$f":"AQ117-AS117","v":0},null,null,null,null,null,null,null,null,null,null,null,null,null,null,null,null,null,null,null,null,null,null,null,null,null,null,null,{"$f":"DN14","v":"Full House"},{"$f":"DO14","v":{"$error":"#N/A"}},0,{"$error":"#N/A"},{"$error":"#N/A"},0,{"$error":"#N/A"}]
[null,null,null,null,null,null,null,null,null,null,null,{"$f":"RANK(L125,$L$125:$P$125,1)","v":{"$error":"#N/A"}},{"$f":"RANK(M125,$L$125:$P$125,1)","v":{"$error":"#N/A"}},{"$error":"#N/A"},{"$error":"#N/A"},{"$error":"#N/A"},null,{"$f":"RANK(R125,$R$125:$V$125,1)","v":{"$error":"#N/A"}},{"$f":"RANK(S125,$R$125:$V$125,1)","v":{"$error":"#N/A"}},{"$error":"#N/A"},{"$error":"#N/A"},{"$error":"#N/A"},null,null,null,null,null,null,null,null,null,"All equal hands",{"$f":"IF(AND($AO$80=AG117,$AO$80=$AW$80,$AG$122=0,$AG$123=0),1,0)","v":0},1,1,null,{"$f":"$AG118*AH118","v":0},{"$f":"$AG118*AI118","v":0},null,null,null,null,null,null,null,{"$f":"INDEX(AT116:AT117,MATCH(TRUE,INDEX(AT116:AT117<>0,),0))","v":{"$error":"#N/A"}},null,null,null,null,null,null,null,null,null,null,null,null,null,null,null,null,null,null,null,null,null,null,null,null,null,null,null,{"$f":"DY14","v":"Flush"},{"$f":"DZ14","v":{"$error":"#N/A"}},0,{"$error":"#N/A"},{"$error":"#N/A"},0,{"$error":"#N/A"}]
[null,null,null,null,null,null,null,null,null,14,null,{"$f":"[0]!Player11","v":0},{"$f":"[0]!House1","v":0},{"$f":"[0]!House3","v":0},{"$f":"[0]!House4","v":0},{"$f":"[0]!House5","v":0},null,{"$f":"[0]!Player21","v":0},{"$f":"[0]!House1","v":0},{"$f":"[0]!House3","v":0},{"$f":"[0]!House4","v":0},{"$f":"[0]!House5","v":0},null,null,null,null,null,null,null,null,null,null,null,null,null,null,null,null,null,null,null,null,null,null,null,{"$f":"IF(ISNUMBER(AT118),AT118,0)","v":0},null,null,null,null,null,null,null,null,null,null,null,null,null,null,null,null,null,null,null,null,null,null,null,null,null,null,null,{"$f":"EJ14","v":"Straight"},{"$f":"EK14","v":{"$error":"#N/A"}},{"$error":"#N/A"},{"$error":"#N/A"},{"$error":"#N/A"},{"$error":"#N/A"},{"$error":"#N/A"}]
[null,null,null,null,null,null,null,null,null,null,null,{"$f":"VLOOKUP(L119,$B$1:$F$52,5,0)","v":{"$error":"#N/A"}},{"$f":"VLOOKUP(M119,$B$1:$F$52,5,0)","v":{"$error":"#N/A"}},{"$f":"VLOOKUP(N119,$B$1:$F$52,5,0)","v":{"$error":"#N/A"}},{"$f":"VLOOKUP(O119,$B$1:$F$52,5,0)","v":{"$error":"#N/A"}},{"$f":"VLOOKUP(P119,$B$1:$F$52,5,0)","v":{"$error":"#N/A"}},null,{"$f":"VLOOKUP(R119,$B$1:$F$52,5,0)","v":{"$error":"#N/A"}},{"$f":"VLOOKUP(S119,$B$1:$F$52,5,0)","v":{"$error":"#N/A"}},{"$f":"VLOOKUP(T119,$B$1:$F$52,5,0)","v":{"$error":"#N/A"}},{"$f":"VLOOKUP(U119,$B$1:$F$52,5,0)","v":{"$error":"#N/A"}},{"$f":"VLOOKUP(V119,$B$1:$F$52,5,0)","v":{"$error":"#N/A"}},null,null,null,null,null,null,null,null,null,null,null,null,null,null,null,null,null,null,"second win",null,{"$f":"AQ116","v":0},{"$f":"AS120-AQ120","v":0},{"$f":"AS116","v":0},null,null,null,null,null,null,null,null,null,null,null,null,null,null,null,null,null,null,null,null,null,null,null,null,null,null,null,null,{"$f":"EU14","v":"Three of a Kind"},{"$f":"EV14","v":{"$error":"#N/A"}},0,{"$error":"#N/A"},{"$error":"#N/A"},0,{"$error":"#N/A"}]
[null,null,null,null,null,null,null,null,null,null,null,{"$f":"VLOOKUP(L119,$B$1:$F$52,4,0)","v":{"$error":"#N/A"}},{"$f":"VLOOKUP(M119,$B$1:$F$52,4,0)","v":{"$error":"#N/A"}},{"$f":"VLOOKUP(N119,$B$1:$F$52,4,0)","v":{"$error":"#N/A"}},{"$f":"VLOOKUP(O119,$B$1:$F$52,4,0)","v":{"$error":"#N/A"}},{"$f":"VLOOKUP(P119,$B$1:$F$52,4,0)","v":{"$error":"#N/A"}},null,{"$f":"VLOOKUP(R119,$B$1:$F$52,4,0)","v":{"$error":"#N/A"}},{"$f":"VLOOKUP(S119,$B$1:$F$52,4,0)","v":{"$error":"#N/A"}},{"$f":"VLOOKUP(T119,$B$1:$F$52,4,0)","v":{"$error":"#N/A"}},{"$f":"VLOOKUP(U119,$B$1:$F$52,4,0)","v":{"$error":"#N/A"}},{"$f":"VLOOKUP(V119,$B$1:$F$52,4,0)","v":{"$error":"#N/A"}},null,null,null,null,null,null,null,null,null,null,null,null,null,null,null,null,null,null,null,null,{"$f":"AQ117","v":0},{"$f":"AS121-AQ121","v":0},{"$f":"AS117","v":0},null,null,null,null,null,null,null,null,null,null,null,null,null,null,null,null,null,null,null,null,null,null,null,null,null,null,null,null,{"$f":"FF14","v":"Two Pair"},{"$f":"FG14","v":{"$error":"#N/A"}},0,{"$error":"#N/A"},{"$error":"#N/A"},0,{"$error":"#N/A"}]
[null,null,null,null,null,null,null,null,null,null,null,{"$f":"HLOOKUP(L124,$L$118:$P$121,3,0)","v":{"$error":"#N/A"}},{"$f":"HLOOKUP(M124,$L$118:$P$121,3,0)","v":{"$error":"#N/A"}},{"$error":"#N/A"},{"$error":"#N/A"},{"$error":"#N/A"},null,{"$f":"HLOOKUP(R124,$R$118:$V$121,3,0)","v":{"$error":"#N/A"}},{"$f":"HLOOKUP(S124,$R$118:$V$121,3,0)","v":{"$error":"#N/A"}},{"$error":"#N/A"},{"$error":"#N/A"},{"$error":"#N/A"},null,null,null,null,null,null,null,null,null,"first win",{"$f":"IF(AND($AO$80=$AG$117,$AO$80=MIN($AO$80,$AW$80),$AG$84=0,$BC$100>0),1,0)","v":0},1,0,null,{"$f":"$AG122*AH122","v":0},0,null,null,null,null,null,{"$f":"INDEX(AR120:AR121,MATCH(TRUE,INDEX(AR120:AR121<>0,),0))","v":{"$error":"#N/A"}},null,null,null,null,null,null,null,null,null,null,null,null,null,null,null,null,null,null,null,null,null,null,null,null,null,null,null,null,null,{"$f":"FQ14","v":"One Pair"},{"$f":"FR14","v":{"$error":"#N/A"}},0,{"$error":"#N/A"},{"$error":"#N/A"},0,{"$error":"#N/A"}]
[null,null,null,null,null,null,null,null,null,null,null,{"$f":"HLOOKUP(L124,$L$118:$P$121,4,0)","v":{"$error":"#N/A"}},{"$f":"HLOOKUP(M124,$L$118:$P$121,4,0)","v":{"$error":"#N/A"}},{"$error":"#N/A"},{"$error":"#N/A"},{"$error":"#N/A"},null,{"$f":"HLOOKUP(R124,$R$118:$V$121,4,0)","v":{"$error":"#N/A"}},{"$f":"HLOOKUP(S124,$R$118:$V$121,4,0)","v":{"$error":"#N/A"}},{"$error":"#N/A"},{"$error":"#N/A"},{"$error":"#N/A"},null,null,null,null,null,null,null,null,null,"second win",{"$f":"IF(AND($AW$80=$AG$117,$AW$80=MIN($AO$80,$AW$80),$AG$85=0,$BA$107>0),1,0)","v":0},0,1,null,0,0,null,null,null,null,null,{"$f":"IF(ISNUMBER(AR122),AR122,0)","v":0},null,null,null,null,null,null,null,null,null,null,null,null,null,null,null,null,null,null,null,null,null,null,null,null,null,null,null,null,null,{"$f":"GB14","v":"High Card"},{"$f":"GC14","v":{"$error":"#N/A"}},0,{"$error":"#N/A"},{"$error":"#N/A"},0,{"$error":"#N/A"}]
[null,null,null,null,null,null,null,null,null,null,null,1,2,3,4,5,null,1,2,3,4,5,null,null,null,null,null,null,null,null,null,null,null,null,null,null,null,null,null,null,"third win",null,{"$f":"AQ120","v":0},{"$f":"AU124-AQ124","v":0},{"$f":"AS120","v":0},{"$f":"AU124-AS124","v":0}]
[null,null,null,null,null,null,null,null,null,null,null,{"$f":"L120+IF(L120=1,13+RAND()^3,RAND()^3)","v":{"$error":"#N/A"}},{"$f":"M120+IF(M120=1,13+RAND()^3,RAND()^3)","v":{"$error":"#N/A"}},{"$error":"#N/A"},{"$error":"#N/A"},{"$error":"#N/A"},1.6631850963346944E-2,{"$error":"#N/A"},{"$error":"#N/A"},{"$error":"#N/A"},{"$error":"#N/A"},{"$error":"#N/A"},0.16234306489336858,null,null,null,null,null,null,null,null,"Straight",6,null,null,null,null,null,null,null,null,null,{"$f":"AQ121","v":0},{"$f":"AU125-AQ125","v":0},{"$f":"AS121","v":0},{"$f":"AU125-AS125","v":0},null,null,null,null,null,null,null,null,null,null,null,null,null,null,null,null,null,null,null,null,null,null,null,null,null,null,12,{"$f":"CG15","v":"Royal Flush"},{"$f":"CH15","v":{"$error":"#N/A"}},{"$error":"#N/A"},{"$error":"#N/A"},{"$error":"#N/A"},{"$error":"#N/A"},{"$error":"#N/A"}]
[null,null,null,null,null,null,null,null,null,null,null,null,null,null,null,null,null,null,null,null,null,null,null,null,null,null,null,null,null,null,null,"All equal hands",{"$f":"IF(AND($AG$83=0,AM78=AU78,$AO$80=AG125,$AO$80=$AW$80),1,0)","v":0},1,1,null,{"$f":"$AG126*AH126","v":0},0,null,null,null,null,null,{"$f":"INDEX(AR124:AR125,MATCH(TRUE,INDEX(AR124:AR125<>0,),0))","v":{"$error":"#N/A"}},null,{"$f":"INDEX(AT124:AT125,MATCH(TRUE,INDEX(AT124:AT125<>0,),0))","v":{"$error":"#N/A"}},null,null,null,"THREE OF A KIND",null,null,null,null,null,null,null,null,null,null,null,null,null,null,null,null,null,null,null,null,null,null,null,{"$f":"CR15","v":"Straight Flush"},{"$f":"CS15","v":{"$error":"#N/A"}},{"$error":"#N/A"},{"$error":"#N/A"},{"$error":"#N/A"},{"$error":"#N/A"},{"$error":"#N/A"}]
[null,null,null,null,null,null,null,null,null,null,null,{"$f":"RANK(L134,$L$134:$P$134,1)","v":{"$error":"#N/A"}},{"$f":"RANK(M134,$L$134:$P$134,1)","v":{"$error":"#N/A"}},{"$error":"#N/A"},{"$error":"#N/A"},{"$error":"#N/A"},null,{"$f":"RANK(R134,$R$134:$V$134,1)","v":{"$error":"#N/A"}},{"$f":"RANK(S134,$R$134:$V$134,1)","v":{"$error":"#N/A"}},{"$error":"#N/A"},{"$error":"#N/A"},{"$error":"#N/A"},null,null,null,null,null,null,null,null,null,null,null,null,null,null,null,null,null,null,null,null,null,{"$f":"IF(ISNUMBER(AR126),AR126,0)","v":0},null,{"$f":"IF(ISNUMBER(AT126),AT126,0)","v":0},null,null,null,"first win",null,{"$f":"AI72","v":0},null,{"$f":"AQ72","v":0},{"$f":"AZ127-BB127","v":0},null,null,null,null,null,null,null,null,null,null,null,null,null,null,null,null,null,null,{"$f":"DC15","v":"Four of a Kind"},{"$f":"DD15","v":{"$error":"#N/A"}},0,{"$error":"#N/A"},{"$error":"#N/A"},0,{"$error":"#N/A"}]
[null,null,null,null,null,null,null,null,null,15,null,{"$f":"[0]!Player11","v":0},{"$f":"[0]!House2","v":0},{"$f":"[0]!House3","v":0},{"$f":"[0]!House4","v":0},{"$f":"[0]!House5","v":0},null,{"$f":"[0]!Player21","v":0},{"$f":"[0]!House2","v":0},{"$f":"[0]!House3","v":0},{"$f":"[0]!House4","v":0},{"$f":"[0]!House5","v":0},null,null,null,null,null,null,null,null,null,null,null,null,null,null,null,null,null,null,null,null,null,null,null,null,null,null,null,null,null,{"$f":"AK72","v":0},null,{"$f":"AS72","v":0},{"$f":"AZ128-BB128","v":0},null,null,null,null,null,null,null,null,null,null,null,null,null,null,null,null,null,null,{"$f":"DN15","v":"Full House"},{"$f":"DO15","v":{"$error":"#N/A"}},0,{"$error":"#N/A"},{"$error":"#N/A"},0,{"$error":"#N/A"}]
[null,null,null,null,null,null,null,null,null,null,null,{"$f":"VLOOKUP(L128,$B$1:$F$52,5,0)","v":{"$error":"#N/A"}},{"$f":"VLOOKUP(M128,$B$1:$F$52,5,0)","v":{"$error":"#N/A"}},{"$f":"VLOOKUP(N128,$B$1:$F$52,5,0)","v":{"$error":"#N/A"}},{"$f":"VLOOKUP(O128,$B$1:$F$52,5,0)","v":{"$error":"#N/A"}},{"$f":"VLOOKUP(P128,$B$1:$F$52,5,0)","v":{"$error":"#N/A"}},null,{"$f":"VLOOKUP(R128,$B$1:$F$52,5,0)","v":{"$error":"#N/A"}},{"$f":"VLOOKUP(S128,$B$1:$F$52,5,0)","v":{"$error":"#N/A"}},{"$f":"VLOOKUP(T128,$B$1:$F$52,5,0)","v":{"$error":"#N/A"}},{"$f":"VLOOKUP(U128,$B$1:$F$52,5,0)","v":{"$error":"#N/A"}},{"$f":"VLOOKUP(V128,$B$1:$F$52,5,0)","v":{"$error":"#N/A"}},null,null,null,null,null,null,null,null,null,null,null,null,null,null,null,null,null,null,null,null,null,null,null,null,null,null,null,null,null,{"$f":"AL72","v":0},null,{"$f":"AT72","v":0},0,null,null,null,null,null,null,null,null,null,null,null,null,null,null,null,null,null,null,{"$f":"DY15","v":"Flush"},{"$f":"DZ15","v":{"$error":"#N/A"}},0,{"$error":"#N/A"},{"$error":"#N/A"},0,{"$error":"#N/A"}]
[null,null,null,null,null,null,null,null,null,null,null,{"$f":"VLOOKUP(L128,$B$1:$F$52,4,0)","v":{"$error":"#N/A"}},{"$f":"VLOOKUP(M128,$B$1:$F$52,4,0)","v":{"$error":"#N/A"}},{"$f":"VLOOKUP(N128,$B$1:$F$52,4,0)","v":{"$error":"#N/A"}},{"$f":"VLOOKUP(O128,$B$1:$F$52,4,0)","v":{"$error":"#N/A"}},{"$f":"VLOOKUP(P128,$B$1:$F$52,4,0)","v":{"$error":"#N/A"}},null,{"$f":"VLOOKUP(R128,$B$1:$F$52,4,0)","v":{"$error":"#N/A"}},{"$f":"VLOOKUP(S128,$B$1:$F$52,4,0)","v":{"$error":"#N/A"}},{"$f":"VLOOKUP(T128,$B$1:$F$52,4,0)","v":{"$error":"#N/A"}},{"$f":"VLOOKUP(U128,$B$1:$F$52,4,0)","v":{"$error":"#N/A"}},{"$f":"VLOOKUP(V128,$B$1:$F$52,4,0)","v":{"$error":"#N/A"}},null,null,null,null,null,null,null,null,null,"first win",{"$f":"IF(AND($AO$80=$AG$125,AO50=MIN($AO$80,$AW$80),$AG$84=0,$AT$161>0),1,0)","v":0},1,0,null,0,0,null,null,null,null,null,null,null,null,null,null,null,null,null,null,null,null,{"$f":"INDEX(BC127:BC129,MATCH(TRUE,INDEX(BC127:BC129<>0,),0))","v":{"$error":"#N/A"}},null,null,null,null,null,null,null,null,null,null,null,null,null,null,null,null,null,null,{"$f":"EJ15","v":"Straight"},{"$f":"EK15","v":{"$error":"#N/A"}},{"$error":"#N/A"},{"$error":"#N/A"},{"$error":"#N/A"},{"$error":"#N/A"},{"$error":"#N/A"}]
[null,null,null,null,null,null,null,null,null,null,null,{"$f":"HLOOKUP(L133,$L$127:$P$130,3,0)","v":{"$error":"#N/A"}},{"$f":"HLOOKUP(M133,$L$127:$P$130,3,0)","v":{"$error":"#N/A"}},{"$error":"#N/A"},{"$error":"#N/A"},{"$error":"#N/A"},null,{"$f":"HLOOKUP(R133,$R$127:$V$130,3,0)","v":{"$error":"#N/A"}},{"$f":"HLOOKUP(S133,$R$127:$V$130,3,0)","v":{"$error":"#N/A"}},{"$error":"#N/A"},{"$error":"#N/A"},{"$error":"#N/A"},null,null,null,null,null,null,null,null,null,"second win",{"$f":"IF(AND($AW$80=$AG$125,AW50=MIN($AO$80,$AW$80),$AG$85=0,$AR$168>0),1,0)","v":0},0,1,null,0,0,null,null,null,null,null,null,null,null,null,null,null,null,null,null,null,null,{"$f":"IF(ISNUMBER(BC130),BC130,0)","v":0},null,null,null,null,null,null,null,null,null,null,null,null,null,null,null,null,null,null,{"$f":"EU15","v":"Three of a Kind"},{"$f":"EV15","v":{"$error":"#N/A"}},0,{"$error":"#N/A"},{"$error":"#N/A"},0,{"$error":"#N/A"}]
[null,null,null,null,null,null,null,null,null,null,null,{"$f":"HLOOKUP(L133,$L$127:$P$130,4,0)","v":{"$error":"#N/A"}},{"$f":"HLOOKUP(M133,$L$127:$P$130,4,0)","v":{"$error":"#N/A"}},{"$error":"#N/A"},{"$error":"#N/A"},{"$error":"#N/A"},null,{"$f":"HLOOKUP(R133,$R$127:$V$130,4,0)","v":{"$error":"#N/A"}},{"$f":"HLOOKUP(S133,$R$127:$V$130,4,0)","v":{"$error":"#N/A"}},{"$error":"#N/A"},{"$error":"#N/A"},{"$error":"#N/A"},null,null,null,null,null,null,null,null,null,null,null,null,null,null,null,null,null,null,null,null,null,null,null,null,null,null,null,"second win",null,{"$f":"AZ127","v":0},{"$f":"BB132-AZ132","v":0},{"$f":"BB127","v":0},null,null,null,null,null,null,null,null,null,null,null,null,null,null,null,null,null,null,null,{"$f":"FF15","v":"Two Pair"},{"$f":"FG15","v":{"$error":"#N/A"}},0,{"$error":"#N/A"},{"$error":"#N/A"},0,{"$error":"#N/A"}]
[null,null,null,null,null,null,null,null,null,null,null,1,2,3,4,5,null,1,2,3,4,5,null,null,null,null,null,null,null,null,null,"Three of a Kind",7,null,null,null,null,null,null,null,null,null,null,null,null,null,null,null,null,null,null,{"$f":"AZ128","v":0},0,0,null,null,null,null,null,null,null,null,null,null,null,null,null,null,null,null,null,null,null,{"$f":"FQ15","v":"One Pair"},{"$error":"#N/A"},0,{"$error":"#N/A"},{"$error":"#N/A"},0,{"$error":"#N/A"}]
[null,null,null,null,null,null,null,null,null,null,null,{"$f":"L129+IF(L129=1,13+RAND()^3,RAND()^3)","v":{"$error":"#N/A"}},{"$f":"M129+IF(M129=1,13+RAND()^3,RAND()^3)","v":{"$error":"#N/A"}},{"$error":"#N/A"},{"$error":"#N/A"},{"$error":"#N/A"},0.10038913214135875,{"$error":"#N/A"},{"$error":"#N/A"},{"$error":"#N/A"},{"$error":"#N/A"},{"$error":"#N/A"},0.64436657842125877,null,null,null,null,null,null,null,null,null,null,null,null,null,null,null,null,null,null,null,null,null,null,null,null,null,null,null,null,0,0,0,null,null,null,null,null,null,null,null,null,null,null,null,null,null,null,null,null,null,null,{"$f":"GB15","v":"High Card"},{"$f":"GC15","v":{"$error":"#N/A"}},0,{"$error":"#N/A"},{"$error":"#N/A"},0,{"$error":"#N/A"}]
[null,null,null,null,null,null,null,null,null,null,null,null,null,null,null,null,null,null,null,null,null,null,null,null,null,null,null,null,null,null,null,null,null,null,null,null,null,null,null,null,null,null,null,null,null,null,null,null,null,null,null,null,{"$f":"INDEX(BA132:BA134,MATCH(TRUE,INDEX(BA132:BA134<>0,),0))","v":{"$error":"#N/A"}}]
[null,null,null,null,null,null,null,null,null,null,null,{"$f":"RANK(L143,$L$143:$P$143,1)","v":{"$error":"#N/A"}},{"$f":"RANK(M143,$L$143:$P$143,1)","v":{"$error":"#N/A"}},{"$error":"#N/A"},{"$error":"#N/A"},{"$error":"#N/A"},null,{"$f":"RANK(R143,$R$143:$V$143,1)","v":{"$error":"#N/A"}},{"$f":"RANK(S143,$R$143:$V$143,1)","v":{"$error":"#N/A"}},{"$error":"#N/A"},{"$error":"#N/A"},{"$error":"#N/A"},null,null,null,null,null,null,null,null,null,null,null,null,null,null,null,null,null,null,null,null,null,null,null,null,null,null,null,null,null,null,{"$f":"IF(ISNUMBER(BA135),BA135,0)","v":0},null,null,null,null,null,null,null,null,null,null,null,null,null,null,null,null,null,null,null,13,{"$f":"CG16","v":"Royal Flush"},{"$f":"CH16","v":{"$error":"#N/A"}},{"$error":"#N/A"},{"$error":"#N/A"},{"$error":"#N/A"},{"$error":"#N/A"},{"$error":"#N/A"}]
[null,null,null,null,null,null,null,null,null,16,null,{"$f":"[0]!Player12","v":0},{"$f":"[0]!House1","v":0},{"$f":"[0]!House2","v":0},{"$f":"[0]!House3","v":0},{"$f":"[0]!House4","v":0},null,{"$f":"[0]!Player22","v":0},{"$f":"[0]!House1","v":0},{"$f":"[0]!House2","v":0},{"$f":"[0]!House3","v":0},{"$f":"[0]!House4","v":0},null,null,null,null,null,null,null,null,null,"first win",{"$f":"IF(AND($AO$80=$AG$133,$AO$80=MIN($AO$80,$AW$80),$AG$84=0,$BC$131>0),1,0)","v":0},1,0,null,{"$f":"$AG137*AH137","v":0},0,null,null,"TWO PAIR",null,null,null,null,null,null,null,null,"third win",null,{"$f":"AZ132","v":0},{"$f":"BD137-AZ137","v":0},{"$f":"BB132","v":0},{"$f":"BD137-BB137","v":0},null,null,null,null,null,null,null,null,null,null,null,null,null,null,null,null,null,null,{"$f":"CR16","v":"Straight Flush"},{"$f":"CS16","v":{"$error":"#N/A"}},{"$error":"#N/A"},{"$error":"#N/A"},{"$error":"#N/A"},{"$error":"#N/A"},{"$error":"#N/A"}]
[null,null,null,null,null,null,null,null,null,null,null,{"$f":"VLOOKUP(L137,$B$1:$F$52,5,0)","v":{"$error":"#N/A"}},{"$f":"VLOOKUP(M137,$B$1:$F$52,5,0)","v":{"$error":"#N/A"}},{"$f":"VLOOKUP(N137,$B$1:$F$52,5,0)","v":{"$error":"#N/A"}},{"$f":"VLOOKUP(O137,$B$1:$F$52,5,0)","v":{"$error":"#N/A"}},{"$f":"VLOOKUP(P137,$B$1:$F$52,5,0)","v":{"$error":"#N/A"}},null,{"$f":"VLOOKUP(R137,$B$1:$F$52,5,0)","v":{"$error":"#N/A"}},{"$f":"VLOOKUP(S137,$B$1:$F$52,5,0)","v":{"$error":"#N/A"}},{"$f":"VLOOKUP(T137,$B$1:$F$52,5,0)","v":{"$error":"#N/A"}},{"$f":"VLOOKUP(U137,$B$1:$F$52,5,0)","v":{"$error":"#N/A"}},{"$f":"VLOOKUP(V137,$B$1:$F$52,5,0)","v":{"$error":"#N/A"}},null,null,null,null,null,null,null,null,null,"second win",{"$f":"IF(AND($AW$80=$AG$133,$AW$80=MIN($AO$80,$AW$80),$AG$85=0,$BA$136>0),1,0)","v":0},0,1,null,0,0,null,null,"first win",null,{"$f":"AI73","v":8},null,{"$f":"AQ73","v":8},{"$f":"AQ138-AS138","v":0},null,null,null,null,null,{"$f":"AZ133","v":0},{"$f":"BD138-AZ138","v":0},{"$f":"BB133","v":0},{"$f":"BD138-BB138","v":0},null,null,null,null,null,null,null,null,null,null,null,null,null,null,null,null,null,null,{"$f":"DC16","v":"Four of a Kind"},{"$f":"DD16","v":{"$error":"#N/A"}},0,{"$error":"#N/A"},{"$error":"#N/A"},0,{"$error":"#N/A"}]
[null,null,null,null,null,null,null,null,null,null,null,{"$f":"VLOOKUP(L137,$B$1:$F$52,4,0)","v":{"$error":"#N/A"}},{"$f":"VLOOKUP(M137,$B$1:$F$52,4,0)","v":{"$error":"#N/A"}},{"$f":"VLOOKUP(N137,$B$1:$F$52,4,0)","v":{"$error":"#N/A"}},{"$f":"VLOOKUP(O137,$B$1:$F$52,4,0)","v":{"$error":"#N/A"}},{"$f":"VLOOKUP(P137,$B$1:$F$52,4,0)","v":{"$error":"#N/A"}},null,{"$f":"VLOOKUP(R137,$B$1:$F$52,4,0)","v":{"$error":"#N/A"}},{"$f":"VLOOKUP(S137,$B$1:$F$52,4,0)","v":{"$error":"#N/A"}},{"$f":"VLOOKUP(T137,$B$1:$F$52,4,0)","v":{"$error":"#N/A"}},{"$f":"VLOOKUP(U137,$B$1:$F$52,4,0)","v":{"$error":"#N/A"}},{"$f":"VLOOKUP(V137,$B$1:$F$52,4,0)","v":{"$error":"#N/A"}},null,null,null,null,null,null,null,null,null,null,null,null,null,null,null,null,null,null,null,null,{"$f":"AJ73","v":3},null,{"$f":"AR73","v":3},{"$f":"AQ139-AS139","v":0},null,null,null,null,null,0,0,0,0,null,null,null,null,null,null,null,null,null,null,null,null,null,null,null,null,null,null,{"$f":"DN16","v":"Full House"},{"$f":"DO16","v":{"$error":"#N/A"}},0,{"$error":"#N/A"},{"$error":"#N/A"},0,{"$error":"#N/A"}]
[null,null,null,null,null,null,null,null,null,null,null,{"$f":"HLOOKUP(L142,$L$136:$P$139,3,0)","v":{"$error":"#N/A"}},{"$f":"HLOOKUP(M142,$L$136:$P$139,3,0)","v":{"$error":"#N/A"}},{"$error":"#N/A"},{"$error":"#N/A"},{"$error":"#N/A"},null,{"$f":"HLOOKUP(R142,$R$136:$V$139,3,0)","v":{"$error":"#N/A"}},{"$f":"HLOOKUP(S142,$R$136:$V$139,3,0)","v":{"$error":"#N/A"}},{"$error":"#N/A"},{"$error":"#N/A"},{"$error":"#N/A"},null,null,null,null,null,null,null,null,null,"Two Pair",8,null,null,null,null,null,null,null,null,null,{"$f":"AK73","v":9},null,{"$f":"AS73","v":9},{"$f":"AQ140-AS140","v":0},null,null,null,null,null,null,{"$f":"INDEX(BA137:BA139,MATCH(TRUE,INDEX(BA137:BA139<>0,),0))","v":{"$error":"#N/A"}},null,{"$f":"INDEX(BC137:BC139,MATCH(TRUE,INDEX(BC137:BC139<>0,),0))","v":{"$error":"#N/A"}},null,null,null,null,null,null,null,null,null,null,null,null,null,null,null,null,null,null,{"$f":"DY16","v":"Flush"},{"$f":"DZ16","v":{"$error":"#N/A"}},0,{"$error":"#N/A"},{"$error":"#N/A"},0,{"$error":"#N/A"}]
[null,null,null,null,null,null,null,null,null,null,null,{"$f":"HLOOKUP(L142,$L$136:$P$139,4,0)","v":{"$error":"#N/A"}},{"$f":"HLOOKUP(M142,$L$136:$P$139,4,0)","v":{"$error":"#N/A"}},{"$error":"#N/A"},{"$error":"#N/A"},{"$error":"#N/A"},null,{"$f":"HLOOKUP(R142,$R$136:$V$139,4,0)","v":{"$error":"#N/A"}},{"$f":"HLOOKUP(S142,$R$136:$V$139,4,0)","v":{"$error":"#N/A"}},{"$error":"#N/A"},{"$error":"#N/A"},{"$error":"#N/A"},null,null,null,null,null,null,null,null,null,null,null,null,null,null,null,null,null,null,null,null,null,null,null,{"$f":"INDEX(AT138:AT140,MATCH(TRUE,INDEX(AT138:AT140<>0,),0))","v":{"$error":"#N/A"}},null,null,null,null,null,null,{"$f":"IF(ISNUMBER(BA140),BA140,0)","v":0},null,{"$f":"IF(ISNUMBER(BC140),BC140,0)","v":0},null,null,null,null,null,null,null,null,null,null,null,null,null,null,null,null,null,null,{"$f":"EJ16","v":"Straight"},{"$f":"EK16","v":{"$error":"#N/A"}},{"$error":"#N/A"},{"$error":"#N/A"},{"$error":"#N/A"},{"$error":"#N/A"},{"$error":"#N/A"}]
[null,null,null,null,null,null,null,null,null,null,null,1,2,3,4,5,null,1,2,3,4,5,null,null,null,null,null,null,null,null,null,null,null,null,null,null,null,null,null,null,null,null,null,null,null,{"$f":"IF(ISNUMBER(AT141),AT141,0)","v":0},null,null,null,null,null,null,null,null,null,null,null,null,null,null,null,null,null,null,null,null,null,null,null,null,null,null,null,{"$f":"EU16","v":"Three of a Kind"},{"$f":"EV16","v":{"$error":"#N/A"}},0,{"$error":"#N/A"},{"$error":"#N/A"},0,{"$error":"#N/A"}]
[null,null,null,null,null,null,null,null,null,null,null,{"$f":"L138+IF(L138=1,13+RAND()^3,RAND()^3)","v":{"$error":"#N/A"}},{"$f":"M138+IF(M138=1,13+RAND()^3,RAND()^3)","v":{"$error":"#N/A"}},{"$error":"#N/A"},{"$error":"#N/A"},{"$error":"#N/A"},0.35409592319278937,{"$error":"#N/A"},{"$error":"#N/A"},{"$error":"#N/A"},{"$error":"#N/A"},{"$error":"#N/A"},0.85932476460793328,null,null,null,null,null,null,null,null,null,null,null,null,null,null,null,null,null,"second win",null,{"$f":"AQ138","v":8},{"$f":"AS143-AQ143","v":0},{"$f":"AS138","v":8},null,null,null,null,"ONE PAIR",null,null,null,null,null,null,null,null,null,null,null,null,null,null,null,null,null,null,null,null,null,null,null,{"$f":"FF16","v":"Two Pair"},{"$f":"FG16","v":{"$error":"#N/A"}},0,{"$error":"#N/A"},{"$error":"#N/A"},0,{"$error":"#N/A"}]
[null,null,null,null,null,null,null,null,null,null,null,null,null,null,null,null,null,null,null,null,null,null,null,null,null,null,null,null,null,null,null,"first win",{"$f":"IF(AND($AO$80=$AG$140,$AO$80=MIN($AO$80,$AW$80),$AG$84=0,$AT$142>0),1,0)","v":0},1,0,null,{"$f":"$AG144*AH144","v":0},0,null,null,null,null,{"$f":"AQ139","v":3},{"$f":"AS144-AQ144","v":0},{"$f":"AS139","v":3},null,null,null,null,"first win",null,{"$f":"AI71","v":0},null,{"$f":"AQ71","v":0},{"$f":"AZ144-BB144","v":0},null,null,null,null,null,null,null,null,null,null,null,null,null,null,null,null,null,null,{"$f":"FQ16","v":"One Pair"},{"$f":"FR16","v":{"$error":"#N/A"}},0,{"$error":"#N/A"},{"$error":"#N/A"},0,{"$error":"#N/A"}]
[null,null,null,null,null,null,null,null,null,null,null,{"$f":"RANK(L152,$L$152:$P$152,1)","v":{"$error":"#N/A"}},{"$f":"RANK(M152,$L$152:$P$152,1)","v":{"$error":"#N/A"}},{"$error":"#N/A"},{"$error":"#N/A"},{"$error":"#N/A"},null,{"$f":"RANK(R152,$R$152:$V$152,1)","v":{"$error":"#N/A"}},{"$f":"RANK(S152,$R$152:$V$152,1)","v":{"$error":"#N/A"}},{"$error":"#N/A"},{"$error":"#N/A"},{"$error":"#N/A"},null,null,null,null,null,null,null,null,null,"second win",{"$f":"IF(AND($AW$80=$AG$140,$AW$80=MIN($AO$80,$AW$80),$AG$85=0,$AR$147>0),1,0)","v":0},0,1,null,0,0,null,null,null,null,{"$f":"AQ140","v":9},{"$f":"AS145-AQ145","v":0},{"$f":"AS140","v":9},null,null,null,null,null,null,{"$f":"AK71","v":0},null,{"$f":"AS71","v":0},{"$f":"AZ145-BB145","v":0},null,null,null,null,null,null,null,null,null,null,null,null,null,null,null,null,null,null,{"$f":"GB16","v":"High Card"},{"$f":"GC16","v":{"$error":"#N/A"}},0,{"$error":"#N/A"},{"$error":"#N/A"},0,{"$error":"#N/A"}]
[null,null,null,null,null,null,null,null,null,17,null,{"$f":"[0]!Player12","v":0},{"$f":"[0]!House1","v":0},{"$f":"[0]!House2","v":0},{"$f":"[0]!House3","v":0},{"$f":"[0]!House5","v":0},null,{"$f":"[0]!Player22","v":0},{"$f":"[0]!House1","v":0},{"$f":"[0]!House2","v":0},{"$f":"[0]!House3","v":0},{"$f":"[0]!House5","v":0},null,null,null,null,null,null,null,null,null,null,null,null,null,null,null,null,null,null,null,null,null,{"$f":"INDEX(AR143:AR145,MATCH(TRUE,INDEX(AR143:AR145<>0,),0))","v":{"$error":"#N/A"}},null,null,null,null,null,null,null,{"$f":"AL71","v":0},null,{"$f":"AT71","v":0},0]
[null,null,null,null,null,null,null,null,null,null,null,{"$f":"VLOOKUP(L146,$B$1:$F$52,5,0)","v":{"$error":"#N/A"}},{"$f":"VLOOKUP(M146,$B$1:$F$52,5,0)","v":{"$error":"#N/A"}},{"$f":"VLOOKUP(N146,$B$1:$F$52,5,0)","v":{"$error":"#N/A"}},{"$f":"VLOOKUP(O146,$B$1:$F$52,5,0)","v":{"$error":"#N/A"}},{"$f":"VLOOKUP(P146,$B$1:$F$52,5,0)","v":{"$error":"#N/A"}},null,{"$f":"VLOOKUP(R146,$B$1:$F$52,5,0)","v":{"$error":"#N/A"}},{"$f":"VLOOKUP(S146,$B$1:$F$52,5,0)","v":{"$error":"#N/A"}},{"$f":"VLOOKUP(T146,$B$1:$F$52,5,0)","v":{"$error":"#N/A"}},{"$f":"VLOOKUP(U146,$B$1:$F$52,5,0)","v":{"$error":"#N/A"}},{"$f":"VLOOKUP(V146,$B$1:$F$52,5,0)","v":{"$error":"#N/A"}},null,null,null,null,null,null,null,null,null,"One Pair",9,null,null,null,null,null,null,null,null,null,null,{"$f":"IF(ISNUMBER(AR146),AR146,0)","v":0},null,null,null,null,null,null,null,{"$f":"AM71","v":0},null,{"$f":"AU71","v":0},{"$f":"AZ147-BB147","v":0},null,null,null,null,null,null,null,null,null,null,null,null,null,null,null,null,null,14,{"$f":"CG17","v":"Royal Flush"},{"$f":"CH17","v":{"$error":"#N/A"}},{"$error":"#N/A"},{"$error":"#N/A"},{"$error":"#N/A"},{"$error":"#N/A"},{"$error":"#N/A"}]
[null,null,null,null,null,null,null,null,null,null,null,{"$f":"VLOOKUP(L146,$B$1:$F$52,4,0)","v":{"$error":"#N/A"}},{"$f":"VLOOKUP(M146,$B$1:$F$52,4,0)","v":{"$error":"#N/A"}},{"$f":"VLOOKUP(N146,$B$1:$F$52,4,0)","v":{"$error":"#N/A"}},{"$f":"VLOOKUP(O146,$B$1:$F$52,4,0)","v":{"$error":"#N/A"}},{"$f":"VLOOKUP(P146,$B$1:$F$52,4,0)","v":{"$error":"#N/A"}},null,{"$f":"VLOOKUP(R146,$B$1:$F$52,4,0)","v":{"$error":"#N/A"}},{"$f":"VLOOKUP(S146,$B$1:$F$52,4,0)","v":{"$error":"#N/A"}},{"$f":"VLOOKUP(T146,$B$1:$F$52,4,0)","v":{"$error":"#N/A"}},{"$f":"VLOOKUP(U146,$B$1:$F$52,4,0)","v":{"$error":"#N/A"}},{"$f":"VLOOKUP(V146,$B$1:$F$52,4,0)","v":{"$error":"#N/A"}},null,null,null,null,null,null,null,null,null,"All equal hands",{"$f":"IF(AND(AM71=AU71,AL71=AT71,AK71=AS71,AJ71=AR71,AI71=AQ71,$AO$80=AG147,$AO$80=$AW$80),1,0)","v":0},1,1,null,{"$f":"$AG148*AH148","v":0},0,null,null,"third win",null,{"$f":"AQ143","v":8},{"$f":"AU148-AQ148","v":-8},{"$f":"AS143","v":8},{"$f":"AU148-AS148","v":-8},null,null,null,null,null,null,null,null,{"$f":"INDEX(BC144:BC147,MATCH(TRUE,INDEX(BC144:BC147<>0,),0))","v":{"$error":"#N/A"}},null,null,null,null,null,null,null,null,null,null,null,null,null,null,null,null,null,null,{"$f":"CR17","v":"Straight Flush"},{"$f":"CS17","v":{"$error":"#N/A"}},{"$error":"#N/A"},{"$error":"#N/A"},{"$error":"#N/A"},{"$error":"#N/A"},{"$error":"#N/A"}]
[null,null,null,null,null,null,null,null,null,null,null,{"$f":"HLOOKUP(L151,$L$145:$P$148,3,0)","v":{"$error":"#N/A"}},{"$f":"HLOOKUP(M151,$L$145:$P$148,3,0)","v":{"$error":"#N/A"}},{"$error":"#N/A"},{"$error":"#N/A"},{"$error":"#N/A"},null,{"$f":"HLOOKUP(R151,$R$145:$V$148,3,0)","v":{"$error":"#N/A"}},{"$f":"HLOOKUP(S151,$R$145:$V$148,3,0)","v":{"$error":"#N/A"}},{"$error":"#N/A"},{"$error":"#N/A"},{"$error":"#N/A"},null,null,null,null,null,null,null,null,null,null,null,null,null,null,null,null,null,null,null,null,{"$f":"AQ144","v":3},{"$f":"AU149-AQ149","v":-3},{"$f":"AS144","v":3},{"$f":"AU149-AS149","v":-3},null,null,null,null,null,null,null,null,{"$f":"IF(ISNUMBER(BC148),BC148,0)","v":0},null,null,null,null,null,null,null,null,null,null,null,null,null,null,null,null,null,null,{"$f":"DC17","v":"Four of a Kind"},{"$f":"DD17","v":{"$error":"#N/A"}},0,{"$error":"#N/A"},{"$error":"#N/A"},0,{"$error":"#N/A"}]
[null,null,null,null,null,null,null,null,null,null,null,{"$f":"HLOOKUP(L151,$L$145:$P$148,4,0)","v":{"$error":"#N/A"}},{"$f":"HLOOKUP(M151,$L$145:$P$148,4,0)","v":{"$error":"#N/A"}},{"$error":"#N/A"},{"$error":"#N/A"},{"$error":"#N/A"},null,{"$f":"HLOOKUP(R151,$R$145:$V$148,4,0)","v":{"$error":"#N/A"}},{"$f":"HLOOKUP(S151,$R$145:$V$148,4,0)","v":{"$error":"#N/A"}},{"$error":"#N/A"},{"$error":"#N/A"},{"$error":"#N/A"},null,null,null,null,null,null,null,null,null,null,null,null,null,null,null,null,null,null,null,null,{"$f":"AQ145","v":9},{"$f":"AU150-AQ150","v":-9},{"$f":"AS145","v":9},{"$f":"AU150-AS150","v":-9},null,null,null,"second win",null,{"$f":"AZ144","v":0},{"$f":"BB150-AZ150","v":0},{"$f":"BB144","v":0},null,null,null,null,null,null,null,null,null,null,null,null,null,null,null,null,null,null,null,{"$f":"DN17","v":"Full House"},{"$f":"DO17","v":{"$error":"#N/A"}},0,{"$error":"#N/A"},{"$error":"#N/A"},0,{"$error":"#N/A"}]
[null,null,null,null,null,null,null,null,null,null,null,1,2,3,4,5,null,1,2,3,4,5,null,null,null,null,null,null,null,null,null,null,null,null,null,null,null,null,null,null,null,null,null,{"$f":"INDEX(AR148:AR150,MATCH(TRUE,INDEX(AR148:AR150<>0,),0))","v":-8},null,{"$f":"INDEX(AT148:AT150,MATCH(TRUE,INDEX(AT148:AT150<>0,),0))","v":-8},null,null,null,null,null,{"$f":"AZ145","v":0},{"$f":"BB151-AZ151","v":0},{"$f":"BB145","v":0},null,null,null,null,null,null,null,null,null,null,null,null,null,null,null,null,null,null,null,{"$f":"DY17","v":"Flush"},{"$f":"DZ17","v":{"$error":"#N/A"}},0,{"$error":"#N/A"},{"$error":"#N/A"},0,{"$error":"#N/A"}]
[null,null,null,null,null,null,null,null,null,null,null,{"$f":"L147+IF(L147=1,13+RAND()^3,RAND()^3)","v":{"$error":"#N/A"}},{"$f":"M147+IF(M147=1,13+RAND()^3,RAND()^3)","v":{"$error":"#N/A"}},{"$error":"#N/A"},{"$error":"#N/A"},{"$error":"#N/A"},6.2232944624830049E-3,{"$error":"#N/A"},{"$error":"#N/A"},{"$error":"#N/A"},{"$error":"#N/A"},{"$error":"#N/A"},0.36790036425114697,null,null,null,null,null,null,null,null,"first win",{"$f":"IF(AND($AO$80=$AG$147,$AO$80=MIN($AO$80,$AW$80),$AG$84=0,$BC$149>0),1,0)","v":0},1,0,null,0,0,null,null,null,null,null,{"$f":"IF(ISNUMBER(AR151),AR151,0)","v":-8},null,{"$f":"IF(ISNUMBER(AT151),AT151,0)","v":-8},null,null,null,null,null,{"$f":"AZ146","v":0},0,{"$f":"BB146","v":0},null,null,null,null,null,null,null,null,null,null,null,null,null,null,null,null,null,null,null,{"$f":"EJ17","v":"Straight"},{"$f":"EK17","v":{"$error":"#N/A"}},{"$error":"#N/A"},{"$error":"#N/A"},{"$error":"#N/A"},{"$error":"#N/A"},{"$error":"#N/A"}]
[null,null,null,null,null,null,null,null,null,null,null,null,null,null,null,null,null,null,null,null,null,null,null,null,null,null,null,null,null,null,null,"second win",{"$f":"IF(AND($AW$80=$AG$147,$AW$80=MIN($AO$80,$AW$80),$AG$85=0,$BA$155>0),1,0)","v":0},0,1,null,0,0,null,null,null,null,null,null,null,null,null,null,null,null,null,{"$f":"AZ147","v":0},{"$f":"BB153-AZ153","v":0},{"$f":"BB147","v":0},null,null,null,null,null,null,null,null,null,null,null,null,null,null,null,null,null,null,null,{"$f":"EU17","v":"Three of a Kind"},{"$f":"EV17","v":{"$error":"#N/A"}},0,{"$error":"#N/A"},{"$error":"#N/A"},0,{"$error":"#N/A"}]
[null,null,null,null,null,null,null,null,null,null,null,{"$f":"RANK(L161,$L$161:$P$161,1)","v":{"$error":"#N/A"}},{"$f":"RANK(M161,$L$161:$P$161,1)","v":{"$error":"#N/A"}},{"$error":"#N/A"},{"$error":"#N/A"},{"$error":"#N/A"},null,{"$f":"RANK(R161,$R$161:$V$161,1)","v":{"$error":"#N/A"}},{"$f":"RANK(S161,$R$161:$V$161,1)","v":{"$error":"#N/A"}},{"$error":"#N/A"},{"$error":"#N/A"},{"$error":"#N/A"},null,null,null,null,null,null,null,null,null,null,null,null,null,null,null,null,null,null,"HIGH CARD",null,null,null,null,null,null,null,null,null,null,null,{"$f":"INDEX(BA150:BA153,MATCH(TRUE,INDEX(BA150:BA153<>0,),0))","v":{"$error":"#N/A"}},null,null,null,null,null,null,null,null,null,null,null,null,null,null,null,null,null,null,null,null,{"$f":"FF17","v":"Two Pair"},{"$f":"FG17","v":{"$error":"#N/A"}},0,{"$error":"#N/A"},{"$error":"#N/A"},0,{"$error":"#N/A"}]
[null,null,null,null,null,null,null,null,null,18,null,{"$f":"[0]!Player12","v":0},{"$f":"[0]!House1","v":0},{"$f":"[0]!House2","v":0},{"$f":"[0]!House4","v":0},{"$f":"[0]!House5","v":0},null,{"$f":"[0]!Player22","v":0},{"$f":"[0]!House1","v":0},{"$f":"[0]!House2","v":0},{"$f":"[0]!House4","v":0},{"$f":"[0]!House5","v":0},null,null,null,null,null,null,null,null,null,"High Card",10,null,null,null,null,null,null,null,"first win",null,{"$f":"AI70","v":0},null,{"$f":"AQ70","v":0},{"$f":"AQ155-AS155","v":0},null,null,null,null,null,null,{"$f":"IF(ISNUMBER(BA154),BA154,0)","v":0},null,null,null,null,null,null,null,null,null,null,null,null,null,null,null,null,null,null,null,null,{"$f":"FQ17","v":"One Pair"},{"$f":"FR17","v":{"$error":"#N/A"}},0,{"$error":"#N/A"},{"$error":"#N/A"},0,{"$error":"#N/A"}]
[null,null,null,null,null,null,null,null,null,null,null,{"$f":"VLOOKUP(L155,$B$1:$F$52,5,0)","v":{"$error":"#N/A"}},{"$f":"VLOOKUP(M155,$B$1:$F$52,5,0)","v":{"$error":"#N/A"}},{"$f":"VLOOKUP(N155,$B$1:$F$52,5,0)","v":{"$error":"#N/A"}},{"$f":"VLOOKUP(O155,$B$1:$F$52,5,0)","v":{"$error":"#N/A"}},{"$f":"VLOOKUP(P155,$B$1:$F$52,5,0)","v":{"$error":"#N/A"}},null,{"$f":"VLOOKUP(R155,$B$1:$F$52,5,0)","v":{"$error":"#N/A"}},{"$f":"VLOOKUP(S155,$B$1:$F$52,5,0)","v":{"$error":"#N/A"}},{"$f":"VLOOKUP(T155,$B$1:$F$52,5,0)","v":{"$error":"#N/A"}},{"$f":"VLOOKUP(U155,$B$1:$F$52,5,0)","v":{"$error":"#N/A"}},{"$f":"VLOOKUP(V155,$B$1:$F$52,5,0)","v":{"$error":"#N/A"}},null,null,null,null,null,null,null,null,null,"All equal hands",{"$f":"IF(AND($AO$80=$AG$155,$AO$80=$AW$80,$AI$70=$AQ$70,$AJ$70=$AR$70,$AK$70=$AS$70,$AL$70=$AT$70,$AM$70=$AU$70),1,0)","v":0},1,1,null,{"$f":"$AG156*AH156","v":0},0,null,null,null,null,{"$f":"AJ70","v":0},null,{"$f":"AR70","v":0},{"$f":"AQ156-AS156","v":0},null,null,null,"third win",null,{"$f":"AZ150","v":0},{"$f":"BD156-AZ156","v":0},{"$f":"BB150","v":0},{"$f":"BD156-BB156","v":0},null,null,null,null,null,null,null,null,null,null,null,null,null,null,null,null,null,null,{"$f":"GB17","v":"High Card"},{"$f":"GC17","v":{"$error":"#N/A"}},0,{"$error":"#N/A"},{"$error":"#N/A"},0,{"$error":"#N/A"}]
[null,null,null,null,null,null,null,null,null,null,null,{"$f":"VLOOKUP(L155,$B$1:$F$52,4,0)","v":{"$error":"#N/A"}},{"$f":"VLOOKUP(M155,$B$1:$F$52,4,0)","v":{"$error":"#N/A"}},{"$f":"VLOOKUP(N155,$B$1:$F$52,4,0)","v":{"$error":"#N/A"}},{"$f":"VLOOKUP(O155,$B$1:$F$52,4,0)","v":{"$error":"#N/A"}},{"$f":"VLOOKUP(P155,$B$1:$F$52,4,0)","v":{"$error":"#N/A"}},null,{"$f":"VLOOKUP(R155,$B$1:$F$52,4,0)","v":{"$error":"#N/A"}},{"$f":"VLOOKUP(S155,$B$1:$F$52,4,0)","v":{"$error":"#N/A"}},{"$f":"VLOOKUP(T155,$B$1:$F$52,4,0)","v":{"$error":"#N/A"}},{"$f":"VLOOKUP(U155,$B$1:$F$52,4,0)","v":{"$error":"#N/A"}},{"$f":"VLOOKUP(V155,$B$1:$F$52,4,0)","v":{"$error":"#N/A"}},null,null,null,null,null,null,null,null,null,null,null,null,null,null,null,null,null,null,null,null,{"$f":"AK70","v":0},null,{"$f":"AS70","v":0},0,null,null,null,null,null,{"$f":"AZ151","v":0},{"$f":"BD157-AZ157","v":0},{"$f":"BB151","v":0},{"$f":"BD157-BB157","v":0}]
[null,null,null,null,null,null,null,null,null,null,null,{"$f":"HLOOKUP(L160,$L$154:$P$157,3,0)","v":{"$error":"#N/A"}},{"$f":"HLOOKUP(M160,$L$154:$P$157,3,0)","v":{"$error":"#N/A"}},{"$error":"#N/A"},{"$error":"#N/A"},{"$error":"#N/A"},null,{"$f":"HLOOKUP(R160,$R$154:$V$157,3,0)","v":{"$error":"#N/A"}},{"$f":"HLOOKUP(S160,$R$154:$V$157,3,0)","v":{"$error":"#N/A"}},{"$error":"#N/A"},{"$error":"#N/A"},{"$error":"#N/A"},null,null,null,null,null,null,null,null,null,null,null,null,null,null,null,null,null,null,null,null,{"$f":"AL70","v":0},null,{"$f":"AT70","v":0},0,null,null,null,null,null,0,0,0,0,null,null,null,null,null,null,null,null,null,null,null,null,null,null,null,null,null,15,{"$f":"CG18","v":"Royal Flush"},{"$f":"CH18","v":{"$error":"#N/A"}},{"$error":"#N/A"},{"$error":"#N/A"},{"$error":"#N/A"},{"$error":"#N/A"},{"$error":"#N/A"}]
[null,null,null,null,null,null,null,null,null,null,null,{"$f":"HLOOKUP(L160,$L$154:$P$157,4,0)","v":{"$error":"#N/A"}},{"$f":"HLOOKUP(M160,$L$154:$P$157,4,0)","v":{"$error":"#N/A"}},{"$error":"#N/A"},{"$error":"#N/A"},{"$error":"#N/A"},null,{"$f":"HLOOKUP(R160,$R$154:$V$157,4,0)","v":{"$error":"#N/A"}},{"$f":"HLOOKUP(S160,$R$154:$V$157,4,0)","v":{"$error":"#N/A"}},{"$error":"#N/A"},{"$error":"#N/A"},{"$error":"#N/A"},null,null,null,null,null,null,null,null,null,null,null,null,null,null,null,null,null,null,null,null,{"$f":"AM70","v":0},null,{"$f":"AU70","v":0},0,null,null,null,null,null,0,{"$f":"BD159-AZ159","v":0},0,{"$f":"BD159-BB159","v":0},null,null,null,null,null,null,null,null,null,null,null,null,null,null,null,null,null,null,{"$f":"CR18","v":"Straight Flush"},{"$f":"CS18","v":{"$error":"#N/A"}},{"$error":"#N/A"},{"$error":"#N/A"},{"$error":"#N/A"},{"$error":"#N/A"},{"$error":"#N/A"}]
[null,null,null,null,null,null,null,null,null,null,null,1,2,3,4,5,null,1,2,3,4,5,null,null,null,null,null,null,null,null,null,"first win",{"$f":"IF(AND($AO$80=$AG$155,AO80=MIN($AO$80,$AW$80),$AG$84=0,$AT$161>0),1,0)","v":0},1,0,null,0,0,null,null,null,null,null,null,null,{"$f":"INDEX(AT155:AT159,MATCH(TRUE,INDEX(AT155:AT159<>0,),0))","v":{"$error":"#N/A"}},null,null,null,null,null,null,{"$f":"INDEX(BA156:BA159,MATCH(TRUE,INDEX(BA156:BA159<>0,),0))","v":{"$error":"#N/A"}},null,{"$f":"INDEX(BC156:BC159,MATCH(TRUE,INDEX(BC156:BC159<>0,),0))","v":{"$error":"#N/A"}},null,null,null,null,null,null,null,null,null,null,null,null,null,null,null,null,null,null,{"$f":"DC18","v":"Four of a Kind"},{"$f":"DD18","v":{"$error":"#N/A"}},0,{"$error":"#N/A"},{"$error":"#N/A"},0,{"$error":"#N/A"}]
[null,null,null,null,null,null,null,null,null,null,null,{"$f":"L156+IF(L156=1,13+RAND()^3,RAND()^3)","v":{"$error":"#N/A"}},{"$f":"M156+IF(M156=1,13+RAND()^3,RAND()^3)","v":{"$error":"#N/A"}},{"$error":"#N/A"},{"$error":"#N/A"},{"$error":"#N/A"},0.936224454522118,{"$error":"#N/A"},{"$error":"#N/A"},{"$error":"#N/A"},{"$error":"#N/A"},{"$error":"#N/A"},1.1795514530874521E-2,null,null,null,null,null,null,null,null,"second win",{"$f":"IF(AND($AW$80=$AG$155,AW80=MIN($AO$80,$AW$80),$AG$85=0,$AR$168>0),1,0)","v":0},0,1,null,0,0,null,null,null,null,null,null,null,{"$f":"IF(ISNUMBER(AT160),AT160,0)","v":0},null,null,null,null,null,null,{"$f":"IF(ISNUMBER(BA160),BA160,0)","v":0},null,{"$f":"IF(ISNUMBER(BC160),BC160,0)","v":0},null,null,null,null,null,null,null,null,null,null,null,null,null,null,null,null,null,null,{"$f":"DN18","v":"Full House"},{"$f":"DO18","v":{"$error":"#N/A"}},0,{"$error":"#N/A"},{"$error":"#N/A"},0,{"$error":"#N/A"}]
[null,null,null,null,null,null,null,null,null,null,null,null,null,null,null,null,null,null,null,null,null,null,null,null,null,null,null,null,null,null,null,null,null,null,null,null,null,null,null,null,"second win",null,{"$f":"AQ155","v":0},{"$f":"AS162-AQ162","v":0},{"$f":"AS155","v":0},null,null,null,null,null,null,null,null,null,null,null,null,null,null,null,null,null,null,null,null,null,null,null,null,null,null,null,null,{"$f":"DY18","v":"Flush"},{"$f":"DZ18","v":{"$error":"#N/A"}},0,{"$error":"#N/A"},{"$error":"#N/A"},0,{"$error":"#N/A"}]
[null,null,null,null,null,null,null,null,null,null,null,{"$f":"RANK(L170,$L$170:$P$170,1)","v":{"$error":"#N/A"}},{"$f":"RANK(M170,$L$170:$P$170,1)","v":{"$error":"#N/A"}},{"$error":"#N/A"},{"$error":"#N/A"},{"$error":"#N/A"},null,{"$f":"RANK(R170,$R$170:$V$170,1)","v":{"$error":"#N/A"}},{"$f":"RANK(S170,$R$170:$V$170,1)","v":{"$error":"#N/A"}},{"$error":"#N/A"},{"$error":"#N/A"},{"$error":"#N/A"},null,null,null,null,null,null,null,null,null,null,null,null,null,null,{"$f":"SUM(AK83:AK162)","v":1},{"$f":"SUM(AL83:AL162)","v":1},null,null,null,null,{"$f":"AQ156","v":0},{"$f":"AS163-AQ163","v":0},{"$f":"AS156","v":0},null,null,null,null,null,null,null,null,null,null,null,null,null,null,null,null,null,null,null,null,null,null,null,null,null,null,null,null,{"$f":"EJ18","v":"Straight"},{"$f":"EK18","v":{"$error":"#N/A"}},{"$error":"#N/A"},{"$error":"#N/A"},{"$error":"#N/A"},{"$error":"#N/A"},{"$error":"#N/A"}]
[null,null,null,null,null,null,null,null,null,19,null,{"$f":"[0]!Player12","v":0},{"$f":"[0]!House1","v":0},{"$f":"[0]!House3","v":0},{"$f":"[0]!House4","v":0},{"$f":"[0]!House5","v":0},null,{"$f":"[0]!Player22","v":0},{"$f":"[0]!House1","v":0},{"$f":"[0]!House3","v":0},{"$f":"[0]!House4","v":0},{"$f":"[0]!House5","v":0},null,null,null,null,null,null,null,null,null,null,null,null,null,null,{"$f":"IF(AK163=1,\"Winner\",\"\")","v":"Winner"},{"$f":"IF(AL163=1,\"Winner\",\"\")","v":"Winner"},null,null,null,null,{"$f":"AQ157","v":0},0,{"$f":"AS157","v":0},null,null,null,null,null,null,null,null,null,null,null,null,null,null,null,null,null,null,null,null,null,null,null,null,null,null,null,null,{"$f":"EU18","v":"Three of a Kind"},{"$f":"EV18","v":{"$error":"#N/A"}},0,{"$error":"#N/A"},{"$error":"#N/A"},0,{"$error":"#N/A"}]
[null,null,null,null,null,null,null,null,null,null,null,{"$f":"VLOOKUP(L164,$B$1:$F$52,5,0)","v":{"$error":"#N/A"}},{"$f":"VLOOKUP(M164,$B$1:$F$52,5,0)","v":{"$error":"#N/A"}},{"$f":"VLOOKUP(N164,$B$1:$F$52,5,0)","v":{"$error":"#N/A"}},{"$f":"VLOOKUP(O164,$B$1:$F$52,5,0)","v":{"$error":"#N/A"}},{"$f":"VLOOKUP(P164,$B$1:$F$52,5,0)","v":{"$error":"#N/A"}},null,{"$f":"VLOOKUP(R164,$B$1:$F$52,5,0)","v":{"$error":"#N/A"}},{"$f":"VLOOKUP(S164,$B$1:$F$52,5,0)","v":{"$error":"#N/A"}},{"$f":"VLOOKUP(T164,$B$1:$F$52,5,0)","v":{"$error":"#N/A"}},{"$f":"VLOOKUP(U164,$B$1:$F$52,5,0)","v":{"$error":"#N/A"}},{"$f":"VLOOKUP(V164,$B$1:$F$52,5,0)","v":{"$error":"#N/A"}},null,null,null,null,null,null,null,null,null,null,null,null,null,null,null,null,null,null,null,null,{"$f":"AQ158","v":0},0,{"$f":"AS158","v":0},null,null,null,null,null,null,null,null,null,null,null,null,null,null,null,null,null,null,null,null,null,null,null,null,null,null,null,null,{"$f":"FF18","v":"Two Pair"},{"$f":"FG18","v":{"$error":"#N/A"}},0,{"$error":"#N/A"},{"$error":"#N/A"},0,{"$error":"#N/A"}]
[null,null,null,null,null,null,null,null,null,null,null,{"$f":"VLOOKUP(L164,$B$1:$F$52,4,0)","v":{"$error":"#N/A"}},{"$f":"VLOOKUP(M164,$B$1:$F$52,4,0)","v":{"$error":"#N/A"}},{"$f":"VLOOKUP(N164,$B$1:$F$52,4,0)","v":{"$error":"#N/A"}},{"$f":"VLOOKUP(O164,$B$1:$F$52,4,0)","v":{"$error":"#N/A"}},{"$f":"VLOOKUP(P164,$B$1:$F$52,4,0)","v":{"$error":"#N/A"}},null,{"$f":"VLOOKUP(R164,$B$1:$F$52,4,0)","v":{"$error":"#N/A"}},{"$f":"VLOOKUP(S164,$B$1:$F$52,4,0)","v":{"$error":"#N/A"}},{"$f":"VLOOKUP(T164,$B$1:$F$52,4,0)","v":{"$error":"#N/A"}},{"$f":"VLOOKUP(U164,$B$1:$F$52,4,0)","v":{"$error":"#N/A"}},{"$f":"VLOOKUP(V164,$B$1:$F$52,4,0)","v":{"$error":"#N/A"}},null,null,null,null,null,null,null,null,null,null,null,null,null,null,null,null,null,null,null,null,{"$f":"AQ159","v":0},0,{"$f":"AS159","v":0},null,null,null,null,null,null,null,null,null,null,null,null,null,null,null,null,null,null,null,null,null,null,null,null,null,null,null,null,{"$f":"FQ18","v":"One Pair"},{"$f":"FR18","v":{"$error":"#N/A"}},0,{"$error":"#N/A"},{"$error":"#N/A"},0,{"$error":"#N/A"}]
[null,null,null,null,null,null,null,null,null,null,null,{"$f":"HLOOKUP(L169,$L$163:$P$166,3,0)","v":{"$error":"#N/A"}},{"$f":"HLOOKUP(M169,$L$163:$P$166,3,0)","v":{"$error":"#N/A"}},{"$error":"#N/A"},{"$error":"#N/A"},{"$error":"#N/A"},null,{"$f":"HLOOKUP(R169,$R$163:$V$166,3,0)","v":{"$error":"#N/A"}},{"$f":"HLOOKUP(S169,$R$163:$V$166,3,0)","v":{"$error":"#N/A"}},{"$error":"#N/A"},{"$error":"#N/A"},{"$error":"#N/A"},null,null,null,null,null,null,null,null,null,null,null,null,null,null,null,null,null,null,null,null,null,{"$f":"INDEX(AR162:AR166,MATCH(TRUE,INDEX(AR162:AR166<>0,),0))","v":{"$error":"#N/A"}},null,null,null,null,null,null,null,null,null,null,null,null,null,null,null,null,null,null,null,null,null,null,null,null,null,null,null,null,null,{"$f":"GB18","v":"High Card"},{"$f":"GC18","v":{"$error":"#N/A"}},0,{"$error":"#N/A"},{"$error":"#N/A"},0,{"$error":"#N/A"}]
[null,null,null,null,null,null,null,null,null,null,null,{"$f":"HLOOKUP(L169,$L$163:$P$166,4,0)","v":{"$error":"#N/A"}},{"$f":"HLOOKUP(M169,$L$163:$P$166,4,0)","v":{"$error":"#N/A"}},{"$error":"#N/A"},{"$error":"#N/A"},{"$error":"#N/A"},null,{"$f":"HLOOKUP(R169,$R$163:$V$166,4,0)","v":{"$error":"#N/A"}},{"$f":"HLOOKUP(S169,$R$163:$V$166,4,0)","v":{"$error":"#N/A"}},{"$error":"#N/A"},{"$error":"#N/A"},{"$error":"#N/A"},null,null,null,null,null,null,null,null,null,null,null,null,null,null,null,null,null,null,null,null,null,{"$f":"IF(ISNUMBER(AR167),AR167,0)","v":0}]
[null,null,null,null,null,null,null,null,null,null,null,1,2,3,4,5,null,1,2,3,4,5,null,null,null,null,null,null,null,null,null,null,null,null,null,null,null,null,null,null,"third win",null,{"$f":"AQ162","v":0},{"$f":"AU169-AQ169","v":0},{"$f":"AS162","v":0},{"$f":"AU169-AS169","v":0},null,null,null,null,null,null,null,null,null,null,null,null,null,null,null,null,null,null,null,null,null,null,null,null,null,null,16,{"$f":"CG19","v":"Royal Flush"},{"$f":"CH19","v":{"$error":"#N/A"}},{"$error":"#N/A"},{"$error":"#N/A"},{"$error":"#N/A"},{"$error":"#N/A"},{"$error":"#N/A"}]
[null,null,null,null,null,null,null,null,null,null,null,{"$f":"L165+IF(L165=1,13+RAND()^3,RAND()^3)","v":{"$error":"#N/A"}},{"$f":"M165+IF(M165=1,13+RAND()^3,RAND()^3)","v":{"$error":"#N/A"}},{"$error":"#N/A"},{"$error":"#N/A"},{"$error":"#N/A"},6.2067770795315669E-2,{"$error":"#N/A"},{"$error":"#N/A"},{"$error":"#N/A"},{"$error":"#N/A"},{"$error":"#N/A"},0.78723086076383064,null,null,null,null,null,null,null,null,null,null,null,null,null,null,null,null,null,null,null,{"$f":"AQ163","v":0},{"$f":"AU170-AQ170","v":0},{"$f":"AS163","v":0},{"$f":"AU170-AS170","v":0},null,null,null,null,null,null,null,null,null,null,null,null,null,null,null,null,null,null,null,null,null,null,null,null,null,null,null,{"$f":"CR19","v":"Straight Flush"},{"$f":"CS19","v":{"$error":"#N/A"}},{"$error":"#N/A"},{"$error":"#N/A"},{"$error":"#N/A"},{"$error":"#N/A"},{"$error":"#N/A"}]
[null,null,null,null,null,null,null,null,null,null,null,null,null,null,null,null,null,null,null,null,null,null,null,null,null,null,null,null,null,null,null,null,null,null,null,null,null,null,null,null,null,null,{"$f":"AQ164","v":0},0,{"$f":"AS164","v":0},0,null,null,null,null,null,null,null,null,null,null,null,null,null,null,null,null,null,null,null,null,null,null,null,null,null,null,null,{"$f":"DC19","v":"Four of a Kind"},{"$f":"DD19","v":{"$error":"#N/A"}},0,{"$error":"#N/A"},{"$error":"#N/A"},0,{"$error":"#N/A"}]
[null,null,null,null,null,null,null,null,null,null,null,{"$f":"RANK(L179,$L$179:$P$179,1)","v":{"$error":"#N/A"}},{"$f":"RANK(M179,$L$179:$P$179,1)","v":{"$error":"#N/A"}},{"$error":"#N/A"},{"$error":"#N/A"},{"$error":"#N/A"},null,{"$f":"RANK(R179,$R$179:$V$179,1)","v":{"$error":"#N/A"}},{"$f":"RANK(S179,$R$179:$V$179,1)","v":{"$error":"#N/A"}},{"$error":"#N/A"},{"$error":"#N/A"},{"$error":"#N/A"},null,null,null,null,null,null,null,null,null,null,null,null,null,null,null,null,null,null,null,null,{"$f":"AQ165","v":0},0,{"$f":"AS165","v":0},0,null,null,null,null,null,null,null,null,null,null,null,null,null,null,null,null,null,null,null,null,null,null,null,null,null,null,null,{"$f":"DN19","v":"Full House"},{"$f":"DO19","v":{"$error":"#N/A"}},0,{"$error":"#N/A"},{"$error":"#N/A"},0,{"$error":"#N/A"}]
[null,null,null,null,null,null,null,null,null,20,null,{"$f":"[0]!Player12","v":0},{"$f":"[0]!House2","v":0},{"$f":"[0]!House3","v":0},{"$f":"[0]!House4","v":0},{"$f":"[0]!House5","v":0},null,{"$f":"[0]!Player22","v":0},{"$f":"[0]!House2","v":0},{"$f":"[0]!House3","v":0},{"$f":"[0]!House4","v":0},{"$f":"[0]!House5","v":0},null,null,null,null,null,null,null,null,null,null,null,null,null,null,null,null,null,null,null,null,{"$f":"AQ166","v":0},0,{"$f":"AS166","v":0},0,null,null,null,null,null,null,null,null,null,null,null,null,null,null,null,null,null,null,null,null,null,null,null,null,null,null,null,{"$f":"DY19","v":"Flush"},{"$f":"DZ19","v":{"$error":"#N/A"}},0,{"$error":"#N/A"},{"$error":"#N/A"},0,{"$error":"#N/A"}]
[null,null,null,null,null,null,null,null,null,null,null,{"$f":"VLOOKUP(L173,$B$1:$F$52,5,0)","v":{"$error":"#N/A"}},{"$f":"VLOOKUP(M173,$B$1:$F$52,5,0)","v":{"$error":"#N/A"}},{"$f":"VLOOKUP(N173,$B$1:$F$52,5,0)","v":{"$error":"#N/A"}},{"$f":"VLOOKUP(O173,$B$1:$F$52,5,0)","v":{"$error":"#N/A"}},{"$f":"VLOOKUP(P173,$B$1:$F$52,5,0)","v":{"$error":"#N/A"}},null,{"$f":"VLOOKUP(R173,$B$1:$F$52,5,0)","v":{"$error":"#N/A"}},{"$f":"VLOOKUP(S173,$B$1:$F$52,5,0)","v":{"$error":"#N/A"}},{"$f":"VLOOKUP(T173,$B$1:$F$52,5,0)","v":{"$error":"#N/A"}},{"$f":"VLOOKUP(U173,$B$1:$F$52,5,0)","v":{"$error":"#N/A"}},{"$f":"VLOOKUP(V173,$B$1:$F$52,5,0)","v":{"$error":"#N/A"}},null,null,null,null,null,null,null,null,null,null,null,null,null,null,null,null,null,null,null,null,null,{"$f":"INDEX(AR169:AR173,MATCH(TRUE,INDEX(AR169:AR173<>0,),0))","v":{"$error":"#N/A"}},null,{"$f":"INDEX(AT169:AT173,MATCH(TRUE,INDEX(AT169:AT173<>0,),0))","v":{"$error":"#N/A"}},null,null,null,null,null,null,null,null,null,null,null,null,null,null,null,null,null,null,null,null,null,null,null,null,null,null,null,{"$f":"EJ19","v":"Straight"},{"$f":"EK19","v":{"$error":"#N/A"}},{"$error":"#N/A"},{"$error":"#N/A"},{"$error":"#N/A"},{"$error":"#N/A"},{"$error":"#N/A"}]
[null,null,null,null,null,null,null,null,null,null,null,{"$f":"VLOOKUP(L173,$B$1:$F$52,4,0)","v":{"$error":"#N/A"}},{"$f":"VLOOKUP(M173,$B$1:$F$52,4,0)","v":{"$error":"#N/A"}},{"$f":"VLOOKUP(N173,$B$1:$F$52,4,0)","v":{"$error":"#N/A"}},{"$f":"VLOOKUP(O173,$B$1:$F$52,4,0)","v":{"$error":"#N/A"}},{"$f":"VLOOKUP(P173,$B$1:$F$52,4,0)","v":{"$error":"#N/A"}},null,{"$f":"VLOOKUP(R173,$B$1:$F$52,4,0)","v":{"$error":"#N/A"}},{"$f":"VLOOKUP(S173,$B$1:$F$52,4,0)","v":{"$error":"#N/A"}},{"$f":"VLOOKUP(T173,$B$1:$F$52,4,0)","v":{"$error":"#N/A"}},{"$f":"VLOOKUP(U173,$B$1:$F$52,4,0)","v":{"$error":"#N/A"}},{"$f":"VLOOKUP(V173,$B$1:$F$52,4,0)","v":{"$error":"#N/A"}},null,null,null,null,null,null,null,null,null,null,null,null,null,null,null,null,null,null,null,null,null,{"$f":"IF(ISNUMBER(AR174),AR174,0)","v":0},null,{"$f":"IF(ISNUMBER(AT174),AT174,0)","v":0},null,null,null,null,null,null,null,null,null,null,null,null,null,null,null,null,null,null,null,null,null,null,null,null,null,null,null,{"$f":"EU19","v":"Three of a Kind"},{"$f":"EV19","v":{"$error":"#N/A"}},0,{"$error":"#N/A"},{"$error":"#N/A"},0,{"$error":"#N/A"}]
[null,null,null,null,null,null,null,null,null,null,null,{"$f":"HLOOKUP(L178,$L$172:$P$175,3,0)","v":{"$error":"#N/A"}},{"$f":"HLOOKUP(M178,$L$172:$P$175,3,0)","v":{"$error":"#N/A"}},{"$error":"#N/A"},{"$error":"#N/A"},{"$error":"#N/A"},null,{"$f":"HLOOKUP(R178,$R$172:$V$175,3,0)","v":{"$error":"#N/A"}},{"$f":"HLOOKUP(S178,$R$172:$V$175,3,0)","v":{"$error":"#N/A"}},{"$error":"#N/A"},{"$error":"#N/A"},{"$error":"#N/A"},null,null,null,null,null,null,null,null,null,null,null,null,null,null,null,null,null,null,null,null,null,null,null,null,null,null,null,null,null,null,null,null,null,null,null,null,null,null,null,null,null,null,null,null,null,null,null,null,null,null,null,{"$f":"FF19","v":"Two Pair"},{"$f":"FG19","v":{"$error":"#N/A"}},0,{"$error":"#N/A"},{"$error":"#N/A"},0,{"$error":"#N/A"}]
[null,null,null,null,null,null,null,null,null,null,null,{"$f":"HLOOKUP(L178,$L$172:$P$175,4,0)","v":{"$error":"#N/A"}},{"$f":"HLOOKUP(M178,$L$172:$P$175,4,0)","v":{"$error":"#N/A"}},{"$error":"#N/A"},{"$error":"#N/A"},{"$error":"#N/A"},null,{"$f":"HLOOKUP(R178,$R$172:$V$175,4,0)","v":{"$error":"#N/A"}},{"$f":"HLOOKUP(S178,$R$172:$V$175,4,0)","v":{"$error":"#N/A"}},{"$error":"#N/A"},{"$error":"#N/A"},{"$error":"#N/A"},null,null,null,null,null,null,null,null,null,null,null,null,null,null,null,null,null,null,null,null,null,null,null,null,null,null,null,null,null,null,null,null,null,null,null,null,null,null,null,null,null,null,null,null,null,null,null,null,null,null,null,{"$f":"FQ19","v":"One Pair"},{"$f":"FR19","v":{"$error":"#N/A"}},0,{"$error":"#N/A"},{"$error":"#N/A"},0,{"$error":"#N/A"}]
[null,null,null,null,null,null,null,null,null,null,null,1,2,3,4,5,null,1,2,3,4,5,null,null,null,null,null,null,null,null,null,null,null,null,null,null,null,null,null,null,null,null,null,null,null,null,null,null,null,null,null,null,null,null,null,null,null,null,null,null,null,null,null,null,null,null,null,null,null,null,null,null,null,{"$f":"GB19","v":"High Card"},{"$f":"GC19","v":{"$error":"#N/A"}},0,{"$error":"#N/A"},{"$error":"#N/A"},0,{"$error":"#N/A"}]
[null,null,null,null,null,null,null,null,null,null,null,{"$f":"L174+IF(L174=1,13+RAND()^3,RAND()^3)","v":{"$error":"#N/A"}},{"$f":"M174+IF(M174=1,13+RAND()^3,RAND()^3)","v":{"$error":"#N/A"}},{"$error":"#N/A"},{"$error":"#N/A"},{"$error":"#N/A"},0.63072159415397466,{"$error":"#N/A"},{"$error":"#N/A"},{"$error":"#N/A"},{"$error":"#N/A"},{"$error":"#N/A"},0.54953048889184275]
[null,null,null,null,null,null,null,null,null,null,null,null,null,null,null,null,null,null,null,null,null,null,null,null,null,null,null,null,null,null,null,null,null,null,null,null,null,null,null,null,null,null,null,null,null,null,null,null,null,null,null,null,null,null,null,null,null,null,null,null,null,null,null,null,null,null,null,null,null,null,null,null,17,{"$f":"CG20","v":"Royal Flush"},{"$f":"CH20","v":{"$error":"#N/A"}},{"$error":"#N/A"},{"$error":"#N/A"},{"$error":"#N/A"},{"$error":"#N/A"},{"$error":"#N/A"}]
[null,null,null,null,null,null,null,null,null,null,null,{"$f":"RANK(L188,$L$188:$P$188,1)","v":{"$error":"#N/A"}},{"$f":"RANK(M188,$L$188:$P$188,1)","v":{"$error":"#N/A"}},{"$error":"#N/A"},{"$error":"#N/A"},{"$error":"#N/A"},null,{"$f":"RANK(R188,$R$188:$V$188,1)","v":{"$error":"#N/A"}},{"$f":"RANK(S188,$R$188:$V$188,1)","v":{"$error":"#N/A"}},{"$error":"#N/A"},{"$error":"#N/A"},{"$error":"#N/A"},null,null,null,null,null,null,null,null,null,null,null,null,null,null,null,null,null,null,null,null,null,null,null,null,null,null,null,null,null,null,null,null,null,null,null,null,null,null,null,null,null,null,null,null,null,null,null,null,null,null,null,{"$f":"CR20","v":"Straight Flush"},{"$f":"CS20","v":{"$error":"#N/A"}},{"$error":"#N/A"},{"$error":"#N/A"},{"$error":"#N/A"},{"$error":"#N/A"},{"$error":"#N/A"}]
[null,null,null,null,null,null,null,null,null,21,null,{"$f":"[0]!House1","v":0},{"$f":"[0]!House2","v":0},{"$f":"[0]!House3","v":0},{"$f":"[0]!House4","v":0},{"$f":"[0]!House5","v":0},null,{"$f":"[0]!House1","v":0},{"$f":"[0]!House2","v":0},{"$f":"[0]!House3","v":0},{"$f":"[0]!House4","v":0},{"$f":"[0]!House5","v":0},null,null,null,null,null,null,null,null,null,null,null,null,null,null,null,null,null,null,null,null,null,null,null,null,null,null,null,null,null,null,null,null,null,null,null,null,null,null,null,null,null,null,null,null,null,null,null,null,null,null,null,{"$f":"DC20","v":"Four of a Kind"},{"$f":"DD20","v":{"$error":"#N/A"}},0,{"$error":"#N/A"},{"$error":"#N/A"},0,{"$error":"#N/A"}]
[null,null,null,null,null,null,null,null,null,null,null,{"$f":"VLOOKUP(L182,$B$1:$F$52,5,0)","v":{"$error":"#N/A"}},{"$f":"VLOOKUP(M182,$B$1:$F$52,5,0)","v":{"$error":"#N/A"}},{"$f":"VLOOKUP(N182,$B$1:$F$52,5,0)","v":{"$error":"#N/A"}},{"$f":"VLOOKUP(O182,$B$1:$F$52,5,0)","v":{"$error":"#N/A"}},{"$f":"VLOOKUP(P182,$B$1:$F$52,5,0)","v":{"$error":"#N/A"}},null,{"$f":"VLOOKUP(R182,$B$1:$F$52,5,0)","v":{"$error":"#N/A"}},{"$f":"VLOOKUP(S182,$B$1:$F$52,5,0)","v":{"$error":"#N/A"}},{"$f":"VLOOKUP(T182,$B$1:$F$52,5,0)","v":{"$error":"#N/A"}},{"$f":"VLOOKUP(U182,$B$1:$F$52,5,0)","v":{"$error":"#N/A"}},{"$f":"VLOOKUP(V182,$B$1:$F$52,5,0)","v":{"$error":"#N/A"}},null,null,null,null,null,null,null,null,null,null,null,null,null,null,null,null,null,null,null,null,null,null,null,null,null,null,null,null,null,null,null,null,null,null,null,null,null,null,null,null,null,null,null,null,null,null,null,null,null,null,null,{"$f":"DN20","v":"Full House"},{"$f":"DO20","v":{"$error":"#N/A"}},0,{"$error":"#N/A"},{"$error":"#N/A"},0,{"$error":"#N/A"}]
[null,null,null,null,null,null,null,null,null,null,null,{"$f":"VLOOKUP(L182,$B$1:$F$52,4,0)","v":{"$error":"#N/A"}},{"$f":"VLOOKUP(M182,$B$1:$F$52,4,0)","v":{"$error":"#N/A"}},{"$f":"VLOOKUP(N182,$B$1:$F$52,4,0)","v":{"$error":"#N/A"}},{"$f":"VLOOKUP(O182,$B$1:$F$52,4,0)","v":{"$error":"#N/A"}},{"$f":"VLOOKUP(P182,$B$1:$F$52,4,0)","v":{"$error":"#N/A"}},null,{"$f":"VLOOKUP(R182,$B$1:$F$52,4,0)","v":{"$error":"#N/A"}},{"$f":"VLOOKUP(S182,$B$1:$F$52,4,0)","v":{"$error":"#N/A"}},{"$f":"VLOOKUP(T182,$B$1:$F$52,4,0)","v":{"$error":"#N/A"}},{"$f":"VLOOKUP(U182,$B$1:$F$52,4,0)","v":{"$error":"#N/A"}},{"$f":"VLOOKUP(V182,$B$1:$F$52,4,0)","v":{"$error":"#N/A"}},null,null,null,null,null,null,null,null,null,null,null,null,null,null,null,null,null,null,null,null,null,null,null,null,null,null,null,null,null,null,null,null,null,null,null,null,null,null,null,null,null,null,null,null,null,null,null,null,null,null,null,{"$f":"DY20","v":"Flush"},{"$f":"DZ20","v":{"$error":"#N/A"}},0,{"$error":"#N/A"},{"$error":"#N/A"},0,{"$error":"#N/A"}]
[null,null,null,null,null,null,null,null,null,null,null,{"$f":"HLOOKUP(L187,$L$181:$P$184,3,0)","v":{"$error":"#N/A"}},{"$f":"HLOOKUP(M187,$L$181:$P$184,3,0)","v":{"$error":"#N/A"}},{"$error":"#N/A"},{"$error":"#N/A"},{"$error":"#N/A"},null,{"$f":"HLOOKUP(R187,$R$181:$V$184,3,0)","v":{"$error":"#N/A"}},{"$f":"HLOOKUP(S187,$R$181:$V$184,3,0)","v":{"$error":"#N/A"}},{"$error":"#N/A"},{"$error":"#N/A"},{"$error":"#N/A"},null,null,null,null,null,null,null,null,null,null,null,null,null,null,null,null,null,null,null,null,null,null,null,null,null,null,null,null,null,null,null,null,null,null,null,null,null,null,null,null,null,null,null,null,null,null,null,null,null,null,null,{"$f":"EJ20","v":"Straight"},{"$f":"EK20","v":{"$error":"#N/A"}},{"$error":"#N/A"},{"$error":"#N/A"},{"$error":"#N/A"},{"$error":"#N/A"},{"$error":"#N/A"}]
[null,null,null,null,null,null,null,null,null,null,null,{"$f":"HLOOKUP(L187,$L$181:$P$184,4,0)","v":{"$error":"#N/A"}},{"$f":"HLOOKUP(M187,$L$181:$P$184,4,0)","v":{"$error":"#N/A"}},{"$error":"#N/A"},{"$error":"#N/A"},{"$error":"#N/A"},null,{"$f":"HLOOKUP(R187,$R$181:$V$184,4,0)","v":{"$error":"#N/A"}},{"$f":"HLOOKUP(S187,$R$181:$V$184,4,0)","v":{"$error":"#N/A"}},{"$error":"#N/A"},{"$error":"#N/A"},{"$error":"#N/A"},null,null,null,null,null,null,null,null,null,null,null,null,null,null,null,null,null,null,null,null,null,null,null,null,null,null,null,null,null,null,null,null,null,null,null,null,null,null,null,null,null,null,null,null,null,null,null,null,null,null,null,{"$f":"EU20","v":"Three of a Kind"},{"$f":"EV20","v":{"$error":"#N/A"}},0,{"$error":"#N/A"},{"$error":"#N/A"},0,{"$error":"#N/A"}]
[null,null,null,null,null,null,null,null,null,null,null,1,2,3,4,5,null,1,2,3,4,5,null,null,null,null,null,null,null,null,null,null,null,null,null,null,null,null,null,null,null,null,null,null,null,null,null,null,null,null,null,null,null,null,null,null,null,null,null,null,null,null,null,null,null,null,null,null,null,null,null,null,null,{"$f":"FF20","v":"Two Pair"},{"$f":"FG20","v":{"$error":"#N/A"}},0,{"$error":"#N/A"},{"$error":"#N/A"},0,{"$error":"#N/A"}]
[null,null,null,null,null,null,null,null,null,null,null,{"$f":"L183+IF(L183=1,13+RAND()^3,RAND()^3)","v":{"$error":"#N/A"}},{"$f":"M183+IF(M183=1,13+RAND()^3,RAND()^3)","v":{"$error":"#N/A"}},{"$error":"#N/A"},{"$error":"#N/A"},{"$error":"#N/A"},1.6285610638021076E-3,{"$error":"#N/A"},{"$error":"#N/A"},{"$error":"#N/A"},{"$error":"#N/A"},{"$error":"#N/A"},0.26788454114841698,null,null,null,null,null,null,null,null,null,null,null,null,null,null,null,null,null,null,null,null,null,null,null,null,null,null,null,null,null,null,null,null,null,null,null,null,null,null,null,null,null,null,null,null,null,null,null,null,null,null,{"$f":"FQ20","v":"One Pair"},{"$f":"FR20","v":{"$error":"#N/A"}},0,{"$error":"#N/A"},{"$error":"#N/A"},0,{"$error":"#N/A"}]
[null,null,null,null,null,null,null,null,null,null,null,null,null,null,null,null,null,null,null,null,null,null,null,null,null,null,null,null,null,null,null,null,null,null,null,null,null,null,null,null,null,null,null,null,null,null,null,null,null,null,null,null,null,null,null,null,null,null,null,null,null,null,null,null,null,null,null,null,null,null,null,null,null,{"$f":"GB20","v":"High Card"},{"$f":"GC20","v":{"$error":"#N/A"}},0,{"$error":"#N/A"},{"$error":"#N/A"},0,{"$error":"#N/A"}]
[]
[null,null,null,null,null,null,null,null,null,null,null,null,null,null,null,null,null,null,null,null,null,null,null,null,null,null,null,null,null,null,null,null,null,null,null,null,null,null,null,null,null,null,null,null,null,null,null,null,null,null,null,null,null,null,null,null,null,null,null,null,null,null,null,null,null,null,null,null,null,null,null,null,18,{"$f":"CG21","v":"Royal Flush"},{"$f":"CH21","v":{"$error":"#N/A"}},{"$error":"#N/A"},{"$error":"#N/A"},{"$error":"#N/A"},{"$error":"#N/A"},{"$error":"#N/A"}]
[null,null,null,null,null,null,null,null,null,null,null,null,null,null,null,null,null,null,null,null,null,null,null,null,null,null,null,null,null,null,null,null,null,null,null,null,null,null,null,null,null,null,null,null,null,null,null,null,null,null,null,null,null,null,null,null,null,null,null,null,null,null,null,null,null,null,null,null,null,null,null,null,null,{"$f":"CR21","v":"Straight Flush"},{"$f":"CS21","v":{"$error":"#N/A"}},{"$error":"#N/A"},{"$error":"#N/A"},{"$error":"#N/A"},{"$error":"#N/A"},{"$error":"#N/A"}]
[null,null,null,null,null,null,null,null,null,null,null,null,null,null,null,null,null,null,null,null,null,null,null,null,null,null,null,null,null,null,null,null,null,null,null,null,null,null,null,null,null,null,null,null,null,null,null,null,null,null,null,null,null,null,null,null,null,null,null,null,null,null,null,null,null,null,null,null,null,null,null,null,null,{"$f":"DC21","v":"Four of a Kind"},{"$f":"DD21","v":{"$error":"#N/A"}},0,{"$error":"#N/A"},{"$error":"#N/A"},0,{"$error":"#N/A"}]
[null,null,null,null,null,null,null,null,null,null,null,null,null,null,null,null,null,null,null,null,null,null,null,null,null,null,null,null,null,null,null,null,null,null,null,null,null,null,null,null,null,null,null,null,null,null,null,null,null,null,null,null,null,null,null,null,null,null,null,null,null,null,null,null,null,null,null,null,null,null,null,null,null,{"$f":"DN21","v":"Full House"},{"$f":"DO21","v":{"$error":"#N/A"}},0,{"$error":"#N/A"},{"$error":"#N/A"},0,{"$error":"#N/A"}]
[null,null,null,null,null,null,null,null,null,null,null,null,null,null,null,null,null,null,null,null,null,null,null,null,null,null,null,null,null,null,null,null,null,null,null,null,null,null,null,null,null,null,null,null,null,null,null,null,null,null,null,null,null,null,null,null,null,null,null,null,null,null,null,null,null,null,null,null,null,null,null,null,null,{"$f":"DY21","v":"Flush"},{"$f":"DZ21","v":{"$error":"#N/A"}},0,{"$error":"#N/A"},{"$error":"#N/A"},0,{"$error":"#N/A"}]
[null,null,null,null,null,null,null,null,null,null,null,null,null,null,null,null,null,null,null,null,null,null,null,null,null,null,null,null,null,null,null,null,null,null,null,null,null,null,null,null,null,null,null,null,null,null,null,null,null,null,null,null,null,null,null,null,null,null,null,null,null,null,null,null,null,null,null,null,null,null,null,null,null,{"$f":"EJ21","v":"Straight"},{"$f":"EK21","v":{"$error":"#N/A"}},{"$error":"#N/A"},{"$error":"#N/A"},{"$error":"#N/A"},{"$error":"#N/A"},{"$error":"#N/A"}]
[null,null,null,null,null,null,null,null,null,null,null,null,null,null,null,null,null,null,null,null,null,null,null,null,null,null,null,null,null,null,null,null,null,null,null,null,null,null,null,null,null,null,null,null,null,null,null,null,null,null,null,null,null,null,null,null,null,null,null,null,null,null,null,null,null,null,null,null,null,null,null,null,null,{"$f":"EU21","v":"Three of a Kind"},{"$f":"EV21","v":{"$error":"#N/A"}},0,{"$error":"#N/A"},{"$error":"#N/A"},0,{"$error":"#N/A"}]
[null,null,null,null,null,null,null,null,null,null,null,null,null,null,null,null,null,null,null,null,null,null,null,null,null,null,null,null,null,null,null,null,null,null,null,null,null,null,null,null,null,null,null,null,null,null,null,null,null,null,null,null,null,null,null,null,null,null,null,null,null,null,null,null,null,null,null,null,null,null,null,null,null,{"$f":"FF21","v":"Two Pair"},{"$f":"FG21","v":{"$error":"#N/A"}},0,{"$error":"#N/A"},{"$error":"#N/A"},0,{"$error":"#N/A"}]
[null,null,null,null,null,null,null,null,null,null,null,null,null,null,null,null,null,null,null,null,null,null,null,null,null,null,null,null,null,null,null,null,null,null,null,null,null,null,null,null,null,null,null,null,null,null,null,null,null,null,null,null,null,null,null,null,null,null,null,null,null,null,null,null,null,null,null,null,null,null,null,null,null,{"$f":"FQ21","v":"One Pair"},{"$f":"FR21","v":{"$error":"#N/A"}},0,{"$error":"#N/A"},{"$error":"#N/A"},0,{"$error":"#N/A"}]
[null,null,null,null,null,null,null,null,null,null,null,null,null,null,null,null,null,null,null,null,null,null,null,null,null,null,null,null,null,null,null,null,null,null,null,null,null,null,null,null,null,null,null,null,null,null,null,null,null,null,null,null,null,null,null,null,null,null,null,null,null,null,null,null,null,null,null,null,null,null,null,null,null,{"$f":"GB21","v":"High Card"},{"$f":"GC21","v":{"$error":"#N/A"}},0,{"$error":"#N/A"},{"$error":"#N/A"},0,{"$error":"#N/A"}]
[]
[null,null,null,null,null,null,null,null,null,null,null,null,null,null,null,null,null,null,null,null,null,null,null,null,null,null,null,null,null,null,null,null,null,null,null,null,null,null,null,null,null,null,null,null,null,null,null,null,null,null,null,null,null,null,null,null,null,null,null,null,null,null,null,null,null,null,null,null,null,null,null,null,19,{"$f":"CG22","v":"Royal Flush"},{"$f":"CH22","v":{"$error":"#N/A"}},{"$error":"#N/A"},{"$error":"#N/A"},{"$error":"#N/A"},{"$error":"#N/A"},{"$error":"#N/A"}]
[null,null,null,null,null,null,null,null,null,null,null,null,null,null,null,null,null,null,null,null,null,null,null,null,null,null,null,null,null,null,null,null,null,null,null,null,null,null,null,null,null,null,null,null,null,null,null,null,null,null,null,null,null,null,null,null,null,null,null,null,null,null,null,null,null,null,null,null,null,null,null,null,null,{"$f":"CR22","v":"Straight Flush"},{"$f":"CS22","v":{"$error":"#N/A"}},{"$error":"#N/A"},{"$error":"#N/A"},{"$error":"#N/A"},{"$error":"#N/A"},{"$error":"#N/A"}]
[null,null,null,null,null,null,null,null,null,null,null,null,null,null,null,null,null,null,null,null,null,null,null,null,null,null,null,null,null,null,null,null,null,null,null,null,null,null,null,null,null,null,null,null,null,null,null,null,null,null,null,null,null,null,null,null,null,null,null,null,null,null,null,null,null,null,null,null,null,null,null,null,null,{"$f":"DC22","v":"Four of a Kind"},{"$f":"DD22","v":{"$error":"#N/A"}},0,{"$error":"#N/A"},{"$error":"#N/A"},0,{"$error":"#N/A"}]
[null,null,null,null,null,null,null,null,null,null,null,null,null,null,null,null,null,null,null,null,null,null,null,null,null,null,null,null,null,null,null,null,null,null,null,null,null,null,null,null,null,null,null,null,null,null,null,null,null,null,null,null,null,null,null,null,null,null,null,null,null,null,null,null,null,null,null,null,null,null,null,null,null,{"$f":"DN22","v":"Full House"},{"$f":"DO22","v":{"$error":"#N/A"}},0,{"$error":"#N/A"},{"$error":"#N/A"},0,{"$error":"#N/A"}]
[null,null,null,null,null,null,null,null,null,null,null,null,null,null,null,null,null,null,null,null,null,null,null,null,null,null,null,null,null,null,null,null,null,null,null,null,null,null,null,null,null,null,null,null,null,null,null,null,null,null,null,null,null,null,null,null,null,null,null,null,null,null,null,null,null,null,null,null,null,null,null,null,null,{"$f":"DY22","v":"Flush"},{"$f":"DZ22","v":{"$error":"#N/A"}},0,{"$error":"#N/A"},{"$error":"#N/A"},0,{"$error":"#N/A"}]
[null,null,null,null,null,null,null,null,null,null,null,null,null,null,null,null,null,null,null,null,null,null,null,null,null,null,null,null,null,null,null,null,null,null,null,null,null,null,null,null,null,null,null,null,null,null,null,null,null,null,null,null,null,null,null,null,null,null,null,null,null,null,null,null,null,null,null,null,null,null,null,null,null,{"$f":"EJ22","v":"Straight"},{"$f":"EK22","v":{"$error":"#N/A"}},{"$error":"#N/A"},{"$error":"#N/A"},{"$error":"#N/A"},{"$error":"#N/A"},{"$error":"#N/A"}]
[null,null,null,null,null,null,null,null,null,null,null,null,null,null,null,null,null,null,null,null,null,null,null,null,null,null,null,null,null,null,null,null,null,null,null,null,null,null,null,null,null,null,null,null,null,null,null,null,null,null,null,null,null,null,null,null,null,null,null,null,null,null,null,null,null,null,null,null,null,null,null,null,null,{"$f":"EU22","v":"Three of a Kind"},{"$f":"EV22","v":{"$error":"#N/A"}},0,{"$error":"#N/A"},{"$error":"#N/A"},0,{"$error":"#N/A"}]
[null,null,null,null,null,null,null,null,null,null,null,null,null,null,null,null,null,null,null,null,null,null,null,null,null,null,null,null,null,null,null,null,null,null,null,null,null,null,null,null,null,null,null,null,null,null,null,null,null,null,null,null,null,null,null,null,null,null,null,null,null,null,null,null,null,null,null,null,null,null,null,null,null,{"$f":"FF22","v":"Two Pair"},{"$f":"FG22","v":{"$error":"#N/A"}},0,{"$error":"#N/A"},{"$error":"#N/A"},0,{"$error":"#N/A"}]
[null,null,null,null,null,null,null,null,null,null,null,null,null,null,null,null,null,null,null,null,null,null,null,null,null,null,null,null,null,null,null,null,null,null,null,null,null,null,null,null,null,null,null,null,null,null,null,null,null,null,null,null,null,null,null,null,null,null,null,null,null,null,null,null,null,null,null,null,null,null,null,null,null,{"$f":"FQ22","v":"One Pair"},{"$f":"FR22","v":{"$error":"#N/A"}},0,{"$error":"#N/A"},{"$error":"#N/A"},0,{"$error":"#N/A"}]
[null,null,null,null,null,null,null,null,null,null,null,null,null,null,null,null,null,null,null,null,null,null,null,null,null,null,null,null,null,null,null,null,null,null,null,null,null,null,null,null,null,null,null,null,null,null,null,null,null,null,null,null,null,null,null,null,null,null,null,null,null,null,null,null,null,null,null,null,null,null,null,null,null,{"$f":"GB22","v":"High Card"},{"$f":"GC22","v":{"$error":"#N/A"}},0,{"$error":"#N/A"},{"$error":"#N/A"},0,{"$error":"#N/A"}]
[]
[null,null,null,null,null,null,null,null,null,null,null,null,null,null,null,null,null,null,null,null,null,null,null,null,null,null,null,null,null,null,null,null,null,null,null,null,null,null,null,null,null,null,null,null,null,null,null,null,null,null,null,null,null,null,null,null,null,null,null,null,null,null,null,null,null,null,null,null,null,null,null,null,20,{"$f":"CG23","v":"Royal Flush"},{"$f":"CH23","v":{"$error":"#N/A"}},{"$error":"#N/A"},{"$error":"#N/A"},{"$error":"#N/A"},{"$error":"#N/A"},{"$error":"#N/A"}]
[null,null,null,null,null,null,null,null,null,null,null,null,null,null,null,null,null,null,null,null,null,null,null,null,null,null,null,null,null,null,null,null,null,null,null,null,null,null,null,null,null,null,null,null,null,null,null,null,null,null,null,null,null,null,null,null,null,null,null,null,null,null,null,null,null,null,null,null,null,null,null,null,null,{"$f":"CR23","v":"Straight Flush"},{"$f":"CS23","v":{"$error":"#N/A"}},{"$error":"#N/A"},{"$error":"#N/A"},{"$error":"#N/A"},{"$error":"#N/A"},{"$error":"#N/A"}]
[null,null,null,null,null,null,null,null,null,null,null,null,null,null,null,null,null,null,null,null,null,null,null,null,null,null,null,null,null,null,null,null,null,null,null,null,null,null,null,null,null,null,null,null,null,null,null,null,null,null,null,null,null,null,null,null,null,null,null,null,null,null,null,null,null,null,null,null,null,null,null,null,null,{"$f":"DC23","v":"Four of a Kind"},{"$f":"DD23","v":{"$error":"#N/A"}},0,{"$error":"#N/A"},{"$error":"#N/A"},0,{"$error":"#N/A"}]
[null,null,null,null,null,null,null,null,null,null,null,null,null,null,null,null,null,null,null,null,null,null,null,null,null,null,null,null,null,null,null,null,null,null,null,null,null,null,null,null,null,null,null,null,null,null,null,null,null,null,null,null,null,null,null,null,null,null,null,null,null,null,null,null,null,null,null,null,null,null,null,null,null,{"$f":"DN23","v":"Full House"},{"$f":"DO23","v":{"$error":"#N/A"}},0,{"$error":"#N/A"},{"$error":"#N/A"},0,{"$error":"#N/A"}]
[null,null,null,null,null,null,null,null,null,null,null,null,null,null,null,null,null,null,null,null,null,null,null,null,null,null,null,null,null,null,null,null,null,null,null,null,null,null,null,null,null,null,null,null,null,null,null,null,null,null,null,null,null,null,null,null,null,null,null,null,null,null,null,null,null,null,null,null,null,null,null,null,null,{"$f":"DY23","v":"Flush"},{"$f":"DZ23","v":{"$error":"#N/A"}},0,{"$error":"#N/A"},{"$error":"#N/A"},0,{"$error":"#N/A"}]
[null,null,null,null,null,null,null,null,null,null,null,null,null,null,null,null,null,null,null,null,null,null,null,null,null,null,null,null,null,null,null,null,null,null,null,null,null,null,null,null,null,null,null,null,null,null,null,null,null,null,null,null,null,null,null,null,null,null,null,null,null,null,null,null,null,null,null,null,null,null,null,null,null,{"$f":"EJ23","v":"Straight"},{"$f":"EK23","v":{"$error":"#N/A"}},{"$error":"#N/A"},{"$error":"#N/A"},{"$error":"#N/A"},{"$error":"#N/A"},{"$error":"#N/A"}]
[null,null,null,null,null,null,null,null,null,null,null,null,null,null,null,null,null,null,null,null,null,null,null,null,null,null,null,null,null,null,null,null,null,null,null,null,null,null,null,null,null,null,null,null,null,null,null,null,null,null,null,null,null,null,null,null,null,null,null,null,null,null,null,null,null,null,null,null,null,null,null,null,null,{"$f":"EU23","v":"Three of a Kind"},{"$f":"EV23","v":{"$error":"#N/A"}},0,{"$error":"#N/A"},{"$error":"#N/A"},0,{"$error":"#N/A"}]
[null,null,null,null,null,null,null,null,null,null,null,null,null,null,null,null,null,null,null,null,null,null,null,null,null,null,null,null,null,null,null,null,null,null,null,null,null,null,null,null,null,null,null,null,null,null,null,null,null,null,null,null,null,null,null,null,null,null,null,null,null,null,null,null,null,null,null,null,null,null,null,null,null,{"$f":"FF23","v":"Two Pair"},{"$f":"FG23","v":{"$error":"#N/A"}},0,{"$error":"#N/A"},{"$error":"#N/A"},0,{"$error":"#N/A"}]
[null,null,null,null,null,null,null,null,null,null,null,null,null,null,null,null,null,null,null,null,null,null,null,null,null,null,null,null,null,null,null,null,null,null,null,null,null,null,null,null,null,null,null,null,null,null,null,null,null,null,null,null,null,null,null,null,null,null,null,null,null,null,null,null,null,null,null,null,null,null,null,null,null,{"$f":"FQ23","v":"One Pair"},{"$f":"FR23","v":{"$error":"#N/A"}},0,{"$error":"#N/A"},{"$error":"#N/A"},0,{"$error":"#N/A"}]
[null,null,null,null,null,null,null,null,null,null,null,null,null,null,null,null,null,null,null,null,null,null,null,null,null,null,null,null,null,null,null,null,null,null,null,null,null,null,null,null,null,null,null,null,null,null,null,null,null,null,null,null,null,null,null,null,null,null,null,null,null,null,null,null,null,null,null,null,null,null,null,null,null,{"$f":"GB23","v":"High Card"},{"$f":"GC23","v":{"$error":"#N/A"}},0,{"$error":"#N/A"},{"$error":"#N/A"},0,{"$error":"#N/A"}]
[]
[null,null,null,null,null,null,null,null,null,null,null,null,null,null,null,null,null,null,null,null,null,null,null,null,null,null,null,null,null,null,null,null,null,null,null,null,null,null,null,null,null,null,null,null,null,null,null,null,null,null,null,null,null,null,null,null,null,null,null,null,null,null,null,null,null,null,null,null,null,null,null,null,21,{"$f":"CG24","v":"Royal Flush"},{"$f":"CH24","v":{"$error":"#N/A"}},{"$error":"#N/A"},{"$error":"#N/A"},{"$error":"#N/A"},{"$error":"#N/A"},{"$error":"#N/A"}]
[null,null,null,null,null,null,null,null,null,null,null,null,null,null,null,null,null,null,null,null,null,null,null,null,null,null,null,null,null,null,null,null,null,null,null,null,null,null,null,null,null,null,null,null,null,null,null,null,null,null,null,null,null,null,null,null,null,null,null,null,null,null,null,null,null,null,null,null,null,null,null,null,null,{"$f":"CR24","v":"Straight Flush"},{"$f":"CS24","v":{"$error":"#N/A"}},{"$error":"#N/A"},{"$error":"#N/A"},{"$error":"#N/A"},{"$error":"#N/A"},{"$error":"#N/A"}]
[null,null,null,null,null,null,null,null,null,null,null,null,null,null,null,null,null,null,null,null,null,null,null,null,null,null,null,null,null,null,null,null,null,null,null,null,null,null,null,null,null,null,null,null,null,null,null,null,null,null,null,null,null,null,null,null,null,null,null,null,null,null,null,null,null,null,null,null,null,null,null,null,null,{"$f":"DC24","v":"Four of a Kind"},{"$f":"DD24","v":{"$error":"#N/A"}},0,{"$error":"#N/A"},{"$error":"#N/A"},0,{"$error":"#N/A"}]
[null,null,null,null,null,null,null,null,null,null,null,null,null,null,null,null,null,null,null,null,null,null,null,null,null,null,null,null,null,null,null,null,null,null,null,null,null,null,null,null,null,null,null,null,null,null,null,null,null,null,null,null,null,null,null,null,null,null,null,null,null,null,null,null,null,null,null,null,null,null,null,null,null,{"$f":"DN24","v":"Full House"},{"$f":"DO24","v":{"$error":"#N/A"}},0,{"$error":"#N/A"},{"$error":"#N/A"},0,{"$error":"#N/A"}]
[null,null,null,null,null,null,null,null,null,null,null,null,null,null,null,null,null,null,null,null,null,null,null,null,null,null,null,null,null,null,null,null,null,null,null,null,null,null,null,null,null,null,null,null,null,null,null,null,null,null,null,null,null,null,null,null,null,null,null,null,null,null,null,null,null,null,null,null,null,null,null,null,null,{"$f":"DY24","v":"Flush"},{"$f":"DZ24","v":{"$error":"#N/A"}},0,{"$error":"#N/A"},{"$error":"#N/A"},0,{"$error":"#N/A"}]
[null,null,null,null,null,null,null,null,null,null,null,null,null,null,null,null,null,null,null,null,null,null,null,null,null,null,null,null,null,null,null,null,null,null,null,null,null,null,null,null,null,null,null,null,null,null,null,null,null,null,null,null,null,null,null,null,null,null,null,null,null,null,null,null,null,null,null,null,null,null,null,null,null,{"$f":"EJ24","v":"Straight"},{"$f":"EK24","v":{"$error":"#N/A"}},{"$error":"#N/A"},{"$error":"#N/A"},{"$error":"#N/A"},{"$error":"#N/A"},{"$error":"#N/A"}]
[null,null,null,null,null,null,null,null,null,null,null,null,null,null,null,null,null,null,null,null,null,null,null,null,null,null,null,null,null,null,null,null,null,null,null,null,null,null,null,null,null,null,null,null,null,null,null,null,null,null,null,null,null,null,null,null,null,null,null,null,null,null,null,null,null,null,null,null,null,null,null,null,null,{"$f":"EU24","v":"Three of a Kind"},{"$f":"EV24","v":{"$error":"#N/A"}},0,{"$error":"#N/A"},{"$error":"#N/A"},0,{"$error":"#N/A"}]
[null,null,null,null,null,null,null,null,null,null,null,null,null,null,null,null,null,null,null,null,null,null,null,null,null,null,null,null,null,null,null,null,null,null,null,null,null,null,null,null,null,null,null,null,null,null,null,null,null,null,null,null,null,null,null,null,null,null,null,null,null,null,null,null,null,null,null,null,null,null,null,null,null,{"$f":"FF24","v":"Two Pair"},{"$f":"FG24","v":{"$error":"#N/A"}},0,{"$error":"#N/A"},{"$error":"#N/A"},0,{"$error":"#N/A"}]
[null,null,null,null,null,null,null,null,null,null,null,null,null,null,null,null,null,null,null,null,null,null,null,null,null,null,null,null,null,null,null,null,null,null,null,null,null,null,null,null,null,null,null,null,null,null,null,null,null,null,null,null,null,null,null,null,null,null,null,null,null,null,null,null,null,null,null,null,null,null,null,null,null,{"$f":"FQ24","v":"One Pair"},{"$f":"FR24","v":{"$error":"#N/A"}},0,{"$error":"#N/A"},{"$error":"#N/A"},0,{"$error":"#N/A"}]
[null,null,null,null,null,null,null,null,null,null,null,null,null,null,null,null,null,null,null,null,null,null,null,null,null,null,null,null,null,null,null,null,null,null,null,null,null,null,null,null,null,null,null,null,null,null,null,null,null,null,null,null,null,null,null,null,null,null,null,null,null,null,null,null,null,null,null,null,null,null,null,null,null,{"$f":"GB24","v":"High Card"},{"$f":"GC24","v":{"$error":"#N/A"}},0,{"$error":"#N/A"},{"$error":"#N/A"},0,{"$error":"#N/A"}]

{"sheet":"Pocket2","index":2,"n_rows":293,"n_cols":181,"rows_kept":293,"cut":false,"hidden":true,"merged":[]}
[1,"♠A",0.97049385204985628,{"$f":"IF(OR($W$2=B1,$X$2=B1),1,RANK(C1,$C$1:$C$52))","v":3},"S",1,{"$f":"LARGE($D$1:$D$52,1)","v":52},null,null,null,null,null,null,null,null,{"$f":"IF(ISBLANK(House1),INDEX($B$1:$B$52,MATCH(G1,$D$1:$D$52,0)), House1)","v":"♥3"},{"$f":"IF(ISBLANK(House2),INDEX($B$1:$B$52,MATCH(G2,$D$1:$D$52,0)),House2)","v":"♣J"},{"$f":"IF(ISBLANK(House3),INDEX($B$1:$B$52,MATCH(G3,$D$1:$D$52,0)),House3)","v":"♥7"},{"$f":"IF(ISBLANK(House4),INDEX($B$1:$B$52,MATCH(G4,$D$1:$D$52,0)),House4)","v":"♦7"},{"$f":"IF(ISBLANK(House5),INDEX($B$1:$B$52,MATCH(G5,$D$1:$D$52,0)),House5)","v":"♥8"},null,null,{"$f":"RANK(W8,$W$8:$AA$8,1)","v":{"$error":"#N/A"}},{"$f":"RANK(X8,$W$8:$AA$8,1)","v":{"$error":"#N/A"}},{"$error":"#N/A"},{"$error":"#N/A"},{"$error":"#N/A"},null,null,null,null,null,null,null,null,null,null,null,null,null,null,null,null,null,null,null,null,null,null,null,null,null,"Robot1",null,null,null,null,null,null,null,null,null,null,null,null,null,null,null,null,null,"Match?"]
[2,"♠2",0.91799341313964522,{"$f":"IF(OR($W$2=B2,$X$2=B2),1,RANK(C2,$C$1:$C$52))","v":5},"S",2,{"$f":"LARGE($D$1:$D$52,2)","v":51},null,null,null,null,null,null,null,1,null,null,null,null,null,null,null,{"$f":"[0]!Player21","v":0},{"$f":"[0]!Player22","v":0},{"$f":"$P$1","v":"♥3"},{"$f":"$Q$1","v":"♣J"},{"$f":"$R$1","v":"♥7"},null,null,null,null,null,null,null,null,null,null,null,null,null,null,null,null,null,null,null,null,null,null,null,null,null,null,null,null,null,null,null,null,null,null,null,null,null,null,null,null,null,"Robot1"]
[3,"♠3",0.21537432734014461,42,"S",3,{"$f":"LARGE($D$1:$D$52,3)","v":50},null,null,null,null,null,null,null,null,null,null,null,null,null,null,null,{"$f":"VLOOKUP(W2,$B$1:$F$52,5,0)","v":{"$error":"#N/A"}},{"$f":"VLOOKUP(X2,$B$1:$F$52,5,0)","v":{"$error":"#N/A"}},{"$f":"VLOOKUP(Y2,$B$1:$F$52,5,0)","v":3},{"$f":"VLOOKUP(Z2,$B$1:$F$52,5,0)","v":11},{"$f":"VLOOKUP(AA2,$B$1:$F$52,5,0)","v":7},null,null,null,null,null,null,null,null,null,null,null,null,null,null,null,null,null,null,null,null,null,null,null,null,null,null,null,null,null,null,null,null,null,null,null,null,null,null,null,null,null,"Number","Suit","Total"]
[4,"♠4",0.40503154488881865,31,"S",4,{"$f":"LARGE($D$1:$D$52,4)","v":49},null,null,null,null,null,null,null,null,null,null,null,null,null,null,null,{"$f":"VLOOKUP(W2,$B$1:$F$52,4,0)","v":{"$error":"#N/A"}},{"$f":"VLOOKUP(X2,$B$1:$F$52,4,0)","v":{"$error":"#N/A"}},{"$f":"VLOOKUP(Y2,$B$1:$F$52,4,0)","v":"H"},{"$f":"VLOOKUP(Z2,$B$1:$F$52,4,0)","v":"C"},{"$f":"VLOOKUP(AA2,$B$1:$F$52,4,0)","v":"H"},null,null,null,null,null,null,null,null,null,null,null,null,null,null,null,null,null,null,null,1,{"$f":"W5","v":{"$error":"#N/A"}},{"$f":"X5","v":{"$error":"#N/A"}},{"$f":"Y5","v":{"$error":"#N/A"}},{"$f":"Z5","v":{"$error":"#N/A"}},{"$f":"AA5","v":{"$error":"#N/A"}},null,{"$f":"INDEX($BL$4:$BL$13,MATCH(1,$BS$4:$BS$13,0))","v":{"$error":"#N/A"}},null,null,null,null,null,null,null,null,null,1,{"$f":"BX4","v":"Royal Flush"},null,null,null,{"$f":"CB4","v":{"$error":"#N/A"}},{"$error":"#N/A"},{"$error":"#N/A"},null,null,null,null,"Royal Flush",null,null,null,{"$f":"IF(AND(10=AV4,11=AW4,12=AX4,13=AY4,1=AZ4),1,0)","v":{"$error":"#N/A"}},{"$f":"IF(AND(AV25=AW25,AW25=AX25,AX25=AY25,AY25=AZ25),1,0)","v":{"$error":"#N/A"}},{"$f":"CB4*CC4","v":{"$error":"#N/A"}},null,null,null,null,"Straight Flush",null,null,null,{"$f":"IF(OR(AND(AV4<10,AW4=AV4+1,AX4=AW4+1,AY4=AX4+1,AZ4=AY4+1),AND(AV4=2,AW4=3,AX4=4,AY4=5,AZ4=1)),1,0)","v":{"$error":"#N/A"}},{"$f":"IF(AND(AV25=AW25,AW25=AX25,AX25=AY25,AY25=AZ25),1,0)","v":{"$error":"#N/A"}},{"$f":"CM4*CN4","v":{"$error":"#N/A"}},null,null,null,null,"Four of a Kind",null,null,null,{"$f":"IF(OR(AND(AV4=AW4,AW4=AX4,AX4=AY4),AND(AW4=AX4,AX4=AY4,AY4=AZ4)),1,0)","v":{"$error":"#N/A"}},null,{"$f":"CX4","v":{"$error":"#N/A"}},null,null,null,null,"Full House",null,null,null,{"$f":"IF(OR(AND(AV4=AW4,AW4=AX4,AY4=AZ4),AND(AV4=AW4,AX4=AY4,AY4=AZ4)),1,0)","v":{"$error":"#N/A"}},null,{"$f":"DI4","v":{"$error":"#N/A"}},null,null,null,null,"Flush",null,null,null,{"$f":"IF(AND(AV25=AW25,AW25=AX25,AX25=AY25,AY25=AZ25),1,0)","v":{"$error":"#N/A"}},null,{"$f":"DT4","v":{"$error":"#N/A"}},null,null,null,null,"Straight",null,null,null,{"$f":"IF(OR(\nAND(AV4<10,AW4=AV4+1,AX4=AW4+1,AY4=AX4+1,AZ4=AY4+1),\nAND(AV4=10,AW4=11,AX4=12,AY4=13,AZ4=1),\n),1,0)","v":{"$error":"#N/A"}},{"$f":"IF(AND(AV25=AW25,AW25=AX25,AX25=AY25,AY25=AZ25),0,1)","v":{"$error":"#N/A"}},{"$f":"EE4*EF4","v":{"$error":"#N/A"}},null,null,null,null,"Three of a Kind",null,null,null,{"$f":"IF(OR(AND(AV4=AW4,AW4=AX4,AY4<>AZ4),AND(AV4<>AW4,AX4=AY4,AY4=AZ4),AND(AW4=AX4,AX4=AY4)),1,0)","v":{"$error":"#N/A"}},null,{"$f":"EP4","v":{"$error":"#N/A"}},null,null,null,null,"Two Pair",null,null,null,{"$f":"IF(OR(AND(AV4=AW4,AX4=AY4,AZ4<>AV4,AZ4<>AX4,AW4<>AX4),AND(AW4=AX4,AY4=AZ4,AV4<>AW4,AV4<>AY4,AX4<>AY4),AND(AV4=AW4,AY4=AZ4,AX4<>AW4,AX4<>AY4,AW4<>AY4)),1,0)","v":{"$error":"#N/A"}},null,{"$f":"FA4","v":{"$error":"#N/A"}},null,null,null,null,"One Pair",null,null,null,{"$f":"IF(OR(AND(AV4=AW4,AW4<>AX4,AX4<>AY4,AY4<>AZ4),AND(AV4<>AW4,AW4=AX4,AX4<>AY4,AY4<>AZ4),AND(AV4<>AW4,AW4<>AX4,AX4=AY4,AY4<>AZ4),AND(AV4<>AW4,AW4<>AX4,AX4<>AY4,AY4=AZ4)),1,0)","v":{"$error":"#N/A"}},null,{"$f":"FL4","v":{"$error":"#N/A"}},null,null,null,null,"High Card",null,null,null,{"$f":"IF(AND(AV4<>AW4,AW4<>AX4,AX4<>AY4,AY4<>AZ4),1,0)","v":{"$error":"#N/A"}},null,{"$f":"FW4","v":{"$error":"#N/A"}}]
[5,"♠5",0.23256605268002184,40,"S",5,{"$f":"LARGE($D$1:$D$52,5)","v":48},null,null,null,null,null,null,null,null,null,null,null,null,null,null,null,{"$f":"HLOOKUP(W7,$W$1:$AA$4,3,0)","v":{"$error":"#N/A"}},{"$f":"HLOOKUP(X7,$W$1:$AA$4,3,0)","v":{"$error":"#N/A"}},{"$f":"HLOOKUP(Y7,$W$1:$AA$4,3,0)","v":{"$error":"#N/A"}},{"$f":"HLOOKUP(Z7,$W$1:$AA$4,3,0)","v":{"$error":"#N/A"}},{"$f":"HLOOKUP(AA7,$W$1:$AA$4,3,0)","v":{"$error":"#N/A"}},null,null,null,null,null,null,null,null,null,null,null,null,null,null,null,null,null,null,null,2,{"$f":"W14","v":{"$error":"#N/A"}},{"$f":"X14","v":{"$error":"#N/A"}},{"$f":"Y14","v":{"$error":"#N/A"}},{"$f":"Z14","v":{"$error":"#N/A"}},{"$f":"AA14","v":{"$error":"#N/A"}},null,{"$f":"INDEX($BL$4:$BL$13,MATCH(1,$BS$15:$BS$24,0))","v":{"$error":"#N/A"}},null,null,null,null,null,null,null,null,null,2,{"$f":"CI4","v":"Straight Flush"},null,null,null,{"$f":"CM4","v":{"$error":"#N/A"}},{"$error":"#N/A"},{"$error":"#N/A"},null,null,null,null,"Royal Flush",null,null,null,{"$error":"#N/A"},{"$error":"#N/A"},{"$error":"#N/A"},null,null,null,null,"Straight Flush",null,null,null,{"$error":"#N/A"},{"$error":"#N/A"},{"$f":"CM5*CN5","v":{"$error":"#N/A"}},null,null,null,null,"Four of a Kind",null,null,null,{"$error":"#N/A"},null,{"$error":"#N/A"},null,null,null,null,"Full House",null,null,null,{"$error":"#N/A"},null,{"$error":"#N/A"},null,null,null,null,"Flush",null,null,null,{"$error":"#N/A"},null,{"$error":"#N/A"},null,null,null,null,"Straight",null,null,null,{"$error":"#N/A"},{"$error":"#N/A"},{"$error":"#N/A"},null,null,null,null,"Three of a Kind",null,null,null,{"$error":"#N/A"},null,{"$error":"#N/A"},null,null,null,null,"Two Pair",null,null,null,{"$error":"#N/A"},null,{"$error":"#N/A"},null,null,null,null,"One Pair",null,null,null,{"$error":"#N/A"},null,{"$error":"#N/A"},null,null,null,null,"High Card",null,null,null,{"$error":"#N/A"},null,{"$error":"#N/A"}]
[6,"♠6",0.27574022255820607,38,"S",6,null,null,null,null,null,null,null,null,null,null,null,null,null,null,null,null,{"$f":"HLOOKUP(W7,$W$1:$AA$4,4,0)","v":{"$error":"#N/A"}},{"$f":"HLOOKUP(X7,$W$1:$AA$4,4,0)","v":{"$error":"#N/A"}},{"$f":"HLOOKUP(Y7,$W$1:$AA$4,4,0)","v":{"$error":"#N/A"}},{"$f":"HLOOKUP(Z7,$W$1:$AA$4,4,0)","v":{"$error":"#N/A"}},{"$f":"HLOOKUP(AA7,$W$1:$AA$4,4,0)","v":{"$error":"#N/A"}},null,null,null,null,null,null,null,null,null,null,null,null,null,null,null,null,null,null,null,3,{"$f":"W23","v":{"$error":"#N/A"}},{"$f":"X23","v":{"$error":"#N/A"}},{"$f":"Y23","v":{"$error":"#N/A"}},{"$f":"Z23","v":{"$error":"#N/A"}},{"$f":"AA23","v":{"$error":"#N/A"}},null,{"$f":"INDEX($BL$4:$BL$13,MATCH(1,$BS$26:$BS$35,0))","v":{"$error":"#N/A"}},null,null,null,null,null,null,null,null,null,3,{"$f":"CT4","v":"Four of a Kind"},null,null,null,{"$f":"CX4","v":{"$error":"#N/A"}},0,{"$error":"#N/A"},null,null,null,null,"Royal Flush",null,null,null,{"$error":"#N/A"},{"$error":"#N/A"},{"$error":"#N/A"},null,null,null,null,"Straight Flush",null,null,null,{"$error":"#N/A"},{"$error":"#N/A"},{"$error":"#N/A"},null,null,null,null,"Four of a Kind",null,null,null,{"$error":"#N/A"},null,{"$error":"#N/A"},null,null,null,null,"Full House",null,null,null,{"$error":"#N/A"},null,{"$error":"#N/A"},null,null,null,null,"Flush",null,null,null,{"$error":"#N/A"},null,{"$error":"#N/A"},null,null,null,null,"Straight",null,null,null,{"$error":"#N/A"},{"$error":"#N/A"},{"$error":"#N/A"},null,null,null,null,"Three of a Kind",null,null,null,{"$error":"#N/A"},null,{"$error":"#N/A"},null,null,null,null,"Two Pair",null,null,null,{"$error":"#N/A"},null,{"$error":"#N/A"},null,null,null,null,"One Pair",null,null,null,{"$error":"#N/A"},null,{"$error":"#N/A"},null,null,null,null,"High Card",null,null,null,{"$error":"#N/A"},null,{"$error":"#N/A"}]
[7,"♠7",0.55110472642680075,24,"S",7,null,null,null,null,null,null,null,null,null,null,null,null,null,null,null,null,1,2,3,4,5,null,null,null,null,null,null,null,null,null,null,null,null,null,null,null,null,null,null,null,4,{"$f":"W32","v":{"$error":"#N/A"}},{"$f":"X32","v":{"$error":"#N/A"}},{"$f":"Y32","v":{"$error":"#N/A"}},{"$f":"Z32","v":{"$error":"#N/A"}},{"$f":"AA32","v":{"$error":"#N/A"}},null,{"$f":"INDEX($BL$4:$BL$13,MATCH(1,$BS$37:$BS$46,0))","v":{"$error":"#N/A"}},null,null,null,null,null,null,null,null,null,4,{"$f":"DE4","v":"Full House"},null,null,null,{"$f":"DI4","v":{"$error":"#N/A"}},0,{"$error":"#N/A"},null,null,null,null,"Royal Flush",null,null,null,{"$error":"#N/A"},{"$error":"#N/A"},{"$error":"#N/A"},null,null,null,null,"Straight Flush",null,null,null,{"$error":"#N/A"},{"$error":"#N/A"},{"$error":"#N/A"},null,null,null,null,"Four of a Kind",null,null,null,{"$error":"#N/A"},null,{"$error":"#N/A"},null,null,null,null,"Full House",null,null,null,{"$error":"#N/A"},null,{"$error":"#N/A"},null,null,null,null,"Flush",null,null,null,{"$error":"#N/A"},null,{"$error":"#N/A"},null,null,null,null,"Straight",null,null,null,{"$error":"#N/A"},{"$error":"#N/A"},{"$error":"#N/A"},null,null,null,null,"Three of a Kind",null,null,null,{"$error":"#N/A"},null,{"$error":"#N/A"},null,null,null,null,"Two Pair",null,null,null,{"$error":"#N/A"},null,{"$error":"#N/A"},null,null,null,null,"One Pair",null,null,null,{"$error":"#N/A"},null,{"$error":"#N/A"},null,null,null,null,"High Card",null,null,null,{"$error":"#N/A"},null,{"$error":"#N/A"}]
[8,"♠8",0.47848267321554339,27,"S",8,null,null,null,null,null,null,null,null,null,null,null,null,null,null,null,{"$f":"V3+IF(V3=1,13+RAND()^3,RAND()^3)","v":4.4213064315436493E-2},{"$error":"#N/A"},{"$error":"#N/A"},3.1096232743311911,11.064191553417137,7.0566087052634598,null,null,null,null,null,null,null,null,null,null,null,null,null,null,null,null,null,null,null,5,{"$f":"W41","v":{"$error":"#N/A"}},{"$f":"X41","v":{"$error":"#N/A"}},{"$f":"Y41","v":{"$error":"#N/A"}},{"$f":"Z41","v":{"$error":"#N/A"}},{"$f":"AA41","v":{"$error":"#N/A"}},null,{"$f":"INDEX($BL$4:$BL$13,MATCH(1,$BS$48:$BS$57,0))","v":{"$error":"#N/A"}},null,null,null,null,null,null,null,null,null,5,{"$f":"DP4","v":"Flush"},null,null,null,{"$f":"DT4","v":{"$error":"#N/A"}},0,{"$error":"#N/A"},null,null,null,null,"Royal Flush",null,null,null,{"$error":"#N/A"},{"$error":"#N/A"},{"$error":"#N/A"},null,null,null,null,"Straight Flush",null,null,null,{"$error":"#N/A"},{"$error":"#N/A"},{"$error":"#N/A"},null,null,null,null,"Four of a Kind",null,null,null,{"$error":"#N/A"},null,{"$error":"#N/A"},null,null,null,null,"Full House",null,null,null,{"$error":"#N/A"},null,{"$error":"#N/A"},null,null,null,null,"Flush",null,null,null,{"$error":"#N/A"},null,{"$error":"#N/A"},null,null,null,null,"Straight",null,null,null,{"$error":"#N/A"},{"$error":"#N/A"},{"$error":"#N/A"},null,null,null,null,"Three of a Kind",null,null,null,{"$error":"#N/A"},null,{"$error":"#N/A"},null,null,null,null,"Two Pair",null,null,null,{"$error":"#N/A"},null,{"$error":"#N/A"},null,null,null,null,"One Pair",null,null,null,{"$error":"#N/A"},null,{"$error":"#N/A"},null,null,null,null,"High Card",null,null,null,{"$error":"#N/A"},null,{"$error":"#N/A"}]
[9,"♠9",0.75370936287352319,14,"S",9,null,null,null,null,null,null,null,null,null,null,null,null,null,null,null,null,null,null,null,null,null,null,null,null,null,null,null,null,null,null,null,null,null,null,null,null,null,null,null,null,6,{"$f":"W50","v":{"$error":"#N/A"}},{"$f":"X50","v":{"$error":"#N/A"}},{"$f":"Y50","v":{"$error":"#N/A"}},{"$f":"Z50","v":{"$error":"#N/A"}},{"$f":"AA50","v":{"$error":"#N/A"}},null,{"$f":"INDEX($BL$4:$BL$13,MATCH(1,$BS$59:$BS$68,0))","v":{"$error":"#N/A"}},null,null,null,null,null,null,null,null,null,6,{"$f":"EA4","v":"Straight"},null,null,null,{"$f":"EE4","v":{"$error":"#N/A"}},{"$error":"#N/A"},{"$error":"#N/A"},null,null,null,null,"Royal Flush",null,null,null,{"$error":"#N/A"},{"$error":"#N/A"},{"$error":"#N/A"},null,null,null,null,"Straight Flush",null,null,null,{"$error":"#N/A"},{"$error":"#N/A"},{"$error":"#N/A"},null,null,null,null,"Four of a Kind",null,null,null,{"$error":"#N/A"},null,{"$error":"#N/A"},null,null,null,null,"Full House",null,null,null,{"$error":"#N/A"},null,{"$error":"#N/A"},null,null,null,null,"Flush",null,null,null,{"$error":"#N/A"},null,{"$error":"#N/A"},null,null,null,null,"Straight",null,null,null,{"$error":"#N/A"},{"$error":"#N/A"},{"$error":"#N/A"},null,null,null,null,"Three of a Kind",null,null,null,{"$error":"#N/A"},null,{"$error":"#N/A"},null,null,null,null,"Two Pair",null,null,null,{"$error":"#N/A"},null,{"$error":"#N/A"},null,null,null,null,"One Pair",null,null,null,{"$error":"#N/A"},null,{"$error":"#N/A"},null,null,null,null,"High Card",null,null,null,{"$error":"#N/A"},null,{"$error":"#N/A"}]
[10,"♠10",0.29125545812199161,36,"S",10,null,null,null,null,null,null,null,null,null,null,null,null,null,null,null,null,{"$f":"RANK(W17,$W$17:$AA$17,1)","v":{"$error":"#N/A"}},{"$f":"RANK(X17,$W$17:$AA$17,1)","v":{"$error":"#N/A"}},{"$f":"RANK(Y17,$W$17:$AA$17,1)","v":{"$error":"#N/A"}},{"$f":"RANK(Z17,$W$17:$AA$17,1)","v":{"$error":"#N/A"}},{"$f":"RANK(AA17,$W$17:$AA$17,1)","v":{"$error":"#N/A"}},null,null,null,null,null,null,null,null,null,null,null,null,null,null,null,null,null,null,null,7,{"$f":"W59","v":{"$error":"#N/A"}},{"$f":"X59","v":{"$error":"#N/A"}},{"$f":"Y59","v":{"$error":"#N/A"}},{"$f":"Z59","v":{"$error":"#N/A"}},{"$f":"AA59","v":{"$error":"#N/A"}},null,{"$f":"INDEX($BL$4:$BL$13,MATCH(1,$BS$70:$BS$79,0))","v":{"$error":"#N/A"}},null,null,null,null,null,null,null,null,null,7,{"$f":"EL4","v":"Three of a Kind"},null,null,null,{"$f":"EP4","v":{"$error":"#N/A"}},0,{"$error":"#N/A"},null,null,null,null,"Royal Flush",null,null,null,{"$error":"#N/A"},{"$error":"#N/A"},{"$error":"#N/A"},null,null,null,null,"Straight Flush",null,null,null,{"$error":"#N/A"},{"$error":"#N/A"},{"$error":"#N/A"},null,null,null,null,"Four of a Kind",null,null,null,{"$error":"#N/A"},null,{"$error":"#N/A"},null,null,null,null,"Full House",null,null,null,{"$error":"#N/A"},null,{"$error":"#N/A"},null,null,null,null,"Flush",null,null,null,{"$error":"#N/A"},null,{"$error":"#N/A"},null,null,null,null,"Straight",null,null,null,{"$error":"#N/A"},{"$error":"#N/A"},{"$error":"#N/A"},null,null,null,null,"Three of a Kind",null,null,null,{"$error":"#N/A"},null,{"$error":"#N/A"},null,null,null,null,"Two Pair",null,null,null,{"$error":"#N/A"},null,{"$error":"#N/A"},null,null,null,null,"One Pair",null,null,null,{"$error":"#N/A"},null,{"$error":"#N/A"},null,null,null,null,"High Card",null,null,null,{"$error":"#N/A"},null,{"$error":"#N/A"}]
[11,"♠J",0.36174534604205522,35,"S",11,null,null,null,null,null,null,null,null,2,null,null,null,null,null,null,null,{"$f":"[0]!Player21","v":0},{"$f":"[0]!Player22","v":0},{"$f":"$P$1","v":"♥3"},{"$f":"$Q$1","v":"♣J"},{"$f":"$S$1","v":"♦7"},null,null,null,null,null,null,null,null,null,null,null,null,null,null,null,null,null,null,null,8,{"$f":"W68","v":{"$error":"#N/A"}},{"$f":"X68","v":{"$error":"#N/A"}},{"$f":"Y68","v":{"$error":"#N/A"}},{"$f":"Z68","v":{"$error":"#N/A"}},{"$f":"AA68","v":{"$error":"#N/A"}},null,{"$f":"INDEX($BL$4:$BL$13,MATCH(1,$BS$81:$BS$90,0))","v":{"$error":"#N/A"}},null,null,null,null,null,null,null,null,null,8,{"$f":"EW4","v":"Two Pair"},null,null,null,{"$f":"FA4","v":{"$error":"#N/A"}},0,{"$error":"#N/A"},null,null,null,null,"Royal Flush",null,null,null,{"$error":"#N/A"},{"$error":"#N/A"},{"$error":"#N/A"},null,null,null,null,"Straight Flush",null,null,null,{"$error":"#N/A"},{"$error":"#N/A"},{"$error":"#N/A"},null,null,null,null,"Four of a Kind",null,null,null,{"$error":"#N/A"},null,{"$error":"#N/A"},null,null,null,null,"Full House",null,null,null,{"$error":"#N/A"},null,{"$error":"#N/A"},null,null,null,null,"Flush",null,null,null,{"$error":"#N/A"},null,{"$error":"#N/A"},null,null,null,null,"Straight",null,null,null,{"$error":"#N/A"},{"$error":"#N/A"},{"$error":"#N/A"},null,null,null,null,"Three of a Kind",null,null,null,{"$error":"#N/A"},null,{"$error":"#N/A"},null,null,null,null,"Two Pair",null,null,null,{"$error":"#N/A"},null,{"$error":"#N/A"},null,null,null,null,"One Pair",null,null,null,{"$error":"#N/A"},null,{"$error":"#N/A"},null,null,null,null,"High Card",null,null,null,{"$error":"#N/A"},null,{"$error":"#N/A"}]
[12,"♠Q",0.37905507989921849,34,"S",12,null,null,null,null,null,null,null,null,null,null,null,null,null,null,null,null,{"$f":"VLOOKUP(W11,$B$1:$F$52,5,0)","v":{"$error":"#N/A"}},{"$f":"VLOOKUP(X11,$B$1:$F$52,5,0)","v":{"$error":"#N/A"}},{"$f":"VLOOKUP(Y11,$B$1:$F$52,5,0)","v":3},{"$f":"VLOOKUP(Z11,$B$1:$F$52,5,0)","v":11},{"$f":"VLOOKUP(AA11,$B$1:$F$52,5,0)","v":7},null,null,null,null,null,null,null,null,null,null,null,null,null,null,null,null,null,null,null,9,{"$f":"W77","v":{"$error":"#N/A"}},{"$f":"X77","v":{"$error":"#N/A"}},{"$f":"Y77","v":{"$error":"#N/A"}},{"$f":"Z77","v":{"$error":"#N/A"}},{"$f":"AA77","v":{"$error":"#N/A"}},null,{"$f":"INDEX($BL$4:$BL$13,MATCH(1,$BS$92:$BS$101,0))","v":{"$error":"#N/A"}},null,null,null,null,null,null,null,null,null,9,{"$f":"FH4","v":"One Pair"},null,null,null,{"$f":"FL4","v":{"$error":"#N/A"}},0,{"$error":"#N/A"},null,null,null,null,"Royal Flush",null,null,null,{"$error":"#N/A"},{"$error":"#N/A"},{"$error":"#N/A"},null,null,null,null,"Straight Flush",null,null,null,{"$error":"#N/A"},{"$error":"#N/A"},{"$error":"#N/A"},null,null,null,null,"Four of a Kind",null,null,null,{"$error":"#N/A"},null,{"$error":"#N/A"},null,null,null,null,"Full House",null,null,null,{"$error":"#N/A"},null,{"$error":"#N/A"},null,null,null,null,"Flush",null,null,null,{"$error":"#N/A"},null,{"$error":"#N/A"},null,null,null,null,"Straight",null,null,null,{"$error":"#N/A"},{"$error":"#N/A"},{"$error":"#N/A"},null,null,null,null,"Three of a Kind",null,null,null,{"$error":"#N/A"},null,{"$error":"#N/A"},null,null,null,null,"Two Pair",null,null,null,{"$error":"#N/A"},null,{"$error":"#N/A"},null,null,null,null,"One Pair",null,null,null,{"$error":"#N/A"},null,{"$error":"#N/A"},null,null,null,null,"High Card",null,null,null,{"$error":"#N/A"},null,{"$error":"#N/A"}]
[13,"♠K",0.69144707211118162,16,"S",13,null,null,null,null,null,null,null,null,null,null,null,null,null,null,null,null,{"$f":"VLOOKUP(W11,$B$1:$F$52,4,0)","v":{"$error":"#N/A"}},{"$f":"VLOOKUP(X11,$B$1:$F$52,4,0)","v":{"$error":"#N/A"}},{"$f":"VLOOKUP(Y11,$B$1:$F$52,4,0)","v":"H"},{"$f":"VLOOKUP(Z11,$B$1:$F$52,4,0)","v":"C"},{"$f":"VLOOKUP(AA11,$B$1:$F$52,4,0)","v":"D"},null,null,null,null,null,null,null,null,null,null,null,null,null,null,null,null,null,null,null,10,{"$f":"W86","v":{"$error":"#N/A"}},{"$f":"X86","v":{"$error":"#N/A"}},{"$f":"Y86","v":{"$error":"#N/A"}},{"$f":"Z86","v":{"$error":"#N/A"}},{"$f":"AA86","v":{"$error":"#N/A"}},null,{"$f":"INDEX($BL$4:$BL$13,MATCH(1,$BS$103:$BS$112,0))","v":{"$error":"#N/A"}},null,null,null,null,null,null,null,null,null,10,{"$f":"FS4","v":"High Card"},null,null,null,{"$f":"FW4","v":{"$error":"#N/A"}},0,{"$error":"#N/A"},null,null,null,null,"Royal Flush",null,null,null,{"$error":"#N/A"},{"$error":"#N/A"},{"$error":"#N/A"},null,null,null,null,"Straight Flush",null,null,null,{"$error":"#N/A"},{"$error":"#N/A"},{"$error":"#N/A"},null,null,null,null,"Four of a Kind",null,null,null,{"$error":"#N/A"},null,{"$error":"#N/A"},null,null,null,null,"Full House",null,null,null,{"$error":"#N/A"},null,{"$error":"#N/A"},null,null,null,null,"Flush",null,null,null,{"$error":"#N/A"},null,{"$error":"#N/A"},null,null,null,null,"Straight",null,null,null,{"$error":"#N/A"},{"$error":"#N/A"},{"$error":"#N/A"},null,null,null,null,"Three of a Kind",null,null,null,{"$error":"#N/A"},null,{"$error":"#N/A"},null,null,null,null,"Two Pair",null,null,null,{"$error":"#N/A"},null,{"$error":"#N/A"},null,null,null,null,"One Pair",null,null,null,{"$error":"#N/A"},null,{"$error":"#N/A"},null,null,null,null,"High Card",null,null,null,{"$error":"#N/A"},null,{"$error":"#N/A"}]
[14,"♣A",0.9833272398269326,2,"C",1,null,null,null,null,null,null,null,null,null,null,null,null,null,null,null,null,{"$f":"HLOOKUP(W16,$W$10:$AA$13,3,0)","v":{"$error":"#N/A"}},{"$f":"HLOOKUP(X16,$W$10:$AA$13,3,0)","v":{"$error":"#N/A"}},{"$f":"HLOOKUP(Y16,$W$10:$AA$13,3,0)","v":{"$error":"#N/A"}},{"$f":"HLOOKUP(Z16,$W$10:$AA$13,3,0)","v":{"$error":"#N/A"}},{"$f":"HLOOKUP(AA16,$W$10:$AA$13,3,0)","v":{"$error":"#N/A"}},null,null,null,null,null,null,null,null,null,null,null,null,null,null,null,null,null,null,null,11,{"$f":"W95","v":{"$error":"#N/A"}},{"$f":"X95","v":{"$error":"#N/A"}},{"$f":"Y95","v":{"$error":"#N/A"}},{"$f":"Z95","v":{"$error":"#N/A"}},{"$f":"AA95","v":{"$error":"#N/A"}},null,{"$f":"INDEX($BL$4:$BL$13,MATCH(1,$BS$114:$BS$123,0))","v":{"$error":"#N/A"}},null,null,null,null,null,null,null,null,null,null,null,null,null,null,null,null,null,null,null,null,null,"Royal Flush",null,null,null,{"$error":"#N/A"},{"$error":"#N/A"},{"$error":"#N/A"},null,null,null,null,"Straight Flush",null,null,null,{"$error":"#N/A"},{"$error":"#N/A"},{"$error":"#N/A"},null,null,null,null,"Four of a Kind",null,null,null,{"$error":"#N/A"},null,{"$error":"#N/A"},null,null,null,null,"Full House",null,null,null,{"$error":"#N/A"},null,{"$error":"#N/A"},null,null,null,null,"Flush",null,null,null,{"$error":"#N/A"},null,{"$error":"#N/A"},null,null,null,null,"Straight",null,null,null,{"$error":"#N/A"},{"$error":"#N/A"},{"$error":"#N/A"},null,null,null,null,"Three of a Kind",null,null,null,{"$error":"#N/A"},null,{"$error":"#N/A"},null,null,null,null,"Two Pair",null,null,null,{"$error":"#N/A"},null,{"$error":"#N/A"},null,null,null,null,"One Pair",null,null,null,{"$error":"#N/A"},null,{"$error":"#N/A"},null,null,null,null,"High Card",null,null,null,{"$error":"#N/A"},null,{"$error":"#N/A"}]
[15,"♣2",0.27851597249860105,37,"C",2,null,null,null,null,null,null,null,null,null,null,null,null,null,null,null,null,{"$f":"HLOOKUP(W16,$W$10:$AA$13,4,0)","v":{"$error":"#N/A"}},{"$f":"HLOOKUP(X16,$W$10:$AA$13,4,0)","v":{"$error":"#N/A"}},{"$f":"HLOOKUP(Y16,$W$10:$AA$13,4,0)","v":{"$error":"#N/A"}},{"$f":"HLOOKUP(Z16,$W$10:$AA$13,4,0)","v":{"$error":"#N/A"}},{"$f":"HLOOKUP(AA16,$W$10:$AA$13,4,0)","v":{"$error":"#N/A"}},null,null,null,null,null,null,null,null,null,null,null,null,null,null,null,null,null,null,null,12,{"$f":"W104","v":{"$error":"#N/A"}},{"$f":"X104","v":{"$error":"#N/A"}},{"$f":"Y104","v":{"$error":"#N/A"}},{"$f":"Z104","v":{"$error":"#N/A"}},{"$f":"AA104","v":{"$error":"#N/A"}},null,{"$f":"INDEX($BL$4:$BL$13,MATCH(1,$BS$125:$BS$134,0))","v":{"$error":"#N/A"}},null,null,null,null,null,null,null,null,null,2,{"$f":"BX5","v":"Royal Flush"},null,null,null,{"$f":"CB5","v":{"$error":"#N/A"}},{"$error":"#N/A"},{"$error":"#N/A"},null,null,null,null,"Royal Flush",null,null,null,{"$error":"#N/A"},{"$error":"#N/A"},{"$error":"#N/A"},null,null,null,null,"Straight Flush",null,null,null,{"$error":"#N/A"},{"$error":"#N/A"},{"$error":"#N/A"},null,null,null,null,"Four of a Kind",null,null,null,{"$error":"#N/A"},null,{"$error":"#N/A"},null,null,null,null,"Full House",null,null,null,{"$error":"#N/A"},null,{"$error":"#N/A"},null,null,null,null,"Flush",null,null,null,{"$error":"#N/A"},null,{"$error":"#N/A"},null,null,null,null,"Straight",null,null,null,{"$error":"#N/A"},{"$error":"#N/A"},{"$error":"#N/A"},null,null,null,null,"Three of a Kind",null,null,null,{"$error":"#N/A"},null,{"$error":"#N/A"},null,null,null,null,"Two Pair",null,null,null,{"$error":"#N/A"},null,{"$error":"#N/A"},null,null,null,null,"One Pair",null,null,null,{"$error":"#N/A"},null,{"$error":"#N/A"},null,null,null,null,"High Card",null,null,null,{"$error":"#N/A"},null,{"$error":"#N/A"}]
[16,"♣3",0.59111861791102815,21,"C",3,null,null,null,null,null,null,null,null,null,null,null,null,null,null,null,null,1,2,3,4,5,null,null,null,null,null,null,null,null,null,null,null,null,null,null,null,null,null,null,null,13,{"$f":"W113","v":{"$error":"#N/A"}},{"$f":"X113","v":{"$error":"#N/A"}},{"$f":"Y113","v":{"$error":"#N/A"}},{"$f":"Z113","v":{"$error":"#N/A"}},{"$f":"AA113","v":{"$error":"#N/A"}},null,{"$f":"INDEX($BL$4:$BL$13,MATCH(1,$BS$136:$BS$145,0))","v":{"$error":"#N/A"}},null,null,null,null,null,null,null,null,null,null,{"$f":"CI5","v":"Straight Flush"},null,null,null,{"$f":"CM5","v":{"$error":"#N/A"}},{"$error":"#N/A"},{"$error":"#N/A"},null,null,null,null,"Royal Flush",null,null,null,{"$error":"#N/A"},{"$error":"#N/A"},{"$error":"#N/A"},null,null,null,null,"Straight Flush",null,null,null,{"$error":"#N/A"},{"$error":"#N/A"},{"$error":"#N/A"},null,null,null,null,"Four of a Kind",null,null,null,{"$error":"#N/A"},null,{"$error":"#N/A"},null,null,null,null,"Full House",null,null,null,{"$error":"#N/A"},null,{"$error":"#N/A"},null,null,null,null,"Flush",null,null,null,{"$error":"#N/A"},null,{"$error":"#N/A"},null,null,null,null,"Straight",null,null,null,{"$error":"#N/A"},{"$error":"#N/A"},{"$error":"#N/A"},null,null,null,null,"Three of a Kind",null,null,null,{"$error":"#N/A"},null,{"$error":"#N/A"},null,null,null,null,"Two Pair",null,null,null,{"$error":"#N/A"},null,{"$error":"#N/A"},null,null,null,null,"One Pair",null,null,null,{"$error":"#N/A"},null,{"$error":"#N/A"},null,null,null,null,"High Card",null,null,null,{"$error":"#N/A"},null,{"$error":"#N/A"}]
[17,"♣4",0.15220302140867292,44,"C",4,null,null,null,null,null,null,null,null,null,null,null,null,null,null,null,{"$f":"V12+IF(V12=1,13+RAND()^3,RAND()^3)","v":0.58022409946951181},{"$error":"#N/A"},{"$error":"#N/A"},3.8516616473624596,11.760565096190648,7.1947805653181023,null,null,null,null,null,null,null,null,null,null,null,null,null,null,null,null,null,null,null,14,{"$f":"W122","v":{"$error":"#N/A"}},{"$f":"X122","v":{"$error":"#N/A"}},{"$f":"Y122","v":{"$error":"#N/A"}},{"$f":"Z122","v":{"$error":"#N/A"}},{"$f":"AA122","v":{"$error":"#N/A"}},null,{"$f":"INDEX($BL$4:$BL$13,MATCH(1,$BS$147:$BS$156,0))","v":{"$error":"#N/A"}},null,null,null,null,null,null,null,null,null,null,{"$f":"CT5","v":"Four of a Kind"},null,null,null,{"$f":"CX5","v":{"$error":"#N/A"}},0,{"$error":"#N/A"},null,null,null,null,"Royal Flush",null,null,null,{"$error":"#N/A"},{"$error":"#N/A"},{"$error":"#N/A"},null,null,null,null,"Straight Flush",null,null,null,{"$error":"#N/A"},{"$error":"#N/A"},{"$error":"#N/A"},null,null,null,null,"Four of a Kind",null,null,null,{"$error":"#N/A"},null,{"$error":"#N/A"},null,null,null,null,"Full House",null,null,null,{"$error":"#N/A"},null,{"$error":"#N/A"},null,null,null,null,"Flush",null,null,null,{"$error":"#N/A"},null,{"$error":"#N/A"},null,null,null,null,"Straight",null,null,null,{"$error":"#N/A"},{"$error":"#N/A"},{"$error":"#N/A"},null,null,null,null,"Three of a Kind",null,null,null,{"$error":"#N/A"},null,{"$error":"#N/A"},null,null,null,null,"Two Pair",null,null,null,{"$error":"#N/A"},null,{"$error":"#N/A"},null,null,null,null,"One Pair",null,null,null,{"$error":"#N/A"},null,{"$error":"#N/A"},null,null,null,null,"High Card",null,null,null,{"$error":"#N/A"},null,{"$error":"#N/A"}]
[18,"♣5",0.95527087998668525,4,"C",5,null,null,null,null,null,null,null,null,null,null,null,null,null,null,null,null,null,null,null,null,null,null,null,null,null,null,null,null,null,null,null,null,null,null,null,null,null,null,null,null,15,{"$f":"W131","v":{"$error":"#N/A"}},{"$f":"X131","v":{"$error":"#N/A"}},{"$f":"Y131","v":{"$error":"#N/A"}},{"$f":"Z131","v":{"$error":"#N/A"}},{"$f":"AA131","v":{"$error":"#N/A"}},null,{"$f":"INDEX($BL$4:$BL$13,MATCH(1,$BS$158:$BS$167,0))","v":{"$error":"#N/A"}},null,null,null,null,null,null,null,null,null,null,{"$f":"DE5","v":"Full House"},null,null,null,{"$f":"DI5","v":{"$error":"#N/A"}},0,{"$error":"#N/A"},null,null,null,null,"Royal Flush",null,null,null,{"$error":"#N/A"},{"$error":"#N/A"},{"$error":"#N/A"},null,null,null,null,"Straight Flush",null,null,null,{"$error":"#N/A"},{"$error":"#N/A"},{"$error":"#N/A"},null,null,null,null,"Four of a Kind",null,null,null,{"$error":"#N/A"},null,{"$error":"#N/A"},null,null,null,null,"Full House",null,null,null,{"$error":"#N/A"},null,{"$error":"#N/A"},null,null,null,null,"Flush",null,null,null,{"$error":"#N/A"},null,{"$error":"#N/A"},null,null,null,null,"Straight",null,null,null,{"$error":"#N/A"},{"$error":"#N/A"},{"$error":"#N/A"},null,null,null,null,"Three of a Kind",null,null,null,{"$error":"#N/A"},null,{"$error":"#N/A"},null,null,null,null,"Two Pair",null,null,null,{"$error":"#N/A"},null,{"$error":"#N/A"},null,null,null,null,"One Pair",null,null,null,{"$error":"#N/A"},null,{"$error":"#N/A"},null,null,null,null,"High Card",null,null,null,{"$error":"#N/A"},null,{"$error":"#N/A"}]
[19,"♣6",0.14669246462953778,46,"C",6,null,null,null,null,null,null,null,null,null,null,null,null,null,null,null,null,{"$f":"RANK(W26,$W$26:$AA$26,1)","v":{"$error":"#N/A"}},{"$f":"RANK(X26,$W$26:$AA$26,1)","v":{"$error":"#N/A"}},{"$f":"RANK(Y26,$W$26:$AA$26,1)","v":{"$error":"#N/A"}},{"$f":"RANK(Z26,$W$26:$AA$26,1)","v":{"$error":"#N/A"}},{"$f":"RANK(AA26,$W$26:$AA$26,1)","v":{"$error":"#N/A"}},null,null,null,null,null,null,null,null,null,null,null,null,null,null,null,null,null,null,null,16,{"$f":"W140","v":{"$error":"#N/A"}},{"$f":"X140","v":{"$error":"#N/A"}},{"$f":"Y140","v":{"$error":"#N/A"}},{"$f":"Z140","v":{"$error":"#N/A"}},{"$f":"AA140","v":{"$error":"#N/A"}},null,{"$f":"INDEX($BL$4:$BL$13,MATCH(1,$BS$169:$BS$178,0))","v":{"$error":"#N/A"}},null,null,null,null,null,null,null,null,null,null,{"$f":"DP5","v":"Flush"},null,null,null,{"$f":"DT5","v":{"$error":"#N/A"}},0,{"$error":"#N/A"},null,null,null,null,"Royal Flush",null,null,null,{"$error":"#N/A"},{"$error":"#N/A"},{"$error":"#N/A"},null,null,null,null,"Straight Flush",null,null,null,{"$error":"#N/A"},{"$error":"#N/A"},{"$error":"#N/A"},null,null,null,null,"Four of a Kind",null,null,null,{"$error":"#N/A"},null,{"$error":"#N/A"},null,null,null,null,"Full House",null,null,null,{"$error":"#N/A"},null,{"$error":"#N/A"},null,null,null,null,"Flush",null,null,null,{"$error":"#N/A"},null,{"$error":"#N/A"},null,null,null,null,"Straight",null,null,null,{"$error":"#N/A"},{"$error":"#N/A"},{"$error":"#N/A"},null,null,null,null,"Three of a Kind",null,null,null,{"$error":"#N/A"},null,{"$error":"#N/A"},null,null,null,null,"Two Pair",null,null,null,{"$error":"#N/A"},null,{"$error":"#N/A"},null,null,null,null,"One Pair",null,null,null,{"$error":"#N/A"},null,{"$error":"#N/A"},null,null,null,null,"High Card",null,null,null,{"$error":"#N/A"},null,{"$error":"#N/A"}]
[20,"♣7",0.24777279533206575,39,"C",7,null,null,null,null,null,null,null,null,3,null,null,null,null,null,null,null,{"$f":"[0]!Player21","v":0},{"$f":"[0]!Player22","v":0},{"$f":"$P$1","v":"♥3"},{"$f":"$Q$1","v":"♣J"},{"$f":"$T$1","v":"♥8"},null,null,null,null,null,null,null,null,null,null,null,null,null,null,null,null,null,null,null,17,{"$f":"W149","v":{"$error":"#N/A"}},{"$f":"X149","v":{"$error":"#N/A"}},{"$f":"Y149","v":{"$error":"#N/A"}},{"$f":"Z149","v":{"$error":"#N/A"}},{"$f":"AA149","v":{"$error":"#N/A"}},null,{"$f":"INDEX($BL$4:$BL$13,MATCH(1,$BS$180:$BS$189,0))","v":{"$error":"#N/A"}},null,null,null,null,null,null,null,null,null,null,{"$f":"EA5","v":"Straight"},null,null,null,{"$f":"EE5","v":{"$error":"#N/A"}},{"$error":"#N/A"},{"$error":"#N/A"},null,null,null,null,"Royal Flush",null,null,null,{"$error":"#N/A"},{"$error":"#N/A"},{"$error":"#N/A"},null,null,null,null,"Straight Flush",null,null,null,{"$error":"#N/A"},{"$error":"#N/A"},{"$error":"#N/A"},null,null,null,null,"Four of a Kind",null,null,null,{"$error":"#N/A"},null,{"$error":"#N/A"},null,null,null,null,"Full House",null,null,null,{"$error":"#N/A"},null,{"$error":"#N/A"},null,null,null,null,"Flush",null,null,null,{"$error":"#N/A"},null,{"$error":"#N/A"},null,null,null,null,"Straight",null,null,null,{"$error":"#N/A"},{"$error":"#N/A"},{"$error":"#N/A"},null,null,null,null,"Three of a Kind",null,null,null,{"$error":"#N/A"},null,{"$error":"#N/A"},null,null,null,null,"Two Pair",null,null,null,{"$error":"#N/A"},null,{"$error":"#N/A"},null,null,null,null,"One Pair",null,null,null,{"$error":"#N/A"},null,{"$error":"#N/A"},null,null,null,null,"High Card",null,null,null,{"$error":"#N/A"},null,{"$error":"#N/A"}]
[21,"♣8",0.39473086015222902,33,"C",8,null,null,null,null,null,null,null,null,null,null,null,null,null,null,null,null,{"$f":"VLOOKUP(W20,$B$1:$F$52,5,0)","v":{"$error":"#N/A"}},{"$f":"VLOOKUP(X20,$B$1:$F$52,5,0)","v":{"$error":"#N/A"}},{"$f":"VLOOKUP(Y20,$B$1:$F$52,5,0)","v":3},{"$f":"VLOOKUP(Z20,$B$1:$F$52,5,0)","v":11},{"$f":"VLOOKUP(AA20,$B$1:$F$52,5,0)","v":8},null,null,null,null,null,null,null,null,null,null,null,null,null,null,null,null,null,null,null,18,{"$f":"W158","v":{"$error":"#N/A"}},{"$f":"X158","v":{"$error":"#N/A"}},{"$f":"Y158","v":{"$error":"#N/A"}},{"$f":"Z158","v":{"$error":"#N/A"}},{"$f":"AA158","v":{"$error":"#N/A"}},null,{"$f":"INDEX($BL$4:$BL$13,MATCH(1,$BS$191:$BS$200,0))","v":{"$error":"#N/A"}},null,null,null,null,null,null,null,null,null,null,{"$f":"EL5","v":"Three of a Kind"},null,null,null,{"$f":"EP5","v":{"$error":"#N/A"}},0,{"$error":"#N/A"},null,null,null,null,"Royal Flush",null,null,null,{"$error":"#N/A"},{"$error":"#N/A"},{"$error":"#N/A"},null,null,null,null,"Straight Flush",null,null,null,{"$error":"#N/A"},{"$error":"#N/A"},{"$error":"#N/A"},null,null,null,null,"Four of a Kind",null,null,null,{"$error":"#N/A"},null,{"$error":"#N/A"},null,null,null,null,"Full House",null,null,null,{"$error":"#N/A"},null,{"$error":"#N/A"},null,null,null,null,"Flush",null,null,null,{"$error":"#N/A"},null,{"$error":"#N/A"},null,null,null,null,"Straight",null,null,null,{"$error":"#N/A"},{"$error":"#N/A"},{"$error":"#N/A"},null,null,null,null,"Three of a Kind",null,null,null,{"$error":"#N/A"},null,{"$error":"#N/A"},null,null,null,null,"Two Pair",null,null,null,{"$error":"#N/A"},null,{"$error":"#N/A"},null,null,null,null,"One Pair",null,null,null,{"$error":"#N/A"},null,{"$error":"#N/A"},null,null,null,null,"High Card",null,null,null,{"$error":"#N/A"},null,{"$error":"#N/A"}]
[22,"♣9",0.16803802153360003,43,"C",9,null,null,null,null,null,null,null,null,null,null,null,null,null,null,null,null,{"$f":"VLOOKUP(W20,$B$1:$F$52,4,0)","v":{"$error":"#N/A"}},{"$f":"VLOOKUP(X20,$B$1:$F$52,4,0)","v":{"$error":"#N/A"}},{"$f":"VLOOKUP(Y20,$B$1:$F$52,4,0)","v":"H"},{"$f":"VLOOKUP(Z20,$B$1:$F$52,4,0)","v":"C"},{"$f":"VLOOKUP(AA20,$B$1:$F$52,4,0)","v":"H"},null,null,null,null,null,null,null,null,null,null,null,null,null,null,null,null,null,null,null,19,{"$f":"W167","v":{"$error":"#N/A"}},{"$f":"X167","v":{"$error":"#N/A"}},{"$f":"Y167","v":{"$error":"#N/A"}},{"$f":"Z167","v":{"$error":"#N/A"}},{"$f":"AA167","v":{"$error":"#N/A"}},null,{"$f":"INDEX($BL$4:$BL$13,MATCH(1,$BS$202:$BS$211,0))","v":{"$error":"#N/A"}},null,null,null,null,null,null,null,null,null,null,{"$f":"EW5","v":"Two Pair"},null,null,null,{"$f":"FA5","v":{"$error":"#N/A"}},0,{"$error":"#N/A"},null,null,null,null,"Royal Flush",null,null,null,{"$error":"#N/A"},{"$error":"#N/A"},{"$error":"#N/A"},null,null,null,null,"Straight Flush",null,null,null,{"$error":"#N/A"},{"$error":"#N/A"},{"$error":"#N/A"},null,null,null,null,"Four of a Kind",null,null,null,{"$error":"#N/A"},null,{"$error":"#N/A"},null,null,null,null,"Full House",null,null,null,{"$error":"#N/A"},null,{"$error":"#N/A"},null,null,null,null,"Flush",null,null,null,{"$error":"#N/A"},null,{"$error":"#N/A"},null,null,null,null,"Straight",null,null,null,{"$error":"#N/A"},{"$error":"#N/A"},{"$error":"#N/A"},null,null,null,null,"Three of a Kind",null,null,null,{"$error":"#N/A"},null,{"$error":"#N/A"},null,null,null,null,"Two Pair",null,null,null,{"$error":"#N/A"},null,{"$error":"#N/A"},null,null,null,null,"One Pair",null,null,null,{"$error":"#N/A"},null,{"$error":"#N/A"},null,null,null,null,"High Card",null,null,null,{"$error":"#N/A"},null,{"$error":"#N/A"}]
[23,"♣10",0.43891604577171861,29,"C",10,null,null,null,null,null,null,null,null,null,null,null,null,null,null,null,null,{"$f":"HLOOKUP(W25,$W$19:$AA$22,3,0)","v":{"$error":"#N/A"}},{"$f":"HLOOKUP(X25,$W$19:$AA$22,3,0)","v":{"$error":"#N/A"}},{"$f":"HLOOKUP(Y25,$W$19:$AA$22,3,0)","v":{"$error":"#N/A"}},{"$f":"HLOOKUP(Z25,$W$19:$AA$22,3,0)","v":{"$error":"#N/A"}},{"$f":"HLOOKUP(AA25,$W$19:$AA$22,3,0)","v":{"$error":"#N/A"}},null,null,null,null,null,null,null,null,null,null,null,null,null,null,null,null,null,null,null,20,{"$f":"W176","v":{"$error":"#N/A"}},{"$f":"X176","v":{"$error":"#N/A"}},{"$f":"Y176","v":{"$error":"#N/A"}},{"$f":"Z176","v":{"$error":"#N/A"}},{"$f":"AA176","v":{"$error":"#N/A"}},null,{"$f":"INDEX($BL$4:$BL$13,MATCH(1,$BS$213:$BS$222,0))","v":{"$error":"#N/A"}},null,null,null,null,null,null,null,null,null,null,{"$f":"FH5","v":"One Pair"},null,null,null,{"$f":"FL5","v":{"$error":"#N/A"}},0,{"$error":"#N/A"},null,null,null,null,"Royal Flush",null,null,null,{"$error":"#N/A"},{"$error":"#N/A"},{"$error":"#N/A"},null,null,null,null,"Straight Flush",null,null,null,{"$error":"#N/A"},{"$error":"#N/A"},{"$error":"#N/A"},null,null,null,null,"Four of a Kind",null,null,null,{"$error":"#N/A"},null,{"$error":"#N/A"},null,null,null,null,"Full House",null,null,null,{"$error":"#N/A"},null,{"$error":"#N/A"},null,null,null,null,"Flush",null,null,null,{"$error":"#N/A"},null,{"$error":"#N/A"},null,null,null,null,"Straight",null,null,null,{"$error":"#N/A"},{"$error":"#N/A"},{"$error":"#N/A"},null,null,null,null,"Three of a Kind",null,null,null,{"$error":"#N/A"},null,{"$error":"#N/A"},null,null,null,null,"Two Pair",null,null,null,{"$error":"#N/A"},null,{"$error":"#N/A"},null,null,null,null,"One Pair",null,null,null,{"$error":"#N/A"},null,{"$error":"#N/A"},null,null,null,null,"High Card",null,null,null,{"$error":"#N/A"},null,{"$error":"#N/A"}]
[24,"♣J",2.0015927237216902E-2,51,"C",11,null,null,null,null,null,null,null,null,null,null,null,null,null,null,null,null,{"$f":"HLOOKUP(W25,$W$19:$AA$22,4,0)","v":{"$error":"#N/A"}},{"$f":"HLOOKUP(X25,$W$19:$AA$22,4,0)","v":{"$error":"#N/A"}},{"$f":"HLOOKUP(Y25,$W$19:$AA$22,4,0)","v":{"$error":"#N/A"}},{"$f":"HLOOKUP(Z25,$W$19:$AA$22,4,0)","v":{"$error":"#N/A"}},{"$f":"HLOOKUP(AA25,$W$19:$AA$22,4,0)","v":{"$error":"#N/A"}},null,null,null,null,null,null,null,null,null,null,null,null,null,null,null,null,null,null,null,21,{"$f":"W185","v":3},{"$f":"X185","v":7},{"$f":"Y185","v":7},{"$f":"Z185","v":8},{"$f":"AA185","v":11},null,{"$f":"INDEX($BL$4:$BL$13,MATCH(1,$BS$224:$BS$233,0))","v":9},null,null,null,null,null,null,null,null,null,null,{"$f":"FS5","v":"High Card"},null,null,null,{"$f":"FW5","v":{"$error":"#N/A"}},0,{"$error":"#N/A"},null,null,null,null,"Royal Flush",null,null,null,0,0,0,null,null,null,null,"Straight Flush",null,null,null,0,0,0,null,null,null,null,"Four of a Kind",null,null,null,0,null,0,null,null,null,null,"Full House",null,null,null,0,null,0,null,null,null,null,"Flush",null,null,null,0,null,0,null,null,null,null,"Straight",null,null,null,0,1,0,null,null,null,null,"Three of a Kind",null,null,null,0,null,0,null,null,null,null,"Two Pair",null,null,null,0,null,0,null,null,null,null,"One Pair",null,null,null,1,null,1,null,null,null,null,"High Card",null,null,null,0,null,0]
[25,"♣Q",0.80897247773686365,10,"C",12,null,null,null,null,null,null,null,null,null,null,null,null,null,null,null,null,1,2,3,4,5,null,null,null,null,null,null,null,null,null,null,null,null,null,null,null,null,null,null,null,1,{"$f":"W6","v":{"$error":"#N/A"}},{"$f":"X6","v":{"$error":"#N/A"}},{"$f":"Y6","v":{"$error":"#N/A"}},{"$f":"Z6","v":{"$error":"#N/A"}},{"$f":"AA6","v":{"$error":"#N/A"}}]
[26,"♣K",0.83984639662225136,9,"C",13,null,null,null,null,null,null,null,null,null,null,null,null,null,null,null,{"$f":"V21+IF(V21=1,13+RAND()^3,RAND()^3)","v":2.5481628079051643E-2},{"$error":"#N/A"},{"$error":"#N/A"},3.0008236331774856,11.180978726832221,8.3276759121720332,null,null,null,null,null,null,null,null,null,null,null,null,null,null,null,null,null,null,null,2,{"$f":"W15","v":{"$error":"#N/A"}},{"$f":"X15","v":{"$error":"#N/A"}},{"$f":"Y15","v":{"$error":"#N/A"}},{"$f":"Z15","v":{"$error":"#N/A"}},{"$f":"AA15","v":{"$error":"#N/A"}},null,null,null,null,null,null,null,null,null,null,null,3,{"$f":"BX6","v":"Royal Flush"},null,null,null,{"$f":"CB6","v":{"$error":"#N/A"}},{"$error":"#N/A"},{"$error":"#N/A"}]
[27,"♦A",0.63937563427642474,18,"D",1,null,null,null,null,null,null,null,null,null,null,null,null,null,null,null,null,null,null,null,null,null,null,null,null,null,null,null,null,null,null,null,null,null,null,null,null,null,null,null,null,3,{"$f":"W24","v":{"$error":"#N/A"}},{"$f":"X24","v":{"$error":"#N/A"}},{"$f":"Y24","v":{"$error":"#N/A"}},{"$f":"Z24","v":{"$error":"#N/A"}},{"$f":"AA24","v":{"$error":"#N/A"}},null,null,null,null,null,null,null,null,null,null,null,null,{"$f":"CI6","v":"Straight Flush"},null,null,null,{"$f":"CM6","v":{"$error":"#N/A"}},{"$error":"#N/A"},{"$error":"#N/A"}]
[28,"♦2",9.7871415734627432E-2,47,"D",2,null,null,null,null,null,null,null,null,null,null,null,null,null,null,null,null,{"$f":"RANK(W35,$W$35:$AA$35,1)","v":{"$error":"#N/A"}},{"$f":"RANK(X35,$W$35:$AA$35,1)","v":{"$error":"#N/A"}},{"$f":"RANK(Y35,$W$35:$AA$35,1)","v":{"$error":"#N/A"}},{"$f":"RANK(Z35,$W$35:$AA$35,1)","v":{"$error":"#N/A"}},{"$f":"RANK(AA35,$W$35:$AA$35,1)","v":{"$error":"#N/A"}},null,null,null,null,null,null,null,null,null,null,null,null,null,null,null,null,null,null,null,4,{"$f":"W33","v":{"$error":"#N/A"}},{"$f":"X33","v":{"$error":"#N/A"}},{"$f":"Y33","v":{"$error":"#N/A"}},{"$f":"Z33","v":{"$error":"#N/A"}},{"$f":"AA33","v":{"$error":"#N/A"}},null,null,null,null,null,null,null,null,null,null,null,null,{"$f":"CT6","v":"Four of a Kind"},null,null,null,{"$f":"CX6","v":{"$error":"#N/A"}},0,{"$error":"#N/A"}]
[29,"♦3",0.22860321538515616,41,"D",3,null,null,null,null,null,null,null,null,4,null,null,null,null,null,null,null,{"$f":"[0]!Player21","v":0},{"$f":"[0]!Player22","v":0},{"$f":"$P$1","v":"♥3"},{"$f":"$R$1","v":"♥7"},{"$f":"$S$1","v":"♦7"},null,null,null,null,null,null,null,null,null,null,null,null,null,null,null,null,null,null,null,5,{"$f":"W42","v":{"$error":"#N/A"}},{"$f":"X42","v":{"$error":"#N/A"}},{"$f":"Y42","v":{"$error":"#N/A"}},{"$f":"Z42","v":{"$error":"#N/A"}},{"$f":"AA42","v":{"$error":"#N/A"}},null,null,null,null,null,null,null,null,null,null,null,null,{"$f":"DE6","v":"Full House"},null,null,null,{"$f":"DI6","v":{"$error":"#N/A"}},0,{"$error":"#N/A"}]
[30,"♦4",0.7921563794360974,11,"D",4,null,null,null,null,null,null,null,null,null,null,null,null,null,null,null,null,{"$f":"VLOOKUP(W29,$B$1:$F$52,5,0)","v":{"$error":"#N/A"}},{"$f":"VLOOKUP(X29,$B$1:$F$52,5,0)","v":{"$error":"#N/A"}},{"$f":"VLOOKUP(Y29,$B$1:$F$52,5,0)","v":3},{"$f":"VLOOKUP(Z29,$B$1:$F$52,5,0)","v":7},{"$f":"VLOOKUP(AA29,$B$1:$F$52,5,0)","v":7},null,null,null,null,null,null,null,null,null,null,null,null,null,null,null,null,null,null,null,6,{"$f":"W51","v":{"$error":"#N/A"}},{"$f":"X51","v":{"$error":"#N/A"}},{"$f":"Y51","v":{"$error":"#N/A"}},{"$f":"Z51","v":{"$error":"#N/A"}},{"$f":"AA51","v":{"$error":"#N/A"}},null,null,null,null,null,null,null,null,null,null,null,null,{"$f":"DP6","v":"Flush"},null,null,null,{"$f":"DT6","v":{"$error":"#N/A"}},0,{"$error":"#N/A"}]
[31,"♦5",0.98896719391808119,1,"D",5,null,null,null,null,null,null,null,null,null,null,null,null,null,null,null,null,{"$f":"VLOOKUP(W29,$B$1:$F$52,4,0)","v":{"$error":"#N/A"}},{"$f":"VLOOKUP(X29,$B$1:$F$52,4,0)","v":{"$error":"#N/A"}},{"$f":"VLOOKUP(Y29,$B$1:$F$52,4,0)","v":"H"},{"$f":"VLOOKUP(Z29,$B$1:$F$52,4,0)","v":"H"},{"$f":"VLOOKUP(AA29,$B$1:$F$52,4,0)","v":"D"},null,null,null,null,null,null,null,null,null,null,null,null,null,null,null,null,null,null,null,7,{"$f":"W60","v":{"$error":"#N/A"}},{"$f":"X60","v":{"$error":"#N/A"}},{"$f":"Y60","v":{"$error":"#N/A"}},{"$f":"Z60","v":{"$error":"#N/A"}},{"$f":"AA60","v":{"$error":"#N/A"}},null,null,null,null,null,null,null,null,null,null,null,null,{"$f":"EA6","v":"Straight"},null,null,null,{"$f":"EE6","v":{"$error":"#N/A"}},{"$error":"#N/A"},{"$error":"#N/A"}]
[32,"♦6",0.75534995406674621,13,"D",6,null,null,null,null,null,null,null,null,null,null,null,null,null,null,null,null,{"$f":"HLOOKUP(W34,$W$28:$AA$31,3,0)","v":{"$error":"#N/A"}},{"$f":"HLOOKUP(X34,$W$28:$AA$31,3,0)","v":{"$error":"#N/A"}},{"$f":"HLOOKUP(Y34,$W$28:$AA$31,3,0)","v":{"$error":"#N/A"}},{"$f":"HLOOKUP(Z34,$W$28:$AA$31,3,0)","v":{"$error":"#N/A"}},{"$f":"HLOOKUP(AA34,$W$28:$AA$31,3,0)","v":{"$error":"#N/A"}},null,null,null,null,null,null,null,null,null,null,null,null,null,null,null,null,null,null,null,8,{"$f":"W69","v":{"$error":"#N/A"}},{"$f":"X69","v":{"$error":"#N/A"}},{"$f":"Y69","v":{"$error":"#N/A"}},{"$f":"Z69","v":{"$error":"#N/A"}},{"$f":"AA69","v":{"$error":"#N/A"}},null,null,null,null,null,null,null,null,null,null,null,null,{"$f":"EL6","v":"Three of a Kind"},null,null,null,{"$f":"EP6","v":{"$error":"#N/A"}},0,{"$error":"#N/A"}]
[33,"♦7",5.2021298824009854E-2,49,"D",7,null,null,null,null,null,null,null,null,null,null,null,null,null,null,null,null,{"$f":"HLOOKUP(W34,$W$28:$AA$31,4,0)","v":{"$error":"#N/A"}},{"$f":"HLOOKUP(X34,$W$28:$AA$31,4,0)","v":{"$error":"#N/A"}},{"$f":"HLOOKUP(Y34,$W$28:$AA$31,4,0)","v":{"$error":"#N/A"}},{"$f":"HLOOKUP(Z34,$W$28:$AA$31,4,0)","v":{"$error":"#N/A"}},{"$f":"HLOOKUP(AA34,$W$28:$AA$31,4,0)","v":{"$error":"#N/A"}},null,null,null,null,null,null,null,null,null,null,null,null,null,null,null,null,null,null,null,9,{"$f":"W78","v":{"$error":"#N/A"}},{"$f":"X78","v":{"$error":"#N/A"}},{"$f":"Y78","v":{"$error":"#N/A"}},{"$f":"Z78","v":{"$error":"#N/A"}},{"$f":"AA78","v":{"$error":"#N/A"}},null,null,null,null,null,null,null,null,null,null,null,null,{"$f":"EW6","v":"Two Pair"},null,null,null,{"$f":"FA6","v":{"$error":"#N/A"}},0,{"$error":"#N/A"}]
[34,"♦8",0.45391589301146062,28,"D",8,null,null,null,null,null,null,null,null,null,null,null,null,null,null,null,null,1,2,3,4,5,null,null,null,null,null,null,null,null,null,null,null,null,null,null,null,null,null,null,null,10,{"$f":"W87","v":{"$error":"#N/A"}},{"$f":"X87","v":{"$error":"#N/A"}},{"$f":"Y87","v":{"$error":"#N/A"}},{"$f":"Z87","v":{"$error":"#N/A"}},{"$f":"AA87","v":{"$error":"#N/A"}},null,null,null,null,null,null,null,null,null,null,null,null,{"$f":"FH6","v":"One Pair"},null,null,null,{"$f":"FL6","v":{"$error":"#N/A"}},0,{"$error":"#N/A"}]
[35,"♦9",0.90618394261369906,6,"D",9,null,null,null,null,null,null,null,null,null,null,null,null,null,null,null,{"$f":"V30+IF(V30=1,13+RAND()^3,RAND()^3)","v":0.35824164119583535},{"$error":"#N/A"},{"$error":"#N/A"},3.2655790710748711,7.2694977374328076,7.2381241545145256,null,null,null,null,null,null,null,null,null,null,null,null,null,null,null,null,null,null,null,11,{"$f":"W96","v":{"$error":"#N/A"}},{"$f":"X96","v":{"$error":"#N/A"}},{"$f":"Y96","v":{"$error":"#N/A"}},{"$f":"Z96","v":{"$error":"#N/A"}},{"$f":"AA96","v":{"$error":"#N/A"}},null,null,null,null,null,null,null,null,null,null,null,null,{"$f":"FS6","v":"High Card"},null,null,null,{"$f":"FW6","v":{"$error":"#N/A"}},0,{"$error":"#N/A"}]
[36,"♦10",0.14954485277011542,45,"D",10,null,null,null,null,null,null,null,null,null,null,null,null,null,null,null,null,null,null,null,null,null,null,null,null,null,null,null,null,null,null,null,null,null,null,null,null,null,null,null,null,12,{"$f":"W105","v":{"$error":"#N/A"}},{"$f":"X105","v":{"$error":"#N/A"}},{"$f":"Y105","v":{"$error":"#N/A"}},{"$f":"Z105","v":{"$error":"#N/A"}},{"$f":"AA105","v":{"$error":"#N/A"}}]
[37,"♦J",0.40292064435081965,32,"D",11,null,null,null,null,null,null,null,null,null,null,null,null,null,null,null,null,{"$f":"RANK(W44,$W$44:$AA$44,1)","v":{"$error":"#N/A"}},{"$f":"RANK(X44,$W$44:$AA$44,1)","v":{"$error":"#N/A"}},{"$f":"RANK(Y44,$W$44:$AA$44,1)","v":{"$error":"#N/A"}},{"$f":"RANK(Z44,$W$44:$AA$44,1)","v":{"$error":"#N/A"}},{"$f":"RANK(AA44,$W$44:$AA$44,1)","v":{"$error":"#N/A"}},null,null,null,null,null,null,null,null,null,null,null,null,null,null,null,null,null,null,null,13,{"$f":"W114","v":{"$error":"#N/A"}},{"$f":"X114","v":{"$error":"#N/A"}},{"$f":"Y114","v":{"$error":"#N/A"}},{"$f":"Z114","v":{"$error":"#N/A"}},{"$f":"AA114","v":{"$error":"#N/A"}},null,null,null,null,null,null,null,null,null,null,null,4,{"$f":"BX7","v":"Royal Flush"},null,null,null,{"$f":"CB7","v":{"$error":"#N/A"}},{"$error":"#N/A"},{"$error":"#N/A"}]
[38,"♦Q",0.59058976203795177,22,"D",12,null,null,null,null,null,null,null,null,5,null,null,null,null,null,null,null,{"$f":"[0]!Player21","v":0},{"$f":"[0]!Player22","v":0},{"$f":"$P$1","v":"♥3"},{"$f":"$R$1","v":"♥7"},{"$f":"$T$1","v":"♥8"},null,null,null,null,null,null,null,null,null,null,null,null,null,null,null,null,null,null,null,14,{"$f":"W123","v":{"$error":"#N/A"}},{"$f":"X123","v":{"$error":"#N/A"}},{"$f":"Y123","v":{"$error":"#N/A"}},{"$f":"Z123","v":{"$error":"#N/A"}},{"$f":"AA123","v":{"$error":"#N/A"}},null,null,null,null,null,null,null,null,null,null,null,null,{"$f":"CI7","v":"Straight Flush"},null,null,null,{"$f":"CM7","v":{"$error":"#N/A"}},{"$error":"#N/A"},{"$error":"#N/A"}]
[39,"♦K",0.86251352954695681,8,"D",13,null,null,null,null,null,null,null,null,null,null,null,null,null,null,null,null,{"$f":"VLOOKUP(W38,$B$1:$F$52,5,0)","v":{"$error":"#N/A"}},{"$f":"VLOOKUP(X38,$B$1:$F$52,5,0)","v":{"$error":"#N/A"}},{"$f":"VLOOKUP(Y38,$B$1:$F$52,5,0)","v":3},{"$f":"VLOOKUP(Z38,$B$1:$F$52,5,0)","v":7},{"$f":"VLOOKUP(AA38,$B$1:$F$52,5,0)","v":8},null,null,null,null,null,null,null,null,null,null,null,null,null,null,null,null,null,null,null,15,{"$f":"W132","v":{"$error":"#N/A"}},{"$f":"X132","v":{"$error":"#N/A"}},{"$f":"Y132","v":{"$error":"#N/A"}},{"$f":"Z132","v":{"$error":"#N/A"}},{"$f":"AA132","v":{"$error":"#N/A"}},null,null,null,null,null,null,null,null,null,null,null,null,{"$f":"CT7","v":"Four of a Kind"},null,null,null,{"$f":"CX7","v":{"$error":"#N/A"}},0,{"$error":"#N/A"}]
[40,"♥A",0.87417668264401216,7,"H",1,null,null,null,null,null,null,null,null,null,null,null,null,null,null,null,null,{"$f":"VLOOKUP(W38,$B$1:$F$52,4,0)","v":{"$error":"#N/A"}},{"$f":"VLOOKUP(X38,$B$1:$F$52,4,0)","v":{"$error":"#N/A"}},{"$f":"VLOOKUP(Y38,$B$1:$F$52,4,0)","v":"H"},{"$f":"VLOOKUP(Z38,$B$1:$F$52,4,0)","v":"H"},{"$f":"VLOOKUP(AA38,$B$1:$F$52,4,0)","v":"H"},null,null,null,null,null,null,null,null,null,null,null,null,null,null,null,null,null,null,null,16,{"$f":"W141","v":{"$error":"#N/A"}},{"$f":"X141","v":{"$error":"#N/A"}},{"$f":"Y141","v":{"$error":"#N/A"}},{"$f":"Z141","v":{"$error":"#N/A"}},{"$f":"AA141","v":{"$error":"#N/A"}},null,null,null,null,null,null,null,null,null,null,null,null,{"$f":"DE7","v":"Full House"},null,null,null,{"$f":"DI7","v":{"$error":"#N/A"}},0,{"$error":"#N/A"}]
[41,"♥2",0.43677769598207705,30,"H",2,null,null,null,null,null,null,null,null,null,null,null,null,null,null,null,null,{"$f":"HLOOKUP(W43,$W$37:$AA$40,3,0)","v":{"$error":"#N/A"}},{"$f":"HLOOKUP(X43,$W$37:$AA$40,3,0)","v":{"$error":"#N/A"}},{"$f":"HLOOKUP(Y43,$W$37:$AA$40,3,0)","v":{"$error":"#N/A"}},{"$f":"HLOOKUP(Z43,$W$37:$AA$40,3,0)","v":{"$error":"#N/A"}},{"$f":"HLOOKUP(AA43,$W$37:$AA$40,3,0)","v":{"$error":"#N/A"}},null,null,null,null,null,null,null,null,null,null,null,null,null,null,null,null,null,null,null,17,{"$f":"W150","v":{"$error":"#N/A"}},{"$f":"X150","v":{"$error":"#N/A"}},{"$f":"Y150","v":{"$error":"#N/A"}},{"$f":"Z150","v":{"$error":"#N/A"}},{"$f":"AA150","v":{"$error":"#N/A"}},null,null,null,null,null,null,null,null,null,null,null,null,{"$f":"DP7","v":"Flush"},null,null,null,{"$f":"DT7","v":{"$error":"#N/A"}},0,{"$error":"#N/A"}]
[42,"♥3",1.0894710896600435E-2,52,"H",3,null,null,null,null,null,null,null,null,null,null,null,null,null,null,null,null,{"$f":"HLOOKUP(W43,$W$37:$AA$40,4,0)","v":{"$error":"#N/A"}},{"$f":"HLOOKUP(X43,$W$37:$AA$40,4,0)","v":{"$error":"#N/A"}},{"$f":"HLOOKUP(Y43,$W$37:$AA$40,4,0)","v":{"$error":"#N/A"}},{"$f":"HLOOKUP(Z43,$W$37:$AA$40,4,0)","v":{"$error":"#N/A"}},{"$f":"HLOOKUP(AA43,$W$37:$AA$40,4,0)","v":{"$error":"#N/A"}},null,null,null,null,null,null,null,null,null,null,null,null,null,null,null,null,null,null,null,18,{"$f":"W159","v":{"$error":"#N/A"}},{"$f":"X159","v":{"$error":"#N/A"}},{"$f":"Y159","v":{"$error":"#N/A"}},{"$f":"Z159","v":{"$error":"#N/A"}},{"$f":"AA159","v":{"$error":"#N/A"}},null,null,null,null,null,null,null,null,null,null,null,null,{"$f":"EA7","v":"Straight"},null,null,null,{"$f":"EE7","v":{"$error":"#N/A"}},{"$error":"#N/A"},{"$error":"#N/A"}]
[43,"♥4",0.77118575697888136,12,"H",4,null,null,null,null,null,null,null,null,null,null,null,null,null,null,null,null,1,2,3,4,5,null,null,null,null,null,null,null,null,null,null,null,null,null,null,null,null,null,null,null,19,{"$f":"W168","v":{"$error":"#N/A"}},{"$f":"X168","v":{"$error":"#N/A"}},{"$f":"Y168","v":{"$error":"#N/A"}},{"$f":"Z168","v":{"$error":"#N/A"}},{"$f":"AA168","v":{"$error":"#N/A"}},null,null,null,null,null,null,null,null,null,null,null,null,{"$f":"EL7","v":"Three of a Kind"},null,null,null,{"$f":"EP7","v":{"$error":"#N/A"}},0,{"$error":"#N/A"}]
[44,"♥5",0.73035268159579003,15,"H",5,null,null,null,null,null,null,null,null,null,null,null,null,null,null,null,{"$f":"V39+IF(V39=1,13+RAND()^3,RAND()^3)","v":3.9275212033344491E-2},{"$error":"#N/A"},{"$error":"#N/A"},3.0023699208292749,7.5581989300885821,8.8922676888870065,null,null,null,null,null,null,null,null,null,null,null,null,null,null,null,null,null,null,null,20,{"$f":"W177","v":{"$error":"#N/A"}},{"$f":"X177","v":{"$error":"#N/A"}},{"$f":"Y177","v":{"$error":"#N/A"}},{"$f":"Z177","v":{"$error":"#N/A"}},{"$f":"AA177","v":{"$error":"#N/A"}},null,null,null,null,null,null,null,null,null,null,null,null,{"$f":"EW7","v":"Two Pair"},null,null,null,{"$f":"FA7","v":{"$error":"#N/A"}},0,{"$error":"#N/A"}]
[45,"♥6",0.58054037802828096,23,"H",6,null,null,null,null,null,null,null,null,null,null,null,null,null,null,null,null,null,null,null,null,null,null,null,null,null,null,null,null,null,null,null,null,null,null,null,null,null,null,null,null,21,{"$f":"W186","v":"H"},{"$f":"X186","v":"H"},{"$f":"Y186","v":"D"},{"$f":"Z186","v":"H"},{"$f":"AA186","v":"C"},null,null,null,null,null,null,null,null,null,null,null,null,{"$f":"FH7","v":"One Pair"},null,null,null,{"$f":"FL7","v":{"$error":"#N/A"}},0,{"$error":"#N/A"}]
[46,"♥7",3.9703946459695771E-2,50,"H",7,null,null,null,null,null,null,null,null,null,null,null,null,null,null,null,null,{"$f":"RANK(W53,$W$53:$AA$53,1)","v":{"$error":"#N/A"}},{"$f":"RANK(X53,$W$53:$AA$53,1)","v":{"$error":"#N/A"}},{"$f":"RANK(Y53,$W$53:$AA$53,1)","v":{"$error":"#N/A"}},{"$f":"RANK(Z53,$W$53:$AA$53,1)","v":{"$error":"#N/A"}},{"$f":"RANK(AA53,$W$53:$AA$53,1)","v":{"$error":"#N/A"}},null,null,null,null,null,null,null,null,null,null,null,null,null,null,null,null,null,null,null,null,null,null,null,null,null,null,null,null,null,null,null,null,null,null,null,null,null,{"$f":"FS7","v":"High Card"},null,null,null,{"$f":"FW7","v":{"$error":"#N/A"}},0,{"$error":"#N/A"}]
[47,"♥8",6.8032677997803548E-2,48,"H",8,null,null,null,null,null,null,null,null,6,null,null,null,null,null,null,null,{"$f":"[0]!Player21","v":0},{"$f":"[0]!Player22","v":0},{"$f":"$P$1","v":"♥3"},{"$f":"$S$1","v":"♦7"},{"$f":"$T$1","v":"♥8"},null,null,null,null,null,null,null,null,null,null,null,null,null,null,null,null,null,null,null,"Seq","1st","2nd","3rd","4th","5th","Hand","Rank"]
[48,"♥9",0.6793640547927875,17,"H",9,null,null,null,null,null,null,null,null,null,null,null,null,null,null,null,null,{"$f":"VLOOKUP(W47,$B$1:$F$52,5,0)","v":{"$error":"#N/A"}},{"$f":"VLOOKUP(X47,$B$1:$F$52,5,0)","v":{"$error":"#N/A"}},{"$f":"VLOOKUP(Y47,$B$1:$F$52,5,0)","v":3},{"$f":"VLOOKUP(Z47,$B$1:$F$52,5,0)","v":7},{"$f":"VLOOKUP(AA47,$B$1:$F$52,5,0)","v":8},null,null,null,null,null,null,null,null,null,null,null,null,null,null,null,null,null,null,null,17,3,3,8,8,9,0,8,null,null,null,null,null,null,null,null,null,5,{"$f":"BX8","v":"Royal Flush"},null,null,null,{"$f":"CB8","v":{"$error":"#N/A"}},{"$error":"#N/A"},{"$error":"#N/A"}]
[49,"♥10",0.47898850716116714,26,"H",10,null,null,null,null,null,null,null,null,null,null,null,null,null,null,null,null,{"$f":"VLOOKUP(W47,$B$1:$F$52,4,0)","v":{"$error":"#N/A"}},{"$f":"VLOOKUP(X47,$B$1:$F$52,4,0)","v":{"$error":"#N/A"}},{"$f":"VLOOKUP(Y47,$B$1:$F$52,4,0)","v":"H"},{"$f":"VLOOKUP(Z47,$B$1:$F$52,4,0)","v":"D"},{"$f":"VLOOKUP(AA47,$B$1:$F$52,4,0)","v":"H"},null,null,null,null,null,null,null,null,null,null,null,null,null,null,null,null,null,null,null,5,3,3,7,8,8,0,8,null,null,null,null,null,null,null,null,null,null,{"$f":"CI8","v":"Straight Flush"},null,null,null,{"$f":"CM8","v":{"$error":"#N/A"}},{"$error":"#N/A"},{"$error":"#N/A"}]
[50,"♥J",0.59404741008891082,20,"H",11,null,null,null,null,null,null,null,null,null,null,null,null,null,null,null,null,{"$f":"HLOOKUP(W52,$W$46:$AA$49,3,0)","v":{"$error":"#N/A"}},{"$f":"HLOOKUP(X52,$W$46:$AA$49,3,0)","v":{"$error":"#N/A"}},{"$f":"HLOOKUP(Y52,$W$46:$AA$49,3,0)","v":{"$error":"#N/A"}},{"$f":"HLOOKUP(Z52,$W$46:$AA$49,3,0)","v":{"$error":"#N/A"}},{"$f":"HLOOKUP(AA52,$W$46:$AA$49,3,0)","v":{"$error":"#N/A"}},null,null,null,null,null,null,null,null,null,null,null,null,null,null,null,null,null,null,null,19,3,3,6,8,8,0,8,null,null,null,null,null,null,null,null,null,null,{"$f":"CT8","v":"Four of a Kind"},null,null,null,{"$f":"CX8","v":{"$error":"#N/A"}},0,{"$error":"#N/A"}]
[51,"♥Q",0.49490991707622156,25,"H",12,null,null,null,null,null,null,null,null,null,null,null,null,null,null,null,null,{"$f":"HLOOKUP(W52,$W$46:$AA$49,4,0)","v":{"$error":"#N/A"}},{"$f":"HLOOKUP(X52,$W$46:$AA$49,4,0)","v":{"$error":"#N/A"}},{"$f":"HLOOKUP(Y52,$W$46:$AA$49,4,0)","v":{"$error":"#N/A"}},{"$f":"HLOOKUP(Z52,$W$46:$AA$49,4,0)","v":{"$error":"#N/A"}},{"$f":"HLOOKUP(AA52,$W$46:$AA$49,4,0)","v":{"$error":"#N/A"}},null,null,null,null,null,null,null,null,null,null,null,null,null,null,null,null,null,null,null,13,6,7,8,8,9,0,9,null,null,null,null,null,null,null,null,null,null,{"$f":"DE8","v":"Full House"},null,null,null,{"$f":"DI8","v":{"$error":"#N/A"}},0,{"$error":"#N/A"}]
[52,"♥K",0.62569148495657079,19,"H",13,null,null,null,null,null,null,null,null,null,null,null,null,null,null,null,null,1,2,3,4,5,null,null,null,null,null,null,null,null,null,null,null,null,null,null,null,null,null,null,null,3,3,7,8,8,9,0,9,null,null,null,null,null,null,null,null,null,null,{"$f":"DP8","v":"Flush"},null,null,null,{"$f":"DT8","v":{"$error":"#N/A"}},0,{"$error":"#N/A"}]
[null,null,null,null,null,null,null,null,null,null,null,null,null,null,null,null,null,null,null,null,null,{"$f":"V48+IF(V48=1,13+RAND()^3,RAND()^3)","v":2.8314760758319574E-5},{"$error":"#N/A"},{"$error":"#N/A"},3.3805144696590674,7.0065255418903893,8.8531678107238108,null,null,null,null,null,null,null,null,null,null,null,null,null,null,null,null,null,null,null,12,3,7,8,8,9,0,9,null,null,null,null,null,null,null,null,null,null,{"$f":"EA8","v":"Straight"},null,null,null,{"$f":"EE8","v":{"$error":"#N/A"}},{"$error":"#N/A"},{"$error":"#N/A"}]
[null,null,null,null,null,null,null,null,null,null,null,null,null,null,null,null,null,null,null,null,null,null,null,null,null,null,null,null,null,null,null,null,null,null,null,null,null,null,null,null,null,null,null,null,null,null,18,3,6,8,8,9,0,9,null,null,null,null,null,null,null,null,null,null,{"$f":"EL8","v":"Three of a Kind"},null,null,null,{"$f":"EP8","v":{"$error":"#N/A"}},0,{"$error":"#N/A"}]
[null,null,null,null,null,null,null,null,null,null,null,null,null,null,null,null,null,null,null,null,null,null,{"$f":"RANK(W62,$W$62:$AA$62,1)","v":{"$error":"#N/A"}},{"$f":"RANK(X62,$W$62:$AA$62,1)","v":{"$error":"#N/A"}},{"$f":"RANK(Y62,$W$62:$AA$62,1)","v":{"$error":"#N/A"}},{"$f":"RANK(Z62,$W$62:$AA$62,1)","v":{"$error":"#N/A"}},{"$f":"RANK(AA62,$W$62:$AA$62,1)","v":{"$error":"#N/A"}},null,null,null,null,null,null,null,null,null,null,null,null,null,null,null,null,null,null,null,21,3,6,8,8,9,0,9,null,null,null,null,null,null,null,null,null,null,{"$f":"EW8","v":"Two Pair"},null,null,null,{"$f":"FA8","v":{"$error":"#N/A"}},0,{"$error":"#N/A"}]
[null,null,null,null,null,null,null,null,null,null,null,null,null,null,7,null,null,null,null,null,null,null,{"$f":"[0]!Player21","v":0},{"$f":"[0]!Player22","v":0},{"$f":"$Q$1","v":"♣J"},{"$f":"$R$1","v":"♥7"},{"$f":"$S$1","v":"♦7"},null,null,null,null,null,null,null,null,null,null,null,null,null,null,null,null,null,null,null,1,3,3,7,8,9,0,9,null,null,null,null,null,null,null,null,null,null,{"$f":"FH8","v":"One Pair"},null,null,null,{"$f":"FL8","v":{"$error":"#N/A"}},0,{"$error":"#N/A"}]
[null,null,null,null,null,null,null,null,null,null,null,null,null,null,null,null,null,null,null,null,null,null,{"$f":"VLOOKUP(W56,$B$1:$F$52,5,0)","v":{"$error":"#N/A"}},{"$f":"VLOOKUP(X56,$B$1:$F$52,5,0)","v":{"$error":"#N/A"}},{"$f":"VLOOKUP(Y56,$B$1:$F$52,5,0)","v":11},{"$f":"VLOOKUP(Z56,$B$1:$F$52,5,0)","v":7},{"$f":"VLOOKUP(AA56,$B$1:$F$52,5,0)","v":7},null,null,null,null,null,null,null,null,null,null,null,null,null,null,null,null,null,null,null,8,3,3,7,8,9,0,9,null,null,null,null,null,null,null,null,null,null,{"$f":"FS8","v":"High Card"},null,null,null,{"$f":"FW8","v":{"$error":"#N/A"}},0,{"$error":"#N/A"}]
[null,null,null,null,null,null,null,null,null,null,null,null,null,null,null,null,null,null,null,null,null,null,{"$f":"VLOOKUP(W56,$B$1:$F$52,4,0)","v":{"$error":"#N/A"}},{"$f":"VLOOKUP(X56,$B$1:$F$52,4,0)","v":{"$error":"#N/A"}},{"$f":"VLOOKUP(Y56,$B$1:$F$52,4,0)","v":"C"},{"$f":"VLOOKUP(Z56,$B$1:$F$52,4,0)","v":"H"},{"$f":"VLOOKUP(AA56,$B$1:$F$52,4,0)","v":"D"},null,null,null,null,null,null,null,null,null,null,null,null,null,null,null,null,null,null,null,16,3,3,6,8,9,0,9]
[null,null,null,null,null,null,null,null,null,null,null,null,null,null,null,null,null,null,null,null,null,null,{"$f":"HLOOKUP(W61,$W$55:$AA$58,3,0)","v":{"$error":"#N/A"}},{"$f":"HLOOKUP(X61,$W$55:$AA$58,3,0)","v":{"$error":"#N/A"}},{"$f":"HLOOKUP(Y61,$W$55:$AA$58,3,0)","v":{"$error":"#N/A"}},{"$f":"HLOOKUP(Z61,$W$55:$AA$58,3,0)","v":{"$error":"#N/A"}},{"$f":"HLOOKUP(AA61,$W$55:$AA$58,3,0)","v":{"$error":"#N/A"}},null,null,null,null,null,null,null,null,null,null,null,null,null,null,null,null,null,null,null,20,3,3,6,8,9,0,9,null,null,null,null,null,null,null,null,null,6,{"$f":"BX9","v":"Royal Flush"},null,null,null,{"$f":"CB9","v":{"$error":"#N/A"}},{"$error":"#N/A"},{"$error":"#N/A"}]
[null,null,null,null,null,null,null,null,null,null,null,null,null,null,null,null,null,null,null,null,null,null,{"$f":"HLOOKUP(W61,$W$55:$AA$58,4,0)","v":{"$error":"#N/A"}},{"$f":"HLOOKUP(X61,$W$55:$AA$58,4,0)","v":{"$error":"#N/A"}},{"$f":"HLOOKUP(Y61,$W$55:$AA$58,4,0)","v":{"$error":"#N/A"}},{"$f":"HLOOKUP(Z61,$W$55:$AA$58,4,0)","v":{"$error":"#N/A"}},{"$f":"HLOOKUP(AA61,$W$55:$AA$58,4,0)","v":{"$error":"#N/A"}},null,null,null,null,null,null,null,null,null,null,null,null,null,null,null,null,null,null,null,7,3,3,6,7,9,0,9,null,null,null,null,null,null,null,null,null,null,{"$f":"CI9","v":"Straight Flush"},null,null,null,{"$f":"CM9","v":{"$error":"#N/A"}},{"$error":"#N/A"},{"$error":"#N/A"}]
[null,null,null,null,null,null,null,null,null,null,null,null,null,null,null,null,null,null,null,null,null,null,1,2,3,4,5,null,null,null,null,null,null,null,null,null,null,null,null,null,null,null,null,null,null,null,6,3,6,7,8,8,0,9,null,null,null,null,null,null,null,null,null,null,{"$f":"CT9","v":"Four of a Kind"},null,null,null,{"$f":"CX9","v":{"$error":"#N/A"}},0,{"$error":"#N/A"}]
[null,null,null,null,null,null,null,null,null,null,null,null,null,null,null,null,null,null,null,null,null,{"$f":"V57+IF(V57=1,13+RAND()^3,RAND()^3)","v":5.295764707709445E-4},{"$error":"#N/A"},{"$error":"#N/A"},11.022430565061802,7.2634104865562561,7.0618628257014988,null,null,null,null,null,null,null,null,null,null,null,null,null,null,null,null,null,null,null,14,3,6,7,8,8,0,9,null,null,null,null,null,null,null,null,null,null,{"$f":"DE9","v":"Full House"},null,null,null,{"$f":"DI9","v":{"$error":"#N/A"}},0,{"$error":"#N/A"}]
[null,null,null,null,null,null,null,null,null,null,null,null,null,null,null,null,null,null,null,null,null,null,null,null,null,null,null,null,null,null,null,null,null,null,null,null,null,null,null,null,null,null,null,null,null,null,4,3,3,6,7,8,0,9,null,null,null,null,null,null,null,null,null,null,{"$f":"DP9","v":"Flush"},null,null,null,{"$f":"DT9","v":{"$error":"#N/A"}},0,{"$error":"#N/A"}]
[null,null,null,null,null,null,null,null,null,null,null,null,null,null,null,null,null,null,null,null,null,null,{"$f":"RANK(W71,$W$71:$AA$71,1)","v":{"$error":"#N/A"}},{"$f":"RANK(X71,$W$71:$AA$71,1)","v":{"$error":"#N/A"}},{"$f":"RANK(Y71,$W$71:$AA$71,1)","v":{"$error":"#N/A"}},{"$f":"RANK(Z71,$W$71:$AA$71,1)","v":{"$error":"#N/A"}},{"$f":"RANK(AA71,$W$71:$AA$71,1)","v":{"$error":"#N/A"}},null,null,null,null,null,null,null,null,null,null,null,null,null,null,null,null,null,null,null,10,3,3,6,7,8,0,9,null,null,null,null,null,null,null,null,null,null,{"$f":"EA9","v":"Straight"},null,null,null,{"$f":"EE9","v":{"$error":"#N/A"}},{"$error":"#N/A"},{"$error":"#N/A"}]
[null,null,null,null,null,null,null,null,null,null,null,null,null,null,8,null,null,null,null,null,null,null,{"$f":"[0]!Player21","v":0},{"$f":"[0]!Player22","v":0},{"$f":"$Q$1","v":"♣J"},{"$f":"$R$1","v":"♥7"},{"$f":"$T$1","v":"♥8"},null,null,null,null,null,null,null,null,null,null,null,null,null,null,null,null,null,null,null,2,3,6,7,8,9,0,10,null,null,null,null,null,null,null,null,null,null,{"$f":"EL9","v":"Three of a Kind"},null,null,null,{"$f":"EP9","v":{"$error":"#N/A"}},0,{"$error":"#N/A"}]
[null,null,null,null,null,null,null,null,null,null,null,null,null,null,null,null,null,null,null,null,null,null,{"$f":"VLOOKUP(W65,$B$1:$F$52,5,0)","v":{"$error":"#N/A"}},{"$f":"VLOOKUP(X65,$B$1:$F$52,5,0)","v":{"$error":"#N/A"}},{"$f":"VLOOKUP(Y65,$B$1:$F$52,5,0)","v":11},{"$f":"VLOOKUP(Z65,$B$1:$F$52,5,0)","v":7},{"$f":"VLOOKUP(AA65,$B$1:$F$52,5,0)","v":8},null,null,null,null,null,null,null,null,null,null,null,null,null,null,null,null,null,null,null,9,3,6,7,8,9,0,10,null,null,null,null,null,null,null,null,null,null,{"$f":"EW9","v":"Two Pair"},null,null,null,{"$f":"FA9","v":{"$error":"#N/A"}},0,{"$error":"#N/A"}]
[null,null,null,null,null,null,null,null,null,null,null,null,null,null,null,null,null,null,null,null,null,null,{"$f":"VLOOKUP(W65,$B$1:$F$52,4,0)","v":{"$error":"#N/A"}},{"$f":"VLOOKUP(X65,$B$1:$F$52,4,0)","v":{"$error":"#N/A"}},{"$f":"VLOOKUP(Y65,$B$1:$F$52,4,0)","v":"C"},{"$f":"VLOOKUP(Z65,$B$1:$F$52,4,0)","v":"H"},{"$f":"VLOOKUP(AA65,$B$1:$F$52,4,0)","v":"H"},null,null,null,null,null,null,null,null,null,null,null,null,null,null,null,null,null,null,null,11,3,6,7,8,9,0,10,null,null,null,null,null,null,null,null,null,null,{"$f":"FH9","v":"One Pair"},null,null,null,{"$f":"FL9","v":{"$error":"#N/A"}},0,{"$error":"#N/A"}]
[null,null,null,null,null,null,null,null,null,null,null,null,null,null,null,null,null,null,null,null,null,null,{"$f":"HLOOKUP(W70,$W$64:$AA$67,3,0)","v":{"$error":"#N/A"}},{"$f":"HLOOKUP(X70,$W$64:$AA$67,3,0)","v":{"$error":"#N/A"}},{"$f":"HLOOKUP(Y70,$W$64:$AA$67,3,0)","v":{"$error":"#N/A"}},{"$f":"HLOOKUP(Z70,$W$64:$AA$67,3,0)","v":{"$error":"#N/A"}},{"$f":"HLOOKUP(AA70,$W$64:$AA$67,3,0)","v":{"$error":"#N/A"}},null,null,null,null,null,null,null,null,null,null,null,null,null,null,null,null,null,null,null,15,3,6,7,8,9,0,10,null,null,null,null,null,null,null,null,null,null,{"$f":"FS9","v":"High Card"},null,null,null,{"$f":"FW9","v":{"$error":"#N/A"}},0,{"$error":"#N/A"}]
[null,null,null,null,null,null,null,null,null,null,null,null,null,null,null,null,null,null,null,null,null,null,{"$f":"HLOOKUP(W70,$W$64:$AA$67,4,0)","v":{"$error":"#N/A"}},{"$f":"HLOOKUP(X70,$W$64:$AA$67,4,0)","v":{"$error":"#N/A"}},{"$f":"HLOOKUP(Y70,$W$64:$AA$67,4,0)","v":{"$error":"#N/A"}},{"$f":"HLOOKUP(Z70,$W$64:$AA$67,4,0)","v":{"$error":"#N/A"}},{"$f":"HLOOKUP(AA70,$W$64:$AA$67,4,0)","v":{"$error":"#N/A"}}]
[null,null,null,null,null,null,null,null,null,null,null,null,null,null,null,null,null,null,null,null,null,null,1,2,3,4,5,null,null,null,null,null,null,null,null,null,null,null,null,null,null,null,null,null,null,null,null,null,null,null,null,null,null,null,null,null,null,null,null,null,null,null,null,7,{"$f":"BX10","v":"Royal Flush"},null,null,null,{"$f":"CB10","v":{"$error":"#N/A"}},{"$error":"#N/A"},{"$error":"#N/A"}]
[null,null,null,null,null,null,null,null,null,null,null,null,null,null,null,null,null,null,null,null,null,{"$f":"V66+IF(V66=1,13+RAND()^3,RAND()^3)","v":0.67259656550019697},{"$error":"#N/A"},{"$error":"#N/A"},11.989014870553396,7.0037339188316778,8.8125910323915235,null,null,null,null,null,null,null,null,null,null,null,null,null,null,null,null,null,null,null,null,null,null,null,null,null,null,null,null,null,null,null,null,null,null,null,null,null,{"$f":"CI10","v":"Straight Flush"},null,null,null,{"$f":"CM10","v":{"$error":"#N/A"}},{"$error":"#N/A"},{"$error":"#N/A"}]
[null,null,null,null,null,null,null,null,null,null,null,null,null,null,null,null,null,null,null,null,null,null,null,null,null,null,null,null,null,null,null,null,null,null,null,null,null,null,null,null,null,null,null,null,null,null,null,null,null,null,null,null,null,null,null,null,null,null,null,null,null,null,null,null,{"$f":"CT10","v":"Four of a Kind"},null,null,null,{"$f":"CX10","v":{"$error":"#N/A"}},0,{"$error":"#N/A"}]
[null,null,null,null,null,null,null,null,null,null,null,null,null,null,null,null,null,null,null,null,null,null,{"$f":"RANK(W80,$W$80:$AA$80,1)","v":{"$error":"#N/A"}},{"$f":"RANK(X80,$W$80:$AA$80,1)","v":{"$error":"#N/A"}},{"$f":"RANK(Y80,$W$80:$AA$80,1)","v":{"$error":"#N/A"}},{"$f":"RANK(Z80,$W$80:$AA$80,1)","v":{"$error":"#N/A"}},{"$f":"RANK(AA80,$W$80:$AA$80,1)","v":{"$error":"#N/A"}},null,null,null,null,null,null,null,null,null,null,null,null,null,null,null,null,null,null,null,null,null,null,null,null,null,null,null,null,null,null,null,null,null,null,null,null,null,{"$f":"DE10","v":"Full House"},null,null,null,{"$f":"DI10","v":{"$error":"#N/A"}},0,{"$error":"#N/A"}]
[null,null,null,null,null,null,null,null,null,null,null,null,null,null,9,null,null,null,null,null,null,null,{"$f":"[0]!Player21","v":0},{"$f":"[0]!Player22","v":0},{"$f":"$Q$1","v":"♣J"},{"$f":"$S$1","v":"♦7"},{"$f":"$T$1","v":"♥8"},null,null,null,null,null,null,null,null,null,null,null,null,null,null,null,null,null,null,null,null,null,null,null,null,null,null,null,null,null,null,null,null,null,null,null,null,null,{"$f":"DP10","v":"Flush"},null,null,null,{"$f":"DT10","v":{"$error":"#N/A"}},0,{"$error":"#N/A"}]
[null,null,null,null,null,null,null,null,null,null,null,null,null,null,null,null,null,null,null,null,null,null,{"$f":"VLOOKUP(W74,$B$1:$F$52,5,0)","v":{"$error":"#N/A"}},{"$f":"VLOOKUP(X74,$B$1:$F$52,5,0)","v":{"$error":"#N/A"}},{"$f":"VLOOKUP(Y74,$B$1:$F$52,5,0)","v":11},{"$f":"VLOOKUP(Z74,$B$1:$F$52,5,0)","v":7},{"$f":"VLOOKUP(AA74,$B$1:$F$52,5,0)","v":8},null,null,null,null,null,null,null,null,null,null,null,null,null,null,null,null,null,null,null,null,null,null,null,null,null,null,null,null,null,null,null,null,null,null,null,null,null,{"$f":"EA10","v":"Straight"},null,null,null,{"$f":"EE10","v":{"$error":"#N/A"}},{"$error":"#N/A"},{"$error":"#N/A"}]
[null,null,null,null,null,null,null,null,null,null,null,null,null,null,null,null,null,null,null,null,null,null,{"$f":"VLOOKUP(W74,$B$1:$F$52,4,0)","v":{"$error":"#N/A"}},{"$f":"VLOOKUP(X74,$B$1:$F$52,4,0)","v":{"$error":"#N/A"}},{"$f":"VLOOKUP(Y74,$B$1:$F$52,4,0)","v":"C"},{"$f":"VLOOKUP(Z74,$B$1:$F$52,4,0)","v":"D"},{"$f":"VLOOKUP(AA74,$B$1:$F$52,4,0)","v":"H"},null,null,null,null,null,null,null,null,null,null,null,null,null,null,null,null,null,null,null,null,null,null,null,null,null,null,null,null,null,null,null,null,null,null,null,null,null,{"$f":"EL10","v":"Three of a Kind"},null,null,null,{"$f":"EP10","v":{"$error":"#N/A"}},0,{"$error":"#N/A"}]
[null,null,null,null,null,null,null,null,null,null,null,null,null,null,null,null,null,null,null,null,null,null,{"$f":"HLOOKUP(W79,$W$73:$AA$76,3,0)","v":{"$error":"#N/A"}},{"$f":"HLOOKUP(X79,$W$73:$AA$76,3,0)","v":{"$error":"#N/A"}},{"$f":"HLOOKUP(Y79,$W$73:$AA$76,3,0)","v":{"$error":"#N/A"}},{"$f":"HLOOKUP(Z79,$W$73:$AA$76,3,0)","v":{"$error":"#N/A"}},{"$f":"HLOOKUP(AA79,$W$73:$AA$76,3,0)","v":{"$error":"#N/A"}},null,null,null,null,null,null,null,null,null,null,null,null,null,null,null,null,null,null,null,null,null,null,null,null,null,{"$f":"_xlfn.MODE.MULT(AV78:AZ78)","v":3},{"$f":"IF(ISNUMBER(BA77),IF(BA77=1,14,BA77),0)","v":3},null,null,null,null,null,null,null,null,null,null,{"$f":"EW10","v":"Two Pair"},null,null,null,{"$f":"FA10","v":{"$error":"#N/A"}},0,{"$error":"#N/A"}]
[null,null,null,null,null,null,null,null,null,null,null,null,null,null,null,null,null,null,null,null,null,null,{"$f":"HLOOKUP(W79,$W$73:$AA$76,4,0)","v":{"$error":"#N/A"}},{"$f":"HLOOKUP(X79,$W$73:$AA$76,4,0)","v":{"$error":"#N/A"}},{"$f":"HLOOKUP(Y79,$W$73:$AA$76,4,0)","v":{"$error":"#N/A"}},{"$f":"HLOOKUP(Z79,$W$73:$AA$76,4,0)","v":{"$error":"#N/A"}},{"$f":"HLOOKUP(AA79,$W$73:$AA$76,4,0)","v":{"$error":"#N/A"}},null,null,null,null,null,null,null,null,null,null,null,null,null,null,null,null,null,null,null,{"$f":"AU48","v":17},3,3,8,8,9,8,{"$f":"IF(BA78=BA77,0,IF(ISNUMBER(BA78),IF(BA78=1,14,BA78),0))","v":8},null,null,null,null,null,null,null,null,null,null,{"$f":"FH10:FH10","v":"One Pair"},null,null,null,{"$f":"FL10:FL10","v":{"$error":"#N/A"}},0,{"$error":"#N/A"}]
[null,null,null,null,null,null,null,null,null,null,null,null,null,null,null,null,null,null,null,null,null,null,1,2,3,4,5,null,null,null,null,null,null,null,null,null,null,null,null,null,null,null,null,null,null,null,{"$f":"AU78","v":17},{"$f":"VLOOKUP($AU$79,$AU$25:$AZ$45,2,0)","v":{"$error":"#N/A"}},{"$f":"VLOOKUP($AU$79,$AU$25:$AZ$45,3,0)","v":{"$error":"#N/A"}},{"$f":"VLOOKUP($AU$79,$AU$25:$AZ$45,4,0)","v":{"$error":"#N/A"}},{"$f":"VLOOKUP($AU$79,$AU$25:$AZ$45,5,0)","v":{"$error":"#N/A"}},{"$f":"VLOOKUP($AU$79,$AU$25:$AZ$45,6,0)","v":{"$error":"#N/A"}},{"$f":"COUNTIF($AV$78:$AZ$78,AV78)","v":2},{"$f":"COUNTIF($AV$78:$AZ$78,AZ78)","v":1},null,null,null,null,null,null,null,null,null,null,{"$f":"FS10","v":"High Card"},null,null,null,{"$f":"FW10","v":{"$error":"#N/A"}},0,{"$error":"#N/A"}]
[null,null,null,null,null,null,null,null,null,null,null,null,null,null,null,null,null,null,null,null,null,{"$f":"V75+IF(V75=1,13+RAND()^3,RAND()^3)","v":0.26692100146509634},{"$error":"#N/A"},{"$error":"#N/A"},11.010089904864007,7.0146326685761311,8.7065625911395959,null,null,null,null,null,null,null,null,null,null,null,null,null,null,null,null,null,null,null,{"$f":"AU79","v":17},{"$f":"VLOOKUP($AU$78,$O$2:$AG$182,9,0)","v":0},{"$f":"VLOOKUP($AU$78,$O$2:$AG$182,10,0)","v":"♥3"},{"$f":"VLOOKUP($AU$78,$O$2:$AG$182,11,0)","v":"♣J"},{"$f":"VLOOKUP($AU$78,$O$2:$AG$182,12,0)","v":"♥7"},{"$f":"VLOOKUP($AU$78,$O$2:$AG$182,13,0)","v":"♥8"},null,{"$f":"SMALL($BB$48:$BB$68,1)","v":8}]
[null,null,null,null,null,null,null,null,null,null,null,null,null,null,null,null,null,null,null,null,null,null,null,null,null,null,null,null,null,null,null,null,null,null,null,null,null,null,null,null,null,null,null,null,null,null,null,null,null,null,null,null,null,null,null,null,null,null,null,null,null,null,null,8,{"$f":"BX11","v":"Royal Flush"},null,null,null,{"$f":"CB11","v":{"$error":"#N/A"}},{"$error":"#N/A"},{"$error":"#N/A"}]
[null,null,null,null,null,null,null,null,null,null,null,null,null,null,null,null,null,null,null,null,null,null,{"$f":"RANK(W89,$W$89:$AA$89,1)","v":{"$error":"#N/A"}},{"$f":"RANK(X89,$W$89:$AA$89,1)","v":{"$error":"#N/A"}},{"$f":"RANK(Y89,$W$89:$AA$89,1)","v":{"$error":"#N/A"}},{"$f":"RANK(Z89,$W$89:$AA$89,1)","v":{"$error":"#N/A"}},{"$f":"RANK(AA89,$W$89:$AA$89,1)","v":{"$error":"#N/A"}},null,null,null,null,null,null,null,null,null,null,null,null,null,null,null,null,null,null,null,null,null,null,null,null,null,null,null,null,null,null,null,null,null,null,null,null,null,{"$f":"CI11","v":"Straight Flush"},null,null,null,{"$f":"CM11","v":{"$error":"#N/A"}},{"$error":"#N/A"},{"$error":"#N/A"}]
[null,null,null,null,null,null,null,null,null,null,null,null,null,null,10,null,null,null,null,null,null,null,{"$f":"[0]!Player21","v":0},{"$f":"[0]!Player22","v":0},{"$f":"$R$1","v":"♥7"},{"$f":"$S$1","v":"♦7"},{"$f":"$T$1","v":"♥8"},null,null,null,null,null,null,"Bluffer",null,"Utility (preference match)",null,null,null,null,null,null,null,null,null,null,1,null,null,null,null,null,null,null,null,null,null,null,null,null,null,null,null,null,{"$f":"CT11","v":"Four of a Kind"},null,null,null,{"$f":"CX11","v":{"$error":"#N/A"}},0,{"$error":"#N/A"}]
[null,null,null,null,null,null,null,null,null,null,null,null,null,null,null,null,null,null,null,null,null,null,{"$f":"VLOOKUP(W83,$B$1:$F$52,5,0)","v":{"$error":"#N/A"}},{"$f":"VLOOKUP(X83,$B$1:$F$52,5,0)","v":{"$error":"#N/A"}},{"$f":"VLOOKUP(Y83,$B$1:$F$52,5,0)","v":7},{"$f":"VLOOKUP(Z83,$B$1:$F$52,5,0)","v":7},{"$f":"VLOOKUP(AA83,$B$1:$F$52,5,0)","v":8},null,null,null,null,null,null,"Deceiving factor",null,{"$f":"LARGE(AW85:AW94,1)","v":0},null,null,null,null,null,null,null,null,null,null,null,null,"Robot 2",null,null,null,null,null,null,null,null,null,null,null,null,null,null,null,{"$f":"DE11","v":"Full House"},null,null,null,{"$f":"DI11","v":{"$error":"#N/A"}},0,{"$error":"#N/A"}]
[null,null,null,null,null,null,null,null,null,null,null,null,null,null,null,null,null,null,null,null,null,null,{"$f":"VLOOKUP(W83,$B$1:$F$52,4,0)","v":{"$error":"#N/A"}},{"$f":"VLOOKUP(X83,$B$1:$F$52,4,0)","v":{"$error":"#N/A"}},{"$f":"VLOOKUP(Y83,$B$1:$F$52,4,0)","v":"H"},{"$f":"VLOOKUP(Z83,$B$1:$F$52,4,0)","v":"D"},{"$f":"VLOOKUP(AA83,$B$1:$F$52,4,0)","v":"H"},null,null,null,null,null,null,"Royal Flush",1,{"$f":"AW85+IF(AW85=0,$AJ$84)","v":0},null,{"$f":"AJ85/SUM($AJ$85:$AJ$94)","v":{"$error":"#DIV/0!"}},0,1,null,null,null,null,null,null,"Royal Flush",1,{"$f":"COUNTIF($BB$83:$BB$132,AV85)","v":0},null,null,null,null,null,null,null,null,null,null,null,null,null,null,null,{"$f":"DP11","v":"Flush"},null,null,null,{"$f":"DT11","v":{"$error":"#N/A"}},0,{"$error":"#N/A"}]
[null,null,null,null,null,null,null,null,null,null,null,null,null,null,null,null,null,null,null,null,null,null,{"$f":"HLOOKUP(W88,$W$82:$AA$85,3,0)","v":{"$error":"#N/A"}},{"$f":"HLOOKUP(X88,$W$82:$AA$85,3,0)","v":{"$error":"#N/A"}},{"$f":"HLOOKUP(Y88,$W$82:$AA$85,3,0)","v":{"$error":"#N/A"}},{"$f":"HLOOKUP(Z88,$W$82:$AA$85,3,0)","v":{"$error":"#N/A"}},{"$f":"HLOOKUP(AA88,$W$82:$AA$85,3,0)","v":{"$error":"#N/A"}},null,null,null,null,null,null,"Straight Flush",2,0,null,{"$error":"#DIV/0!"},{"$f":"AL85+AM85","v":{"$error":"#DIV/0!"}},0.9,null,null,null,null,null,null,"Straight Flush",2,{"$f":"COUNTIF($BB$83:$BB$132,AV86)","v":0},null,null,null,null,null,null,null,null,null,null,null,null,null,null,null,{"$f":"EA11","v":"Straight"},null,null,null,{"$f":"EE11","v":{"$error":"#N/A"}},{"$error":"#N/A"},{"$error":"#N/A"}]
[null,null,null,null,null,null,null,null,null,null,null,null,null,null,null,null,null,null,null,null,null,null,{"$f":"HLOOKUP(W88,$W$82:$AA$85,4,0)","v":{"$error":"#N/A"}},{"$f":"HLOOKUP(X88,$W$82:$AA$85,4,0)","v":{"$error":"#N/A"}},{"$f":"HLOOKUP(Y88,$W$82:$AA$85,4,0)","v":{"$error":"#N/A"}},{"$f":"HLOOKUP(Z88,$W$82:$AA$85,4,0)","v":{"$error":"#N/A"}},{"$f":"HLOOKUP(AA88,$W$82:$AA$85,4,0)","v":{"$error":"#N/A"}},null,null,null,null,null,null,"Four of a Kind",3,0,null,{"$error":"#DIV/0!"},{"$f":"AL86+AM86","v":{"$error":"#DIV/0!"}},0.8,null,null,null,null,null,null,"Four of a Kind",3,0,null,null,null,null,null,null,null,null,null,null,null,null,null,null,null,{"$f":"EL11","v":"Three of a Kind"},null,null,null,{"$f":"EP11","v":{"$error":"#N/A"}},0,{"$error":"#N/A"}]
[null,null,null,null,null,null,null,null,null,null,null,null,null,null,null,null,null,null,null,null,null,null,1,2,3,4,5,null,null,null,null,null,null,"Full House",4,0,null,{"$error":"#DIV/0!"},{"$error":"#DIV/0!"},0.6,null,null,null,null,null,null,"Full House",4,0,null,null,null,null,null,null,null,null,null,null,null,null,null,null,null,{"$f":"EW11","v":"Two Pair"},null,null,null,{"$f":"FA11","v":{"$error":"#N/A"}},0,{"$error":"#N/A"}]
[null,null,null,null,null,null,null,null,null,null,null,null,null,null,null,null,null,null,null,null,null,{"$f":"V84+IF(V84=1,13+RAND()^3,RAND()^3)","v":0.23949764827658729},{"$error":"#N/A"},{"$error":"#N/A"},7.3012759858665452,7.0174565322185201,8.979940645369604,null,null,null,null,null,null,"Flush",5,0,null,{"$error":"#DIV/0!"},{"$error":"#DIV/0!"},0.5,null,null,null,null,null,null,"Flush",5,0,null,null,null,null,null,null,null,null,null,null,null,null,null,null,null,{"$f":"FH11","v":"One Pair"},null,null,null,{"$f":"FL11","v":{"$error":"#N/A"}},0,{"$error":"#N/A"}]
[null,null,null,null,null,null,null,null,null,null,null,null,null,null,null,null,null,null,null,null,null,null,null,null,null,null,null,null,null,null,null,null,null,"Straight",6,0,null,{"$error":"#DIV/0!"},{"$error":"#DIV/0!"},0.4,null,null,null,null,null,null,"Straight",6,0,null,null,null,null,null,null,null,null,null,null,null,null,null,null,null,{"$f":"FS11","v":"High Card"},null,null,null,{"$f":"FW11","v":{"$error":"#N/A"}},0,{"$error":"#N/A"}]
[null,null,null,null,null,null,null,null,null,null,null,null,null,null,null,null,null,null,null,null,null,null,{"$f":"RANK(W98,$W$98:$AA$98,1)","v":{"$error":"#N/A"}},{"$f":"RANK(X98,$W$98:$AA$98,1)","v":{"$error":"#N/A"}},{"$error":"#N/A"},{"$error":"#N/A"},{"$error":"#N/A"},null,null,null,null,null,null,"Three of a Kind",7,0,null,{"$error":"#DIV/0!"},{"$error":"#DIV/0!"},0.3,null,null,null,null,null,null,"Three of a Kind",7,0]
[null,null,null,null,null,null,null,null,null,null,null,null,null,null,11,null,null,null,null,null,null,null,{"$f":"[0]!Player21","v":0},{"$f":"$P$1","v":"♥3"},{"$f":"$Q$1","v":"♣J"},{"$f":"$R$1","v":"♥7"},{"$f":"$S$1","v":"♦7"},null,null,null,null,null,null,"Two Pair",8,0,null,{"$error":"#DIV/0!"},{"$error":"#DIV/0!"},0.2,null,null,null,null,null,null,"Two Pairs",8,0,null,null,null,null,null,null,null,null,null,null,null,null,null,null,9,{"$f":"BX12","v":"Royal Flush"},null,null,null,{"$f":"CB12","v":{"$error":"#N/A"}},{"$error":"#N/A"},{"$error":"#N/A"}]
[null,null,null,null,null,null,null,null,null,null,null,null,null,null,null,null,null,null,null,null,null,null,{"$f":"VLOOKUP(W92,$B$1:$F$52,5,0)","v":{"$error":"#N/A"}},{"$f":"VLOOKUP(X92,$B$1:$F$52,5,0)","v":3},{"$f":"VLOOKUP(Y92,$B$1:$F$52,5,0)","v":11},{"$f":"VLOOKUP(Z92,$B$1:$F$52,5,0)","v":7},{"$f":"VLOOKUP(AA92,$B$1:$F$52,5,0)","v":7},null,null,null,null,null,null,"One Pair",9,0,null,{"$error":"#DIV/0!"},{"$error":"#DIV/0!"},0,null,null,null,null,null,null,"One Pair",9,0,null,null,null,null,null,null,null,null,null,null,null,null,null,null,null,{"$f":"CI12","v":"Straight Flush"},null,null,null,{"$f":"CM12","v":{"$error":"#N/A"}},{"$error":"#N/A"},{"$error":"#N/A"}]
[null,null,null,null,null,null,null,null,null,null,null,null,null,null,null,null,null,null,null,null,null,null,{"$f":"VLOOKUP(W92,$B$1:$F$52,4,0)","v":{"$error":"#N/A"}},{"$f":"VLOOKUP(X92,$B$1:$F$52,4,0)","v":"H"},{"$f":"VLOOKUP(Y92,$B$1:$F$52,4,0)","v":"C"},{"$f":"VLOOKUP(Z92,$B$1:$F$52,4,0)","v":"H"},{"$f":"VLOOKUP(AA92,$B$1:$F$52,4,0)","v":"D"},null,null,null,null,null,null,"High Card/Fold",10,0,null,{"$error":"#DIV/0!"},{"$error":"#DIV/0!"},-0.1,null,null,null,null,null,null,"High Card/Fold",10,0,null,null,null,null,null,null,null,null,null,null,null,null,null,null,null,{"$f":"CT12","v":"Four of a Kind"},null,null,null,{"$f":"CX12","v":{"$error":"#N/A"}},0,{"$error":"#N/A"}]
[null,null,null,null,null,null,null,null,null,null,null,null,null,null,null,null,null,null,null,null,null,null,{"$f":"HLOOKUP(W97,$W$91:$AA$94,3,0)","v":{"$error":"#N/A"}},{"$f":"HLOOKUP(X97,$W$91:$AA$94,3,0)","v":{"$error":"#N/A"}},{"$error":"#N/A"},{"$error":"#N/A"},{"$error":"#N/A"},null,null,null,null,null,null,null,null,null,null,null,null,null,null,null,null,null,null,null,null,null,null,null,null,null,null,null,null,null,null,null,null,null,null,null,null,null,{"$f":"DE12","v":"Full House"},null,null,null,{"$f":"DI12","v":{"$error":"#N/A"}},0,{"$error":"#N/A"}]
[null,null,null,null,null,null,null,null,null,null,null,null,null,null,null,null,null,null,null,null,null,null,{"$f":"HLOOKUP(W97,$W$91:$AA$94,4,0)","v":{"$error":"#N/A"}},{"$f":"HLOOKUP(X97,$W$91:$AA$94,4,0)","v":{"$error":"#N/A"}},{"$error":"#N/A"},{"$error":"#N/A"},{"$error":"#N/A"},null,null,null,null,null,null,null,null,null,null,null,"Max. bet",{"$f":"VLOOKUP($AW$96,AM85:AN94,2,1)","v":1},null,null,null,null,null,null,null,null,0.59645688533782959,null,null,null,null,null,null,null,null,null,null,null,null,null,null,null,{"$f":"DP12","v":"Flush"},null,null,null,{"$f":"DT12","v":{"$error":"#N/A"}},0,{"$error":"#N/A"}]
[null,null,null,null,null,null,null,null,null,null,null,null,null,null,null,null,null,null,null,null,null,null,1,2,3,4,5,null,null,null,null,null,null,null,null,null,null,null,null,null,null,null,null,null,null,null,null,null,"Max. bet",null,null,null,null,null,null,null,null,null,null,null,null,null,null,null,{"$f":"EA12","v":"Straight"},null,null,null,{"$f":"EE12","v":{"$error":"#N/A"}},{"$error":"#N/A"},{"$error":"#N/A"}]
[null,null,null,null,null,null,null,null,null,null,null,null,null,null,null,null,null,null,null,null,null,{"$f":"V93+IF(V93=1,13+RAND()^3,RAND()^3)","v":0.44931119932287911},{"$error":"#N/A"},3.0001437641108137,11.051027903807299,7.0082696670619358,7.080786285439852,null,null,null,null,null,null,"Rocker",null,"Utility (preference match)",null,null,null,null,null,null,null,null,null,null,null,"Bluffer",{"$f":"AN96","v":1},null,null,null,null,null,null,null,null,null,null,null,null,null,null,null,{"$f":"EL12","v":"Three of a Kind"},null,null,null,{"$f":"EP12","v":{"$error":"#N/A"}},0,{"$error":"#N/A"}]
[null,null,null,null,null,null,null,null,null,null,null,null,null,null,null,null,null,null,null,null,null,null,null,null,null,null,null,null,null,null,null,null,null,"Deceiving factor",null,0,null,null,null,null,null,null,null,null,null,null,null,"Rocker",{"$f":"AN111","v":1},null,null,null,null,null,null,null,null,null,null,null,null,null,null,null,{"$f":"EW12","v":"Two Pair"},null,null,null,{"$f":"FA12","v":{"$error":"#N/A"}},0,{"$error":"#N/A"}]
[null,null,null,null,null,null,null,null,null,null,null,null,null,null,null,null,null,null,null,null,null,null,{"$f":"RANK(W107,$W$107:$AA$107,1)","v":{"$error":"#N/A"}},{"$f":"RANK(X107,$W$107:$AA$107,1)","v":{"$error":"#N/A"}},{"$error":"#N/A"},{"$error":"#N/A"},{"$error":"#N/A"},null,null,null,null,null,null,"Royal Flush",1,{"$f":"AW85+$AJ$99","v":0},null,{"$f":"AJ100/SUM($AJ$100:$AJ$109)","v":{"$error":"#DIV/0!"}},0,1,null,null,null,null,null,null,null,"Tricker",{"$f":"AN126","v":0.4},null,null,null,null,null,null,null,null,null,null,null,null,null,null,null,{"$f":"FH12","v":"One Pair"},null,null,null,{"$f":"FL12","v":{"$error":"#N/A"}},0,{"$error":"#N/A"}]
[null,null,null,null,null,null,null,null,null,null,null,null,null,null,12,null,null,null,null,null,null,null,{"$f":"[0]!Player21","v":0},{"$f":"$P$1","v":"♥3"},{"$f":"$Q$1","v":"♣J"},{"$f":"$R$1","v":"♥7"},{"$f":"$T$1","v":"♥8"},null,null,null,null,null,null,"Straight Flush",2,{"$f":"AW86+$AJ$99","v":0},null,{"$f":"AJ101/SUM($AJ$100:$AJ$109)","v":{"$error":"#DIV/0!"}},{"$f":"AL100+AM100","v":{"$error":"#DIV/0!"}},0.9,null,null,null,null,null,null,null,"Optimist",{"$f":"AN141","v":1},null,null,null,null,null,null,null,null,null,null,null,null,null,null,null,{"$f":"FS12","v":"High Card"},null,null,null,{"$f":"FW12","v":{"$error":"#N/A"}},0,{"$error":"#N/A"}]
[null,null,null,null,null,null,null,null,null,null,null,null,null,null,null,null,null,null,null,null,null,null,{"$f":"VLOOKUP(W101,$B$1:$F$52,5,0)","v":{"$error":"#N/A"}},{"$f":"VLOOKUP(X101,$B$1:$F$52,5,0)","v":3},{"$f":"VLOOKUP(Y101,$B$1:$F$52,5,0)","v":11},{"$f":"VLOOKUP(Z101,$B$1:$F$52,5,0)","v":7},{"$f":"VLOOKUP(AA101,$B$1:$F$52,5,0)","v":8},null,null,null,null,null,null,"Four of a Kind",3,0,null,{"$error":"#DIV/0!"},{"$f":"AL101+AM101","v":{"$error":"#DIV/0!"}},0.8,null,null,null,null,null,null,null,"Maverick",{"$f":"AN156","v":0.4}]
[null,null,null,null,null,null,null,null,null,null,null,null,null,null,null,null,null,null,null,null,null,null,{"$f":"VLOOKUP(W101,$B$1:$F$52,4,0)","v":{"$error":"#N/A"}},{"$f":"VLOOKUP(X101,$B$1:$F$52,4,0)","v":"H"},{"$f":"VLOOKUP(Y101,$B$1:$F$52,4,0)","v":"C"},{"$f":"VLOOKUP(Z101,$B$1:$F$52,4,0)","v":"H"},{"$f":"VLOOKUP(AA101,$B$1:$F$52,4,0)","v":"H"},null,null,null,null,null,null,"Full House",4,0,null,{"$error":"#DIV/0!"},{"$error":"#DIV/0!"},0.6,null,null,null,null,null,null,null,null,0.90091806650161743,null,null,null,null,null,null,null,null,null,null,null,null,null,null,10,{"$f":"BX13","v":"Royal Flush"},null,null,null,{"$f":"CB13","v":{"$error":"#N/A"}},{"$error":"#N/A"},{"$error":"#N/A"}]
[null,null,null,null,null,null,null,null,null,null,null,null,null,null,null,null,null,null,null,null,null,null,{"$f":"HLOOKUP(W106,$W$100:$AA$103,3,0)","v":{"$error":"#N/A"}},{"$f":"HLOOKUP(X106,$W$100:$AA$103,3,0)","v":{"$error":"#N/A"}},{"$error":"#N/A"},{"$error":"#N/A"},{"$error":"#N/A"},null,null,null,null,null,null,"Flush",5,0,null,{"$error":"#DIV/0!"},{"$error":"#DIV/0!"},0.5,null,null,null,null,null,null,null,null,"Call/Raise",null,null,null,null,null,null,null,null,null,null,null,null,null,null,null,{"$f":"CI13","v":"Straight Flush"},null,null,null,{"$f":"CM13","v":{"$error":"#N/A"}},{"$error":"#N/A"},{"$error":"#N/A"}]
[null,null,null,null,null,null,null,null,null,null,null,null,null,null,null,null,null,null,null,null,null,null,{"$f":"HLOOKUP(W106,$W$100:$AA$103,4,0)","v":{"$error":"#N/A"}},{"$f":"HLOOKUP(X106,$W$100:$AA$103,4,0)","v":{"$error":"#N/A"}},{"$error":"#N/A"},{"$error":"#N/A"},{"$error":"#N/A"},null,null,null,null,null,null,"Straight",6,0,null,{"$error":"#DIV/0!"},{"$error":"#DIV/0!"},0.4,null,null,null,null,null,null,null,"Bluffer",{"$f":"$AW$103*AW98","v":0.90091806650161743},null,null,null,null,null,null,null,null,null,null,null,null,null,null,null,{"$f":"CT13","v":"Four of a Kind"},null,null,null,{"$f":"CX13","v":{"$error":"#N/A"}},0,{"$error":"#N/A"}]
[null,null,null,null,null,null,null,null,null,null,null,null,null,null,null,null,null,null,null,null,null,null,1,2,3,4,5,null,null,null,null,null,null,"Three of a Kind",7,0,null,{"$error":"#DIV/0!"},{"$error":"#DIV/0!"},0.3,null,null,null,null,null,null,null,"Rocker",{"$f":"$AW$103*AW99","v":0.90091806650161743},null,null,null,null,null,null,null,null,null,null,null,null,null,null,null,{"$f":"DE13","v":"Full House"},null,null,null,{"$f":"DI13","v":{"$error":"#N/A"}},0,{"$error":"#N/A"}]
[null,null,null,null,null,null,null,null,null,null,null,null,null,null,null,null,null,null,null,null,null,{"$f":"V102+IF(V102=1,13+RAND()^3,RAND()^3)","v":2.4104870674746669E-2},{"$error":"#N/A"},3.3159201955768518,11.270003157483568,7.1587031243128862,8.9735966861628569,null,null,null,null,null,null,"Two Pair",8,0,null,{"$error":"#DIV/0!"},{"$error":"#DIV/0!"},0.2,null,null,null,null,null,null,null,"Tricker",0.36036722660064702,null,null,null,null,null,null,null,null,null,null,null,null,null,null,null,{"$f":"DP13","v":"Flush"},null,null,null,{"$f":"DT13","v":{"$error":"#N/A"}},0,{"$error":"#N/A"}]
[null,null,null,null,null,null,null,null,null,null,null,null,null,null,null,null,null,null,null,null,null,null,null,null,null,null,null,null,null,null,null,null,null,"One Pair/Check",9,0,null,{"$error":"#DIV/0!"},{"$error":"#DIV/0!"},0,null,null,null,null,null,null,null,"Optimist",0.90091806650161743,null,null,null,null,null,null,null,null,null,null,null,null,null,null,null,{"$f":"EA13","v":"Straight"},null,null,null,{"$f":"EE13","v":{"$error":"#N/A"}},{"$error":"#N/A"},{"$error":"#N/A"}]
[null,null,null,null,null,null,null,null,null,null,null,null,null,null,null,null,null,null,null,null,null,null,{"$f":"RANK(W116,$W$116:$AA$116,1)","v":{"$error":"#N/A"}},{"$f":"RANK(X116,$W$116:$AA$116,1)","v":{"$error":"#N/A"}},{"$error":"#N/A"},{"$error":"#N/A"},{"$error":"#N/A"},null,null,null,null,null,null,"High Card/Fold",10,0,null,{"$error":"#DIV/0!"},{"$error":"#DIV/0!"},-0.1,null,null,null,null,null,null,null,"Maverick",0.36036722660064702,null,null,null,null,null,null,null,null,null,null,null,null,null,null,null,{"$f":"EL13","v":"Three of a Kind"},null,null,null,{"$f":"EP13","v":{"$error":"#N/A"}},0,{"$error":"#N/A"}]
[null,null,null,null,null,null,null,null,null,null,null,null,null,null,13,null,null,null,null,null,null,null,{"$f":"[0]!Player21","v":0},{"$f":"$P$1","v":"♥3"},{"$f":"$Q$1","v":"♣J"},{"$f":"$S$1","v":"♦7"},{"$f":"$T$1","v":"♥8"},null,null,null,null,null,null,null,null,null,null,null,null,null,null,null,null,null,null,null,null,null,0.54386997222900391,null,null,null,null,null,null,null,null,null,null,null,null,null,null,null,{"$f":"EW13","v":"Two Pair"},null,null,null,{"$f":"FA13","v":{"$error":"#N/A"}},0,{"$error":"#N/A"}]
[null,null,null,null,null,null,null,null,null,null,null,null,null,null,null,null,null,null,null,null,null,null,{"$f":"VLOOKUP(W110,$B$1:$F$52,5,0)","v":{"$error":"#N/A"}},{"$f":"VLOOKUP(X110,$B$1:$F$52,5,0)","v":3},{"$f":"VLOOKUP(Y110,$B$1:$F$52,5,0)","v":11},{"$f":"VLOOKUP(Z110,$B$1:$F$52,5,0)","v":7},{"$f":"VLOOKUP(AA110,$B$1:$F$52,5,0)","v":8},null,null,null,null,null,null,null,null,null,null,null,"Max. bet",{"$f":"VLOOKUP($AW$96,AM100:AN109,2,1)","v":1},null,null,null,null,null,null,null,null,"Call/Raise",null,null,null,null,null,null,null,null,null,null,null,null,null,null,null,{"$f":"FH13","v":"One Pair"},null,null,null,{"$f":"FL13","v":{"$error":"#N/A"}},0,{"$error":"#N/A"}]
[null,null,null,null,null,null,null,null,null,null,null,null,null,null,null,null,null,null,null,null,null,null,{"$f":"VLOOKUP(W110,$B$1:$F$52,4,0)","v":{"$error":"#N/A"}},{"$f":"VLOOKUP(X110,$B$1:$F$52,4,0)","v":"H"},{"$f":"VLOOKUP(Y110,$B$1:$F$52,4,0)","v":"C"},{"$f":"VLOOKUP(Z110,$B$1:$F$52,4,0)","v":"D"},{"$f":"VLOOKUP(AA110,$B$1:$F$52,4,0)","v":"H"},null,null,null,null,null,null,null,null,null,null,null,null,null,null,null,null,null,null,null,null,"Bluffer",{"$f":"$AW$110*(AW98-AW105)","v":5.3887688420161339E-2},null,null,null,null,null,null,null,null,null,null,null,null,null,null,null,{"$f":"FS13","v":"High Card"},null,null,null,{"$f":"FW13","v":{"$error":"#N/A"}},0,{"$error":"#N/A"}]
[null,null,null,null,null,null,null,null,null,null,null,null,null,null,null,null,null,null,null,null,null,null,{"$f":"HLOOKUP(W115,$W$109:$AA$112,3,0)","v":{"$error":"#N/A"}},{"$f":"HLOOKUP(X115,$W$109:$AA$112,3,0)","v":{"$error":"#N/A"}},{"$error":"#N/A"},{"$error":"#N/A"},{"$error":"#N/A"},null,null,null,null,null,null,"Tricker",null,"Utility (preference match)",null,null,null,null,null,null,null,null,null,null,null,"Rocker",{"$f":"$AW$110*(AW99-AW106)","v":5.3887688420161339E-2}]
[null,null,null,null,null,null,null,null,null,null,null,null,null,null,null,null,null,null,null,null,null,null,{"$f":"HLOOKUP(W115,$W$109:$AA$112,4,0)","v":{"$error":"#N/A"}},{"$f":"HLOOKUP(X115,$W$109:$AA$112,4,0)","v":{"$error":"#N/A"}},{"$error":"#N/A"},{"$error":"#N/A"},{"$error":"#N/A"},null,null,null,null,null,null,"Deceiving factor",null,1,null,null,null,null,null,null,null,null,null,null,null,"Tricker",2.1555075368064523E-2,null,null,null,null,null,null,null,null,null,null,null,null,null,null,11,{"$f":"BX14","v":"Royal Flush"},null,null,null,{"$f":"CB14","v":{"$error":"#N/A"}},{"$error":"#N/A"},{"$error":"#N/A"}]
[null,null,null,null,null,null,null,null,null,null,null,null,null,null,null,null,null,null,null,null,null,null,1,2,3,4,5,null,null,null,null,null,null,"Royal Flush",1,{"$f":"AW85+IF(AW85=0,AJ$114)","v":1},null,{"$f":"AJ115/SUM($AJ$115:$AJ$124)","v":0.1},0,1,null,null,null,null,null,null,null,"Optimist",5.3887688420161339E-2,null,null,null,null,null,null,null,null,null,null,null,null,null,null,null,{"$f":"CI14","v":"Straight Flush"},null,null,null,{"$f":"CM14","v":{"$error":"#N/A"}},{"$error":"#N/A"},{"$error":"#N/A"}]
[null,null,null,null,null,null,null,null,null,null,null,null,null,null,null,null,null,null,null,null,null,{"$f":"V111+IF(V111=1,13+RAND()^3,RAND()^3)","v":3.0756283409722213E-3},{"$error":"#N/A"},3.574520579602996,11.032086055266321,7.3509415483297609,8.7044989178948473,null,null,null,null,null,null,"Straight Flush",2,{"$f":"AW86+IF(AW86=0,AJ$114)","v":1},null,{"$f":"AJ116/SUM($AJ$115:$AJ$124)","v":0.1},{"$f":"AL115+AM115","v":0.1},0.9,null,null,null,null,null,null,null,"Maverick",2.1555075368064523E-2,null,null,null,null,null,null,null,null,null,null,null,null,null,null,null,{"$f":"CT14","v":"Four of a Kind"},null,null,null,{"$f":"CX14","v":{"$error":"#N/A"}},0,{"$error":"#N/A"}]
[null,null,null,null,null,null,null,null,null,null,null,null,null,null,null,null,null,null,null,null,null,null,null,null,null,null,null,null,null,null,null,null,null,"Four of a Kind",3,1,null,0.1,{"$f":"AL116+AM116","v":0.2},0.8,null,null,null,null,null,null,null,null,5.3504526615142822E-2,null,null,null,null,null,null,null,null,null,null,null,null,null,null,null,{"$f":"DE14","v":"Full House"},null,null,null,{"$f":"DI14","v":{"$error":"#N/A"}},0,{"$error":"#N/A"}]
[null,null,null,null,null,null,null,null,null,null,null,null,null,null,null,null,null,null,null,null,null,null,{"$f":"RANK(W125,$W$125:$AA$125,1)","v":{"$error":"#N/A"}},{"$f":"RANK(X125,$W$125:$AA$125,1)","v":{"$error":"#N/A"}},{"$error":"#N/A"},{"$error":"#N/A"},{"$error":"#N/A"},null,null,null,null,null,null,"Full House",4,1,null,0.1,0.30000000000000004,0.6,null,null,null,null,null,null,null,null,"Call/Raise",null,null,null,null,null,null,null,null,null,null,null,null,null,null,null,{"$f":"DP14","v":"Flush"},null,null,null,{"$f":"DT14","v":{"$error":"#N/A"}},0,{"$error":"#N/A"}]
[null,null,null,null,null,null,null,null,null,null,null,null,null,null,14,null,null,null,null,null,null,null,{"$f":"[0]!Player21","v":0},{"$f":"$P$1","v":"♥3"},{"$f":"$R$1","v":"♥7"},{"$f":"$S$1","v":"♦7"},{"$f":"$T$1","v":"♥8"},null,null,null,null,null,null,"Flush",5,1,null,0.1,0.4,0.5,null,null,null,null,null,null,null,"Bluffer",{"$f":"AW98-AW105-AW112","v":4.5194245078221229E-2},null,null,null,null,null,null,null,null,null,null,null,null,null,null,null,{"$f":"EA14","v":"Straight"},null,null,null,{"$f":"EE14","v":{"$error":"#N/A"}},{"$error":"#N/A"},{"$error":"#N/A"}]
[null,null,null,null,null,null,null,null,null,null,null,null,null,null,null,null,null,null,null,null,null,null,{"$f":"VLOOKUP(W119,$B$1:$F$52,5,0)","v":{"$error":"#N/A"}},{"$f":"VLOOKUP(X119,$B$1:$F$52,5,0)","v":3},{"$f":"VLOOKUP(Y119,$B$1:$F$52,5,0)","v":7},{"$f":"VLOOKUP(Z119,$B$1:$F$52,5,0)","v":7},{"$f":"VLOOKUP(AA119,$B$1:$F$52,5,0)","v":8},null,null,null,null,null,null,"Straight",6,1,null,0.1,0.5,0.4,null,null,null,null,null,null,null,"Rocker",{"$f":"AW99-AW106-AW113","v":4.5194245078221229E-2},null,null,null,null,null,null,null,null,null,null,null,null,null,null,null,{"$f":"EL14","v":"Three of a Kind"},null,null,null,{"$f":"EP14","v":{"$error":"#N/A"}},0,{"$error":"#N/A"}]
[null,null,null,null,null,null,null,null,null,null,null,null,null,null,null,null,null,null,null,null,null,null,{"$f":"VLOOKUP(W119,$B$1:$F$52,4,0)","v":{"$error":"#N/A"}},{"$f":"VLOOKUP(X119,$B$1:$F$52,4,0)","v":"H"},{"$f":"VLOOKUP(Y119,$B$1:$F$52,4,0)","v":"H"},{"$f":"VLOOKUP(Z119,$B$1:$F$52,4,0)","v":"D"},{"$f":"VLOOKUP(AA119,$B$1:$F$52,4,0)","v":"H"},null,null,null,null,null,null,"Three of a Kind",7,1,null,0.1,0.6,0.3,null,null,null,null,null,null,null,"Tricker",1.8077698031288482E-2,null,null,null,null,null,null,null,null,null,null,null,null,null,null,null,{"$f":"EW14","v":"Two Pair"},null,null,null,{"$f":"FA14","v":{"$error":"#N/A"}},0,{"$error":"#N/A"}]
[null,null,null,null,null,null,null,null,null,null,null,null,null,null,null,null,null,null,null,null,null,null,{"$f":"HLOOKUP(W124,$W$118:$AA$121,3,0)","v":{"$error":"#N/A"}},{"$f":"HLOOKUP(X124,$W$118:$AA$121,3,0)","v":{"$error":"#N/A"}},{"$error":"#N/A"},{"$error":"#N/A"},{"$error":"#N/A"},null,null,null,null,null,null,"Two Pair",8,1,null,0.1,0.7,0.2,null,null,null,null,null,null,null,"Optimist",4.5194245078221229E-2,null,null,null,null,null,null,null,null,null,null,null,null,null,null,null,{"$f":"FH14","v":"One Pair"},null,null,null,{"$f":"FL14","v":{"$error":"#N/A"}},0,{"$error":"#N/A"}]
[null,null,null,null,null,null,null,null,null,null,null,null,null,null,null,null,null,null,null,null,null,null,{"$f":"HLOOKUP(W124,$W$118:$AA$121,4,0)","v":{"$error":"#N/A"}},{"$f":"HLOOKUP(X124,$W$118:$AA$121,4,0)","v":{"$error":"#N/A"}},{"$error":"#N/A"},{"$error":"#N/A"},{"$error":"#N/A"},null,null,null,null,null,null,"One Pair/Check",9,1,null,0.1,0.79999999999999993,0,null,null,null,null,null,null,null,"Maverick",1.8077698031288482E-2,null,null,null,null,null,null,null,null,null,null,null,null,null,null,null,{"$f":"FS14","v":"High Card"},null,null,null,{"$f":"FW14","v":{"$error":"#N/A"}},0,{"$error":"#N/A"}]
[null,null,null,null,null,null,null,null,null,null,null,null,null,null,null,null,null,null,null,null,null,null,1,2,3,4,5,null,null,null,null,null,null,"High Card/Fold",10,1,null,0.1,0.89999999999999991,-0.1]
[null,null,null,null,null,null,null,null,null,null,null,null,null,null,null,null,null,null,null,null,null,{"$f":"V120+IF(V120=1,13+RAND()^3,RAND()^3)","v":0.69101684823848442},{"$error":"#N/A"},3.0001204591126416,7.2272836226994706,7.5213884426681021,8.00830823021969,null,null,null,null,null,null,null,null,null,null,null,null,null,null,null,null,null,null,null,null,null,null,null,null,null,null,null,null,null,null,null,null,null,null,null,null,12,{"$f":"BX15","v":"Royal Flush"},null,null,null,{"$f":"CB15","v":{"$error":"#N/A"}},{"$error":"#N/A"},{"$error":"#N/A"}]
[null,null,null,null,null,null,null,null,null,null,null,null,null,null,null,null,null,null,null,null,null,null,null,null,null,null,null,null,null,null,null,null,null,null,null,null,null,null,"Max. bet",{"$f":"VLOOKUP($AW$96,AM115:AN124,2,1)","v":0.4},null,null,null,null,null,null,null,null,null,null,null,null,null,null,null,null,null,null,null,null,null,null,null,null,{"$f":"CI15","v":"Straight Flush"},null,null,null,{"$f":"CM15","v":{"$error":"#N/A"}},{"$error":"#N/A"},{"$error":"#N/A"}]
[null,null,null,null,null,null,null,null,null,null,null,null,null,null,null,null,null,null,null,null,null,null,{"$f":"RANK(W134,$W$134:$AA$134,1)","v":{"$error":"#N/A"}},{"$f":"RANK(X134,$W$134:$AA$134,1)","v":{"$error":"#N/A"}},{"$error":"#N/A"},{"$error":"#N/A"},{"$error":"#N/A"},null,null,null,null,null,null,null,null,null,null,null,null,null,null,null,null,null,null,null,null,null,null,null,null,null,null,null,null,null,null,null,null,null,null,null,null,null,{"$f":"CT15","v":"Four of a Kind"},null,null,null,{"$f":"CX15","v":{"$error":"#N/A"}},0,{"$error":"#N/A"}]
[null,null,null,null,null,null,null,null,null,null,null,null,null,null,15,null,null,null,null,null,null,null,{"$f":"[0]!Player21","v":0},{"$f":"$Q$1","v":"♣J"},{"$f":"$R$1","v":"♥7"},{"$f":"$S$1","v":"♦7"},{"$f":"$T$1","v":"♥8"},null,null,null,null,null,null,"Optimist",null,"Utility (preference match)",null,null,null,null,null,null,null,null,null,null,null,null,null,null,null,null,null,null,null,null,null,null,null,null,null,null,null,null,{"$f":"DE15","v":"Full House"},null,null,null,{"$f":"DI15","v":{"$error":"#N/A"}},0,{"$error":"#N/A"}]
[null,null,null,null,null,null,null,null,null,null,null,null,null,null,null,null,null,null,null,null,null,null,{"$f":"VLOOKUP(W128,$B$1:$F$52,5,0)","v":{"$error":"#N/A"}},{"$f":"VLOOKUP(X128,$B$1:$F$52,5,0)","v":11},{"$f":"VLOOKUP(Y128,$B$1:$F$52,5,0)","v":7},{"$f":"VLOOKUP(Z128,$B$1:$F$52,5,0)","v":7},{"$f":"VLOOKUP(AA128,$B$1:$F$52,5,0)","v":8},null,null,null,null,null,null,"Deceiving factor",null,{"$f":"AJ84","v":0},null,null,null,null,null,null,null,null,null,null,null,null,null,null,null,null,null,null,null,null,null,null,null,null,null,null,null,null,{"$f":"DP15","v":"Flush"},null,null,null,{"$f":"DT15","v":{"$error":"#N/A"}},0,{"$error":"#N/A"}]
[null,null,null,null,null,null,null,null,null,null,null,null,null,null,null,null,null,null,null,null,null,null,{"$f":"VLOOKUP(W128,$B$1:$F$52,4,0)","v":{"$error":"#N/A"}},{"$f":"VLOOKUP(X128,$B$1:$F$52,4,0)","v":"C"},{"$f":"VLOOKUP(Y128,$B$1:$F$52,4,0)","v":"H"},{"$f":"VLOOKUP(Z128,$B$1:$F$52,4,0)","v":"D"},{"$f":"VLOOKUP(AA128,$B$1:$F$52,4,0)","v":"H"},null,null,null,null,null,null,"Royal Flush",1,{"$f":"AW85+IF(AW85=0,AJ$129)","v":0},null,{"$f":"AJ130/SUM($AJ$130:$AJ$138)","v":{"$error":"#DIV/0!"}},0,1,null,null,null,null,null,null,null,null,null,null,null,null,null,null,null,null,null,null,null,null,null,null,null,null,{"$f":"EA15","v":"Straight"},null,null,null,{"$f":"EE15","v":{"$error":"#N/A"}},{"$error":"#N/A"},{"$error":"#N/A"}]
[null,null,null,null,null,null,null,null,null,null,null,null,null,null,null,null,null,null,null,null,null,null,{"$f":"HLOOKUP(W133,$W$127:$AA$130,3,0)","v":{"$error":"#N/A"}},{"$f":"HLOOKUP(X133,$W$127:$AA$130,3,0)","v":{"$error":"#N/A"}},{"$error":"#N/A"},{"$error":"#N/A"},{"$error":"#N/A"},null,null,null,null,null,null,"Straight Flush",2,{"$f":"AW86+IF(AW86=0,AJ$129)","v":0},null,{"$f":"AJ131/SUM($AJ$130:$AJ$138)","v":{"$error":"#DIV/0!"}},{"$f":"AL130+AM130","v":{"$error":"#DIV/0!"}},0.9,null,null,null,null,null,null,null,null,null,null,null,null,null,null,null,null,null,null,null,null,null,null,null,null,{"$f":"EL15","v":"Three of a Kind"},null,null,null,{"$f":"EP15","v":{"$error":"#N/A"}},0,{"$error":"#N/A"}]
[null,null,null,null,null,null,null,null,null,null,null,null,null,null,null,null,null,null,null,null,null,null,{"$f":"HLOOKUP(W133,$W$127:$AA$130,4,0)","v":{"$error":"#N/A"}},{"$f":"HLOOKUP(X133,$W$127:$AA$130,4,0)","v":{"$error":"#N/A"}},{"$error":"#N/A"},{"$error":"#N/A"},{"$error":"#N/A"},null,null,null,null,null,null,"Four of a Kind",3,0,null,{"$error":"#DIV/0!"},{"$f":"AL131+AM131","v":{"$error":"#DIV/0!"}},0.8,null,null,null,null,null,null,null,null,null,null,null,null,null,null,null,null,null,null,null,null,null,null,null,null,{"$f":"EW15","v":"Two Pair"},null,null,null,{"$f":"FA15","v":{"$error":"#N/A"}},0,{"$error":"#N/A"}]
[null,null,null,null,null,null,null,null,null,null,null,null,null,null,null,null,null,null,null,null,null,null,1,2,3,4,5,null,null,null,null,null,null,"Full House",4,0,null,{"$error":"#DIV/0!"},{"$error":"#DIV/0!"},0.6,null,null,null,null,null,null,null,null,null,null,null,null,null,null,null,null,null,null,null,null,null,null,null,null,{"$f":"FH15","v":"One Pair"},null,null,null,{"$error":"#N/A"},0,{"$error":"#N/A"}]
[null,null,null,null,null,null,null,null,null,null,null,null,null,null,null,null,null,null,null,null,null,{"$f":"V129+IF(V129=1,13+RAND()^3,RAND()^3)","v":0.10678530850024816},{"$error":"#N/A"},11.854237074949088,7.4566740590470655,7.0001178420166497,8.682486420142185,null,null,null,null,null,null,"Flush",5,0,null,{"$error":"#DIV/0!"},{"$error":"#DIV/0!"},0.5,null,null,null,null,null,null,null,null,null,null,null,null,null,null,null,null,null,null,null,null,null,null,null,null,{"$f":"FS15","v":"High Card"},null,null,null,{"$f":"FW15","v":{"$error":"#N/A"}},0,{"$error":"#N/A"}]
[null,null,null,null,null,null,null,null,null,null,null,null,null,null,null,null,null,null,null,null,null,null,null,null,null,null,null,null,null,null,null,null,null,"Straight",6,0,null,{"$error":"#DIV/0!"},{"$error":"#DIV/0!"},0.4]
[null,null,null,null,null,null,null,null,null,null,null,null,null,null,null,null,null,null,null,null,null,null,{"$f":"RANK(W143,$W$143:$AA$143,1)","v":{"$error":"#N/A"}},{"$f":"RANK(X143,$W$143:$AA$143,1)","v":{"$error":"#N/A"}},{"$error":"#N/A"},{"$error":"#N/A"},{"$error":"#N/A"},null,null,null,null,null,null,"Three of a Kind",7,0,null,{"$error":"#DIV/0!"},{"$error":"#DIV/0!"},0.3,null,null,null,null,null,null,null,null,null,null,null,null,null,null,null,null,null,null,null,null,null,null,null,13,{"$f":"BX16","v":"Royal Flush"},null,null,null,{"$f":"CB16","v":{"$error":"#N/A"}},{"$error":"#N/A"},{"$error":"#N/A"}]
[null,null,null,null,null,null,null,null,null,null,null,null,null,null,16,null,null,null,null,null,null,null,{"$f":"[0]!Player22","v":0},{"$f":"$P$1","v":"♥3"},{"$f":"$Q$1","v":"♣J"},{"$f":"$R$1","v":"♥7"},{"$f":"$S$1","v":"♦7"},null,null,null,null,null,null,"Two Pair",8,0,null,{"$error":"#DIV/0!"},{"$error":"#DIV/0!"},0.2,null,null,null,null,null,null,null,null,null,null,null,null,null,null,null,null,null,null,null,null,null,null,null,null,{"$f":"CI16","v":"Straight Flush"},null,null,null,{"$f":"CM16","v":{"$error":"#N/A"}},{"$error":"#N/A"},{"$error":"#N/A"}]
[null,null,null,null,null,null,null,null,null,null,null,null,null,null,null,null,null,null,null,null,null,null,{"$f":"VLOOKUP(W137,$B$1:$F$52,5,0)","v":{"$error":"#N/A"}},{"$f":"VLOOKUP(X137,$B$1:$F$52,5,0)","v":3},{"$f":"VLOOKUP(Y137,$B$1:$F$52,5,0)","v":11},{"$f":"VLOOKUP(Z137,$B$1:$F$52,5,0)","v":7},{"$f":"VLOOKUP(AA137,$B$1:$F$52,5,0)","v":7},null,null,null,null,null,null,"One Pair/Check",9,0,null,{"$error":"#DIV/0!"},{"$error":"#DIV/0!"},0,null,null,null,null,null,null,null,null,null,null,null,null,null,null,null,null,null,null,null,null,null,null,null,null,{"$f":"CT16","v":"Four of a Kind"},null,null,null,{"$f":"CX16","v":{"$error":"#N/A"}},0,{"$error":"#N/A"}]
[null,null,null,null,null,null,null,null,null,null,null,null,null,null,null,null,null,null,null,null,null,null,{"$f":"VLOOKUP(W137,$B$1:$F$52,4,0)","v":{"$error":"#N/A"}},{"$f":"VLOOKUP(X137,$B$1:$F$52,4,0)","v":"H"},{"$f":"VLOOKUP(Y137,$B$1:$F$52,4,0)","v":"C"},{"$f":"VLOOKUP(Z137,$B$1:$F$52,4,0)","v":"H"},{"$f":"VLOOKUP(AA137,$B$1:$F$52,4,0)","v":"D"},null,null,null,null,null,null,"High Card/Fold",10,0,null,null,{"$error":"#DIV/0!"},-0.1,null,null,null,null,null,null,null,null,null,null,null,null,null,null,null,null,null,null,null,null,null,null,null,null,{"$f":"DE16","v":"Full House"},null,null,null,{"$f":"DI16","v":{"$error":"#N/A"}},0,{"$error":"#N/A"}]
[null,null,null,null,null,null,null,null,null,null,null,null,null,null,null,null,null,null,null,null,null,null,{"$f":"HLOOKUP(W142,$W$136:$AA$139,3,0)","v":{"$error":"#N/A"}},{"$f":"HLOOKUP(X142,$W$136:$AA$139,3,0)","v":{"$error":"#N/A"}},{"$error":"#N/A"},{"$error":"#N/A"},{"$error":"#N/A"},null,null,null,null,null,null,null,null,null,null,null,null,null,null,null,null,null,null,null,null,null,null,null,null,null,null,null,null,null,null,null,null,null,null,null,null,null,{"$f":"DP16","v":"Flush"},null,null,null,{"$f":"DT16","v":{"$error":"#N/A"}},0,{"$error":"#N/A"}]
[null,null,null,null,null,null,null,null,null,null,null,null,null,null,null,null,null,null,null,null,null,null,{"$f":"HLOOKUP(W142,$W$136:$AA$139,4,0)","v":{"$error":"#N/A"}},{"$f":"HLOOKUP(X142,$W$136:$AA$139,4,0)","v":{"$error":"#N/A"}},{"$error":"#N/A"},{"$error":"#N/A"},{"$error":"#N/A"},null,null,null,null,null,null,null,null,null,null,null,"Max. bet",{"$f":"VLOOKUP($AW$96,AM130:AN138,2,1)","v":1},null,null,null,null,null,null,null,null,null,null,null,null,null,null,null,null,null,null,null,null,null,null,null,null,{"$f":"EA16","v":"Straight"},null,null,null,{"$f":"EE16","v":{"$error":"#N/A"}},{"$error":"#N/A"},{"$error":"#N/A"}]
[null,null,null,null,null,null,null,null,null,null,null,null,null,null,null,null,null,null,null,null,null,null,1,2,3,4,5,null,null,null,null,null,null,null,null,null,null,null,null,null,null,null,null,null,null,null,null,null,null,null,null,null,null,null,null,null,null,null,null,null,null,null,null,null,{"$f":"EL16","v":"Three of a Kind"},null,null,null,{"$f":"EP16","v":{"$error":"#N/A"}},0,{"$error":"#N/A"}]
[null,null,null,null,null,null,null,null,null,null,null,null,null,null,null,null,null,null,null,null,null,{"$f":"V138+IF(V138=1,13+RAND()^3,RAND()^3)","v":0.1293376533951231},{"$error":"#N/A"},3.0002567792788151,11.988291633929256,7.3123412536981602,7.0222694877713847,null,null,null,null,null,null,"Maverick",null,"Utility (preference match)",null,null,null,null,null,null,null,null,null,null,null,null,null,null,null,null,null,null,null,null,null,null,null,null,null,null,null,null,{"$f":"EW16","v":"Two Pair"},null,null,null,{"$f":"FA16","v":{"$error":"#N/A"}},0,{"$error":"#N/A"}]
[null,null,null,null,null,null,null,null,null,null,null,null,null,null,null,null,null,null,null,null,null,null,null,null,null,null,null,null,null,null,null,null,null,"Deceiving factor",null,0.2,null,null,null,null,null,null,null,null,null,null,null,null,null,null,null,null,null,null,null,null,null,null,null,null,null,null,null,null,{"$f":"FH16","v":"One Pair"},null,null,null,{"$f":"FL16","v":{"$error":"#N/A"}},0,{"$error":"#N/A"}]
[null,null,null,null,null,null,null,null,null,null,null,null,null,null,null,null,null,null,null,null,null,null,{"$f":"RANK(W152,$W$152:$AA$152,1)","v":{"$error":"#N/A"}},{"$f":"RANK(X152,$W$152:$AA$152,1)","v":{"$error":"#N/A"}},{"$error":"#N/A"},{"$error":"#N/A"},{"$error":"#N/A"},null,null,null,null,null,null,"Royal Flush",1,{"$f":"AW85+IF(AW85=0,AJ$144)","v":0.2},null,{"$f":"AJ145/SUM($AJ$145:$AJ$154)","v":0.10000000000000002},0,1,null,null,null,null,null,null,null,null,null,null,null,null,null,null,null,null,null,null,null,null,null,null,null,null,{"$f":"FS16","v":"High Card"},null,null,null,{"$f":"FW16","v":{"$error":"#N/A"}},0,{"$error":"#N/A"}]
[null,null,null,null,null,null,null,null,null,null,null,null,null,null,17,null,null,null,null,null,null,null,{"$f":"[0]!Player22","v":0},{"$f":"$P$1","v":"♥3"},{"$f":"$Q$1","v":"♣J"},{"$f":"$R$1","v":"♥7"},{"$f":"$T$1","v":"♥8"},null,null,null,null,null,null,"Straight Flush",2,{"$f":"AW86+IF(AW86=0,AJ$144)","v":0.2},null,{"$f":"AJ146/SUM($AJ$145:$AJ$154)","v":0.10000000000000002},{"$f":"AL145+AM145","v":0.10000000000000002},0.9]
[null,null,null,null,null,null,null,null,null,null,null,null,null,null,null,null,null,null,null,null,null,null,{"$f":"VLOOKUP(W146,$B$1:$F$52,5,0)","v":{"$error":"#N/A"}},{"$f":"VLOOKUP(X146,$B$1:$F$52,5,0)","v":3},{"$f":"VLOOKUP(Y146,$B$1:$F$52,5,0)","v":11},{"$f":"VLOOKUP(Z146,$B$1:$F$52,5,0)","v":7},{"$f":"VLOOKUP(AA146,$B$1:$F$52,5,0)","v":8},null,null,null,null,null,null,"Four of a Kind",3,0.2,null,0.10000000000000002,{"$f":"AL146+AM146","v":0.20000000000000004},0.8,null,null,null,null,null,null,null,null,null,null,null,null,null,null,null,null,null,null,null,null,null,null,null,14,{"$f":"BX17","v":"Royal Flush"},null,null,null,{"$f":"CB17","v":{"$error":"#N/A"}},{"$error":"#N/A"},{"$error":"#N/A"}]
[null,null,null,null,null,null,null,null,null,null,null,null,null,null,null,null,null,null,null,null,null,null,{"$f":"VLOOKUP(W146,$B$1:$F$52,4,0)","v":{"$error":"#N/A"}},{"$f":"VLOOKUP(X146,$B$1:$F$52,4,0)","v":"H"},{"$f":"VLOOKUP(Y146,$B$1:$F$52,4,0)","v":"C"},{"$f":"VLOOKUP(Z146,$B$1:$F$52,4,0)","v":"H"},{"$f":"VLOOKUP(AA146,$B$1:$F$52,4,0)","v":"H"},null,null,null,null,null,null,"Full House",4,0.2,null,0.10000000000000002,0.30000000000000004,0.6,null,null,null,null,null,null,null,null,null,null,null,null,null,null,null,null,null,null,null,null,null,null,null,null,{"$f":"CI17","v":"Straight Flush"},null,null,null,{"$f":"CM17","v":{"$error":"#N/A"}},{"$error":"#N/A"},{"$error":"#N/A"}]
[null,null,null,null,null,null,null,null,null,null,null,null,null,null,null,null,null,null,null,null,null,null,{"$f":"HLOOKUP(W151,$W$145:$AA$148,3,0)","v":{"$error":"#N/A"}},{"$f":"HLOOKUP(X151,$W$145:$AA$148,3,0)","v":{"$error":"#N/A"}},{"$error":"#N/A"},{"$error":"#N/A"},{"$error":"#N/A"},null,null,null,null,null,null,"Flush",5,0.2,null,0.10000000000000002,0.40000000000000008,0.5,null,null,null,null,null,null,null,null,null,null,null,null,null,null,null,null,null,null,null,null,null,null,null,null,{"$f":"CT17","v":"Four of a Kind"},null,null,null,{"$f":"CX17","v":{"$error":"#N/A"}},0,{"$error":"#N/A"}]
[null,null,null,null,null,null,null,null,null,null,null,null,null,null,null,null,null,null,null,null,null,null,{"$f":"HLOOKUP(W151,$W$145:$AA$148,4,0)","v":{"$error":"#N/A"}},{"$f":"HLOOKUP(X151,$W$145:$AA$148,4,0)","v":{"$error":"#N/A"}},{"$error":"#N/A"},{"$error":"#N/A"},{"$error":"#N/A"},null,null,null,null,null,null,"Straight",6,0.2,null,0.10000000000000002,0.50000000000000011,0.4,null,null,null,null,null,null,null,null,null,null,null,null,null,null,null,null,null,null,null,null,null,null,null,null,{"$f":"DE17","v":"Full House"},null,null,null,{"$f":"DI17","v":{"$error":"#N/A"}},0,{"$error":"#N/A"}]
[null,null,null,null,null,null,null,null,null,null,null,null,null,null,null,null,null,null,null,null,null,null,1,2,3,4,5,null,null,null,null,null,null,"Three of a Kind",7,0.2,null,0.10000000000000002,0.60000000000000009,0.3,null,null,null,null,null,null,null,null,null,null,null,null,null,null,null,null,null,null,null,null,null,null,null,null,{"$f":"DP17","v":"Flush"},null,null,null,{"$f":"DT17","v":{"$error":"#N/A"}},0,{"$error":"#N/A"}]
[null,null,null,null,null,null,null,null,null,null,null,null,null,null,null,null,null,null,null,null,null,{"$f":"V147+IF(V147=1,13+RAND()^3,RAND()^3)","v":0.26396749632948302},{"$error":"#N/A"},3.0252765603676459,11.551137478333638,7.0817944768966328,8.2137212713286978,null,null,null,null,null,null,"Two Pair",8,0.2,null,0.10000000000000002,0.70000000000000007,0.2,null,null,null,null,null,null,null,null,null,null,null,null,null,null,null,null,null,null,null,null,null,null,null,null,{"$f":"EA17","v":"Straight"},null,null,null,{"$f":"EE17","v":{"$error":"#N/A"}},{"$error":"#N/A"},{"$error":"#N/A"}]
[null,null,null,null,null,null,null,null,null,null,null,null,null,null,null,null,null,null,null,null,null,null,null,null,null,null,null,null,null,null,null,null,null,"One Pair/Check",9,0.2,null,0.10000000000000002,0.8,0,null,null,null,null,null,null,null,null,null,null,null,null,null,null,null,null,null,null,null,null,null,null,null,null,{"$f":"EL17","v":"Three of a Kind"},null,null,null,{"$f":"EP17","v":{"$error":"#N/A"}},0,{"$error":"#N/A"}]
[null,null,null,null,null,null,null,null,null,null,null,null,null,null,null,null,null,null,null,null,null,null,{"$f":"RANK(W161,$W$161:$AA$161,1)","v":{"$error":"#N/A"}},{"$f":"RANK(X161,$W$161:$AA$161,1)","v":{"$error":"#N/A"}},{"$error":"#N/A"},{"$error":"#N/A"},{"$error":"#N/A"},null,null,null,null,null,null,"High Card/Fold",10,0.2,null,0.10000000000000002,0.9,-0.1,null,null,null,null,null,null,null,null,null,null,null,null,null,null,null,null,null,null,null,null,null,null,null,null,{"$f":"EW17","v":"Two Pair"},null,null,null,{"$f":"FA17","v":{"$error":"#N/A"}},0,{"$error":"#N/A"}]
[null,null,null,null,null,null,null,null,null,null,null,null,null,null,18,null,null,null,null,null,null,null,{"$f":"[0]!Player22","v":0},{"$f":"$P$1","v":"♥3"},{"$f":"$Q$1","v":"♣J"},{"$f":"$S$1","v":"♦7"},{"$f":"$T$1","v":"♥8"},null,null,null,null,null,null,null,null,null,null,null,null,null,null,null,null,null,null,null,null,null,null,null,null,null,null,null,null,null,null,null,null,null,null,null,null,null,{"$f":"FH17","v":"One Pair"},null,null,null,{"$f":"FL17","v":{"$error":"#N/A"}},0,{"$error":"#N/A"}]
[null,null,null,null,null,null,null,null,null,null,null,null,null,null,null,null,null,null,null,null,null,null,{"$f":"VLOOKUP(W155,$B$1:$F$52,5,0)","v":{"$error":"#N/A"}},{"$f":"VLOOKUP(X155,$B$1:$F$52,5,0)","v":3},{"$f":"VLOOKUP(Y155,$B$1:$F$52,5,0)","v":11},{"$f":"VLOOKUP(Z155,$B$1:$F$52,5,0)","v":7},{"$f":"VLOOKUP(AA155,$B$1:$F$52,5,0)","v":8},null,null,null,null,null,null,null,null,null,null,null,"Max. bet",{"$f":"VLOOKUP($AW$96,AM145:AN154,2,1)","v":0.4},null,null,null,null,null,null,null,null,null,null,null,null,null,null,null,null,null,null,null,null,null,null,null,null,{"$f":"FS17","v":"High Card"},null,null,null,{"$f":"FW17","v":{"$error":"#N/A"}},0,{"$error":"#N/A"}]
[null,null,null,null,null,null,null,null,null,null,null,null,null,null,null,null,null,null,null,null,null,null,{"$f":"VLOOKUP(W155,$B$1:$F$52,4,0)","v":{"$error":"#N/A"}},{"$f":"VLOOKUP(X155,$B$1:$F$52,4,0)","v":"H"},{"$f":"VLOOKUP(Y155,$B$1:$F$52,4,0)","v":"C"},{"$f":"VLOOKUP(Z155,$B$1:$F$52,4,0)","v":"D"},{"$f":"VLOOKUP(AA155,$B$1:$F$52,4,0)","v":"H"}]
[null,null,null,null,null,null,null,null,null,null,null,null,null,null,null,null,null,null,null,null,null,null,{"$f":"HLOOKUP(W160,$W$154:$AA$157,3,0)","v":{"$error":"#N/A"}},{"$f":"HLOOKUP(X160,$W$154:$AA$157,3,0)","v":{"$error":"#N/A"}},{"$error":"#N/A"},{"$error":"#N/A"},{"$error":"#N/A"},null,null,null,null,null,null,null,null,null,null,null,null,null,null,null,null,null,null,null,null,null,null,null,null,null,null,null,null,null,null,null,null,null,null,null,null,15,{"$f":"BX18","v":"Royal Flush"},null,null,null,{"$f":"CB18","v":{"$error":"#N/A"}},{"$error":"#N/A"},{"$error":"#N/A"}]
[null,null,null,null,null,null,null,null,null,null,null,null,null,null,null,null,null,null,null,null,null,null,{"$f":"HLOOKUP(W160,$W$154:$AA$157,4,0)","v":{"$error":"#N/A"}},{"$f":"HLOOKUP(X160,$W$154:$AA$157,4,0)","v":{"$error":"#N/A"}},{"$error":"#N/A"},{"$error":"#N/A"},{"$error":"#N/A"},null,null,null,null,null,null,null,null,null,null,null,null,null,null,null,null,null,null,null,null,null,null,null,null,null,null,null,null,null,null,null,null,null,null,null,null,null,{"$f":"CI18","v":"Straight Flush"},null,null,null,{"$f":"CM18","v":{"$error":"#N/A"}},{"$error":"#N/A"},{"$error":"#N/A"}]
[null,null,null,null,null,null,null,null,null,null,null,null,null,null,null,null,null,null,null,null,null,null,1,2,3,4,5,null,null,null,null,null,null,null,null,null,null,null,null,null,null,null,null,null,null,null,null,null,null,null,null,null,null,null,null,null,null,null,null,null,null,null,null,null,{"$f":"CT18","v":"Four of a Kind"},null,null,null,{"$f":"CX18","v":{"$error":"#N/A"}},0,{"$error":"#N/A"}]
[null,null,null,null,null,null,null,null,null,null,null,null,null,null,null,null,null,null,null,null,null,{"$f":"V156+IF(V156=1,13+RAND()^3,RAND()^3)","v":0.1279001628444324},{"$error":"#N/A"},3.6046592414411247,11.408433323015531,7.1513573821695458,8.0238820775229307,null,null,null,null,null,null,null,null,null,null,null,null,null,null,null,null,null,null,null,null,null,null,null,null,null,null,null,null,null,null,null,null,null,null,null,null,null,{"$f":"DE18","v":"Full House"},null,null,null,{"$f":"DI18","v":{"$error":"#N/A"}},0,{"$error":"#N/A"}]
[null,null,null,null,null,null,null,null,null,null,null,null,null,null,null,null,null,null,null,null,null,null,null,null,null,null,null,null,null,null,null,null,null,null,null,null,null,null,null,null,null,null,null,null,null,null,null,null,null,null,null,null,null,null,null,null,null,null,null,null,null,null,null,null,{"$f":"DP18","v":"Flush"},null,null,null,{"$f":"DT18","v":{"$error":"#N/A"}},0,{"$error":"#N/A"}]
[null,null,null,null,null,null,null,null,null,null,null,null,null,null,null,null,null,null,null,null,null,null,{"$f":"RANK(W170,$W$170:$AA$170,1)","v":{"$error":"#N/A"}},{"$f":"RANK(X170,$W$170:$AA$170,1)","v":{"$error":"#N/A"}},{"$error":"#N/A"},{"$error":"#N/A"},{"$error":"#N/A"},null,null,null,null,null,null,null,null,null,null,null,null,null,null,null,null,null,null,null,null,null,null,null,null,null,null,null,null,null,null,null,null,null,null,null,null,null,{"$f":"EA18","v":"Straight"},null,null,null,{"$f":"EE18","v":{"$error":"#N/A"}},{"$error":"#N/A"},{"$error":"#N/A"}]
[null,null,null,null,null,null,null,null,null,null,null,null,null,null,19,null,null,null,null,null,null,null,{"$f":"[0]!Player22","v":0},{"$f":"$P$1","v":"♥3"},{"$f":"$R$1","v":"♥7"},{"$f":"$S$1","v":"♦7"},{"$f":"$T$1","v":"♥8"},null,null,null,null,null,null,null,null,null,null,null,null,null,null,null,null,null,null,null,null,null,null,null,null,null,null,null,null,null,null,null,null,null,null,null,null,null,{"$f":"EL18","v":"Three of a Kind"},null,null,null,{"$f":"EP18","v":{"$error":"#N/A"}},0,{"$error":"#N/A"}]
[null,null,null,null,null,null,null,null,null,null,null,null,null,null,null,null,null,null,null,null,null,null,{"$f":"VLOOKUP(W164,$B$1:$F$52,5,0)","v":{"$error":"#N/A"}},{"$f":"VLOOKUP(X164,$B$1:$F$52,5,0)","v":3},{"$f":"VLOOKUP(Y164,$B$1:$F$52,5,0)","v":7},{"$f":"VLOOKUP(Z164,$B$1:$F$52,5,0)","v":7},{"$f":"VLOOKUP(AA164,$B$1:$F$52,5,0)","v":8},null,null,null,null,null,null,null,null,null,null,null,null,null,null,null,null,null,null,null,null,null,null,null,null,null,null,null,null,null,null,null,null,null,null,null,null,null,{"$f":"EW18","v":"Two Pair"},null,null,null,{"$f":"FA18","v":{"$error":"#N/A"}},0,{"$error":"#N/A"}]
[null,null,null,null,null,null,null,null,null,null,null,null,null,null,null,null,null,null,null,null,null,null,{"$f":"VLOOKUP(W164,$B$1:$F$52,4,0)","v":{"$error":"#N/A"}},{"$f":"VLOOKUP(X164,$B$1:$F$52,4,0)","v":"H"},{"$f":"VLOOKUP(Y164,$B$1:$F$52,4,0)","v":"H"},{"$f":"VLOOKUP(Z164,$B$1:$F$52,4,0)","v":"D"},{"$f":"VLOOKUP(AA164,$B$1:$F$52,4,0)","v":"H"},null,null,null,null,null,null,null,null,null,null,null,null,null,null,null,null,null,null,null,null,null,null,null,null,null,null,null,null,null,null,null,null,null,null,null,null,null,{"$f":"FH18","v":"One Pair"},null,null,null,{"$f":"FL18","v":{"$error":"#N/A"}},0,{"$error":"#N/A"}]
[null,null,null,null,null,null,null,null,null,null,null,null,null,null,null,null,null,null,null,null,null,null,{"$f":"HLOOKUP(W169,$W$163:$AA$166,3,0)","v":{"$error":"#N/A"}},{"$f":"HLOOKUP(X169,$W$163:$AA$166,3,0)","v":{"$error":"#N/A"}},{"$error":"#N/A"},{"$error":"#N/A"},{"$error":"#N/A"},null,null,null,null,null,null,null,null,null,null,null,null,null,null,null,null,null,null,null,null,null,null,null,null,null,null,null,null,null,null,null,null,null,null,null,null,null,{"$f":"FS18","v":"High Card"},null,null,null,{"$f":"FW18","v":{"$error":"#N/A"}},0,{"$error":"#N/A"}]
[null,null,null,null,null,null,null,null,null,null,null,null,null,null,null,null,null,null,null,null,null,null,{"$f":"HLOOKUP(W169,$W$163:$AA$166,4,0)","v":{"$error":"#N/A"}},{"$f":"HLOOKUP(X169,$W$163:$AA$166,4,0)","v":{"$error":"#N/A"}},{"$error":"#N/A"},{"$error":"#N/A"},{"$error":"#N/A"}]
[null,null,null,null,null,null,null,null,null,null,null,null,null,null,null,null,null,null,null,null,null,null,1,2,3,4,5,null,null,null,null,null,null,null,null,null,null,null,null,null,null,null,null,null,null,null,null,null,null,null,null,null,null,null,null,null,null,null,null,null,null,null,null,16,{"$f":"BX19","v":"Royal Flush"},null,null,null,{"$f":"CB19","v":{"$error":"#N/A"}},{"$error":"#N/A"},{"$error":"#N/A"}]
[null,null,null,null,null,null,null,null,null,null,null,null,null,null,null,null,null,null,null,null,null,{"$f":"V165+IF(V165=1,13+RAND()^3,RAND()^3)","v":4.0291778579008196E-2},{"$error":"#N/A"},3.7028468987183221,7.0001536899846579,7.0764966138174694,8.1506911242452365,null,null,null,null,null,null,null,null,null,null,null,null,null,null,null,null,null,null,null,null,null,null,null,null,null,null,null,null,null,null,null,null,null,null,null,null,null,{"$f":"CI19","v":"Straight Flush"},null,null,null,{"$f":"CM19","v":{"$error":"#N/A"}},{"$error":"#N/A"},{"$error":"#N/A"}]
[null,null,null,null,null,null,null,null,null,null,null,null,null,null,null,null,null,null,null,null,null,null,null,null,null,null,null,null,null,null,null,null,null,null,null,null,null,null,null,null,null,null,null,null,null,null,null,null,null,null,null,null,null,null,null,null,null,null,null,null,null,null,null,null,{"$f":"CT19","v":"Four of a Kind"},null,null,null,{"$f":"CX19","v":{"$error":"#N/A"}},0,{"$error":"#N/A"}]
[null,null,null,null,null,null,null,null,null,null,null,null,null,null,null,null,null,null,null,null,null,null,{"$f":"RANK(W179,$W$179:$AA$179,1)","v":{"$error":"#N/A"}},{"$f":"RANK(X179,$W$179:$AA$179,1)","v":{"$error":"#N/A"}},{"$error":"#N/A"},{"$error":"#N/A"},{"$error":"#N/A"},null,null,null,null,null,null,null,null,null,null,null,null,null,null,null,null,null,null,null,null,null,null,null,null,null,null,null,null,null,null,null,null,null,null,null,null,null,{"$f":"DE19","v":"Full House"},null,null,null,{"$f":"DI19","v":{"$error":"#N/A"}},0,{"$error":"#N/A"}]
[null,null,null,null,null,null,null,null,null,null,null,null,null,null,20,null,null,null,null,null,null,null,{"$f":"[0]!Player22","v":0},{"$f":"$Q$1","v":"♣J"},{"$f":"$R$1","v":"♥7"},{"$f":"$S$1","v":"♦7"},{"$f":"$T$1","v":"♥8"},null,null,null,null,null,null,null,null,null,null,null,null,null,null,null,null,null,null,null,null,null,null,null,null,null,null,null,null,null,null,null,null,null,null,null,null,null,{"$f":"DP19","v":"Flush"},null,null,null,{"$f":"DT19","v":{"$error":"#N/A"}},0,{"$error":"#N/A"}]
[null,null,null,null,null,null,null,null,null,null,null,null,null,null,null,null,null,null,null,null,null,null,{"$f":"VLOOKUP(W173,$B$1:$F$52,5,0)","v":{"$error":"#N/A"}},{"$f":"VLOOKUP(X173,$B$1:$F$52,5,0)","v":11},{"$f":"VLOOKUP(Y173,$B$1:$F$52,5,0)","v":7},{"$f":"VLOOKUP(Z173,$B$1:$F$52,5,0)","v":7},{"$f":"VLOOKUP(AA173,$B$1:$F$52,5,0)","v":8},null,null,null,null,null,null,null,null,null,null,null,null,null,null,null,null,null,null,null,null,null,null,null,null,null,null,null,null,null,null,null,null,null,null,null,null,null,{"$f":"EA19","v":"Straight"},null,null,null,{"$f":"EE19","v":{"$error":"#N/A"}},{"$error":"#N/A"},{"$error":"#N/A"}]
[null,null,null,null,null,null,null,null,null,null,null,null,null,null,null,null,null,null,null,null,null,null,{"$f":"VLOOKUP(W173,$B$1:$F$52,4,0)","v":{"$error":"#N/A"}},{"$f":"VLOOKUP(X173,$B$1:$F$52,4,0)","v":"C"},{"$f":"VLOOKUP(Y173,$B$1:$F$52,4,0)","v":"H"},{"$f":"VLOOKUP(Z173,$B$1:$F$52,4,0)","v":"D"},{"$f":"VLOOKUP(AA173,$B$1:$F$52,4,0)","v":"H"},null,null,null,null,null,null,null,null,null,null,null,null,null,null,null,null,null,null,null,null,null,null,null,null,null,null,null,null,null,null,null,null,null,null,null,null,null,{"$f":"EL19","v":"Three of a Kind"},null,null,null,{"$f":"EP19","v":{"$error":"#N/A"}},0,{"$error":"#N/A"}]
[null,null,null,null,null,null,null,null,null,null,null,null,null,null,null,null,null,null,null,null,null,null,{"$f":"HLOOKUP(W178,$W$172:$AA$175,3,0)","v":{"$error":"#N/A"}},{"$f":"HLOOKUP(X178,$W$172:$AA$175,3,0)","v":{"$error":"#N/A"}},{"$error":"#N/A"},{"$error":"#N/A"},{"$error":"#N/A"},null,null,null,null,null,null,null,null,null,null,null,null,null,null,null,null,null,null,null,null,null,null,null,null,null,null,null,null,null,null,null,null,null,null,null,null,null,{"$f":"EW19","v":"Two Pair"},null,null,null,{"$f":"FA19","v":{"$error":"#N/A"}},0,{"$error":"#N/A"}]
[null,null,null,null,null,null,null,null,null,null,null,null,null,null,null,null,null,null,null,null,null,null,{"$f":"HLOOKUP(W178,$W$172:$AA$175,4,0)","v":{"$error":"#N/A"}},{"$f":"HLOOKUP(X178,$W$172:$AA$175,4,0)","v":{"$error":"#N/A"}},{"$error":"#N/A"},{"$error":"#N/A"},{"$error":"#N/A"},null,null,null,null,null,null,null,null,null,null,null,null,null,null,null,null,null,null,null,null,null,null,null,null,null,null,null,null,null,null,null,null,null,null,null,null,null,{"$f":"FH19","v":"One Pair"},null,null,null,{"$f":"FL19","v":{"$error":"#N/A"}},0,{"$error":"#N/A"}]
[null,null,null,null,null,null,null,null,null,null,null,null,null,null,null,null,null,null,null,null,null,null,1,2,3,4,5,null,null,null,null,null,null,null,null,null,null,null,null,null,null,null,null,null,null,null,null,null,null,null,null,null,null,null,null,null,null,null,null,null,null,null,null,null,{"$f":"FS19","v":"High Card"},null,null,null,{"$f":"FW19","v":{"$error":"#N/A"}},0,{"$error":"#N/A"}]
[null,null,null,null,null,null,null,null,null,null,null,null,null,null,null,null,null,null,null,null,null,{"$f":"V174+IF(V174=1,13+RAND()^3,RAND()^3)","v":0.54572606089761178},{"$error":"#N/A"},11.00588723961841,7.3140779088165502,7.017674255781996,8.3025627702283895]
[null,null,null,null,null,null,null,null,null,null,null,null,null,null,null,null,null,null,null,null,null,null,null,null,null,null,null,null,null,null,null,null,null,null,null,null,null,null,null,null,null,null,null,null,null,null,null,null,null,null,null,null,null,null,null,null,null,null,null,null,null,null,null,17,{"$f":"BX20","v":"Royal Flush"},null,null,null,{"$f":"CB20","v":{"$error":"#N/A"}},{"$error":"#N/A"},{"$error":"#N/A"}]
[null,null,null,null,null,null,null,null,null,null,null,null,null,null,null,null,null,null,null,null,null,null,{"$f":"RANK(W188,$W$188:$AA$188,1)","v":1},{"$f":"RANK(X188,$W$188:$AA$188,1)","v":5},2,3,4,null,null,null,null,null,null,null,null,null,null,null,null,null,null,null,null,null,null,null,null,null,null,null,null,null,null,null,null,null,null,null,null,null,null,null,null,null,{"$f":"CI20","v":"Straight Flush"},null,null,null,{"$f":"CM20","v":{"$error":"#N/A"}},{"$error":"#N/A"},{"$error":"#N/A"}]
[null,null,null,null,null,null,null,null,null,null,null,null,null,null,21,null,null,null,null,null,null,null,{"$f":"$P$1","v":"♥3"},{"$f":"$Q$1","v":"♣J"},{"$f":"$R$1","v":"♥7"},{"$f":"$S$1","v":"♦7"},{"$f":"$T$1","v":"♥8"},null,null,null,null,null,null,null,null,null,null,null,null,null,null,null,null,null,null,null,null,null,null,null,null,null,null,null,null,null,null,null,null,null,null,null,null,null,{"$f":"CT20","v":"Four of a Kind"},null,null,null,{"$f":"CX20","v":{"$error":"#N/A"}},0,{"$error":"#N/A"}]
[null,null,null,null,null,null,null,null,null,null,null,null,null,null,null,null,null,null,null,null,null,null,{"$f":"VLOOKUP(W182,$B$1:$F$52,5,0)","v":3},{"$f":"VLOOKUP(X182,$B$1:$F$52,5,0)","v":11},{"$f":"VLOOKUP(Y182,$B$1:$F$52,5,0)","v":7},{"$f":"VLOOKUP(Z182,$B$1:$F$52,5,0)","v":7},{"$f":"VLOOKUP(AA182,$B$1:$F$52,5,0)","v":8},null,null,null,null,null,null,null,null,null,null,null,null,null,null,null,null,null,null,null,null,null,null,null,null,null,null,null,null,null,null,null,null,null,null,null,null,null,{"$f":"DE20","v":"Full House"},null,null,null,{"$f":"DI20","v":{"$error":"#N/A"}},0,{"$error":"#N/A"}]
[null,null,null,null,null,null,null,null,null,null,null,null,null,null,null,null,null,null,null,null,null,null,{"$f":"VLOOKUP(W182,$B$1:$F$52,4,0)","v":"H"},{"$f":"VLOOKUP(X182,$B$1:$F$52,4,0)","v":"C"},{"$f":"VLOOKUP(Y182,$B$1:$F$52,4,0)","v":"H"},{"$f":"VLOOKUP(Z182,$B$1:$F$52,4,0)","v":"D"},{"$f":"VLOOKUP(AA182,$B$1:$F$52,4,0)","v":"H"},null,null,null,null,null,null,null,null,null,null,null,null,null,null,null,null,null,null,null,null,null,null,null,null,null,null,null,null,null,null,null,null,null,null,null,null,null,{"$f":"DP20","v":"Flush"},null,null,null,{"$f":"DT20","v":{"$error":"#N/A"}},0,{"$error":"#N/A"}]
[null,null,null,null,null,null,null,null,null,null,null,null,null,null,null,null,null,null,null,null,null,null,{"$f":"HLOOKUP(W187,$W$181:$AA$184,3,0)","v":3},{"$f":"HLOOKUP(X187,$W$181:$AA$184,3,0)","v":7},7,8,11,null,null,null,null,null,null,null,null,null,null,null,null,null,null,null,null,null,null,null,null,null,null,null,null,null,null,null,null,null,null,null,null,null,null,null,null,null,{"$f":"EA20","v":"Straight"},null,null,null,{"$f":"EE20","v":{"$error":"#N/A"}},{"$error":"#N/A"},{"$error":"#N/A"}]
[null,null,null,null,null,null,null,null,null,null,null,null,null,null,null,null,null,null,null,null,null,null,{"$f":"HLOOKUP(W187,$W$181:$AA$184,4,0)","v":"H"},{"$f":"HLOOKUP(X187,$W$181:$AA$184,4,0)","v":"H"},"D","H","C",null,null,null,null,null,null,null,null,null,null,null,null,null,null,null,null,null,null,null,null,null,null,null,null,null,null,null,null,null,null,null,null,null,null,null,null,null,{"$f":"EL20","v":"Three of a Kind"},null,null,null,{"$f":"EP20","v":{"$error":"#N/A"}},0,{"$error":"#N/A"}]
[null,null,null,null,null,null,null,null,null,null,null,null,null,null,null,null,null,null,null,null,null,null,1,2,3,4,5,null,null,null,null,null,null,null,null,null,null,null,null,null,null,null,null,null,null,null,null,null,null,null,null,null,null,null,null,null,null,null,null,null,null,null,null,null,{"$f":"EW20","v":"Two Pair"},null,null,null,{"$f":"FA20","v":{"$error":"#N/A"}},0,{"$error":"#N/A"}]
[null,null,null,null,null,null,null,null,null,null,null,null,null,null,null,null,null,null,null,null,null,{"$f":"V183+IF(V183=1,13+RAND()^3,RAND()^3)","v":4.3001178316608504E-2},3.1738550461371076,11.1417430345074,7.2382318266077252,7.3953755431573853,8.8256417880207181,null,null,null,null,null,null,null,null,null,null,null,null,null,null,null,null,null,null,null,null,null,null,null,null,null,null,null,null,null,null,null,null,null,null,null,null,null,{"$f":"FH20","v":"One Pair"},null,null,null,{"$f":"FL20","v":{"$error":"#N/A"}},0,{"$error":"#N/A"}]
[null,null,null,null,null,null,null,null,null,null,null,null,null,null,null,null,null,null,null,null,null,null,null,null,null,null,null,null,null,null,null,null,null,null,null,null,null,null,null,null,null,null,null,null,null,null,null,null,null,null,null,null,null,null,null,null,null,null,null,null,null,null,null,null,{"$f":"FS20","v":"High Card"},null,null,null,{"$f":"FW20","v":{"$error":"#N/A"}},0,{"$error":"#N/A"}]
[]
[null,null,null,null,null,null,null,null,null,null,null,null,null,null,null,null,null,null,null,null,null,null,null,null,null,null,null,null,null,null,null,null,null,null,null,null,null,null,null,null,null,null,null,null,null,null,null,null,null,null,null,null,null,null,null,null,null,null,null,null,null,null,null,18,{"$f":"BX21","v":"Royal Flush"},null,null,null,{"$f":"CB21","v":{"$error":"#N/A"}},{"$error":"#N/A"},{"$error":"#N/A"}]
[null,null,null,null,null,null,null,null,null,null,null,null,null,null,null,null,null,null,null,null,null,null,null,null,null,null,null,null,null,null,null,null,null,null,null,null,null,null,null,null,null,null,null,null,null,null,null,null,null,null,null,null,null,null,null,null,null,null,null,null,null,null,null,null,{"$f":"CI21","v":"Straight Flush"},null,null,null,{"$f":"CM21","v":{"$error":"#N/A"}},{"$error":"#N/A"},{"$error":"#N/A"}]
[null,null,null,null,null,null,null,null,null,null,null,null,null,null,null,null,null,null,null,null,null,null,null,null,null,null,null,null,null,null,null,null,null,null,null,null,null,null,null,null,null,null,null,null,null,null,null,null,null,null,null,null,null,null,null,null,null,null,null,null,null,null,null,null,{"$f":"CT21","v":"Four of a Kind"},null,null,null,{"$f":"CX21","v":{"$error":"#N/A"}},0,{"$error":"#N/A"}]
[null,null,null,null,null,null,null,null,null,null,null,null,null,null,null,null,null,null,null,null,null,null,null,null,null,null,null,null,null,null,null,null,null,null,null,null,null,null,null,null,null,null,null,null,null,null,null,null,null,null,null,null,null,null,null,null,null,null,null,null,null,null,null,null,{"$f":"DE21","v":"Full House"},null,null,null,{"$f":"DI21","v":{"$error":"#N/A"}},0,{"$error":"#N/A"}]
[null,null,null,null,null,null,null,null,null,null,null,null,null,null,null,null,null,null,null,null,null,null,null,null,null,null,null,null,null,null,null,null,null,null,null,null,null,null,null,null,null,null,null,null,null,null,null,null,null,null,null,null,null,null,null,null,null,null,null,null,null,null,null,null,{"$f":"DP21","v":"Flush"},null,null,null,{"$f":"DT21","v":{"$error":"#N/A"}},0,{"$error":"#N/A"}]
[null,null,null,null,null,null,null,null,null,null,null,null,null,null,null,null,null,null,null,null,null,null,null,null,null,null,null,null,null,null,null,null,null,null,null,null,null,null,null,null,null,null,null,null,null,null,null,null,null,null,null,null,null,null,null,null,null,null,null,null,null,null,null,null,{"$f":"EA21","v":"Straight"},null,null,null,{"$f":"EE21","v":{"$error":"#N/A"}},{"$error":"#N/A"},{"$error":"#N/A"}]
[null,null,null,null,null,null,null,null,null,null,null,null,null,null,null,null,null,null,null,null,null,null,null,null,null,null,null,null,null,null,null,null,null,null,null,null,null,null,null,null,null,null,null,null,null,null,null,null,null,null,null,null,null,null,null,null,null,null,null,null,null,null,null,null,{"$f":"EL21","v":"Three of a Kind"},null,null,null,{"$f":"EP21","v":{"$error":"#N/A"}},0,{"$error":"#N/A"}]
[null,null,null,null,null,null,null,null,null,null,null,null,null,null,null,null,null,null,null,null,null,null,null,null,null,null,null,null,null,null,null,null,null,null,null,null,null,null,null,null,null,null,null,null,null,null,null,null,null,null,null,null,null,null,null,null,null,null,null,null,null,null,null,null,{"$f":"EW21","v":"Two Pair"},null,null,null,{"$f":"FA21","v":{"$error":"#N/A"}},0,{"$error":"#N/A"}]
[null,null,null,null,null,null,null,null,null,null,null,null,null,null,null,null,null,null,null,null,null,null,null,null,null,null,null,null,null,null,null,null,null,null,null,null,null,null,null,null,null,null,null,null,null,null,null,null,null,null,null,null,null,null,null,null,null,null,null,null,null,null,null,null,{"$f":"FH21","v":"One Pair"},null,null,null,{"$f":"FL21","v":{"$error":"#N/A"}},0,{"$error":"#N/A"}]
[null,null,null,null,null,null,null,null,null,null,null,null,null,null,null,null,null,null,null,null,null,null,null,null,null,null,null,null,null,null,null,null,null,null,null,null,null,null,null,null,null,null,null,null,null,null,null,null,null,null,null,null,null,null,null,null,null,null,null,null,null,null,null,null,{"$f":"FS21","v":"High Card"},null,null,null,{"$f":"FW21","v":{"$error":"#N/A"}},0,{"$error":"#N/A"}]
[]
[null,null,null,null,null,null,null,null,null,null,null,null,null,null,null,null,null,null,null,null,null,null,null,null,null,null,null,null,null,null,null,null,null,null,null,null,null,null,null,null,null,null,null,null,null,null,null,null,null,null,null,null,null,null,null,null,null,null,null,null,null,null,null,19,{"$f":"BX22","v":"Royal Flush"},null,null,null,{"$f":"CB22","v":{"$error":"#N/A"}},{"$error":"#N/A"},{"$error":"#N/A"}]
[null,null,null,null,null,null,null,null,null,null,null,null,null,null,null,null,null,null,null,null,null,null,null,null,null,null,null,null,null,null,null,null,null,null,null,null,null,null,null,null,null,null,null,null,null,null,null,null,null,null,null,null,null,null,null,null,null,null,null,null,null,null,null,null,{"$f":"CI22","v":"Straight Flush"},null,null,null,{"$f":"CM22","v":{"$error":"#N/A"}},{"$error":"#N/A"},{"$error":"#N/A"}]
[null,null,null,null,null,null,null,null,null,null,null,null,null,null,null,null,null,null,null,null,null,null,null,null,null,null,null,null,null,null,null,null,null,null,null,null,null,null,null,null,null,null,null,null,null,null,null,null,null,null,null,null,null,null,null,null,null,null,null,null,null,null,null,null,{"$f":"CT22","v":"Four of a Kind"},null,null,null,{"$f":"CX22","v":{"$error":"#N/A"}},0,{"$error":"#N/A"}]
[null,null,null,null,null,null,null,null,null,null,null,null,null,null,null,null,null,null,null,null,null,null,null,null,null,null,null,null,null,null,null,null,null,null,null,null,null,null,null,null,null,null,null,null,null,null,null,null,null,null,null,null,null,null,null,null,null,null,null,null,null,null,null,null,{"$f":"DE22","v":"Full House"},null,null,null,{"$f":"DI22","v":{"$error":"#N/A"}},0,{"$error":"#N/A"}]
[null,null,null,null,null,null,null,null,null,null,null,null,null,null,null,null,null,null,null,null,null,null,null,null,null,null,null,null,null,null,null,null,null,null,null,null,null,null,null,null,null,null,null,null,null,null,null,null,null,null,null,null,null,null,null,null,null,null,null,null,null,null,null,null,{"$f":"DP22","v":"Flush"},null,null,null,{"$f":"DT22","v":{"$error":"#N/A"}},0,{"$error":"#N/A"}]
[null,null,null,null,null,null,null,null,null,null,null,null,null,null,null,null,null,null,null,null,null,null,null,null,null,null,null,null,null,null,null,null,null,null,null,null,null,null,null,null,null,null,null,null,null,null,null,null,null,null,null,null,null,null,null,null,null,null,null,null,null,null,null,null,{"$f":"EA22","v":"Straight"},null,null,null,{"$f":"EE22","v":{"$error":"#N/A"}},{"$error":"#N/A"},{"$error":"#N/A"}]
[null,null,null,null,null,null,null,null,null,null,null,null,null,null,null,null,null,null,null,null,null,null,null,null,null,null,null,null,null,null,null,null,null,null,null,null,null,null,null,null,null,null,null,null,null,null,null,null,null,null,null,null,null,null,null,null,null,null,null,null,null,null,null,null,{"$f":"EL22","v":"Three of a Kind"},null,null,null,{"$f":"EP22","v":{"$error":"#N/A"}},0,{"$error":"#N/A"}]
[null,null,null,null,null,null,null,null,null,null,null,null,null,null,null,null,null,null,null,null,null,null,null,null,null,null,null,null,null,null,null,null,null,null,null,null,null,null,null,null,null,null,null,null,null,null,null,null,null,null,null,null,null,null,null,null,null,null,null,null,null,null,null,null,{"$f":"EW22","v":"Two Pair"},null,null,null,{"$f":"FA22","v":{"$error":"#N/A"}},0,{"$error":"#N/A"}]
[null,null,null,null,null,null,null,null,null,null,null,null,null,null,null,null,null,null,null,null,null,null,null,null,null,null,null,null,null,null,null,null,null,null,null,null,null,null,null,null,null,null,null,null,null,null,null,null,null,null,null,null,null,null,null,null,null,null,null,null,null,null,null,null,{"$f":"FH22","v":"One Pair"},null,null,null,{"$f":"FL22","v":{"$error":"#N/A"}},0,{"$error":"#N/A"}]
[null,null,null,null,null,null,null,null,null,null,null,null,null,null,null,null,null,null,null,null,null,null,null,null,null,null,null,null,null,null,null,null,null,null,null,null,null,null,null,null,null,null,null,null,null,null,null,null,null,null,null,null,null,null,null,null,null,null,null,null,null,null,null,null,{"$f":"FS22","v":"High Card"},null,null,null,{"$f":"FW22","v":{"$error":"#N/A"}},0,{"$error":"#N/A"}]
[]
[null,null,null,null,null,null,null,null,null,null,null,null,null,null,null,null,null,null,null,null,null,null,null,null,null,null,null,null,null,null,null,null,null,null,null,null,null,null,null,null,null,null,null,null,null,null,null,null,null,null,null,null,null,null,null,null,null,null,null,null,null,null,null,20,{"$f":"BX23","v":"Royal Flush"},null,null,null,{"$f":"CB23","v":{"$error":"#N/A"}},{"$error":"#N/A"},{"$error":"#N/A"}]
[null,null,null,null,null,null,null,null,null,null,null,null,null,null,null,null,null,null,null,null,null,null,null,null,null,null,null,null,null,null,null,null,null,null,null,null,null,null,null,null,null,null,null,null,null,null,null,null,null,null,null,null,null,null,null,null,null,null,null,null,null,null,null,null,{"$f":"CI23","v":"Straight Flush"},null,null,null,{"$f":"CM23","v":{"$error":"#N/A"}},{"$error":"#N/A"},{"$error":"#N/A"}]
[null,null,null,null,null,null,null,null,null,null,null,null,null,null,null,null,null,null,null,null,null,null,null,null,null,null,null,null,null,null,null,null,null,null,null,null,null,null,null,null,null,null,null,null,null,null,null,null,null,null,null,null,null,null,null,null,null,null,null,null,null,null,null,null,{"$f":"CT23","v":"Four of a Kind"},null,null,null,{"$f":"CX23","v":{"$error":"#N/A"}},0,{"$error":"#N/A"}]
[null,null,null,null,null,null,null,null,null,null,null,null,null,null,null,null,null,null,null,null,null,null,null,null,null,null,null,null,null,null,null,null,null,null,null,null,null,null,null,null,null,null,null,null,null,null,null,null,null,null,null,null,null,null,null,null,null,null,null,null,null,null,null,null,{"$f":"DE23","v":"Full House"},null,null,null,{"$f":"DI23","v":{"$error":"#N/A"}},0,{"$error":"#N/A"}]
[null,null,null,null,null,null,null,null,null,null,null,null,null,null,null,null,null,null,null,null,null,null,null,null,null,null,null,null,null,null,null,null,null,null,null,null,null,null,null,null,null,null,null,null,null,null,null,null,null,null,null,null,null,null,null,null,null,null,null,null,null,null,null,null,{"$f":"DP23","v":"Flush"},null,null,null,{"$f":"DT23","v":{"$error":"#N/A"}},0,{"$error":"#N/A"}]
[null,null,null,null,null,null,null,null,null,null,null,null,null,null,null,null,null,null,null,null,null,null,null,null,null,null,null,null,null,null,null,null,null,null,null,null,null,null,null,null,null,null,null,null,null,null,null,null,null,null,null,null,null,null,null,null,null,null,null,null,null,null,null,null,{"$f":"EA23","v":"Straight"},null,null,null,{"$f":"EE23","v":{"$error":"#N/A"}},{"$error":"#N/A"},{"$error":"#N/A"}]
[null,null,null,null,null,null,null,null,null,null,null,null,null,null,null,null,null,null,null,null,null,null,null,null,null,null,null,null,null,null,null,null,null,null,null,null,null,null,null,null,null,null,null,null,null,null,null,null,null,null,null,null,null,null,null,null,null,null,null,null,null,null,null,null,{"$f":"EL23","v":"Three of a Kind"},null,null,null,{"$f":"EP23","v":{"$error":"#N/A"}},0,{"$error":"#N/A"}]
[null,null,null,null,null,null,null,null,null,null,null,null,null,null,null,null,null,null,null,null,null,null,null,null,null,null,null,null,null,null,null,null,null,null,null,null,null,null,null,null,null,null,null,null,null,null,null,null,null,null,null,null,null,null,null,null,null,null,null,null,null,null,null,null,{"$f":"EW23","v":"Two Pair"},null,null,null,{"$f":"FA23","v":{"$error":"#N/A"}},0,{"$error":"#N/A"}]
[null,null,null,null,null,null,null,null,null,null,null,null,null,null,null,null,null,null,null,null,null,null,null,null,null,null,null,null,null,null,null,null,null,null,null,null,null,null,null,null,null,null,null,null,null,null,null,null,null,null,null,null,null,null,null,null,null,null,null,null,null,null,null,null,{"$f":"FH23","v":"One Pair"},null,null,null,{"$f":"FL23","v":{"$error":"#N/A"}},0,{"$error":"#N/A"}]
[null,null,null,null,null,null,null,null,null,null,null,null,null,null,null,null,null,null,null,null,null,null,null,null,null,null,null,null,null,null,null,null,null,null,null,null,null,null,null,null,null,null,null,null,null,null,null,null,null,null,null,null,null,null,null,null,null,null,null,null,null,null,null,null,{"$f":"FS23","v":"High Card"},null,null,null,{"$f":"FW23","v":{"$error":"#N/A"}},0,{"$error":"#N/A"}]
[]
[null,null,null,null,null,null,null,null,null,null,null,null,null,null,null,null,null,null,null,null,null,null,null,null,null,null,null,null,null,null,null,null,null,null,null,null,null,null,null,null,null,null,null,null,null,null,null,null,null,null,null,null,null,null,null,null,null,null,null,null,null,null,null,21,{"$f":"BX24","v":"Royal Flush"},null,null,null,{"$f":"CB24","v":0},0,0]
[null,null,null,null,null,null,null,null,null,null,null,null,null,null,null,null,null,null,null,null,null,null,null,null,null,null,null,null,null,null,null,null,null,null,null,null,null,null,null,null,null,null,null,null,null,null,null,null,null,null,null,null,null,null,null,null,null,null,null,null,null,null,null,null,{"$f":"CI24","v":"Straight Flush"},null,null,null,{"$f":"CM24","v":0},0,0]
[null,null,null,null,null,null,null,null,null,null,null,null,null,null,null,null,null,null,null,null,null,null,null,null,null,null,null,null,null,null,null,null,null,null,null,null,null,null,null,null,null,null,null,null,null,null,null,null,null,null,null,null,null,null,null,null,null,null,null,null,null,null,null,null,{"$f":"CT24","v":"Four of a Kind"},null,null,null,{"$f":"CX24","v":0},0,0]
[null,null,null,null,null,null,null,null,null,null,null,null,null,null,null,null,null,null,null,null,null,null,null,null,null,null,null,null,null,null,null,null,null,null,null,null,null,null,null,null,null,null,null,null,null,null,null,null,null,null,null,null,null,null,null,null,null,null,null,null,null,null,null,null,{"$f":"DE24","v":"Full House"},null,null,null,{"$f":"DI24","v":0},0,0]
[null,null,null,null,null,null,null,null,null,null,null,null,null,null,null,null,null,null,null,null,null,null,null,null,null,null,null,null,null,null,null,null,null,null,null,null,null,null,null,null,null,null,null,null,null,null,null,null,null,null,null,null,null,null,null,null,null,null,null,null,null,null,null,null,{"$f":"DP24","v":"Flush"},null,null,null,{"$f":"DT24","v":0},0,0]
[null,null,null,null,null,null,null,null,null,null,null,null,null,null,null,null,null,null,null,null,null,null,null,null,null,null,null,null,null,null,null,null,null,null,null,null,null,null,null,null,null,null,null,null,null,null,null,null,null,null,null,null,null,null,null,null,null,null,null,null,null,null,null,null,{"$f":"EA24","v":"Straight"},null,null,null,{"$f":"EE24","v":0},1,0]
[null,null,null,null,null,null,null,null,null,null,null,null,null,null,null,null,null,null,null,null,null,null,null,null,null,null,null,null,null,null,null,null,null,null,null,null,null,null,null,null,null,null,null,null,null,null,null,null,null,null,null,null,null,null,null,null,null,null,null,null,null,null,null,null,{"$f":"EL24","v":"Three of a Kind"},null,null,null,{"$f":"EP24","v":0},0,0]
[null,null,null,null,null,null,null,null,null,null,null,null,null,null,null,null,null,null,null,null,null,null,null,null,null,null,null,null,null,null,null,null,null,null,null,null,null,null,null,null,null,null,null,null,null,null,null,null,null,null,null,null,null,null,null,null,null,null,null,null,null,null,null,null,{"$f":"EW24","v":"Two Pair"},null,null,null,{"$f":"FA24","v":0},0,0]
[null,null,null,null,null,null,null,null,null,null,null,null,null,null,null,null,null,null,null,null,null,null,null,null,null,null,null,null,null,null,null,null,null,null,null,null,null,null,null,null,null,null,null,null,null,null,null,null,null,null,null,null,null,null,null,null,null,null,null,null,null,null,null,null,{"$f":"FH24","v":"One Pair"},null,null,null,{"$f":"FL24","v":1},0,1]
[null,null,null,null,null,null,null,null,null,null,null,null,null,null,null,null,null,null,null,null,null,null,null,null,null,null,null,null,null,null,null,null,null,null,null,null,null,null,null,null,null,null,null,null,null,null,null,null,null,null,null,null,null,null,null,null,null,null,null,null,null,null,null,null,{"$f":"FS24","v":"High Card"},null,null,null,{"$f":"FW24","v":0},0,0]
[]
[]
[]
[]
[]
[]
[0.28964540229938773,0.51437652199199013,0.47551788295094954,0.7383614029703196,0.1065107217590826,0.16196033032945867,0.53263830431857662,0.29883715738702288,0.38530255528453694,0.10011585021973524,0.58668602464253006,0.27122890356455753,1.4765689007264715E-2,0.89184990076008341,0.12651601374003585,0.60915744494347657,0.69298865505405871,0.85287808301185342,0.24013513947792298,0.34166721338705974,0.74961867514896285,0.88824325717078834,0.83765138694097641,0.20965723671406122,0.45440894632905016,0.16045786640114001,0.23647455214775304,0.13968210747573306,0.39166606929195857,3.6948763808724361E-2,0.3288701204588107,0.79828943747991155,0.17246379109311827,0.2115995987955076,7.5256740595282645E-2,6.7956864841975717E-2,0.17516087001740543,0.28120055008263523,0.52702031006281191,0.95923245016491809,3.7600915179313299E-2,0.98856593328211562,0.55620109998715828,0.30229467619695904,0.34374650584348021,0.75616122848429279,0.5793706276269639,0.48556724330258449,0.78985268285199606,0.99356597136993818,0.57706611583645107,0.48578223060757098,0.61880573785459769,0.69245963199460947,0.86332041501718171,0.21039854765798049,0.57652770570143386,0.81377241438193915,0.87132694503288965,0.73090585342020886,0.41385710905749684,0.79617698418296989,0.13227150797696785,0.45036753205445612,0.47480825558579998,0.80587456830704163,0.95991051757408141,0.3804772950968871,0.99393772433085792,0.89401561126147888,0.26757512185718302,0.12906804654640491,0.19887242848132791,0.54906046981498524,0.17281794615780188,0.94864453026300888,5.7348529160169637E-2,0.93907346221698884,0.78696572891908401,0.23907005949692617,0.15873714274789263,0.54630323042563067,0.8202142779695818,0.45452876341980519,1.5208783489905731E-2,0.43005647256688995,0.65539117359590104,0.93765629900021197,0.96680603862057302,0.19865249344179436,0.11272680230350995,0.40452041883508438,0.12813742467954925,0.8071434596123771,4.0779676416821009E-2,0.20750504258564517,0.69959460084829539,0.21890982519556434,0.90307323470020029,0.32407335440328988]
[0.38946301089443314,0.86751746947703356,0.98835344221382304,0.15060623675935458,0.19033413131201549,0.70087247616965864,0.53664221488761654,0.56577589274999052,0.14325041852724696,0.27090590892180955,0.7627085327233023,0.45983973824136692,0.95158263481361893,0.64111843955801862,0.27373067564467812,0.27874285780924801,0.3427938995863935,0.67735788781663053,0.25239427619911137,0.32608944773375526,0.28022366107857422,3.983980411427912E-2,0.56957772416522978,0.55519408069719878,3.9464727523798815E-2,0.26529532270476575,0.88810342242385798,0.98323068480655029,0.28831835875430845,0.84268852184359755,0.81840219084156662,0.22918140980231394,0.77558836696701539,1.4542288531276815E-2,0.88207073363636623,0.80030030793677032,0.30616293525769045,0.45792512957794018,2.3520370413242064E-2,0.31889166964857185,0.28151819282685031,0.25286791248110463,0.27042338949860978,0.89882213797739163,0.5528143405563205,0.97425661700919286,0.41256263303216145,0.98579730879000427,0.5678638925043541,3.1054096492840522E-2,0.60652357825822767,0.43549904090227465,0.65948733585023367,0.48896249028421446,0.20610286484640972,0.65098793839829538,0.78821479469150646,0.23861551987995722,0.50806745236678097,0.46272439974038793,0.67542380324245022,0.91336749292029273,0.39560206170573586,0.39379014161731163,0.83565674388390698,0.51305178323932876,0.32253808714664434,0.48715822528835606,0.48673722965904354,0.87517957780204447,0.59682341012867557,0.32909896125887483,0.55491528160606263,0.87001818301948464,0.35496309311178842,0.36615653753418353,0.28800803734320335,0.46151288793932255,0.7226541923853268,0.27287197932222751,0.98241664108369497,0.95798126222022029,3.0819221508587846E-2,0.99282242873546411,0.87109876191805757,0.37012405435740503,0.36343073265493575,0.43536030042591067,0.510393015514361,0.17946082612844361,0.26951978081315386,0.63249834649857939,2.9251505331390981E-2,0.5530279225363478,0.29310397230356477,0.6312639711720498,0.76593810471567114,0.49176353808861994,0.93188879663625335,0.86402035982662706]
[0.76759095387033782,0.48100356608456973,0.7974889106691696,0.30503462281173532,0.66914750547918045,0.42996564540485493,0.50654569745156341,0.17795579356982194,0.29768064298808472,0.11247647163156993,0.27530872054608968,0.19075756831505608,0.15446347454964959,0.73564488026836694,0.40677652707703948,0.41094813519391871,0.88087934519127487,0.95622997138048405,7.9081806422646173E-2,8.4906452382627062E-3,0.52372403410300405,6.2459143958579766E-2,1.896489090726039E-2,0.89386699968017025,0.4328324281484045,0.69134097360986901,0.9389913182079751,0.92498545426849832,0.3114528793805611,0.16933505785834646,0.34260962591654254,0.94164452485885897,0.22979273564356917,0.16599135531423348,0.70953866083169748,0.42349689902697063,0.78030843740982891,0.86130650868290859,0.47825098069995498,0.97847604710693858,0.92308928978473404,4.2031398514225105E-2,9.1639519540486658E-2,0.76649474250374172,0.11244780390343756,0.18345091415848669,3.6921593913256445E-2,0.61828503780780997,0.73524674475959195,0.81234950656025595,0.21323298132306212,0.77652126246214159,0.54658227572781082,0.99433921392372848,0.90628992915589701,0.58415986002277309,0.6280475156010259,0.36543636542895541,0.45942245598906917,0.46209444831261581,0.54943969351808009,0.94495634204213652,0.58008938880520844,0.3304919031406236,0.77910402270570078,0.20490880684389401,0.7051389669562409,0.83594311248870901,8.7072502429434318E-2,1.7140875239059161E-2,0.92174619007740421,0.92383663733696419,0.62592057977305438,0.91534195505293403,0.70223425123349847,0.26065312897771498,0.82175111415304014,0.12038683930149929,0.51971598203648472,0.90962523706824538,0.40183967303425294,0.5479717226637224,0.51269644615650722,0.31530473152564231,0.73760935727981125,0.24948842233962432,0.74202853825088477,0.30199861954094032,0.170651159444689,0.24182338459359676,0.53252264276735861,7.6834257622336422E-2,0.35797267308241276,0.19603176478892503,0.22288057444211296,0.96807216961887232,0.60425254746837498,0.46679112183296512,0.48655969353546291,0.62511631004434576]
[0.62272358190815513,0.13659529407382165,0.99402082729475372,0.62218838537057031,0.95527716205195357,0.35459541770922609,9.5285064165468225E-2,0.89838695588379358,0.39968072592134696,0.76235020683294996,0.32278246828450763,0.78342240713984679,0.6512614070082049,0.60202157382370103,0.11920403236310095,0.14855595976222702,0.33056295745915498,0.17570859759917934,0.26791585592541778,0.92234009021923824,0.94391943349620289,0.34677370272647801,0.41880500571411416,0.13518632414620979,0.46889493049716846,2.3783799729720556E-2,0.10745708854739011,0.772692824872942,0.76883440150420257,0.25041187055710601,0.24230968177951695,0.2111649270695104,0.13523132475059918,0.14790507782134987,0.64886387036688986,0.85780805084883005,0.51086504598584415,0.32347418387393956,0.60423126582902542,0.54537436182124432,0.14811961870827139,0.62335972910817339,0.1999384526378235,3.1228865222839852E-2,0.39338929703529368,0.84509576730348557,0.45885889678149216,0.93713832666361296,0.48427231743614385,0.43476618476467488,0.3861792444597465,0.98490898579611075,0.61254733220001678,0.88685655911098515,0.33244436777376862,0.27570474821665381,0.29673202446622027,0.42484765400330504,0.29392055544400608,0.41350353402562068,0.31529571662194611,0.14347332090747988,0.92067191083729116,0.24012621468522899,0.41255540400541935,0.60814756552090687,0.63253803717549617,0.16229447393181062,0.25654318080854499,9.1463001811815992E-2,0.97333074396351105,0.61867859223704458,0.98095133751935526,0.4991004996265519,0.45230691381285693,0.55455498460839536,0.13970148503866853,0.29054157336382769,0.96857702132194146,7.625008397767119E-2,0.86779695852877381,0.22588277362560538,0.70446053865619307,0.57820252363905611,0.33940393865051144,0.68023616002531673,0.97883608911860165,9.374177690704244E-2,0.26963550157675786,0.60542064447524668,0.62206442273983897,0.66732758789433355,0.50458415097728238,0.65045626111997012,0.26046656375120392,0.37426268443696653,0.83921512391091757,0.43864089798479255,0.72012717324217235,0.29349782291647908]
[0.57573231445504736,0.70280956251879068,0.98489070331907169,0.59255246594653133,0.89489607704139484,0.9682661978767314,0.7009644580292389,0.38529413587440831,0.31810947526511257,0.48486699353041285,0.15524492890576369,0.21205656965785225,0.35956380076302963,8.0770726188229669E-2,0.50233883495995324,0.72365790503575256,0.39212498032151721,0.96375744538622188,0.73577590957113048,0.90356385794052385,0.90514262441317639,0.72081033595364719,0.99295277122289771,0.75519765663715821,0.77651243166476902,0.16843414894463948,0.17262694369954557,0.15891987722393441,0.5237554389764365,0.52807148919295899,0.14728841070188725,0.66811224962068516,0.771455041826833,0.66495402495977773,0.23000676635948791,0.85965604422022779,0.86603863486741628,0.83467305508371847,0.35077703431917051,0.74021968927878545,0.83196270020383034,0.65867823266726688,0.12325275675963221,0.78977103709634411,0.39481183828999289,0.3758337635975878,0.92684067717022611,0.56014255003279811,0.2954522013588704,0.74962792191589755,0.24359858132418333,0.13782936157588144,0.7848836590859084,1.2856483729509871E-2,0.98919793386824117,0.31997308628717491,0.11140936086962194,0.98860231988717662,4.2239829855876265E-2,0.96328560977328204,0.34553019574219968,0.3633590959484585,6.8526880712060034E-2,0.93397112033164653,0.26579073257669228,0.81490037377932012,0.75161611507262194,0.15569445578383145,0.8682828710946916,0.86190137228051089,0.54456233707834545,0.50057321021286372,0.58020774816634146,0.56203083620918437,0.44724811189409763,0.35350162588883949,0.71827058521513243,0.14340745145877676,0.3066489900694076,0.22028812281016763,0.71562192653765144,0.45743469170594242,0.52419748472625649,0.89525140968206973,0.41388094152203747,0.87314936345706107,0.12007040321725959,0.22459474260399892,0.62016091940441576,0.36108747910731398,0.94330239358792756,4.1745873957576007E-3,2.7680132727638362E-2,0.73101506612048495,0.36493072956422756,0.13671976152797538,0.10399666502547067,0.41400479717301253,3.0689366883179359E-2,0.98265713055936277]
[0.8019169097584028,0.73381895565144872,0.82437842781217019,0.49706529595870397,0.37778703160623361,0.72425804910912905,0.28380959074723888,0.9593004271750355,0.33707504618537709,0.84681968598436785,7.3147239808576403E-2,0.68839004989618469,0.88133248643095041,0.54279561066458937,0.69360770952146245,8.3797235932014935E-3,0.9200573776272627,0.84280895785774912,0.31758940526618418,0.5327745352264297,0.36641042400536628,0.23584079957345305,0.46604056861320609,0.24773714369958777,0.93814880034015302,0.9558426120243505,0.82507269054203392,0.29460867783276956,0.99256074187362298,0.37579986842942659,0.28390732935298912,0.97834408829433239,0.81820884164678109,0.51425271320659127,0.30849024917934798,0.51846075549865711,0.81871449240379157,0.2092818055878567,3.4962429717650956E-2,0.31463229735298404,0.78673110406487023,8.1431331903430104E-2,0.97031594188179715,0.22660395221261265,0.96159698421733253,0.78199094939660541,0.91835932047631019,0.50692087110530382,0.74169552495559787,0.16593617987101739,0.41171015127643917,0.44902352007313928,0.48722595351228859,0.31292823134726133,0.32317518148849589,3.9168823818802379E-2,0.3084932477050254,0.68426195516523158,0.83660997011602778,0.86373562413595706,0.17962968586423833,0.13398004500913774,0.69801408106594975,0.70316332700838335,0.50273876278234264,0.59637206775381035,0.96068557731299009,0.13995619049680497,0.7848571711278316,0.43842620391379494,0.37161130600013148,0.36200690500423038,7.6696762241962535E-2,0.39670371535575155,0.81870190340384852,0.18932397389323663,0.60641190355196195,0.91303947054188961,0.43991574283016766,0.76210006370163252,0.18022251793501176,0.34949401332227026,0.95981042132623906,0.98104713872513949,0.82119197740625216,9.049237076187111E-2,0.39904162037892932,0.57800087675051082,0.86161365378365673,0.85176056878836204,0.58153788931700878,8.3698185217523147E-2,0.55052987903813766,0.31925079659277178,0.97119135077817509,0.22272454946527664,0.38901631964924666,0.7024829159652386,0.89086247632127513,6.3981683006865686E-2]
[0.11907771498401443,0.83089180740450974,0.81663146507374851,0.12983460542047642,0.43984806175199043,0.19434909565718295,0.96890672885989848,0.10346090812194264,0.26001473499980898,0.3608265604555535,0.91356820095937763,0.33931021267529171,2.0605070421434002E-2,0.48654779881532284,0.75515544413202196,0.5945579196047005,0.53911791735192993,0.72614520675722449,0.26864073730198046,0.27876672425210225,0.45112526565024369,0.39708774457011742,0.48824287629667718,0.39143248222450389,0.58500434937978585,0.40432095349876229,0.55110515812435501,0.16064300967887102,0.32758794488414089,0.36012211557752749,0.74968785711448471,0.49341851758523703,0.30016783845412398,0.4906390313949115,0.92967719175008434,0.75640097645775628,0.60582231121064989,0.40313780812076649,0.73974655564332414,0.46958398071054086,0.10666569358133515,0.5277758298292643,0.27287471193594914,0.56232616465624008,0.75121348670461485,0.39169619091263275,0.17788070518276899,0.9921082014076934,0.84925275870996852,0.85603650081325844,2.4404045537897545E-2,0.45793777697205784,0.41044107568516319,0.90843516699648275,0.62553951778597527,0.49713120523843513,0.62149252953966028,0.33394643781819422,0.16420287947565393,0.53226633788212219,0.68154048939469036,7.7620237904178158E-2,7.5123958807320146E-2,9.4134281762750627E-2,0.43257548392439826,0.19362470376094887,0.6354236792709147,4.6844607021052198E-2,0.98734945705738053,0.88514030770863183,0.12433996970016137,6.4543192091858215E-2,0.30296448819688326,0.87571217123534173,0.30028479028507349,0.85744886056936198,0.53266625817492608,0.20099830686638553,0.78686244126866445,0.91898728058064072,9.3523972612596817E-2,0.43851543767050294,0.49077195182554856,0.87733134913855626,0.18931812994606889,6.5023632211659188E-2,3.8883713744515713E-2,0.64364055486100991,0.34435802482068889,0.1412180814866093,0.16102342900182487,0.3870505078840244,0.73924717559693998,0.99552222949974967,0.45117711714267406,0.93583778880845137,0.26248761997895742,0.97902388890181236,0.40234255948785058,0.72217606237633925]
[0.12753364420424618,0.81560593916251922,0.23740128281856787,0.94739611509677535,0.50914437585883632,0.26478554847505631,0.41003536645256811,0.8530710150475721,0.54153056835014823,0.2716890170212849,0.92636272713094769,0.96189671755140171,0.54788883010577649,0.90659660593268199,0.60009231764896975,0.3915349091525826,0.37026190738634379,0.76831797099963928,0.5915987490462945,0.89523145209982236,0.28328788801900351,0.5020919353805694,0.4545418193102867,0.29848692588771586,0.89673537354357347,0.13258234966192406,0.16120058997680242,0.35856556812801599,0.61609261799742676,0.33281072281888557,0.89678825937393769,0.75570107855464708,0.41726072607656561,0.67711914377721427,1.3407343517559678E-2,0.69370747900720309,0.53625836428500018,0.13314715159866564,0.79381175491016986,0.15391844494051465,0.21914895311976179,0.86628545393275835,0.58601601319111118,0.489168818781888,0.88607432684129672,0.28170308454797388,0.58978035449470934,0.18429615336332905,0.56825258759712427,0.89713498438118655,0.37168678913164388,0.85236025056283016,0.42276605915217502,0.20440409301597362,0.70921315353996661,0.70155521090595441,7.0294036912317281E-3,0.40075619536379259,0.52614844709346043,0.30614187686642647,0.73572143308259264,0.40808552971566947,0.54107371789366221,0.92156606192109358,0.61730805341074169,0.49433239567277953,0.37244424358624573,0.46056780319195512,0.93259947561407064,0.26586457458309565,0.62223390742369356,0.59974007459399936,0.72192831101463129,0.59757417485892383,0.20996611997405823,7.2286805628065443E-2,0.70153509306126571,0.14300468878923911,0.20772020901925459,0.82138191292522422,0.32691531315093147,0.22119712466648989,0.34581001144026602,0.16729756954668806,0.70239321591015713,0.75975392343778669,8.9024243090586763E-2,0.26877867784929954,0.5720793415415284,8.5801602469685045E-3,0.84892270402310288,0.6875643388071605,0.3137292167786776,0.50449570020208656,0.51701768141385129,0.37988147422870056,0.10111978176193082,0.65226081661466295,0.4157834229479962,1.6538136645483092E-3]
[0.73004002387216416,0.64442086241747809,0.35378665257886943,0.88618529063493146,0.74225606855642845,0.65257838636222743,0.54928481024295261,0.19885451402212817,0.67606239956934233,0.84666066400076667,0.85805360131726682,0.25397451220344047,0.25506778586013956,0.51414142072628322,0.28064078965329198,0.99046805140327721,0.10629109255697411,0.81814235518291567,2.4559783006447344E-2,8.2032477112395363E-2,0.72381494686887793,0.1259003307005806,0.51531365291072284,0.73549087899912058,0.49175542261978489,0.91064451328253582,0.4332409761689443,0.60097003398627014,0.49335734653742547,0.30507932948539829,0.17049195993522659,0.62479923833762285,7.1955819069664084E-2,0.38121085261682663,0.4605122696449061,0.94543753575087697,0.34704671322189318,0.80006923128988205,0.54370107102285103,0.79614618987050478,0.74541345873296228,0.92771556724131377,0.26378893721880425,0.96112963775438975,0.92639505897304497,0.90296087874754138,0.81555769867745243,0.83900238096032576,0.17411965913523497,0.80592777719829412,0.45586119342116316,0.11216035811141523,0.36713388548441472,0.30496521709533986,0.73269480203368753,0.76164008718599774,0.98055225980213889,0.64725799278230667,0.5148550970098198,0.59564290284821986,0.26738790712410498,0.12078296444160563,0.15391620732654976,0.48837235798925704,0.97925421491935627,0.97509928632954723,0.69759868107596801,0.34763157966305558,0.9977080324424088,0.32696986394980587,0.35778719998840081,0.70506381954301012,0.95161535697734168,0.55738720825035337,0.96635524268814454,0.27617239433458263,0.482658262499984,1.1579411587372634E-2,0.68974753914301301,0.12072250891881142,0.54075275084645491,0.75314028982397663,0.2862227777018681,0.24973716457334194,4.8302614757468998E-2,0.81432081078610818,0.795460576195824,0.54703649965158752,0.9028579520564981,5.2791305097044106E-3,0.12304289493078113,0.13241123593545268,0.37461166285153191,0.47735053921955095,0.79431701421001122,0.34152804429726946,0.39016475230181469,0.11901660346328868,0.43037994196315177,0.25678695253977502]
[0.95265392003092464,0.32825967816968116,5.6763279906851705E-2,0.47155412945073905,0.64594399325410257,0.24130256765017877,0.8411518218127183,0.15212209903549545,0.37461585428625876,0.2174776111198734,0.9565781048561427,0.74144804323967151,0.77063186350511592,0.71072702171792934,7.3312480067308727E-2,0.66270009130752305,0.33740813699779848,0.34906616780869615,0.79055321529069966,6.1057220813683699E-2,3.4764802468568612E-2,0.67893872181544024,0.12595323734179198,1.3033294361321723E-2,0.96548405649519375,0.90857997282403136,0.97943700688519686,0.17957334424975679,2.6169458136628632E-2,0.76540431936319409,0.19989052998999779,0.10564640860672847,0.39123475158535637,0.2690735063635824,0.32293648624887583,0.62527495513288867,0.88109998993404071,0.25780556156242007,0.91089877430099053,5.1077548139728646E-2,0.63344181465923988,0.64862000121397756,5.8225092060204986E-2,0.71686952678567684,0.10681346900105926,0.66342246869146604,0.25486383314792715,0.16333115763649875,0.67162660540165287,0.44246034335339746,0.6569441134089109,2.1263305963043044E-2,0.81677098490195843,0.49667904388967432,0.61205521804209173,0.7361881278106478,0.89204046991696384,0.33236101281454267,7.7991907397832905E-2,0.68127920189632785,0.62878642180535582,0.65181715188256861,0.52564646995916997,0.40228988076604744,0.97113278784652823,0.1493050691101846,0.36541488684294798,0.93246479179609032,0.42029117107569369,0.81251329284395568,8.0255684386999593E-2,0.72888652498515605,0.16330625023830569,0.72537957718966528,0.88397648297010256,0.93170753367688663,0.71057746186370452,0.35616495752153299,0.70130758011058691,0.76954484404196022,0.83124801218717415,0.69439684967935167,0.37306890585603747,2.3209976087701145E-2,0.12541103028582534,0.13574798796311049,0.51418867704036175,0.53378664305590895,8.4085136089519619E-2,0.86651460187939378,0.68756197494359972,0.91456565553226776,0.77856144746847045,0.89160237324275715,0.29168851375348714,0.36460803255322671,0.40637830641575989,0.27584463188239172,4.4510706623264729E-2,0.35511937961315909]
[0.88765297304402913,0.20673529975186322,0.34091243086961887,7.7427311166330504E-2,0.2335515960036384,0.30302501992751385,0.9666683013808316,0.85655300413230384,4.4971249250408407E-2,0.48962419095604337,0.57213044058404661,0.15326267388863968,0.7804597320799681,0.95759802708956088,0.6203143083634729,0.85633449902187775,0.53412200826598089,0.42771441524792353,0.83495925801988746,0.71068367825165324,0.64818486864614644,0.2177436004761365,6.308165902585372E-2,0.92929572985527242,0.82647001973106571,8.8513798005945832E-2,0.78297253366813235,0.44342706776552987,0.78657172760759653,0.76841901645950805,0.82143710061073461,0.17682418167136771,0.93484498770117241,0.29048829121592679,0.63520613072668353,0.22575707011673296,0.17412217513255868,0.14647300305223099,0.26802132183640981,3.0339870940010227E-2,9.5118823654427698E-2,0.94428929790706029,0.79251060548758812,0.31094939598613891,0.40881647831414869,6.3607131885196844E-2,9.3195832642647192E-2,0.43291852636998751,0.97700542416475167,0.17412112917459022,0.11177223490814003,0.41226907459418349,5.7868956608482347E-2,0.83416122999949083,0.61579208613298508,0.30201516187702093,0.91659608137114168,0.6345780280886586,0.40590729538171255,0.21836769672013034,0.64405531121223492,0.24929110302526436,0.1401099385621315,0.38866673204189772,0.25719433581603868,0.10678689786000306,0.2853350164475007,0.69885634367335425,0.88410722591353763,0.67293877003595481,0.10330471843891709,0.39381040164956294,0.43021950255661956,0.31379112897966399,0.84119835878424798,0.29795641282744201,0.6978962001945791,0.94616812238578907,0.42948471322963888,0.8318867560721942,9.7205735746660582E-2,0.8825861024252889,0.44539623421076935,0.66678827052087808,0.47483480531893629,0.90233664219057852,0.54583010503355556,0.99125466795490291,5.2566954768571761E-2,3.5515240996137343E-2,0.9945469301711457,0.76732880396647762,1.4336887398281872E-3,0.94769750011728082,0.81054418193056665,0.50345794041616665,0.16785963351990751,0.12534576732165992,0.54543211352909216,0.54108656270008548]
[0.12971499810653697,0.24751440257930435,0.54650001303991591,0.11954889652861433,0.56031510288353759,0.75847860816536528,0.46432388944736636,0.76430926742750882,0.45053096774439805,0.20982909060344745,0.53836935573357803,0.16207927746779371,0.98928355757590747,0.22277284886065796,0.49290370344147116,0.49246082567240212,0.3237049343812155,0.40035941984866352,0.62742626017125791,0.32293456470510173,0.62519534853763359,0.69177458993623442,2.8724796596383273E-3,0.55866487820653221,0.20015734710921673,3.3724272324465843E-2,3.5611657866749691E-2,0.54862679626117283,0.5055672758960047,0.73900166540865941,0.33648816496306111,0.22251035978257527,0.58427086459759003,0.64992511755363125,0.95795131186843963,0.52397774757310622,0.32457777023692092,0.10479194104193745,0.85468465666091264,0.91453902329962122,0.24170783859585898,0.48927693377200288,0.74019083008637687,0.8022412461331041,0.13014765375131876,0.52464733035610189,0.92971659209916935,9.7496379011707934E-2,0.64909009297629949,0.89216273921563805,0.56544475648865322,0.5611101267185018,0.40460029279313781,3.5052826411997917E-2,0.85497152140530297,0.71275548363670516,0.78662203986974155,0.29020541642865127,0.25513325966369271,0.41661396839994325,0.97916596064749106,0.24192518245352967,0.99863033589152095,0.24157656069886724,0.80179316856081739,0.33118278628217346,0.13865307118825998,0.63223626736664451,0.65582843705893623,0.34015458818144473,0.76586184204017382,0.41016375720452836,0.74051031186295724,0.3602187112050057,0.56365704134804773,0.70194693953472354,5.7506000830488069E-2,0.4126199257099884,2.9015867830042619E-2,0.22453921509697039,9.1057783901489109E-2,4.4674312941794803E-4,0.18421184655036715,0.84640464462212139,0.90622922862374966,0.72109509991761767,0.96843031837120419,0.6584405077972898,0.37970047495223269,0.77091894744226674,0.83497187261645445,0.32867736821464,4.1760187408328986E-2,0.65055897065273416,0.5315035462637212,0.66085975288485033,0.29567035714503465,0.32286288216966585,0.30263119372441671,0.56268775905148238]
[0.29395360738674625,0.90323184848287486,0.39215118500306068,0.35890879745450754,0.39356485493543902,0.1553204905681278,0.86188306137387383,0.65964557862640738,3.3607563122575401E-2,0.83300918350633235,0.56834987452038521,0.79001475276249977,0.56190528970422871,0.20881639625410786,0.23850625660399072,2.8218412148729333E-2,0.49783570892980533,0.97623249429004078,0.47399763944023443,0.93313135111886347,0.87099849240138971,0.2628130563447777,0.48393903536242666,0.68918756295501415,0.22284232552667238,0.81345149510115267,0.38384348096752396,0.42517657314971447,6.2433208614430247E-2,0.77386441011376605,0.95515701261568031,0.42085432953283963,7.6789421673448155E-2,0.24788768513681914,0.76109095057019549,0.112177540397148,0.49632753733452117,0.8753782925830832,0.65411714242923902,0.69338170737468297,0.29485940990685122,6.402339413880187E-2,0.43053390366229516,5.7834061455876773E-2,5.0786337406438231E-2,0.47093053658762751,0.55954418003285766,9.7508789953034802E-2,0.10646832222932701,0.80537032403586928,0.48996567463668528,0.46164366733428752,0.17321141693340203,0.25613771049108791,0.10460657392322004,0.95317493133617137,0.95292144305286541,0.35158015381023888,0.77365441876547381,0.3639047597855255,0.35620634762027559,0.47111798967195639,0.63501877353944813,2.5744940271221317E-2,8.4309301548209925E-3,0.6123153998209645,0.13278237147134142,0.80299368220798739,0.59580359771507907,0.68019095159123732,0.97425272225713577,0.67487992941177211,3.1509886529284659E-2,0.58229435123971718,0.55821899755533422,0.71431339919133696,0.15464612560059343,0.57633063770178083,0.49746767036403017,0.77777360439377008,0.13491586789293653,0.77583804007115553,0.19825011502763845,7.7233284954351222E-2,0.96261955281700895,0.47487191763846281,0.78240301685818947,0.70468001254329038,0.82992918888944489,0.16431492202883691,0.39321126569391152,0.15338973655635768,0.21323948762362477,0.31720661828910934,0.70930468227589372,0.72574610606434886,0.91422038761363733,0.49797887230491644,0.36394518220651795,0.3052335838064808]
[0.50483270584237649,0.33408436473877001,0.54635437691127142,0.22593115551292919,0.85840333620797771,0.49884343750884852,0.80976373306627702,0.56960607304192767,0.67219796087548145,0.69002672931486564,0.32852983080848774,0.699928421518209,0.47367861997973937,0.94596966166629937,0.31307229917080337,0.16929438607108871,0.72195345694335078,0.69599752276125915,0.68829341951882439,0.68789901556519573,0.76681671966343767,0.55463504139350839,0.83402729002092335,0.28014266383221154,0.38727133815599735,6.9675789180663084E-2,0.46182252953406844,0.3978185837782755,0.27260602453501437,0.2353134038339092,0.45431063006065253,0.59040722643114585,0.28481460805436776,0.59557448824336356,0.26168711373318554,0.36982514453005122,0.77896291956360841,0.98065315208310488,0.23516099230977783,0.37048922622387503,0.15820037021388089,0.2874366514313712,0.57463418673638733,0.30719910154976926,0.41939213082799631,0.15556399490709205,8.0084352127271385E-2,0.10897458584988617,0.59097591738447308,3.437504141284109E-2,0.29763588897742022,0.17994351900957639,0.89826823761804431,3.6923260699378124E-2,0.8816837039577986,0.40774120409440229,0.33195175981595315,0.99935729181441468,0.11692292996629805,0.69856240158581473,0.29829648974851208,0.50307884587707119,0.1239179981428018,0.1256826134662109,0.86892527041544754,0.89071239241718858,0.89621033537978245,0.11456185672645125,0.73909274113688173,0.31744453678850482,0.30230649232873608,0.84391897631929791,0.18272319527220138,0.93294706990868992,3.357938520312187E-2,1.2063320714518544E-2,0.84163666801024217,0.83145477561721992,0.13804978216179475,0.46938793139866686,0.85368894099072912,0.30789884224477182,0.8033614082339634,0.35997283172476291,0.88219273255201391,0.81614403031724836,0.2083918043003492,0.51108164626003949,0.74057094967915327,0.37405272568633718,0.72899914536437949,0.4082268147479482,0.77157459291857566,0.45649445687728829,0.42373517671259431,0.27230548687421863,0.97381944577131263,0.83889100771032254,0.95819460448172056,0.71137201052791565]
[0.52868439757312902,1.2366129519431057E-3,0.21167426501135833,0.50728031485855718,0.95537454650982911,0.72863394426148165,0.46947265047261399,0.48057787498752103,0.97936788432209754,0.41701085983408104,0.67901885103959525,0.25231975737577328,0.87661771399731792,0.33682613898999936,0.52354809777005229,4.1292724796068492E-2,0.89879313093991076,0.31016304478071999,0.48269275582596405,0.47159507919401855,0.24427105563839191,3.034685871771059E-2,0.17499909065902486,0.27900726904846529,0.64423576440290675,0.53485395309865269,0.14406275883735153,0.68374813715348159,0.39826030616734742,0.95903918768074026,4.2226482849955782E-2,1.2467957535878926E-2,0.70571195808818277,0.46321348312771671,0.86150512929385303,0.76305679584713748,0.5481885921672458,0.86633462597404509,0.96257285709430662,0.68656947189199036,0.46745310179471589,0.28911495482660765,0.42427182492890625,0.98824079959021327,0.110139885495947,0.82419393341138847,0.69676221106787983,0.75978253410764518,0.99783358231966712,5.1335930610786451E-2,0.68401622496761649,0.96552218246141919,0.1105289511078984,0.58137178956633129,0.11421819083111728,0.33358698575775136,0.95573002690034692,0.10662253905093133,0.33809170957213874,0.49881194684618446,0.79226004956887996,0.17873056301283574,0.62812357890379156,0.3684214291668555,0.80038635097477395,0.11330532331452492,0.91643498040097993,0.95120508960034122,0.17623061543949359,0.40258410676248835,0.60274696737477196,0.78620688131298422,0.59219892656506068,0.56213659888819789,0.75173948125759582,0.68128138790922665,0.30887979338973015,0.16186191502348324,0.73301596502062538,0.43809320495538784,0.18120736968417994,0.52900730402652307,0.97545607180045057,0.45038723366071287,8.2386851895186353E-2,0.12880143298207603,0.75594202512322828,0.13165025507584138,0.69005917840242936,0.61510893443077963,0.24835927119438894,0.24900692462238072,0.65372600931449032,0.27013592652231566,6.1363423194071842E-5,0.49400034954191863,0.96005446426283647,0.29511626111228972,0.85160678113924992,0.87950175262874519]
[0.29983155041131404,0.62844450964263576,0.67921799793143678,0.22609945015448074,0.56030257133831718,0.71372017348481043,9.3360637206543196E-3,0.39001975698404856,0.17383348168164958,0.52788723908525204,0.90226869833807255,8.3738838744649713E-2,0.47315941604766243,0.44687162888341392,0.15765588268907527,0.67549883989227477,0.7012278967930029,0.20559167213895702,0.80841950974762566,0.51560111461691738,0.51363012506456895,0.74759291896579405,0.43552112963706435,0.61369141194638466,0.84930549952370049,0.35178419972992103,9.8886252531000474E-2,0.17201461651285166,0.40700894711018087,0.33251942520134548,0.66112226279338737,0.41238804085021463,2.7571850822182831E-2,0.86286130213115875,0.60382216528307642,0.16460752169413562,0.41368280599761686,0.90603509519167758,0.24216439040983317,5.8207881652716065E-2,0.83750924289590023,0.62435197142515575,0.43353278370482407,0.33863850145973573,0.66821523410856465,1.5078856673587882E-2,0.41279096399254744,0.14324174071899531,0.249748660426937,2.0026179953426815E-2,0.89016543439174611,0.83171639860088276,0.22438226585337107,0.44452826008840163,0.89988728133979579,0.93782690450541839,0.33544530982172915,4.5335084950035021E-2,0.6189266795165983,0.93890580248502231,0.12524133191522158,0.79898918203002756,6.6749301629436486E-2,0.32556956210363763,0.59530066602134335,0.72661839165853581,0.18987957310792303,7.3731216991600679E-2,0.47818019033334569,5.6369922714465392E-2,0.70305212189584954,0.56445437016309463,0.62953439180130233,0.43813829874739563,0.81309167955668571,0.98424148593424021,0.28965659681847167,0.69262338993605466,6.0777626656614903E-2,0.90412278611435859,0.20820860081601666,0.68914412392298807,0.62386894622941125,0.24555517343493849,0.50710203815896016,0.89663022481439048,0.44079043462952616,0.35408246721790082,0.93638574137112185,0.12385549880280688,0.56405448187571583,0.2271588859372683,6.048321537987511E-3,0.83916558749883119,0.47369082619157854,0.24147665768469029,0.78518790921546255,0.81985462889943928,0.37230933972261537,0.7587212551523943]
[8.2922640425561078E-2,0.49487443357519634,0.6617452647434251,0.56239756406472419,0.41353503918495893,0.46757935379588855,0.29866158226379169,0.60709858752663104,0.68275954058443122,0.25531149690134036,0.88416208101226956,0.35836406571040302,0.44217053717299792,0.1993282881582199,0.83927091156108613,0.2963679158444299,0.68605405453410817,0.92994190294304935,0.67738855751525273,0.40267972446394329,4.5790969172924023E-2,0.11430264279064739,0.61346734136243208,0.77780991198037619,0.77962030302503094,0.89867569052691532,0.1521260131547274,0.16631524828045807,0.36013399753363018,0.63659003673513681,0.59478231174844687,0.93516425987627294,0.23423127639144214,0.74081603108679517,0.33926163388800945,0.8682617252038376,0.69891529367689809,9.3959954524770462E-3,0.26538907414031188,0.13276378938343136,0.54890375293688021,0.66074728396733251,0.65546545709042747,0.60389333108030074,0.20074341482734648,0.71460111762662903,0.62768896620537262,0.39654290597095165,0.17325941378508058,0.20105380348978308,0.78090613583920077,0.7453221012103558,0.41188410432980171,0.44517360702228914,0.21604534696078992,0.4688676728164668,0.129759633511765,0.13335022706384647,0.99040357371658572,0.99276689766421844,0.91301238223584236,0.16670813484988556,0.15140975854063432,2.4534336132496559E-2,0.56501152148401146,0.1288560521848181,0.83240905664775533,0.27086515758923002,7.4978724445538214E-2,0.93580408936861137,0.76153894161804347,0.30121682048103171,0.80770364950422324,0.33703344313539263,0.59742705960591691,0.71344512406067317,0.97051474771087998,0.50508584398747824,0.66506990540779576,0.47552929658187149,0.26986790198911603,0.56356876408603562,0.10136142795809044,0.69271090628079734,0.21291944221426351,0.2235411612695638,0.59613744958691117,0.46108644240479268,0.96851919918068374,0.60862340235110601,3.7389228781292694E-3,0.91039611381638641,0.65538950219157344,0.6646885970465698,0.27204249019830817,0.72831755382891006,0.47681691014840111,0.43879728695192433,0.34837174225129142,0.16564013945868639]
[0.40833647833535747,0.17673385103327532,0.55943601831641676,0.71673433590158708,0.24790347636986332,0.79554671627995555,0.94497809318945303,0.65087695068575946,0.63100543987483626,0.19519496705632111,0.9559384844486204,0.97549856158196924,0.93990657408785583,0.44246972429519116,0.27486480147475612,0.97742819285289673,0.95517445270347123,0.99068164332152453,0.64854860363467748,0.52815210311202476,0.52310615041708708,0.58780017531842299,0.2333511481539341,0.46610900651800014,0.81715983502785683,0.64502031682802763,4.5290411900745675E-2,0.74824686996570433,0.59719496477081002,0.50688455749783401,0.66409080744458826,0.74928700737642762,0.57446587007987249,0.62840450299507278,0.288940894067517,0.95756229915683844,0.79386564972017204,9.9702358557334447E-2,0.36973959498899656,0.44017619802685148,0.71658535390057898,6.8306509534492577E-3,0.37683935187798723,0.61081228125346665,0.43264966970723051,7.8746690811384523E-2,0.73959820304006352,5.8158744614364433E-2,0.67147567465624736,0.68261673561455005,6.4676141258177666E-2,0.16205567449510805,0.52337677251615511,0.83394448994276038,8.4782372944212203E-2,0.82011362859264614,0.2728504384496252,0.77454914697859845,0.20579187577631497,0.58867324242579699,0.72062843300890156,0.74171748795066861,8.0191424452770721E-2,0.45908349539350757,0.47318383300608846,0.20795122485488038,0.68261804887471034,0.97938854690300714,5.0512735835683387E-2,0.73390429557634551,0.64858097849932206,0.52791747900270869,0.66513765568887984,0.83813235943514108,0.10801007027864684,0.78719132426602045,0.34383390281605919,0.16411039866503707,0.376162253430817,0.94682752147659988,0.8045845400479672,0.85439837569716615,0.86035849943971276,0.54382961526136542,0.72752924278941389,0.54587356702807122,0.23911028692741687,0.38767112900752443,0.33223923052365179,0.12214936684656752,0.32573938309594352,5.8920195478328052E-2,0.27966508333745055,0.19762720009396806,0.21511576881344729,0.41272554329757372,0.22850804683678183,0.53057647253177243,0.51959568298663417,0.98298536506657874]
[0.7615233393136509,0.52871321222378687,0.58658251490980096,0.37104741701489397,0.52424631802617361,0.34368197823537638,0.81509237570580528,0.75146288375729087,5.8548723970312411E-2,0.16327045749169011,0.67441472966477989,0.30891497387520361,0.81292132017970986,0.25699516353494267,0.73897111272007721,0.95671934764671773,0.6052106868417817,0.57722268835907919,0.51346177901917611,0.19016710806342341,5.0421928713238029E-2,0.43638832290376006,0.48148556467843906,0.1251434567943891,0.96306448568761327,0.13520517491176043,0.98579784235588075,0.9022180072726893,0.74033057840602012,4.996411714197313E-2,4.1282029146601396E-2,0.90286617165297145,0.26969750455831765,0.36060694053349152,0.88438330457406922,0.9465339533331667,0.54710016691858987,0.82349118748220507,0.65335181246894025,0.23344115626839401,0.25413099051153765,0.83820353901111522,0.25932083339079792,0.60102658914023577,0.88397171501738803,0.16677561064955837,0.53736059954810556,0.55832417785835542,0.24962274754453828,5.6281128245635581E-2,7.8854031030066607E-2,0.36145955014376008,0.57556132302699092,0.17167332170424809,0.59297207382824557,0.99987748503394613,0.15714237706703549,0.1629247166715545,0.46939249069702416,0.49224491264241288,4.7488885181045104E-3,0.87035263700297427,0.42854829255163907,0.60227114336674736,0.86497583294819003,9.8957016816652477E-2,0.6638149225193688,6.2757919711177168E-3,0.67931751774781712,0.32645545085045369,0.87267159445283515,0.10901160925455256,0.84508807759196192,0.16689205319961475,0.40488230481428833,0.81748327422279132,0.96493959080048841,0.23355231078195715,0.61469433810536189,0.26494133294840638,0.23743413355246101,0.34150005405432871,0.87051450148091547,0.86953830585008129,0.25236816617666469,0.44390999645070639,0.45962814512210903,1.5758591374009479E-2,0.79887570018755594,0.16544449734967115,0.16016249739391042,0.55671540771077688,0.96262721450802613,3.2952343901663905E-2,0.40252480978690197,6.4634613019600828E-2,0.72074339135725229,9.0286455610226635E-2,0.52646068923258182,0.11438015989505834]
[0.60346451118384903,0.91663998594914409,0.90281867778609803,0.50318292418039978,0.16670407513759233,0.68096578797010543,0.55652018488093102,0.58790899875401381,0.68421874108860281,0.5805767798982796,0.37175350015827879,0.61992381855087186,7.6341004429771875E-3,0.76687200424099877,0.29381431669870284,5.2720131861959119E-2,0.35211431665769966,4.8623990149315066E-2,0.98111465252431984,0.47855996051944127,2.5820453637461438E-2,0.89802994630056454,0.23317666263457415,0.41424616963876637,0.42864045142225315,0.30916452101238145,9.504994042998649E-2,7.5171888763486461E-2,0.93353826678722707,0.29843405120307887,0.70398267358761091,0.51305098000500515,0.19362413107054299,0.3128905283295661,0.95815313100452948,0.64478210852747986,0.763119926802726,0.77386268106930289,0.39429193935924423,0.21512401761062161,0.46420108691307671,0.41971408839384272,0.10812259980909966,0.96958641349647656,0.83201648667912487,0.31601498960398089,0.94196417774181396,0.69882420816247848,3.966692169643049E-2,0.48297174516077768,0.40368970873252785,0.87999136081264484,0.19149492390199618,0.86142072772130263,0.85058559524360799,0.46418454741718684,2.4141559280442926E-2,0.97408035428401341,0.94819772171979166,0.29054522932203808,0.44817174479245736,0.34710031053393853,0.47185473930301325,0.9594900610378102,0.46975364234782402,0.11025657509305942,0.3995865606271729,0.97399447712271525,0.34451673840394414,0.39468622471570358,0.44689110012667843,6.6237293383211493E-2,0.81822279607237502,0.38668440965029993,0.86510194974455235,0.96495536196566523,0.41187199773160765,0.77587049331776337,0.36605430146453777,0.73290749605715078,0.87328082752795932,0.91578138414409249,0.85138439328767046,0.74887124737190292,0.36973104781662847,0.6617125830583811,0.33767922862096422,0.35341829733818186,0.97845672990505839,0.35651395023959553,0.46463869984526684,0.86653948528272684,0.50965459992254181,0.29208842583614869,7.428514425276167E-2,0.95229107249281009,0.38689889191839955,0.34421876992763623,0.66664931125436977,0.69271385894688964]
[7.127611660592359E-2,0.46046686396700853,0.2620346832134598,0.22539003600770413,0.15560831732805236,0.83207269837456754,0.16967567139148865,0.39788776937662174,0.99631792019132659,0.74850175187330414,0.93150049403219826,0.62613880389388099,0.93465324789131865,0.44249821664752387,1.4272190755185155E-2,0.42802378981197442,0.2930562250529466,0.87873706276442953,0.26884697811573099,0.59207408201588263,0.44954154448202255,0.93450835321816539,0.18721811667959121,0.55138495475912741,0.55110608359639968,0.79720150143487223,0.15261721342226187,0.87692358145417926,8.6247132054395714E-2,0.10929763867794262,0.23992371465462647,0.90998012518491012,0.60346905676508622,2.7676991385706451E-2,0.92710585129668699,0.51451117015941461,0.43126534001392991,0.66254782525367539,0.78047754458773433,0.18084725213506359,0.48310849189854022,0.40452510045456957,0.19956439305790552,0.21372860078034239,0.68380601405346109,0.56841712226918517,0.54954708293167698,0.56688705127873451,0.12590434695393549,0.51876516781166737,0.93577377077749191,8.3652781320465719E-3,0.49380274281672709,7.6733997425492695E-2,0.878454886002348,0.35833623207874121,0.85959429952115929,0.97239992455132485,0.992429841145129,0.21137101310293127,0.94771750232334151,0.11680063012372333,0.73575696074510355,0.48599303611023537,0.30830130957145407,0.58427894348184051,0.51572325717952194,0.49532801092393441,0.87643651576495574,0.14999223324068822,0.2512988291663899,0.93518803150846774,0.46742056808567545,0.34950636801617019,0.60377036259883754,0.77332025462867093,0.79300966087252189,0.64535367602920424,0.15614733661258173,0.61493612317213175,0.72609586192390718,0.8909638317827171,0.10101095538344107,0.50716644045598502,0.33014932418022003,0.87905678677894705,0.15980368017475277,0.43113230662225999,6.9569892026999924E-2,0.97428466414584003,0.5838542670886423,0.31276274044232233,0.16427368740607284,0.63587472029776049,0.75738314232138526,0.45893195246571528,0.5635022051066686,0.67205880025541231,0.50580460880622924,0.16828107563453099]
[0.88307190069921038,0.99194186202797818,1.3674709804581742E-2,0.81986966973393127,0.91116634530063878,0.31737112920171406,2.2998619210591764E-2,8.2332929652240705E-2,0.20637138183120263,0.82410722815058379,0.74012785172250084,0.73886945580375807,4.8108946656260754E-2,0.78696458256745705,0.9429180892200788,0.7020578256291633,0.32002342508271142,0.37111590868427979,0.98098181633889148,0.91518914164785437,0.65377411519950301,4.0877333120042825E-2,0.29455945413712625,0.10947832310646877,0.56364130616555352,3.9287820512041716E-2,0.93336571321474227,0.22397791705731529,0.95493083544491653,0.5408172126860552,9.5282386644443773E-2,0.44954287323102315,0.6426281490544784,0.24743078453668543,0.94701677585084765,0.70389102206557408,0.18263064607332047,0.81780230733704529,0.45341741126389645,0.8723289018135274,0.99070267947728796,0.40072504366078587,0.18844860083143944,0.85051971713556151,0.6155938339929794,0.17898637161128195,0.86024124416992176,0.94872124003932967,0.54192269337040611,0.1911545419015328,0.32354238168656813,0.1516293050767642,0.96499702450602964,0.25609015623797904,0.74274957564079991,0.50887330989192059,0.3172775456111554,0.29874399029480192,0.88013612111675843,0.72983334155766,0.18915525682823642,0.58916774470226119,0.99394794009100607,0.4997910119408282,0.97843810913512153,0.66602260233518118,0.70382471229105659,0.97536190245588561,5.5999243433251467E-2,0.45387145881143343,0.74860515442057429,0.2992740958680985,0.63288392903633983,0.31018125655539197,0.73534759411354755,0.28709563332825261,0.66273857840192985,0.41063057476032916,0.70523541574145621,0.3595793747407946,0.55572973229029232,0.1979863419757032,0.87522193356371958,0.10530300971641238,0.65725814045235875,7.7808903313708822E-2,0.72557847246768747,0.9266464624891485,0.45685764310984012,0.71352533404725982,0.49731544926506133,0.57805762255407622,0.62108031423333721,0.75511097545993533,0.54146517430482588,0.23422969712034447,0.62040415424101925,0.17386951703317455,0.19637165120097178,0.49229443034942411]
[0.27451729779345391,0.2296848184341681,0.98601216750692822,0.8490266886265283,0.19351478491258678,0.82771671176583428,0.86634523050843382,0.95682313099639638,0.20833767068779874,0.37308085409705971,0.30784136192939271,0.31755744352385296,0.61514561787503241,0.62183199562986258,0.21386800200331191,0.72316519888483566,0.13147675133027037,0.89573648373117298,0.81754621626216428,0.99065729593463703,0.87166350888055322,0.85632911018193458,0.91496287894451822,0.37300016676383518,0.93538810801607863,0.16475627092756062,0.32197817307611032,0.13409734927861527,0.4524044749156827,0.54426288935482969,2.1118343874907408E-3,0.56048690188911943,0.34093175798216868,0.46309217772249045,0.10233482191346099,6.1143088951059688E-2,4.1936490944982641E-2,0.45451804042889066,0.59647758737138057,0.64039224414695994,0.28759216983171165,0.21545692892598556,0.77736944473285863,0.87029754683383276,0.88948250959880004,0.937217253839701,1.646709714716299E-2,0.1425499088640626,0.28279019329324961,0.73332099811088847,0.64474580584693197,0.14544578476095571,8.4354898645100596E-2,0.6304496396941428,0.86178399881301027,0.30694715454412347,0.33996367851985076,2.2972509717607004E-3,0.43308483509548068,8.5070767167528816E-3,0.87889833359358271,0.48586549703229642,0.78525220921590644,2.1590857257722029E-2,0.74171920644257794,0.26622444045617766,0.81990957380682561,9.7899559046208728E-2,0.74965792770734929,0.29629131818439502,0.18569965573981262,0.98315986169109004,0.72126717878972535,0.47939763436703775,0.70102040069087757,0.33915363878837457,0.19743540510883428,0.17287713196201515,0.60242162397381716,0.5427808341963084,0.54643293830735096,0.46344255384285993,0.84080555885725239,0.65306727561825439,0.78624934961462811,0.33959401903383002,0.46310855157189879,0.67559555864363841,0.24187592074463404,1.5117971734752489E-2,7.5337942588319939E-2,8.5731620063279834E-2,0.50435158041662553,0.31040566584778595,0.80878627847181306,0.61346426583200286,0.21058597692829284,0.22073431986723091,0.28247180869189015,0.95532831352913983]
[0.77447582454590524,0.40749163379422293,4.919159988970101E-2,0.96779770254776742,0.170949413095007,0.1880229665957085,0.97692215017591888,0.59312780670874488,0.61247324067646736,0.76239306162515319,0.77233953509344477,0.73954520575131866,0.82545002695381597,0.88216433816975104,0.32099580550306561,0.46827691010351857,0.88198776697320558,6.043414350869003E-2,0.27050845806761625,0.18102301474666771,0.15078157381295454,0.33660266021098606,0.10787138330621437,3.0518985412866018E-2,0.7183008674064465,0.28107497855289976,0.74788278702148858,0.57627074884381124,0.51405846822390522,0.98966901422025078,0.22691534143369818,0.9384654664941785,0.41674638227753491,1.3764642714024222E-2,0.35693348745544418,0.97468298109388696,0.57357974491663544,0.2549159637401528,0.95617521110234716,0.90048227354299581,0.73784070026422122,0.21172995735351574,0.10713895438047538,0.78861908328705033,0.82109527807531524,0.73028688300804689,0.46187106224046293,0.69634206122477915,0.22913161430139628,0.66499946037598734,0.83842405177236423,0.70253097041844126,2.6495417528017651E-2,0.9375806203831899,9.5685944629421149E-2,0.24062523080127673,0.53865760927428841,0.50903414182404461,0.90072252129707708,2.1307694039292557E-2,0.10552968871260371,0.34111123922933151,0.13736969510578179,6.0431814260637706E-2,0.84595586594768624,6.9472901784445318E-3,0.42786931465115385,0.60336587268020347,6.6656741188540036E-2,0.7505253920427214,8.7210238088401226E-2,0.52528455246532157,0.30250301891028164,0.33442645557777961,0.53854751188242989,5.8228996938508248E-2,0.2624269792438938,0.98289777914837329,6.7851173298939971E-2,6.5859589332569746E-2,0.94449013514395574,0.18813110953798295,0.67504567847858687,0.96959537629029036,0.84153035429010203,0.27103246720422647,0.56151098322520721,0.62597094372306328,0.55610301966785769,0.96931174656974306,0.94494843762554637,0.24540916778216149,0.63455753590035369,0.25749059781555872,4.1328626164903293E-2,0.76528294675612307,0.72265426049435932,0.50830851004226973,0.47822960086858612,0.30180306806021817]
[0.80791475314022532,6.2571044255196884E-2,0.31433720227951167,9.2954323941518924E-2,0.18433239211746588,0.7123770006497725,0.64935404425897303,0.61656826354000749,0.41795919988516872,0.18591447991491661,0.65927583138124357,0.27949740766153008,0.51136793304286099,0.42106156397563754,0.43182195509522947,0.32712222215105979,6.7957981829421144E-2,0.66931943793979454,0.54929718103586977,3.9341041326867443E-2,0.18208126039570538,0.90529464391025471,0.43995785359414952,0.8673295157598977,6.4703735917235994E-2,0.54698920552170593,0.10641573885744482,0.50091000054900137,1.2890224160919672E-3,0.28471306986908207,0.6922218200381135,6.4779202511638823E-2,0.4816862167644661,0.42826317871393726,0.14453168875809597,0.65890578098348374,0.71045318991993012,0.54733882078317331,0.643819454300808,9.2189292449654126E-2,0.68434170857021503,0.48937675845860773,0.42413139892679164,0.83125064397913595,0.73069757568042626,0.4075236370994092,0.17822990863608257,0.43054980295369538,5.5802930803899087E-2,0.59230667949560067,9.9545057615951782E-2,0.53110840466330289,3.4871398474480286E-2,0.34242581118175064,0.96126553192027986,8.0317341091291405E-2,0.2226681394015283,0.60852382665514382,0.7207719751993783,0.47026913320891306,0.25182712236521454,0.157789174447171,0.87533062317249355,0.99824853162742955,0.40637965290638012,0.72381767603326863,0.62373205174614266,0.98254085355746745,0.43094555982317417,0.52194165109453849,0.66320783452799259,0.35432014310214821,1.9912719099749454E-2,0.49184237694692634,0.22810511040998038,0.33806799716450719,0.82110788975033255,0.27659591534544326,0.30424490715789376,0.19358292729780668,0.48562319991623393,0.61506981489372647,0.81050002266086085,0.71733205642828934,0.29223090810190322,0.69322294013011609,0.22225913930811614,0.24646758927971946,0.28571680987773818,0.71258482070447082,0.44484089232227708,0.22911009107974667,0.85898713018844552,0.47252555287772557,0.74376324776656,0.12757501179148623,0.80806724971770427,0.54706664763475421,0.74479697312288651,0.83336018408037638]
[0.30542430804837217,0.91838976069599909,0.41296190159531088,0.94445201523512279,0.23961674221015494,3.718233037683305E-2,0.32478340250583404,0.83826814815884754,9.6601276484441057E-2,0.37410855644860741,0.45155500379861002,0.62580902379779568,0.96599962770227044,0.38150862956239362,0.45659501148893,0.39032398441106464,0.69632708084271022,0.15376832058239942,8.7502834597850021E-2,0.39307440246329961,0.93355577368954068,0.59038093812138392,0.43357173428872209,0.17992385715501735,0.49318517172125642,0.77223465039002082,0.50831545455704419,0.14076840289969683,0.32397527256220471,0.57761797824442385,0.70479911175886378,6.2652806857985799E-2,9.8316859035720183E-2,0.1441642180684497,0.69362762508813636,0.29884373545021259,0.34093166270469977,0.65732052574515165,0.33148052056684629,0.65459039844743261,0.85382516528416497,0.96821690677180428,0.90318811861776938,0.24683315750533918,0.14657189210025645,0.46927455623937198,0.72216179936315372,0.66052097481767835,0.80785171781555298,0.53520943336273274,0.16644776720908161,0.75964026470840329,4.4845182730028355E-2,0.73630902498997486,0.39289018506135076,0.57733876413825658,0.25492619569368591,0.17700723822702968,0.73104561183553274,0.97347130445532137,0.33510959906323623,0.61565953568348042,1.6147744973725398E-2,0.63666211878677303,0.29272123350252843,0.88555924187724278,0.14063871361455416,0.48086498981886261,0.92929163446182916,8.5094073095527634E-2,0.26120003744926945,0.1304375951059914,0.26271584134953352,0.29871642839382295,0.38837736267104095,0.79270863612859599,0.78275537538711026,0.54357645319830539,0.94129842294907151,0.5680002369087106,0.1870450691919,0.58543828669156883,0.47722184061119466,5.6021820160879199E-2,0.68815084399423498,0.50194999097879278,0.49328549406793365,0.74027443660410608,0.41293535176983276,0.24184571246346165,0.77309488894320799,0.29337673531764574,0.81300181672298544,0.67455101230410086,0.18487737538978233,0.13005125972415599,0.12071913728248929,1.2807992341152818E-3,0.55363283834439181,0.74475215788198457]
[0.1992397286097537,0.78145716026593004,0.40840991441119545,0.33530293410126999,0.64647600497554381,0.15829720676970871,5.8606143779254216E-2,0.29953233774819055,0.63449392704545782,0.55833657958534033,7.4314387154745032E-2,3.7779420145685805E-2,0.18496377371207451,0.75947581715724188,0.69099871423500425,0.99359505150311156,0.45003083895148055,0.31867536436914545,0.96822240309334662,0.41883993324304647,0.26849584014183625,0.47334204009215153,0.89008222546538884,0.4991867189190069,0.57203741555882393,0.64040302705235841,0.7658696052654127,0.34903725118725804,0.59241612630680429,0.49985536843397138,5.8173228107610164E-2,0.64818480318041904,0.38138055558133255,0.41061605854493444,0.15946698039358165,0.3827489332861661,0.82739031069761038,0.78167642942877624,0.8640708253353776,0.96631410228428349,0.31050819096762616,0.61462154122604296,0.30064745007342841,7.7077273617327302E-2,0.81857293390019825,0.82941546774190711,0.39826454704403724,0.17933943646699413,0.92714434504444065,0.83056805389203481,0.98032913858414739,0.23646378011682812,0.49151647692311229,0.15134437597035744,0.60155523993447235,0.80860823471782928,0.64101423835110083,0.74205762518015417,0.70175685795641818,0.26188456524448123,0.48573915403818202,0.2377856145619478,0.91778337286257239,0.83009158401509575,0.42627831855084231,0.66596844206779837,2.9862239533558932E-2,0.35172879691781711,6.3620211192174647E-3,0.59100066783217764,0.27611533939058941,0.37736362944772717,0.83735109644997174,0.53664089688241068,0.67612720629753387,0.81585260680044513,0.69190950750721392,0.58876968871344604,0.58732416356174932,0.7842819847053597,0.15400440305514385,0.61635600476244545,0.94332959809885841,0.36811818821135889,0.60822519851253465,0.14209714181826738,0.65603024608151761,0.68408907075400571,0.25214334940169103,0.25672572889905876,0.33899817230511498,0.85194615050669331,0.46518403037799194,1.2672865628267638E-2,0.40910886579658479,0.81749362880730569,0.27304929868418937,0.40540609996323496,0.71704406431385892,0.23119064316629923]
[0.96875873452540395,0.54600340034769601,0.28635134702386777,0.17593372813469321,0.13861808223689531,0.23687035357469388,0.46623524612233735,0.4211521887306503,0.8038391485728491,0.76932088629799311,0.43349995772645844,0.12895660831878375,0.55388803279975518,0.63456630969918015,0.49876439673536621,0.64478067185555721,0.74547498299116666,0.79348555589643177,0.69740178877006043,0.10727844533112607,0.73549149173696504,0.86068557850887373,0.24929409996118412,0.60948828586115289,5.9107065354010668E-2,0.80496334697599425,0.3659861747510057,0.11795679834428252,0.80977511520455447,0.19348669837225818,0.5259634252715244,0.35488641961827216,0.44601142589168208,0.93087097341764158,0.85672920684393572,0.44642787500389725,0.14620305270718958,0.3113030704699643,0.31688295842439651,0.61450369138121819,0.27992628097101457,0.95621489404675519,0.72524622734626332,3.6479555872113156E-3,0.65304454655297517,0.59956379622291578,0.8431255153315772,0.38934966132579429,0.97442345412431897,0.16231705196479129,0.96862320149779202,0.6941253548000349,0.9008928744522815,0.91024329883243715,0.206789460176943,0.53594271440147712,0.91423441440848419,0.57571596365819688,0.12854309284355925,0.25111308695291701,0.87218689293319784,0.58948919168497671,0.78288466466586981,0.52353961619423517,0.93924610867840019,0.20110479025187011,0.28613252414975632,0.23225757851630102,0.80801124266959201,0.93118939273778745,0.5940536514569712,0.48864769395461416,0.75903411321756076,0.61314728340432234,0.62049736245814979,0.6838136233157257,0.16000757079644934,3.1323078890021838E-2,0.11410656415336506,0.19368637871701633,0.29877541427767818,0.95816367190998453,0.86545342358243937,0.17526041898458966,0.95900132787260373,0.48170676578677263,0.30619796349575279,0.37968549799858275,0.8112702439900058,0.73444930730094271,0.4156877311059386,0.5936178812841264,0.24333996313514916,0.71352972654143687,0.31841493353381667,0.40537949199631607,0.96618943114700484,0.21209205523768726,0.30659219807191185,0.90187385903889439]
[0.51427220446549371,0.63417146985400941,0.99655461346491914,0.95216666332497024,0.91829967203162,0.72634339515413482,0.97345119348106723,0.41870029108404161,6.6510102344152E-2,0.46704295125742146,0.38290956195852244,2.0549345055149937E-2,0.92657044165711155,0.33096799044801239,0.21372453816159742,0.28771152767506403,0.13529328962524245,0.23374620161423787,0.25348219346833567,0.87068102836073391,3.6534572402805998E-2,2.3225500653421438E-2,0.48324161113607644,0.77431393416250083,0.18119745945439136,0.42463316540942886,0.10601897779556335,0.30557902635656387,8.8675338007362825E-2,0.10712869303928763,0.9419606641952869,0.77448754688757326,0.94459790905649332,0.55778952987890928,0.92809714267061305,0.3041680609372116,0.75904841887288088,0.16193917954239556,0.97304393595202632,0.6840161741185764,7.3958518700857234E-2,0.85748153143812877,0.9564116723478765,3.4491385554378029E-2,0.77219080552293562,0.97870399268313779,9.4618821037499856E-2,0.71659527679792101,0.58052267484532094,0.49600807866670571,0.73574491405772147,0.44256393337600575,0.25586863557203676,0.30997589497345646,0.50355552413037796,0.13612430744675275,0.3155403892866756,0.95006244969635734,0.38205173813525184,6.6048371132188755E-2,0.85613361507934016,0.7081925898115834,0.2715121356279504,0.6600357921568184,0.47162832970662549,0.96316227282365252,3.7071031864232884E-2,0.27343537564290976,0.49807302958042499,0.10066094392390001,0.61958045918012905,0.53572054900063426,0.31192381854010398,0.46344383106417308,0.52233678268884043,0.62161854454955245,0.93633767445246663,0.97059522470580928,0.25305434303945196,0.6985752495141111,0.2563565422929216,0.56175555132870625,0.80207995729968007,5.322233927287856E-2,0.75521067220899196,0.66845580603726751,0.12873728093916659,0.38933419180835849,0.15538046342579737,0.34341538880224309,0.8559596753745351,0.19677104082406038,0.28454790349840176,0.15258553490531912,0.64377253119206834,0.7200062697614088,0.59238650396715742,0.5514653811624407,0.27938289151755813,0.47007560924226621]
[0.99494835768742262,0.3856113237626384,0.9885864860878989,0.16098505199654689,0.99492393908304255,0.89851036677922902,0.67099639162571212,0.2379681653015645,0.47435632725828647,0.80387752401186985,0.29526012447614347,2.6641543729049033E-2,0.56286487998652468,0.30432300146916502,0.1520451066894456,0.81378909207002226,0.60201218264415657,0.17661558342548367,0.85712359514412995,0.78047038357893894,7.2800638735743828E-3,0.69800867129528188,0.90030041663096438,0.67481064464705776,0.85246523279633624,3.0776895698711892E-2,0.63986630148071311,0.84045807633223213,0.89579430437847796,0.30599077890326043,0.99926224028315369,0.92758358882919523,0.27024216032346804,0.56834884692519383,0.83672299640620318,0.57490082526768371,0.45381352409178211,0.52387436367789453,6.5018569942996596E-2,0.50729993887247282,0.53823357271343608,0.1442411753896371,0.22629031446016523,0.89500814430391484,0.65395728300766176,0.15563104062633204,1.6598771034895377E-2,0.64223041192133068,0.84031260407934105,0.7188128626050666,0.33256076671656853,0.59194073319158669,0.24234876421369878,0.563918748072474,0.65442090235762596,0.34415628659945063,0.56173234580708775,0.49637825270841152,0.42738912946053742,0.26038466481076161,0.10868140978294349,0.43241881335071253,0.80229059362277189,0.1020556573041359,0.72767356220029622,0.61857566075976533,0.97458304676555407,6.3172137642327986E-2,0.84039890473995982,0.97463930298880741,0.69580680922726768,0.1896855425475461,0.47417943066371582,0.88502735597914406,0.37662511196989679,0.16743731099485915,0.78938838424205038,0.31808305995805863,0.34847991314641014,0.62004686553116772,0.81826483336451139,0.43017565004759384,0.77987185943237403,0.20427221535942208,0.24475304575766776,0.5326493852682167,0.56436417465856936,0.2260050852983706,0.6519028746606278,0.95973165404244909,0.71049356480163139,0.88283974887174443,0.39073995126900785,0.40485555795864925,0.71614505806973838,0.42705912730743301,0.54161444974490414,0.44002918011347836,0.35385508444192459,3.2092386833271536E-2]
[0.47409305079392305,0.30099438938819512,0.73117393826392418,0.67691195274473592,0.85150218479854378,0.92136951549108836,2.6957229428925533E-3,0.4625488228004111,0.88288910292162692,0.92831509740170959,0.47881756648882423,0.6573398039906595,0.86926184234814241,0.30151952693535422,0.73789373087903543,0.32428795463348115,0.19413645705783522,0.80059366173943225,4.5427130556027762E-2,0.62092823911237316,0.15156899114778444,0.66342704214517678,0.22551829708589777,0.27678667721841466,0.56340579237661137,0.84496277952891863,0.21283672292854316,0.40462129842081562,0.2199322078727669,0.77990029042325171,0.59058328483269595,0.17105531846256861,2.1504314279709558E-2,0.14478756212690447,0.98576413082434033,0.65475432733553185,0.21743317768643078,0.55919593489989561,0.3922317748710219,0.66584530144244347,0.86410857819721343,0.65336966067002389,0.97254033335342804,3.165936269338665E-2,0.27188533146011773,0.77766861628686301,0.5710271612553347,0.67615882489606349,0.84593614731738809,0.21551839576401144,0.7587002294637647,0.90865288188219462,0.6432966919514892,0.10654258356136226,0.60559269503444024,0.43451668784288866,0.44515440299834819,0.99359740551629794,0.64180799814325151,0.86298349996145762,0.48403749926789685,0.30516637233431754,0.21165766412072162,0.35371501244132841,0.40397875426519747,0.76941424184217577,0.73067739195556503,0.86624464836142689,0.67802951737154948,0.1427105401513068,0.22347260194795571,0.83301865451305845,0.47444260050717557,0.57479785427108354,0.52014923095992582,0.57926679965322947,9.8655767236690228E-2,0.62921887577154489,0.79388942187537015,0.92633268226852028,0.54982690039855953,0.12506119228539869,0.19507615475603834,0.19891068675027113,0.83989342168970493,4.7585975119670776E-2,8.9722295436736266E-2,0.80324839474500109,7.9008971475437617E-2,5.1609104522986948E-2,0.99284652385635985,3.6701847025752632E-2,0.35447881245196999,6.2548976131163503E-2,0.27523405573593585,0.34070180277211137,0.41012514029671221,0.63872146521342055,6.2580167940487486E-2,0.20619700866503021]
[0.49057076686511381,0.61246038151532678,0.14727023364696046,0.10138231114767637,0.75311953981414448,0.6170067284200037,0.42201251379012161,0.73704129553732978,0.89995795704871417,0.56165430576990227,0.3750160373278103,0.67454734949595241,0.31277053401784605,0.89339933898220314,0.18095927650162791,0.49545834826064383,0.75971668531633252,0.69037404204690023,0.20047326898711659,0.8804396259615801,0.88221583506103329,0.71626299782467528,2.9587079146613959E-2,0.49908578798002934,0.69090686063296725,0.59368696625515305,0.74441552040897518,0.29370983223970182,6.3410271206643776E-2,0.7069053168841184,0.76129538186905532,0.65582463068058827,0.52291545760107216,0.37526498004365549,0.51799037109572643,0.67164638423987333,0.96631765364781164,0.42967758400195744,7.4065319269961294E-2,2.4537005934220479E-2,0.21467780352615828,0.47015353683444394,0.56819091512134134,0.51810897906615283,0.11999848827001025,0.41445279861202766,0.92047000595772299,0.57100025577369706,0.42212291580784389,0.94088892891585374,0.88629600924725838,0.28372250753063288,0.68224610133335983,0.37602899662252565,0.62422142489259558,0.90637777034021438,0.15297874060376504,0.99078540993668862,0.24747824915419558,0.60047250944120778,0.67059006059561133,0.46547806348982357,0.31688420339581014,0.44142701317989808,0.60127148875758463,0.30962251795138751,0.16060236663414573,3.3414650327918238E-2,0.22372499205556329,5.9292842307136051E-2,0.75843967217638142,0.64782133347128679,0.69037178772762142,0.7765461122722207,0.69465336639430519,5.3963067568687628E-2,0.88864462714561632,0.96670873983356587,0.61500921308759393,0.52461844112876121,0.15244639252937353,1.7239319900361316E-2,0.33871984038905101,0.52131791152940687,0.78421249015735406,0.96298673616183028,0.58753399158090591,0.8520283464730134,0.95199568774108023,0.41290048246819688,0.34670549616933832,0.70404239365961818,0.35423532947311487,0.79048143167812279,0.2562903122060135,0.92469105367362048,0.95392219380974697,0.11646130782195552,0.62888844745603856,0.50699948612388424]
[0.8653653781617302,0.99569451376379869,0.48057642362649944,0.19988573302739776,0.40148886405436179,4.6630806606341557E-2,0.1867405190918896,0.37463458849025266,0.86120537677708964,0.35071629954591776,0.1477808557261574,0.59957579460264421,0.55538347238739771,0.77888544742129473,0.41108996235501494,0.69625375264668865,0.65218306126044323,0.51259868198716207,0.58482019978618749,0.9654640151925753,0.12931796919216809,0.88132235117253677,0.49204506022787753,0.42130988478540665,0.59966976169313269,0.45594943502325525,0.87058586502947921,0.35248001820717501,0.28562426195080404,0.52552703910974086,0.69998744072433383,0.53630693564569665,0.59046347840772395,0.25855573580217239,0.5043834149046954,0.16340380416777556,0.61235209519155998,0.59258931258757397,0.40304562939606792,0.33121504367532106,0.86850328061413273,0.91488707144350445,0.68238501580385003,0.1819780886713025,0.59183588102064666,0.21319563273571362,0.61429321336399045,0.88893835756576389,0.30574160585298915,0.74703350116463363,0.57718520817858632,0.98376469377199227,0.47205319935765866,0.32292731922986728,0.10226145068493619,0.77676761738184119,0.70902596022778652,0.99023907044287973,0.5778789296283332,0.76788325745296981,1.350049086693228E-3,0.54137437773548958,0.16715885371440953,0.5831571442937904,0.18980894844209373,0.96322612077481695,0.59480336267094458,0.11948655592620172,0.29929975370233841,0.69912136952057402,0.3083771062280749,0.26829255102555349,0.63594029476230851,0.61970223289862136,0.96642625577858554,3.3386765666694629E-2,0.23204379664612407,0.56478370617018359,0.20750379325931767,0.66466315764058215,0.47838739656649665,0.56373933207070848,0.75749037799691599,0.7210674184951098,0.45152396732001387,0.78037871056604013,0.24754542995960283,0.45561507909218646,0.85421679870646194,0.37693402870826009,0.86250946567426967,0.11167476493362027,4.9893470600182233E-2,0.22417445243304601,0.42723092155704334,0.98896958545197322,0.2671083345671128,0.30160239040412384,0.98019310069119558,0.19314307458621627]
[0.41844732535351437,0.87571661278767166,0.40022978936324305,0.57573331601690647,0.70990067770320409,8.6555019791407672E-2,0.5363327005453592,0.93989537699891512,0.12161427503037758,0.53103130707591262,0.63334258312596159,0.39706720469799039,0.37997098319777078,0.99690058692775774,0.9199275510102648,0.76622813431664294,0.86248031170028017,0.1818591089198921,0.34644651081990896,0.42667139196692805,0.87910247866309776,0.79853144217863969,0.54779952108892305,0.92040550293433865,0.43486790768194272,0.62691127965630222,9.3764663482518551E-2,0.90152753960627718,0.24668990262288282,0.54053975648238461,0.68994673471407286,0.90554173619149259,0.70796769289769756,0.11483714777290743,0.9158954693156095,0.19769912338315621,0.53154521406265121,0.8758573601573022,0.92973338774704861,0.52413108661268304,5.9340956831177905E-2,0.65265017119725854,0.95059918742694471,0.18794451224067643,0.34955693735897175,0.35450259044548371,0.8159241581566401,0.87743725663794958,0.74192959688386662,0.57050303535375135,5.9352857119108648E-2,0.93921494023987717,0.87385467800118888,0.59851042346718564,5.9980181122010756E-2,0.15189166296037615,0.24372130736862208,2.8385712218472969E-2,0.16943437957195595,0.566499762419296,0.40794116776418277,0.86281595720368087,0.61038902623084601,0.17502011707835097,0.30895177346871183,0.82152947856858938,0.96261427037148273,0.32118937071129527,0.14938966371807394,0.73782548162705297,0.93377068613926584,6.3871455860365911E-2,0.56396369958442905,0.77990588889344881,0.57242271816826651,0.48099071901815216,0.265587924929098,0.30637068988025229,0.54848781026364868,0.64023472409825066,0.11922005857664975,0.84631886314685834,0.78823473305371627,0.67431742437669984,0.7640862929854797,0.63261487912321568,0.28488509303059328,0.68546967836151829,4.0578751852389572E-2,0.2872740663661788,0.25255334243151673,0.28562771954102273,0.27995768113437725,0.45014572408847042,0.11514980361187888,0.30543562768970067,0.68192953850021953,0.79086626416700512,0.27723232591142777,0.93594698085390049]
[0.25660042457961718,0.29063018705685317,0.55363881752497923,0.45344079383293612,0.47722565576907894,0.52137702429119015,0.89597022437876117,0.15253801295733949,0.40717692091100699,0.78142830805136032,0.78895766530690259,0.88510530892376493,3.0030709164181935E-2,0.97626269197084159,0.15483847999320199,5.4103467151266127E-2,0.62136083175686196,0.14316689530091031,0.57948436436212203,0.36008609748102405,8.8949453505102749E-3,0.49963533631674162,0.22921190146582016,0.31754915260494931,0.45901996118061938,0.83107527260599368,2.8976527944133856E-2,0.58165411545993551,0.30272066434009903,0.9541788210761265,0.34968861372957194,0.17012350561640621,0.15038564736373927,0.83668903810372808,0.35248610124277435,0.89089997795054543,0.34604528010978031,0.27790850421178426,0.49357839920412649,0.94513730462383438,7.5648127107075247E-2,1.7740523509425454E-2,0.82351225271751849,0.61040431879732859,0.6781755367300375,8.5510347659924157E-2,0.60549883789857628,0.82469400234427492,0.60111901308283011,0.24266099541231689,0.49778695200030965,0.77662831563777479,0.78722161115771327,0.76307661080676914,0.54195041316246617,0.86472121388260337,0.65827714706580998,6.985939893397608E-2,0.11002810565217214,0.64232161336450988,0.74047812640080524,0.53741588669445184,2.7911076562679327E-2,0.37660715720517379,0.39846466917518009,0.39764423458861886,0.29441822890564495,0.93795698387108106,0.1483207861405107,0.66570849026700518,0.30319001038962845,0.80044980940092092,0.9838868919234619,0.53193330956891249,5.9092769721412641E-2,0.79334828065735463,0.96256917779684315,0.16341711120826663,0.45760377851942491,0.98080403463566612,0.82171709226344813,0.75246447420053597,0.29875570247714434,0.28813444659659082,0.73264834821464031,0.43664352838736131,0.68879230962975024,0.27677115836112909,0.33553063831832097,0.73148497890061914,0.74340669619067934,1.0298088053722898E-3,0.29275053619275371,0.58289212513308775,4.6485101526458683E-2,0.17013448234760531,0.82539829039521673,0.40802824552316719,0.47566279290074753,0.37809247739986385]
[0.3032745773414206,5.7995100542457156E-2,0.69746458740053541,0.93921059947833718,0.76163068325443117,0.8289666816668726,0.97772833035822748,0.85632940864945839,3.1533234424341305E-4,0.22739248640628651,0.43560343080798281,0.69224788807948723,0.44391082271447491,0.12957657852921223,3.4079266976178135E-2,0.33355403646530157,0.22943587169259394,0.78093937209765163,0.88913039826582918,6.991841428860246E-2,0.50619613812600794,0.50828763126761478,9.0708537389513122E-2,0.75897966102713199,0.3881161430044584,0.48942248716229597,0.72487441954466492,0.31852080879590583,0.84789332874694168,0.73005303249935383,0.77342633037381781,0.66204951002398327,0.3914121383485748,0.48659190814922304,0.48422539921792862,0.46698646262696264,0.13418282808244819,0.48691076083809504,0.86994943921376611,0.90778164821220397,0.47879663866716582,2.7822939884237341E-2,0.91464972815024337,0.47537000159522469,0.54927247195455464,0.203187411139927,0.89815711810034704,0.18792518847622686,0.9847516397769136,0.2975899402011114,0.85797070039000689,0.7518480088363948,0.2000335462087971,0.61276255673562119,0.90200569883272563,0.35428287173213868,0.22791413438634545,0.43199810122936899,0.42981427535124717,0.15937613920004046,0.95078770603615392,0.65188479884927031,0.19005144684500519,0.66021867900980824,0.92458497994798061,0.296782901934738,0.38295371380984777,0.83557016953494467,0.91979844755735851,0.40641660042366701,0.48831372623611757,0.14862515771094043,0.67528325350386709,0.428771942469654,8.8057378374169493E-2,0.80568116422102642,0.42476676043305106,0.11955871022118292,1.5376642417988196E-2,0.34408824937825178,0.23984750745572103,0.4119792168713412,0.25095415686846023,0.53853650117525009,0.91211112172543518,0.3048058552873294,0.87797104364413214,0.66291036715790164,0.16552227767319994,0.20234677542594337,0.32800569775724442,0.7734360118512239,0.93017815432665152,0.25926890864100416,0.64304758007171459,0.35244942998045503,0.35352497632838575,0.368761424489777,3.7219320068554995E-2,0.81483828293938931]
[0.62610334719074978,0.77257848853476396,0.27486462847456083,0.48208055215147239,0.6789140852430755,0.60111415245843169,0.31585100948125899,7.2346495343312278E-2,0.1958782510486603,0.7471792120899784,0.39561989405860376,0.60139802936024478,0.8917197332165504,0.80378539901877244,0.8480354845656819,0.43904593606683606,4.8382440420769557E-2,0.69298122375010129,0.56509962074058606,0.48465030901959483,0.25911076443196424,0.67751682589684825,9.5593759145881863E-2,0.81512538900549691,0.18202825980060999,0.17877547518702386,0.80610699856845947,0.48398261304093848,0.13928578301742256,0.67933972814013088,0.25797605909532084,0.5112437219731103,0.59677169827999355,0.39864139027640455,0.68818610099712807,0.45262473344411258,0.83966263898498139,0.83182188187382289,0.57705560713622106,0.2439791888586772,0.6332444369994471,0.24967767571561472,0.81132504393939864,0.66319392569150959,0.98212256257670361,0.76897599626417423,0.73424950673649114,1.043967382081179E-2,0.64683863059310243,0.4376934793809224,0.31374412669275276,0.82350384169216828,1.9637191623916417E-2,0.14555141464281951,0.2214717956527601,0.28109015965209549,0.6393093803243205,0.28529937747654899,0.66568749280308759,0.14645469736897754,0.99206713494907084,7.5311098122122222E-2,0.45040531999315203,9.8163116555747498E-2,0.14653287031152584,0.68502562503222253,0.44453249319165944,0.50735789884199411,0.33917504954895705,0.44698223455349229,0.31986560041114376,0.87893350207496934,0.93814514579816533,0.19677525551281183,0.87194038066252799,0.28897588610164127,8.6404954397703015E-3,3.3224210410321087E-2,0.58238581370304265,0.82346083233088851,0.15845509936491398,0.7672839008136032,0.8670895057124347,4.980417513039348E-3,0.97711177043817954,0.2827904290050095,0.44968559089928628,0.61058538947595897,0.55917380247603388,0.34762722921162337,0.56205376743205393,0.98345543232392363,0.34703859378200386,0.80659502628977298,9.1246294142677931E-2,0.63833772877616723,0.73302713562062083,0.5883936325701199,4.1062064922606112E-2,0.6883925087584235]
[0.92493743822021213,5.5149385965945097E-2,0.33615661668884977,0.80749962570267475,0.80785297794502475,5.0460340562578976E-2,0.4320704343919991,0.403779178863372,0.69414484334958559,0.19699989310078569,0.75521807542166941,2.2386891431674272E-2,0.28719279029510447,0.89400579761522669,0.54378317655570763,0.93212993063843153,0.63447637738093055,0.37494187987098559,0.19713561666758328,0.39631929465348237,0.60427917125481967,6.0895686935402704E-2,4.2158939012180707E-2,0.53309621425564291,7.7872809949937838E-2,0.5886507781100021,0.8078476586591905,0.89287008227431508,0.6904827276712846,0.74952954984981823,0.59096577156312868,0.9782039146240008,0.22527570181332457,0.86935958494594434,0.98525279544794742,0.5408899358215119,0.24263411674085622,0.32450131937477633,0.41379220835158703,0.13228497451982058,0.12653059990203175,0.74595361518571557,0.50647913051121229,0.22789671204891904,0.18024683913126938,7.0635683299338781E-2,0.21158143787879247,6.0369694569837762E-2,0.29694929930144209,0.26601736318523317,8.1524583042162702E-2,0.44268018123415176,0.98424989168203714,0.51206316261160301,0.61903188174095825,0.69726791375369801,0.99375710785118221,0.64433832661684332,0.50749466476747229,0.18498218179989123,0.13446375288390067,0.94581098004323405,0.5579262964851881,0.86919309197315309,5.8535125003464805E-2,0.13780296932414149,0.35678735037337816,0.44752084781615509,0.88725469776955801,0.79241048696859528,5.4803180477591806E-2,0.68597900196065975,0.4646536835480547,0.27143897245948911,0.20068421914335111,0.73927797822714703,5.7379133222978163E-2,0.18374118482928514,0.76762365460562754,0.76288476573394726,0.89763132517013944,0.13884149515398703,0.857455679616005,0.479255789011514,0.24370492118791498,0.47795389255966769,0.5575644255796236,8.6888986591630135E-2,0.8097994833993154,0.76292545192000105,0.93378898307479974,0.88382107022511569,0.47423249077315044,0.34429829702868875,0.28035625771533323,0.90891884013238999,0.26411169125211242,0.67159220155470256,0.84525840914514516,0.34801673448547099]
[0.9386820900744931,0.89390283975784601,0.32481034877588189,0.40078319359172254,9.9851829100574552E-2,0.73939567190096511,0.82757865494985983,0.76065541001228787,0.57354161204356979,0.15113680194577928,0.29419040485946923,0.33028518583202338,0.44311913825507132,0.974773381544217,0.94887268203581943,0.10861111555861125,0.63263082696278539,0.87532402657286645,0.43005462944259698,0.3074599660204943,0.54831565843388708,0.79616260223482394,0.770260016147856,0.2146080565422761,0.45330234162454552,0.76656131661635996,0.66923869612188058,0.41279489406555303,0.59044136075827369,0.79974589555859976,0.20271819781965372,0.50993552974201684,0.52411048315885689,0.41321782520757977,0.67659743755827939,0.38310713086751624,0.75483655364832769,0.53858316559636321,2.8438238728336507E-2,0.49802690133696181,0.46274505567606294,0.41655162772985188,0.90579123864347055,0.9843574401071703,0.641571994526141,0.44531288966378779,0.44276513607079149,5.1334677429827891E-2,0.3100392085956194,0.83895502723645199,0.49981924022004331,0.50943514153305403,0.95955069438942653,0.92156765560587739,0.14770878468316484,0.4733818095867568,5.6010454810808352E-2,0.82236963173193478,0.10930175250558138,8.5601019464784933E-2,7.5520554866026268E-2,0.87373215724439313,5.4831425045412496E-2,0.58015350996815129,0.68693093343521272,0.78325836908422575,2.2527617645616504E-2,0.51186585169001253,0.38370206821690422,0.49211471032305876,0.98883187381338744,0.54605096947590359,0.74278013086264083,2.7595663463833575E-2,0.55511182683531335,0.47706339167861977,0.73527956737501421,0.65648481401285164,0.77151328533343788,0.96672899762992104,4.9260101180009008E-2,0.92995039576553762,0.29048172014818519,0.60967947060699423,0.50388192619847805,0.47943541399132761,0.73002274087921204,0.71799477804997303,0.78491342104069917,0.90479678694268062,0.63690149655474182,0.74109314434020868,0.6323723032666837,0.82496002751138964,0.29915186274082373,0.2133460274313097,0.3048579984618851,0.85309145444862899,0.95763590774014151,0.28525666642956282]
[0.17641446890575874,0.75221400399498128,0.96541762881560589,7.6197074862536351E-2,6.4334454543698461E-2,0.64476698280993194,0.80829826657087855,0.65401665615986082,0.28298321142307858,0.71182052146766561,0.77873112181735593,0.17964261546449245,0.92141239778375805,0.44588728591150484,8.7978509138391559E-2,6.9811490840582024E-2,0.49066531017457715,2.4245335116253042E-2,3.7270277508063665E-2,0.84056065199200269,0.60305088834123155,9.921112783921715E-3,0.29871105042579715,0.59712369948538913,0.86489002987293606,0.52794046015177487,0.76885168711946672,0.18472930079248184,0.38512398609325738,0.40147974269812181,0.70226851977443849,0.61631887037512911,0.1394060179845894,0.99210317703448658,8.2036327525719099E-2,0.8247091633726058,0.22386138643866582,2.9274263732053107E-2,0.82460962196471932,0.1130195061192264,0.17792512448838094,0.52184733628782376,6.2309340600893215E-2,0.22631930647120113,0.33797229398517659,0.21257728825168276,0.71797551822166739,0.86125863334367547,9.775823919373372E-3,0.2745563887039224,0.94446206651827624,0.33206008336397952,0.9407405173637452,0.78930518048020126,0.77451367291648299,0.7851804032418398,0.35874418929921581,0.97861914704908748,0.94041402255535789,9.3554575505169213E-2,0.98388562816300185,0.24237462047996039,0.13428669832310036,0.64146654387546365,0.71068745717731052,8.7421509992519075E-2,0.77430680243934225,0.22843666412602404,0.68205693449317861,0.40393114263413232,0.41990415967887473,0.43330023344334911,0.79490303375360094,0.75391884434352585,0.5772869890105905,0.22102027148652614,9.8098802544094088E-2,0.98884562708979906,0.44184553036571972,0.37410675353192502,0.58987669786492825,0.35944595311332816,0.1877109187007705,0.58311493086618915,0.83615446657793369,0.99958893836550233,0.82446556545576744,0.40360827597773463,0.69524658857456545,0.64549247818402611,0.3185573980011599,4.8960046107932254E-2,4.0528074267676795E-2,0.49408631698379246,0.6182629363345602,0.4903595588442039,0.407973411487208,0.96169319988989355,0.55431745063988025,0.42386133106162871]
[0.72393598835484885,0.27363197589358468,0.15138456180430337,0.60571732341366913,4.8629065281402206E-2,6.018945970642775E-2,0.85032831326332647,0.1182710278360255,0.79021546645866469,0.89691081922501659,0.35941017971441835,0.5400134155959998,7.8098299726207188E-2,0.13972855559670838,0.4915197827897253,0.11710150483046888,0.88098285833451007,6.236052817474802E-2,0.60139659917363619,0.58907186096522079,1.3757861306884722E-2,0.23895314222575836,0.81911488213440287,0.60268563095312333,0.43952237859063048,0.49109068520390309,6.1919978798591679E-2,0.43547810234797291,0.33000976197159804,4.4140509347646129E-2,0.62676732282727687,0.8613444489171822,0.98446306256395788,0.1698891600164677,0.4730393379052753,0.51493613792148996,0.43380261875715886,0.95015639531929619,0.62445444574793152,0.2403645551487319,0.98910152468690271,0.1775521307348511,0.29677965576378684,0.56691053905046895,0.52881461248413764,1.1647263038708222E-2,0.18692515998130943,0.94515049049617195,0.19245040610090769,0.49334696525511157,0.16176596333113635,0.47277790179321355,0.49115487905592325,0.16981358480962827,0.18927049353491043,0.49913072374170175,4.5162501729251403E-2,0.91784369785143016,0.16683266943101505,0.44152934242346975,0.6292391880540571,0.24567453007540896,0.42153537283291187,0.50354583782278162,0.75404701714450306,0.84132445793749822,8.4012531639900856E-2,0.1555934291382205,0.61736114852303037,0.13950538378457888,0.2768530814732173,0.32197641434915703,0.60240901343807607,0.84426521848652314,0.98050632281316452,0.81245445326514609,0.45922505154728699,0.39513992094075068,0.28748865332542728,0.11238502034707498,0.60938839055483163,0.32552545931033006,0.22862945671010915,0.13792678950224357,0.58823525198863702,0.90287035561186124,0.50342161986292044,0.9085370811861051,0.75183008333676549,0.75360465189812631,0.95883844041689748,0.95038368523370831,0.98595453431536528,0.18784500287451822,0.1292946500283052,0.71186214627906219,0.97737159228768233,0.47962138036705626,0.89352803215301246,0.47131834491791647]
[0.33502381396995218,0.68276624726775959,0.79171110304578263,0.28130077816232302,0.12512387557583304,0.19967032242614391,0.72409418795060199,0.1976148577553698,0.31070418575912173,2.5178730549199613E-2,6.1880007849595575E-2,4.5580537825342882E-2,0.88775414237076256,0.80204212849233547,0.45373032013738801,0.45265814568691254,0.83428331470556572,0.49520969934210091,0.76283134679624376,0.70928065754834302,0.45525470727931205,0.70086327419171346,0.30012279684017706,0.52679594600278445,0.67988380562415374,0.93300285464817567,0.46174213273732512,0.77338594096829183,0.20612792688694515,0.24538987165611759,0.97949074088734622,4.2327394444143795E-2,0.12216827869466462,0.54244516531416564,0.82948902305610117,0.4129982856333636,0.17377771917283602,0.53039850840554981,0.5765266570939217,0.56223332788502045,0.85743371791249745,0.18618268347453659,0.75553699371546457,0.29044397333416105,0.80794216434119659,0.60433419160559021,0.66138623792032147,0.33274409570067587,0.83209524971710758,0.98644568107574282,0.97994712346733781,0.65593013122141386,0.64473457666762846,0.30793277751729853,0.2049006405727013,0.94067740109755482,0.54898779559083943,0.56352713389251763,0.53943836584677451,0.91366942555960118,0.34197887586544662,0.15779982303520279,0.23461314873135708,0.6528981106658196,0.95714666511369184,0.7854671409135362,0.46432907604306162,0.50285918844462063,0.45025586521496508,0.60510292977164681,0.74910735130583195,0.75274127635507004,0.86875548228429456,0.28392849229330208,0.17719758169130184,0.34366814232533827,0.58404272735651774,0.70306265778957144,0.37413554233635371,0.94783558801488288,0.2172313294420426,0.92360656501809235,0.84686135378952854,0.66114227301118067,0.66269762135715649,5.8629077695292242E-2,2.5282929319191405E-3,0.85144482530480436,0.31669647811732127,0.52922285296427662,0.28485159023025519,4.6977751147797009E-2,0.12965164977583343,0.78613798421011649,0.33436454839531926,0.27510667132118694,0.58674490014306624,0.28170384355492273,9.4276662261068567E-2,0.45020612951611305]
[0.87750824713618125,0.49178134423555886,0.41685202198553961,0.78549500937845207,0.31325371566323645,0.93347331451138293,0.1909570674458555,0.61501554944391124,0.98796788887487141,0.15030442691378776,0.49755733257217716,0.48769480303247514,0.57461715123523383,0.18125453956318116,0.90008033615743488,0.21092572328666859,0.26699319063079063,0.55199495494816231,0.21249661062625336,0.97174052317430093,0.37161720740732285,0.60529349349561545,0.38925432052109199,0.83180383445170214,0.25986249377038495,0.8339328882839967,0.93069912831576995,0.28097782681234407,0.89310669306933066,0.57671219613713132,0.11581023277849667,0.5338229004421573,0.65608576738782742,0.33401798685548745,2.2240594915587053E-2,0.4192544575068633,0.22098759056490724,0.35698253851203443,0.14148470303119109,0.79362982800417681,0.40982192402499518,0.38824767237941216,0.71147436635333838,0.55079883457407441,0.30059620957226973,0.83260911937728255,0.59614989850882949,0.91367299775834299,0.66717641211066692,0.66629874537548517,0.63679622524432677,0.48671616420457409,0.74418461951166481,0.64558417295058868,0.95186441413644496,2.5160605686386561E-2,0.33452470629358799,0.13443943697142635,0.47731991857649203,1.4295246134921169E-2,0.23078207090847014,0.4380741365193872,0.67532744406535894,5.2295079894524865E-2,0.3551256739912092,0.70182702960398513,0.90956083770649476,0.36768881124106556,0.63778841103262429,0.25728332540543875,0.73526844808287872,0.71851301768802123,0.96331945300961785,0.69419738227500627,0.73410622365642975,0.43641257136468514,0.77989491444816217,0.73975274547124126,2.8174188257001576E-2,0.53587046724089127,0.78299562417948299,0.31025322881104944,0.7654052409746005,0.82881966657298212,0.75853707173089302,0.87677831129219752,0.21051998560885254,2.5469838315182347E-2,0.36861898336199517,0.82917112511160407,2.124119604773167E-2,0.44716606524042668,0.39244571783801652,0.95624731916019046,0.47566453819506538,0.63140652068812086,0.91522826049779016,0.6360596532557653,0.47565663174104544,0.1368224925412892]
[0.175165636550911,0.9363217893320237,0.97140701450067124,0.93213191619652869,9.0778251980107028E-2,0.86189830028189851,0.36084172835090556,0.34521313438838652,0.52667846402210905,0.99307720835883317,0.89053388677818079,0.88881355616080449,0.32091598806246602,0.18773422702251308,0.35647067722622594,0.48517390391324633,0.31778033929550531,1.0220304661981761E-2,0.27311811362286531,0.43334710867669812,0.81849535593679978,0.78852465574470076,0.51398228557036585,0.43252009961730919,0.30697870319795373,0.56136594331844369,0.79956060994381695,0.15006517047834556,0.95830587850679227,0.80292998393083292,0.96973202362014876,0.26501099860403088,0.27034855533132329,0.20745931055755329,0.76228036876111605,0.24893521856098844,0.22281410996559325,0.10407788611002544,0.41868563560691485,0.70107035348382751,0.72542229034737304,0.96076968131102225,0.52449986010822236,0.89444820121409607,0.32716045659253001,0.40399399459727614,0.91984767617532548,0.90998012088171731,6.5185802340018806E-2,0.8151927105061626,0.40473657572635269,0.19942020265562943,0.14399335641100042,8.2636973232312894E-3,0.50558139481772779,0.14494577813803311,0.41346617967142707,0.1294349252764383,0.14909087487154082,0.81886490460201411,0.56153737349013888,0.17120487815903362,0.65706507947051662,0.45671633259196232,0.2008258359963917,0.22577944694233276,0.43586934126107735,0.7629523412560385,0.35982847522455719,0.53628929200702069,0.65298400830642878,0.98393167848044383,0.62700652643369514,0.10610561334153801,0.41967842714000325,0.92621007772336039,0.60604624441353139,0.26155238978773376,0.65261513983817587,0.47442929331936978,0.98065920143005292,0.1110130586298862,0.73895552679427146,0.5039812231491404,0.80818513152995908,0.90008539235425711,0.36194341883664627,0.98068206604084729,0.71421019966604682,0.61866959695248014,0.25045826537146976,0.90333976125427418,0.6685257865450841,0.84825760184526555,0.37271948020985124,0.25453534383221277,0.39353499180004758,3.1678261424418097E-2,0.65016265894691028,0.663059097327939]
[0.75492006470487361,0.86150487359688543,0.55550658364632532,0.67779148371856734,0.6550521999324429,0.45780620973705932,0.7226713635132298,0.50110903442026877,0.55884850844836453,1.1991259481857308E-2,0.15894012057217066,7.37182445671275E-2,0.36808623137013752,0.56310493235425041,0.5156935394715213,0.2522181327220212,0.7721665328486822,0.5698837258615741,0.84512987744219636,4.1746142100272721E-2,0.557804692620955,0.12815041165490604,0.49655524791036942,0.66979943185737945,0.35032308822297609,0.10379584563063771,0.36197702416026112,0.74245882542048369,0.14187506124988425,0.89786949217062328,2.3149910924375128E-2,0.51223410962809302,3.6471693523165705E-4,0.56625983786433742,0.40445766028467145,3.4850439739226857E-3,0.14767105690988058,0.20569923637439691,0.15316529326630768,0.17829869499654871,9.266746420773142E-2,0.15198750948430007,0.76289516859566886,0.12770261953069484,0.97310937821349919,0.56517419497889065,0.56718565814717259,0.58413222240371598,0.87018631044195915,0.10113072217217778,7.3848522455128074E-2,0.11798864876888904,0.88965929646504727,8.3830533547608166E-2,0.97684126087331757,2.5806013194852317E-3,0.29546619575918887,0.88862026419785012,0.19669206146212226,0.65187581889901092,0.3242138026572986,0.3742754484431533,0.55878417672132474,0.9217171516055539,1.3013335140500959E-2,0.8556186791927527,6.8995727515547833E-2,0.80927723446506705,0.53193879647837983,0.25154953376340761,0.23830572292112073,0.34783310472482243,0.63287865230973872,0.46363856803829429,0.22162109503186966,0.54532694008000693,0.84730114524796063,0.7623408553329678,0.77046999415074335,2.386764036137845E-2,0.27469008642238379,0.70397666913001489,0.5508672840830765,0.56205350565265666,0.79530993815843698,0.77900733883795226,0.45042169076622662,0.53072051936399678,0.30044541474438435,0.89969414978624784,0.53709914855454233,0.42950666703856244,0.37210682238578918,0.43297943841237008,0.58644411150666764,0.49294495882651301,0.50661105393854577,0.78408745459697449,0.54039774383345207,0.86143076547005271]
[0.50725995044817673,0.89770432847852599,0.78537967234209738,0.91881135739349984,0.75224796455376797,0.3742184786654098,0.81234297348580442,0.83714284334813893,0.96443217930632186,8.0734876424412128E-2,0.50630481022574836,0.90457512505435522,0.1561612785280625,8.7370487553781739E-3,0.4763222217917088,0.63592680647979272,0.33387885600396539,0.91326220450569018,0.79176700947130263,0.88745840852306668,0.5265773744030835,0.92610342710554627,0.89756840839835106,0.59577514774793583,0.84954715855774943,0.96236819508622573,0.97094474456664093,0.32819556273907879,0.22670502907422085,0.44609993084672428,0.77245681070763239,0.67481219390975489,0.94065520847384543,0.25519666446514777,0.27119853196374266,0.7166783006754277,0.7239256738177432,0.28073222187235225,0.52682879534997784,0.3703174217904649,0.19343185286771913,0.20951175608334582,0.52191974388201579,0.20703098057323943,8.5321876385636042E-2,0.40281018957419501,0.29973274702583885,3.3692464485474916E-2,8.6540060295483889E-2,0.5260518844749178,0.190280087952861,0.1922564200794038,0.86186284400861313,0.90895503711666892,0.79959970614482845,0.44484322370783103,0.2910233710693807,0.72402285727063598,0.9057826710804876,0.80310841819486145,2.2466150946532704E-2,0.80927699791445673,0.84755866971546201,0.66933366872703404,0.45862301843435205,8.9498368373905901E-3,0.36639382246115104,7.1044605312954867E-2,2.896435680140641E-3,0.44927903669967406,6.1735663984214928E-2,8.7194347437546837E-2,0.63655479127922276,0.89121549346539242,0.84255875151390525,0.73067638686437175,0.66783351166811544,0.27941947338496598,0.1394264661540654,0.17601353938373643,6.5943785937685018E-2,0.76042097547979992,0.11400768250355853,0.16260356753008265,0.90252333513669547,0.76212185274272726,0.37646692628345668,0.67287016470082783,0.21739712612936013,0.71737747374698912,0.46928481871818717,0.48283511307165305,0.27904841849953888,0.40264754180945372,0.85370177096403188,0.41236933528277164,0.58599018877377151,0.16772356120381959,0.2165966716045481,0.30662882543826431]
[0.60294084267989656,4.5798576344630804E-2,0.92727857352096887,8.884086978850092E-2,0.26656121559345547,0.95271790406946966,0.18882835580297463,2.6802595601916335E-2,0.84283127404887437,0.27818562994158358,0.65283167293838495,0.7146430823212524,0.96236715216818824,0.84604261046008633,0.55413510437252389,0.79747905587759238,0.21574769981692843,0.29453837372100677,0.6900122285580581,0.41971614003213242,0.72143882296794781,0.67285647701879092,0.71011269187288351,0.50123969924690637,0.8011369075646525,0.18442161119607781,0.26277394371935703,0.25779094060896501,0.89923769993897229,0.51163740861871876,1.1849022672878018E-2,0.43448161783614669,0.43821781157114159,0.26120190927520981,0.29972935057643335,0.21876615727078119,0.88837065930592618,0.38998654632396512,0.1616926501051561,0.92265795848126519,7.2543427618795175E-2,0.33865693526116014,0.71355366819070121,0.14211588500399364,0.92910107684157783,0.1297086943327711,9.7292260135532493E-2,0.54973801994090343,0.67211027478091534,0.79834767970398912,0.34423032577013524,0.69163495338935765,5.4711593219771815E-2,0.51926465979098291,0.14284859257350879,9.6400911540974965E-2,3.6166284226110679E-2,0.48717359719590347,0.42845493014327729,6.1875618119933584E-2,0.35832763233710863,0.1469999450271956,0.19633940037851294,0.37036054594112278,0.50011186711575084,0.41081248339439613,0.80837898495482086,0.51510777119145112,0.37217773538491583,0.54667059688514386,0.65737690051618569,6.1401989454959671E-2,0.2879419995433552,0.13147580234175127,0.92949619533774119,0.7250569159089586,0.22405832715288743,0.62099902835038812,0.33902085692571482,0.37522154800756802,4.2651795224085243E-2,0.11082666935544805,0.14759531342120646,1.3607533831718421E-2,0.20577103556647991,1.2405446638348416E-2,0.70427282076765885,0.87544484729555805,0.73691923005760396,0.96438735149051136,0.52515347518289301,0.58956526901410344,0.1032427976432031,0.55700665920461223,0.60624246200968246,0.30929992773301895,0.81588852110152621,0.53712680625507214,0.17921623737779313,0.14262216559935059]
[0.74864285878198644,0.34028023423723108,0.22397630684037728,0.71724191695065209,0.31473483670007885,0.8995806545832985,0.45431816159631055,1.6528454130435244E-2,0.4105874066878924,0.55745376911305133,0.26397372076861958,0.84370404427288714,0.41300435079880049,9.2383295462274639E-2,0.92950624040980778,3.9497315694001722E-2,0.72731548805809876,0.46739226752183938,0.57699623327672955,0.60306237801777807,0.62836841619456729,0.11033563973651905,0.6033932300027115,0.8470420757641397,0.37826471423439734,0.13439232259060785,0.68734105123755551,0.9597966151405144,3.464096059735966E-3,6.1456548025152768E-3,0.1329393217636442,0.15909310509694985,0.92014396544853483,0.28135009893229446,0.34367098329900236,0.84426504767795507,0.79790060771643134,0.79890208592091183,6.9441300924251603E-2,0.78972383011046143,0.89416920491706919,0.76455213357072871,0.4440991575718356,9.4968662672762938E-2,0.88015469909152577,0.73045408916501242,0.4567458474346423,0.66504359073572761,0.95304301305126449,0.40714456166662127,0.85001957167921305,0.13318097543984897,5.7543086369781449E-2,0.79848418410967814,0.37789544920764706,0.3969189000667257,8.7938379828527924E-2,0.83887865467410394,0.61247545831496808,0.74029437732762482,0.3092118363179146,0.59980530286325739,0.73282278037855031,0.7267794654964661,0.60171511767713382,0.64960681309534252,0.18779597254686431,0.24634549864607291,0.34395854479211341,0.79031146406222996,0.68396824058427574,0.62039904676163937,0.42850965717313605,0.48113478878822269,0.56272017606890978,0.27579365669502276,0.16241054880968553,0.47762366067159223,0.38757403455707207,0.50838954159678551,0.14701416392410294,0.8862475973045828,0.25704444938379445,0.27979194603382629,0.41460130475032098,0.84376041350746189,0.82114329026693667,0.90124640239671372,0.93186917862080776,0.90166141850214621,0.61577942230845051,0.41412854821250189,0.45593364125109559,0.56410183813678694,0.35497332750599653,0.56971796552790976,0.45778844984281486,0.34394265293286252,0.13052455863105972,0.17646667547180883]
[0.44164406263678757,0.67959709428295423,9.8560017513709464E-2,0.40869671604125901,0.67845557591789696,0.19560771718990444,0.31055308998503806,0.95659822565928132,0.38744778007791136,0.23329566978821792,0.5553815980291037,0.86249605789474548,0.21459863920430233,0.84372808048283232,6.5250269630699909E-2,0.86024365271901626,0.14726464057191857,0.66517711035433802,0.91975802067500179,4.5093901129812264E-2,0.24334896078348511,0.64874900802594682,7.818986196272093E-2,0.76137349426505319,0.96587019233592164,0.11841604765947122,0.84150967031037449,0.46006503551725797,0.32395526651795381,0.39602507445585322,0.99143381577106859,0.78369287613178695,2.3347408852197216E-2,0.94903546492672497,0.78413101906584182,0.76837800706479309,0.58696227633559683,0.69716923808613229,0.73828255236591356,0.73812386613281045,0.31605954026540306,0.94552481349308704,0.96260451707224504,0.68928415716426328,2.054557842164273E-2,0.68124009777471672,0.96560930381679766,0.24784942841836266,0.56728381669462125,0.64829463638833684,0.19287223359833272,0.8075967365676241,0.57971034076340622,0.96947864150699892,0.98849980408905636,0.59573120414347136,0.27191933763377185,8.4538790238814276E-2,0.94509355995243249,0.56536573874552931,0.19281679016185849,0.85462245130374381,0.63765383111882901,0.64763643522253511,0.15083515405592884,0.6310358854455389,0.31557519013579793,0.53123465255742641,0.10968575848235351,2.096967435186381E-2,0.37588921603824432,0.7515873060761471,0.3409963559823761,0.48844581685421529,0.89230799060514088,9.0561457547107982E-2,0.89683731382644294,0.57500426830100826,0.78303448603665105,0.76385073162069173,0.22687737234148708,0.37471162672302916,0.39723355030453777,0.70287054418769745,0.22317308400953362,0.35209757736286718,0.58938363231720992,0.76424430347108452,0.93999986418120729,3.5076313037376128E-2,0.7724151082724352,4.8496433915575121E-2,0.57721187818203767,0.24939413906414243,0.38236795621257558,0.66390682415853142,0.81069230963552796,0.54018070628937143,0.54062408641914128,0.31139206682889009]
[0.94468331299403996,0.23151527386642279,0.68966349101942315,0.64106386710046315,0.80087517438805345,0.69693293301329451,0.65462547646411373,0.87426905159507928,0.40701663509034813,0.63368392130713658,0.76552182444782402,0.61913276543274787,0.60570768423993471,0.42939650533346674,0.41619625319452536,0.26084527507941058,0.13637954377775952,0.68376337781000296,0.58527214582216547,0.98924597729017316,0.42734469358576754,0.57539300808037086,7.2613468899460631E-2,0.85814751068672035,0.86034135354898289,0.40676805613257727,0.13936574832718462,0.72275765975349027,0.91778376686429275,0.52108121793331363,0.11742808378620884,0.82041363898663178,6.004099780035721E-2,4.4157287692558778E-2,0.95564099375425438,0.16061296536723468,0.26143621640651282,6.3472113375182215E-2,0.2735218155579302,0.40947609189667411,0.97127988265547749,0.37095240965887388,0.7030372621052573,0.74198905609372301,0.27231178093199904,0.21828033338224895,0.57984765928041049,0.99904487949111376,0.44983196401126946,0.29072142196332229,0.28250631932447323,0.28721254466839408,0.61784480735783864,0.55976151533110663,0.62001137533855943,0.24161158231539448,7.9247576383407292E-2,3.9032927593156241E-2,0.58587816827358286,0.74355515427159091,0.40739892437838998,0.9223053848038345,0.23438098245271777,0.64818700049603273,0.31572596171242762,0.45274849023833907,0.486781103023745,0.77551459313926696,0.7586186449362341,0.86172153929256201,0.60595365433699722,0.69699474370918035,0.20687818056959106,0.51403808128395168,0.53559587571736911,0.60590847540248682,3.2769088892709797E-2,0.70983253413567426,0.93910420396669259,0.62442038720288329,0.82175208896565721,0.52099992346806656,6.511318923093623E-2,0.48779525635930443,0.50729874107541817,0.31994150531493482,0.91549313589820547,0.99685314531798674,0.41146334017824837,0.76203662031011699,0.9720796125792236,0.81928383242605385,0.67167162678684256,0.45330795024616555,2.1006653857154167E-2,0.53830137205295026,0.21581198899143572,0.72904961173946781,0.90623417718557919,0.6177472097731197]
[0.22316459433951896,0.66658027654241447,0.1252862175845415,0.16515300113566633,0.89832301335432274,0.13356791492400355,0.91295176694291635,0.43862252730694373,0.46834290842868165,0.1284427812056228,4.3098368839951995E-2,0.2835018033414981,0.89336725775434112,0.41572144880990958,0.32038678066053761,0.9774240125177398,0.85717422033688273,0.27513916146083173,0.881437416247146,0.79698688378141191,0.13012561192130534,0.90752444988689795,0.46409354766084077,5.8351018132503873E-2,0.30920785639577453,0.55172131999040519,0.5948485588610164,0.24730640093149703,0.53527140163688336,0.54788820823002704,0.36087440241165059,0.31086198105583529,0.97461752870507268,0.13517963052769466,0.87723751022740548,0.20839007330096515,0.51503920949476123,0.81576317164629497,0.98303122864807935,0.93934101409594817,0.76608066406681041,0.46669850831043058,0.87874107944784519,0.70405785529667586,0.46863227630394544,0.81018368110624428,0.13234752397525418,0.57752053124555514,0.99116858337071223,0.97411991650643093,0.62168880120344361,0.57064934327862149,0.39482115151061847,0.90805093607455567,0.74391441361174526,3.8666117611396378E-2,0.99865403616885773,0.28477974143835072,0.55683528289972828,0.67106686940100524,0.51540137517914253,0.38989032259808643,0.53227089741648881,0.37545675557740477,0.77721818608041759,0.25010155650035015,0.89508830451536547,0.99243834828241084,0.933381336273433,0.28355797069883304,0.19415497030478523,0.96224122047224514,0.11243604633055071,0.25314441898154338,0.34857262516879606,0.75134548171932192,0.571932012248621,0.55268314738062829,0.71714753580916268,0.25859346424295926,0.33675045494882794,0.44307996481079592,0.47125572856728526,0.20266657385399744,0.41687816068279004,0.13906631253991397,6.2137497779429229E-2,8.3398651554318137E-2,2.342098055682762E-2,0.37395925816063424,0.51940787234823538,0.18629944968975409,0.65695144403855077,0.96730686222222639,0.39955969037061501,0.89694238276425353,8.9300807401039184E-2,0.20726166536123714,0.11796861551394011,0.46632957216252235]
[0.60048000860972206,0.54189428843967113,0.15417399615111238,0.62004340385820778,0.15512324448323123,0.62728471249410978,0.86193462076352978,0.83180111213999131,0.30974112630507877,0.3831348481102631,0.9372892348414148,0.17699226644323085,0.33610959945062158,0.61054891238149522,0.96464766473701213,0.50470642477362504,7.6246093552668426E-2,0.77520507481132683,0.23789583273515169,0.61530666353279517,0.96042538908185193,0.96486879844326567,0.73856892773358296,0.91835211765392266,0.64050172682892226,0.45166780001925411,0.87393111711310667,0.14723831211865146,0.92336582263496314,0.91272426626726377,9.6526857586496151E-2,0.10498911045609338,0.72134158116661795,0.38607332178188281,7.9180248171197176E-2,0.9518807159997682,0.31801948093506638,0.55908199029179217,0.62751704963527677,0.30471638012366797,0.51418904888831451,0.81072614396169329,0.60538122934582828,7.3786465332640883E-2,1.2790230612339637E-2,0.56723656920732257,0.45204718332525629,0.62871802135722699,0.11579489297145462,0.58878754288835078,0.27414200547630685,3.7442770670601533E-3,0.96961291339177746,0.93571175952414332,0.32461476411466705,0.22006052765061979,0.43527828555353076,0.20055445973277686,0.12234442450353245,0.97649691508551462,0.26422976630023587,0.84405699910398768,0.88750637859212611,0.89847061060800404,0.81040091397849301,0.39939203255893552,0.26126341222691762,0.13598816973380512,0.54294061002262073,0.1613294760230668,0.79668461080756048,0.70693271075838271,0.9865469347465754,9.3617099050263275E-2,0.55630765552256101,0.8985753681810823,0.87021538977403412,0.65792522324666192,0.39940826860471423,0.98956550653314479,0.215882817156415,0.92972275512986824,0.27845386639649228,0.66858021598439021,0.63614508916963108,2.1889388489101935E-2,4.7774756532777518E-2,0.62222690301725769,7.0798175532229557E-2,0.63418004492266133,0.31996668419866303,0.23304257505705994,0.81848966500570508,0.29533401085867172,0.56864918341450987,0.57585789844613866,8.2025597775414516E-2,0.24714693459682491,0.4250576137655232,0.84979364997494078]
[]
[1,2,3,4,5,6,7,8,9,10,11,12,13,14,15,16,17,18,19,20,21,22,23,24,25,26,27,28,29,30,31,32,33,34,35,36,37,38,39,40,41,42,43,44,45,46,47,48,49,50,51,52,53,54,55,56,57,58,59,60,61,62,63,64,65,66,67,68,69,70,71,72,73,74,75,76,77,78,79,80,81,82,83,84,85,86,87,88,89,90,91,92,93,94,95,96,97,98,99,100]

{"sheet":"Pocket","index":3,"n_rows":293,"n_cols":184,"rows_kept":293,"cut":false,"hidden":true,"merged":[]}
[1,"♠A",0.3826448826079677,{"$f":"IF(OR($W$2=B1,$X$2=B1),1,RANK(C1,$C$1:$C$52))","v":26},"S",1,{"$f":"LARGE($D$1:$D$52,1)","v":52},1,"♠A",4.7255849429342023E-2,{"$f":"IF(OR($AC$2=I1,$AD$2=I1),1,RANK(J1,$J$1:$J$52))","v":48},"S",1,{"$f":"LARGE($K$1:$K$52,1)","v":52},null,{"$f":"IF(ISBLANK(House1),INDEX($B$1:$B$52,MATCH(G1,$D$1:$D$52,0)), House1)","v":"♦K"},{"$f":"IF(ISBLANK(House2),INDEX($B$1:$B$52,MATCH(G2,$D$1:$D$52,0)),House2)","v":"♠3"},{"$f":"IF(ISBLANK(House3),INDEX($B$1:$B$52,MATCH(G3,$D$1:$D$52,0)),House3)","v":"♥2"},{"$f":"IF(ISBLANK(House4),INDEX($B$1:$B$52,MATCH(G4,$D$1:$D$52,0)),House4)","v":"♣9"},{"$f":"IF(ISBLANK(House5),INDEX($B$1:$B$52,MATCH(G5,$D$1:$D$52,0)),House5)","v":"♦Q"},null,null,{"$f":"RANK(W8,$W$8:$AA$8,1)","v":{"$error":"#N/A"}},{"$f":"RANK(X8,$W$8:$AA$8,1)","v":{"$error":"#N/A"}},{"$error":"#N/A"},{"$error":"#N/A"},{"$error":"#N/A"},null,{"$f":"RANK(AC8,$AC$8:$AG$8,1)","v":{"$error":"#N/A"}},{"$f":"RANK(AD8,$AC$8:$AG$8,1)","v":{"$error":"#N/A"}},{"$error":"#N/A"},{"$error":"#N/A"},{"$error":"#N/A"},null,null,null,null,null,null,null,null,null,null,null,null,null,null,null,null,null,null,null,"Robot1",null,null,null,null,null,null,null,"Robot1",null,null,null,null,null,null,null,null,null,"Match?",null,null,"Match?"]
[2,"♠2",0.49473126785143495,{"$f":"IF(OR($W$2=B2,$X$2=B2),1,RANK(C2,$C$1:$C$52))","v":21},"S",2,{"$f":"LARGE($D$1:$D$52,2)","v":51},2,"♠2",0.60358506334951545,{"$f":"IF(OR($AC$2=I2,$AD$2=I2),1,RANK(J2,$J$1:$J$52))","v":22},"S",2,{"$f":"LARGE($K$1:$K$52,2)","v":51},1,{"$f":"IF(ISBLANK(House1),INDEX($B$1:$B$52,MATCH(N1,$K$1:$K$52,0)),House1)","v":"♣7"},{"$f":"IF(ISBLANK(House2),INDEX($B$1:$B$52,MATCH(N2,$K$1:$K$52,0)),House2)","v":"♥J"},{"$f":"IF(ISBLANK(House3),INDEX($B$1:$B$52,MATCH(N3,$K$1:$K$52,0)),House3)","v":"♥9"},{"$f":"IF(ISBLANK(House4),INDEX($B$1:$B$52,MATCH(N4,$K$1:$K$52,0)),House4)","v":"♥7"},{"$f":"IF(ISBLANK(House5),INDEX($B$1:$B$52,MATCH(N5,$K$1:$K$52,0)),House5)","v":"♠A"},null,null,{"$f":"[0]!Player21","v":0},{"$f":"[0]!Player22","v":0},{"$f":"$P$1","v":"♦K"},{"$f":"$Q$1","v":"♠3"},{"$f":"$R$1","v":"♥2"},null,{"$f":"[0]!Player31","v":0},{"$f":"[0]!Player32","v":0},{"$f":"$P$2","v":"♣7"},{"$f":"$Q$2","v":"♥J"},{"$f":"$R$2","v":"♥9"},null,null,null,null,null,null,null,null,null,null,null,null,null,null,null,null,null,null,null,null,null,null,null,null,null,null,null,null,null,null,null,null,null,null,null,"Robot1",null,null,"Robot1"]
[3,"♠3",1.3882478398753784E-2,51,"S",3,{"$f":"LARGE($D$1:$D$52,3)","v":50},3,"♠3",0.82967112350336958,14,"S",3,{"$f":"LARGE($K$1:$K$52,3)","v":50},null,null,null,null,null,null,null,null,{"$f":"VLOOKUP(W2,$B$1:$F$52,5,0)","v":{"$error":"#N/A"}},{"$f":"VLOOKUP(X2,$B$1:$F$52,5,0)","v":{"$error":"#N/A"}},{"$f":"VLOOKUP(Y2,$B$1:$F$52,5,0)","v":13},{"$f":"VLOOKUP(Z2,$B$1:$F$52,5,0)","v":3},{"$f":"VLOOKUP(AA2,$B$1:$F$52,5,0)","v":2},null,{"$f":"VLOOKUP(AC2,$B$1:$F$52,5,0)","v":{"$error":"#N/A"}},{"$f":"VLOOKUP(AD2,$B$1:$F$52,5,0)","v":{"$error":"#N/A"}},{"$f":"VLOOKUP(AE2,$B$1:$F$52,5,0)","v":7},{"$f":"VLOOKUP(AF2,$B$1:$F$52,5,0)","v":11},{"$f":"VLOOKUP(AG2,$B$1:$F$52,5,0)","v":9},null,null,null,null,null,null,null,null,null,null,null,null,null,null,null,null,null,null,null,null,null,null,null,null,null,null,null,null,null,null,null,null,null,null,null,"Number","Suit","Total","Number","Suit","Total"]
[4,"♠4",0.67913596791415987,14,"S",4,{"$f":"LARGE($D$1:$D$52,4)","v":49},4,"♠4",0.7963749852819626,15,"S",4,{"$f":"LARGE($K$1:$K$52,4)","v":49},null,null,null,null,null,null,null,null,{"$f":"VLOOKUP(W2,$B$1:$F$52,4,0)","v":{"$error":"#N/A"}},{"$f":"VLOOKUP(X2,$B$1:$F$52,4,0)","v":{"$error":"#N/A"}},{"$f":"VLOOKUP(Y2,$B$1:$F$52,4,0)","v":"D"},{"$f":"VLOOKUP(Z2,$B$1:$F$52,4,0)","v":"S"},{"$f":"VLOOKUP(AA2,$B$1:$F$52,4,0)","v":"H"},null,{"$f":"VLOOKUP(AC2,$B$1:$F$52,4,0)","v":{"$error":"#N/A"}},{"$f":"VLOOKUP(AD2,$B$1:$F$52,4,0)","v":{"$error":"#N/A"}},{"$f":"VLOOKUP(AE2,$B$1:$F$52,4,0)","v":"C"},{"$f":"VLOOKUP(AF2,$B$1:$F$52,4,0)","v":"H"},{"$f":"VLOOKUP(AG2,$B$1:$F$52,4,0)","v":"H"},null,null,null,null,null,null,null,null,null,null,null,null,null,1,{"$f":"W5","v":{"$error":"#N/A"}},{"$f":"X5","v":{"$error":"#N/A"}},{"$f":"Y5","v":{"$error":"#N/A"}},{"$f":"Z5","v":{"$error":"#N/A"}},{"$f":"AA5","v":{"$error":"#N/A"}},null,{"$f":"INDEX($BL$4:$BL$13,MATCH(1,$BS$4:$BS$13,0))","v":{"$error":"#N/A"}},1,{"$f":"AC5","v":{"$error":"#N/A"}},{"$f":"AD5","v":{"$error":"#N/A"}},{"$f":"AE5","v":{"$error":"#N/A"}},{"$f":"AF5","v":{"$error":"#N/A"}},{"$f":"AG5","v":{"$error":"#N/A"}},null,{"$f":"INDEX($BL$4:$BL$13,MATCH(1,$BV$4:$BV$13,0))","v":{"$error":"#N/A"}},null,1,{"$f":"BX4","v":"Royal Flush"},null,null,null,{"$f":"CB4","v":{"$error":"#N/A"}},{"$error":"#N/A"},{"$error":"#N/A"},{"$error":"#N/A"},{"$error":"#N/A"},{"$error":"#N/A"},null,"Royal Flush",null,null,null,{"$f":"IF(AND(10=AV4,11=AW4,12=AX4,13=AY4,1=AZ4),1,0)","v":{"$error":"#N/A"}},{"$f":"IF(AND(AV25=AW25,AW25=AX25,AX25=AY25,AY25=AZ25),1,0)","v":{"$error":"#N/A"}},{"$f":"CB4*CC4","v":{"$error":"#N/A"}},{"$f":"IF(AND(10=BD4,11=BE4,12=BF4,13=BG4,1=BH4),1,0)","v":{"$error":"#N/A"}},{"$f":"IF(AND(BD25=BE25,BE25=BF25,BF25=BG25,BG25=BH25),1,0)","v":{"$error":"#N/A"}},{"$f":"CE4*CF4","v":{"$error":"#N/A"}},null,"Straight Flush",null,null,null,{"$f":"IF(OR(AND(AV4<10,AW4=AV4+1,AX4=AW4+1,AY4=AX4+1,AZ4=AY4+1),AND(AV4=2,AW4=3,AX4=4,AY4=5,AZ4=1)),1,0)","v":{"$error":"#N/A"}},{"$f":"IF(AND(AV25=AW25,AW25=AX25,AX25=AY25,AY25=AZ25),1,0)","v":{"$error":"#N/A"}},{"$f":"CM4*CN4","v":{"$error":"#N/A"}},{"$f":"IF(OR(AND(BD4<10,BE4=BD4+1,BF4=BE4+1,BG4=BF4+1,BH4=BG4+1),AND(BD4=2,BE4=3,BF4=4,BG4=5,BH4=1)),1,0)","v":{"$error":"#N/A"}},{"$f":"IF(AND(BD25=BE25,BE25=BF25,BF25=BG25,BG25=BH25),1,0)","v":{"$error":"#N/A"}},{"$f":"CP4*CQ4","v":{"$error":"#N/A"}},null,"Four of a Kind",null,null,null,{"$f":"IF(OR(AND(AV4=AW4,AW4=AX4,AX4=AY4),AND(AW4=AX4,AX4=AY4,AY4=AZ4)),1,0)","v":{"$error":"#N/A"}},null,{"$f":"CX4","v":{"$error":"#N/A"}},{"$f":"IF(OR(AND(BD4=BE4,BE4=BF4,BF4=BG4),AND(BE4=BF4,BF4=BG4,BG4=BH4)),1,0)","v":{"$error":"#N/A"}},null,{"$f":"DA4","v":{"$error":"#N/A"}},null,"Full House",null,null,null,{"$f":"IF(OR(AND(AV4=AW4,AW4=AX4,AY4=AZ4),AND(AV4=AW4,AX4=AY4,AY4=AZ4)),1,0)","v":{"$error":"#N/A"}},null,{"$f":"DI4","v":{"$error":"#N/A"}},{"$f":"IF(OR(AND(BD4=BE4,BE4=BF4,BG4=BH4),AND(BD4=BE4,BF4=BG4,BG4=BH4)),1,0)","v":{"$error":"#N/A"}},null,{"$f":"DL4","v":{"$error":"#N/A"}},null,"Flush",null,null,null,{"$f":"IF(AND(AV25=AW25,AW25=AX25,AX25=AY25,AY25=AZ25),1,0)","v":{"$error":"#N/A"}},null,{"$f":"DT4","v":{"$error":"#N/A"}},{"$f":"IF(AND(BD25=BE25,BE25=BF25,BF25=BG25,BG25=BH25),1,0)","v":{"$error":"#N/A"}},null,{"$f":"DW4","v":{"$error":"#N/A"}},null,"Straight",null,null,null,{"$f":"IF(OR(\nAND(AV4<10,AW4=AV4+1,AX4=AW4+1,AY4=AX4+1,AZ4=AY4+1),\nAND(AV4=10,AW4=11,AX4=12,AY4=13,AZ4=1),\n),1,0)","v":{"$error":"#N/A"}},{"$f":"IF(AND(AV25=AW25,AW25=AX25,AX25=AY25,AY25=AZ25),0,1)","v":{"$error":"#N/A"}},{"$f":"EE4*EF4","v":{"$error":"#N/A"}},{"$f":"IF(OR(\nAND(BD4<10,BE4=BD4+1,BF4=BE4+1,BG4=BF4+1,BH4=BG4+1),\nAND(BD4=10,BE4=11,BF4=12,BG4=13,BH4=1)\n),1,0)","v":{"$error":"#N/A"}},{"$f":"IF(AND(BD25=BE25,BE25=BF25,BF25=BG25,BG25=BH25),0,1)","v":{"$error":"#N/A"}},{"$f":"EH4*EI4","v":{"$error":"#N/A"}},null,"Three of a Kind",null,null,null,{"$f":"IF(OR(AND(AV4=AW4,AW4=AX4,AY4<>AZ4),AND(AV4<>AW4,AX4=AY4,AY4=AZ4),AND(AW4=AX4,AX4=AY4)),1,0)","v":{"$error":"#N/A"}},null,{"$f":"EP4","v":{"$error":"#N/A"}},{"$f":"IF(OR(AND(BD4=BE4,BE4=BF4,BG4<>BH4),AND(BD4<>BE4,BF4=BG4,BG4=BH4),AND(BE4=BF4,BF4=BG4)),1,0)","v":{"$error":"#N/A"}},null,{"$f":"ES4","v":{"$error":"#N/A"}},null,"Two Pair",null,null,null,{"$f":"IF(OR(AND(AV4=AW4,AX4=AY4,AZ4<>AV4,AZ4<>AX4,AW4<>AX4),AND(AW4=AX4,AY4=AZ4,AV4<>AW4,AV4<>AY4,AX4<>AY4),AND(AV4=AW4,AY4=AZ4,AX4<>AW4,AX4<>AY4,AW4<>AY4)),1,0)","v":{"$error":"#N/A"}},null,{"$f":"FA4","v":{"$error":"#N/A"}},{"$f":"IF(OR(AND(BD4=BE4,BF4=BG4,BH4<>BD4,BH4<>BF4,BE4<>BF4),AND(BE4=BF4,BG4=BH4,BD4<>BE4,BD4<>BG4,BF4<>BG4),AND(BD4=BE4,BG4=BH4,BF4<>BE4,BF4<>BG4,BE4<>BG4)),1,0)","v":{"$error":"#N/A"}},null,{"$f":"FD4","v":{"$error":"#N/A"}},null,"One Pair",null,null,null,{"$f":"IF(OR(AND(AV4=AW4,AW4<>AX4,AX4<>AY4,AY4<>AZ4),AND(AV4<>AW4,AW4=AX4,AX4<>AY4,AY4<>AZ4),AND(AV4<>AW4,AW4<>AX4,AX4=AY4,AY4<>AZ4),AND(AV4<>AW4,AW4<>AX4,AX4<>AY4,AY4=AZ4)),1,0)","v":{"$error":"#N/A"}},null,{"$f":"FL4","v":{"$error":"#N/A"}},{"$f":"IF(OR(AND(BD4=BE4,BE4<>BF4,BF4<>BG4,BG4<>BH4),AND(BD4<>BE4,BE4=BF4,BF4<>BG4,BG4<>BH4),AND(BD4<>BE4,BE4<>BF4,BF4=BG4,BG4<>BH4),AND(BD4<>BE4,BE4<>BF4,BF4<>BG4,BG4=BH4)),1,0)","v":{"$error":"#N/A"}},null,{"$f":"FO4","v":{"$error":"#N/A"}},null,"High Card",null,null,null,{"$f":"IF(AND(AV4<>AW4,AW4<>AX4,AX4<>AY4,AY4<>AZ4),1,0)","v":{"$error":"#N/A"}},null,{"$f":"FW4","v":{"$error":"#N/A"}},{"$f":"IF(AND(BD4<>BE4,BE4<>BF4,BF4<>BG4,BG4<>BH4),1,0)","v":{"$error":"#N/A"}},null,{"$f":"FZ4","v":{"$error":"#N/A"}}]
[5,"♠5",0.84130938613580553,8,"S",5,{"$f":"LARGE($D$1:$D$52,5)","v":48},5,"♠5",0.13993132305751788,42,"S",5,{"$f":"LARGE($K$1:$K$52,5)","v":48},null,null,null,null,null,null,null,null,{"$f":"HLOOKUP(W7,$W$1:$AA$4,3,0)","v":{"$error":"#N/A"}},{"$f":"HLOOKUP(X7,$W$1:$AA$4,3,0)","v":{"$error":"#N/A"}},{"$f":"HLOOKUP(Y7,$W$1:$AA$4,3,0)","v":{"$error":"#N/A"}},{"$f":"HLOOKUP(Z7,$W$1:$AA$4,3,0)","v":{"$error":"#N/A"}},{"$f":"HLOOKUP(AA7,$W$1:$AA$4,3,0)","v":{"$error":"#N/A"}},null,{"$f":"HLOOKUP(AC7,$AC$1:$AG$4,3,0)","v":{"$error":"#N/A"}},{"$f":"HLOOKUP(AD7,$AC$1:$AG$4,3,0)","v":{"$error":"#N/A"}},{"$error":"#N/A"},{"$error":"#N/A"},{"$error":"#N/A"},null,null,null,null,null,null,null,null,null,null,null,null,null,2,{"$f":"W14","v":{"$error":"#N/A"}},{"$f":"X14","v":{"$error":"#N/A"}},{"$f":"Y14","v":{"$error":"#N/A"}},{"$f":"Z14","v":{"$error":"#N/A"}},{"$f":"AA14","v":{"$error":"#N/A"}},null,{"$f":"INDEX($BL$4:$BL$13,MATCH(1,$BS$15:$BS$24,0))","v":{"$error":"#N/A"}},2,{"$f":"AC14","v":{"$error":"#N/A"}},{"$f":"AD14","v":{"$error":"#N/A"}},{"$f":"AE14","v":{"$error":"#N/A"}},{"$f":"AF14","v":{"$error":"#N/A"}},{"$f":"AG14","v":{"$error":"#N/A"}},null,{"$f":"INDEX($BL$4:$BL$13,MATCH(1,$BV$15:$BV$24,0))","v":{"$error":"#N/A"}},null,2,{"$f":"CI4","v":"Straight Flush"},null,null,null,{"$f":"CM4","v":{"$error":"#N/A"}},{"$error":"#N/A"},{"$error":"#N/A"},{"$error":"#N/A"},{"$error":"#N/A"},{"$error":"#N/A"},null,"Royal Flush",null,null,null,{"$error":"#N/A"},{"$error":"#N/A"},{"$error":"#N/A"},{"$error":"#N/A"},{"$error":"#N/A"},{"$error":"#N/A"},null,"Straight Flush",null,null,null,{"$error":"#N/A"},{"$error":"#N/A"},{"$f":"CM5*CN5","v":{"$error":"#N/A"}},{"$error":"#N/A"},{"$error":"#N/A"},{"$f":"CP5*CQ5","v":{"$error":"#N/A"}},null,"Four of a Kind",null,null,null,{"$error":"#N/A"},null,{"$error":"#N/A"},{"$error":"#N/A"},null,{"$f":"DA5","v":{"$error":"#N/A"}},null,"Full House",null,null,null,{"$error":"#N/A"},null,{"$error":"#N/A"},{"$error":"#N/A"},null,{"$error":"#N/A"},null,"Flush",null,null,null,{"$error":"#N/A"},null,{"$error":"#N/A"},{"$error":"#N/A"},null,{"$error":"#N/A"},null,"Straight",null,null,null,{"$error":"#N/A"},{"$error":"#N/A"},{"$error":"#N/A"},{"$error":"#N/A"},{"$error":"#N/A"},{"$error":"#N/A"},null,"Three of a Kind",null,null,null,{"$error":"#N/A"},null,{"$error":"#N/A"},{"$error":"#N/A"},null,{"$error":"#N/A"},null,"Two Pair",null,null,null,{"$error":"#N/A"},null,{"$error":"#N/A"},{"$error":"#N/A"},null,{"$error":"#N/A"},null,"One Pair",null,null,null,{"$error":"#N/A"},null,{"$error":"#N/A"},{"$error":"#N/A"},null,{"$error":"#N/A"},null,"High Card",null,null,null,{"$error":"#N/A"},null,{"$error":"#N/A"},{"$error":"#N/A"},null,{"$error":"#N/A"}]
[6,"♠6",0.5846866314985697,17,"S",6,null,6,"♠6",0.39965304511223299,28,"S",6,null,null,null,null,null,null,null,null,null,{"$f":"HLOOKUP(W7,$W$1:$AA$4,4,0)","v":{"$error":"#N/A"}},{"$f":"HLOOKUP(X7,$W$1:$AA$4,4,0)","v":{"$error":"#N/A"}},{"$f":"HLOOKUP(Y7,$W$1:$AA$4,4,0)","v":{"$error":"#N/A"}},{"$f":"HLOOKUP(Z7,$W$1:$AA$4,4,0)","v":{"$error":"#N/A"}},{"$f":"HLOOKUP(AA7,$W$1:$AA$4,4,0)","v":{"$error":"#N/A"}},null,{"$f":"HLOOKUP(AC7,$AC$1:$AG$4,4,0)","v":{"$error":"#N/A"}},{"$f":"HLOOKUP(AD7,$AC$1:$AG$4,4,0)","v":{"$error":"#N/A"}},{"$error":"#N/A"},{"$error":"#N/A"},{"$error":"#N/A"},null,null,null,null,null,null,null,null,null,null,null,null,null,3,{"$f":"W23","v":{"$error":"#N/A"}},{"$f":"X23","v":{"$error":"#N/A"}},{"$f":"Y23","v":{"$error":"#N/A"}},{"$f":"Z23","v":{"$error":"#N/A"}},{"$f":"AA23","v":{"$error":"#N/A"}},null,{"$f":"INDEX($BL$4:$BL$13,MATCH(1,$BS$26:$BS$35,0))","v":{"$error":"#N/A"}},3,{"$f":"AC23","v":{"$error":"#N/A"}},{"$f":"AD23","v":{"$error":"#N/A"}},{"$f":"AE23","v":{"$error":"#N/A"}},{"$f":"AF23","v":{"$error":"#N/A"}},{"$f":"AG23","v":{"$error":"#N/A"}},null,{"$f":"INDEX($BL$4:$BL$13,MATCH(1,$BV$26:$BV$35,0))","v":{"$error":"#N/A"}},null,3,{"$f":"CT4","v":"Four of a Kind"},null,null,null,{"$f":"CX4","v":{"$error":"#N/A"}},0,{"$error":"#N/A"},{"$error":"#N/A"},0,{"$error":"#N/A"},null,"Royal Flush",null,null,null,{"$error":"#N/A"},{"$error":"#N/A"},{"$error":"#N/A"},{"$error":"#N/A"},{"$error":"#N/A"},{"$error":"#N/A"},null,"Straight Flush",null,null,null,{"$error":"#N/A"},{"$error":"#N/A"},{"$error":"#N/A"},{"$error":"#N/A"},{"$error":"#N/A"},{"$error":"#N/A"},null,"Four of a Kind",null,null,null,{"$error":"#N/A"},null,{"$error":"#N/A"},{"$error":"#N/A"},null,{"$error":"#N/A"},null,"Full House",null,null,null,{"$error":"#N/A"},null,{"$error":"#N/A"},{"$error":"#N/A"},null,{"$error":"#N/A"},null,"Flush",null,null,null,{"$error":"#N/A"},null,{"$error":"#N/A"},{"$error":"#N/A"},null,{"$error":"#N/A"},null,"Straight",null,null,null,{"$error":"#N/A"},{"$error":"#N/A"},{"$error":"#N/A"},{"$error":"#N/A"},{"$error":"#N/A"},{"$error":"#N/A"},null,"Three of a Kind",null,null,null,{"$error":"#N/A"},null,{"$error":"#N/A"},{"$error":"#N/A"},null,{"$error":"#N/A"},null,"Two Pair",null,null,null,{"$error":"#N/A"},null,{"$error":"#N/A"},{"$error":"#N/A"},null,{"$error":"#N/A"},null,"One Pair",null,null,null,{"$error":"#N/A"},null,{"$error":"#N/A"},{"$error":"#N/A"},null,{"$error":"#N/A"},null,"High Card",null,null,null,{"$error":"#N/A"},null,{"$error":"#N/A"},{"$error":"#N/A"},null,{"$error":"#N/A"}]
[7,"♠7",0.88986418075326112,4,"S",7,null,7,"♠7",0.41144808636283281,27,"S",7,null,null,null,null,null,null,null,null,null,1,2,3,4,5,null,1,2,3,4,5,null,null,null,null,null,null,null,null,null,null,null,null,null,4,{"$f":"W32","v":{"$error":"#N/A"}},{"$f":"X32","v":{"$error":"#N/A"}},{"$f":"Y32","v":{"$error":"#N/A"}},{"$f":"Z32","v":{"$error":"#N/A"}},{"$f":"AA32","v":{"$error":"#N/A"}},null,{"$f":"INDEX($BL$4:$BL$13,MATCH(1,$BS$37:$BS$46,0))","v":{"$error":"#N/A"}},4,{"$f":"AC32","v":{"$error":"#N/A"}},{"$f":"AD32","v":{"$error":"#N/A"}},{"$f":"AE32","v":{"$error":"#N/A"}},{"$f":"AF32","v":{"$error":"#N/A"}},{"$f":"AG32","v":{"$error":"#N/A"}},null,{"$f":"INDEX($BL$4:$BL$13,MATCH(1,$BV$37:$BV$46,0))","v":{"$error":"#N/A"}},null,4,{"$f":"DE4","v":"Full House"},null,null,null,{"$f":"DI4","v":{"$error":"#N/A"}},0,{"$error":"#N/A"},{"$error":"#N/A"},0,{"$error":"#N/A"},null,"Royal Flush",null,null,null,{"$error":"#N/A"},{"$error":"#N/A"},{"$error":"#N/A"},{"$error":"#N/A"},{"$error":"#N/A"},{"$error":"#N/A"},null,"Straight Flush",null,null,null,{"$error":"#N/A"},{"$error":"#N/A"},{"$error":"#N/A"},{"$error":"#N/A"},{"$error":"#N/A"},{"$error":"#N/A"},null,"Four of a Kind",null,null,null,{"$error":"#N/A"},null,{"$error":"#N/A"},{"$error":"#N/A"},null,{"$error":"#N/A"},null,"Full House",null,null,null,{"$error":"#N/A"},null,{"$error":"#N/A"},{"$error":"#N/A"},null,{"$error":"#N/A"},null,"Flush",null,null,null,{"$error":"#N/A"},null,{"$error":"#N/A"},{"$error":"#N/A"},null,{"$error":"#N/A"},null,"Straight",null,null,null,{"$error":"#N/A"},{"$error":"#N/A"},{"$error":"#N/A"},{"$error":"#N/A"},{"$error":"#N/A"},{"$error":"#N/A"},null,"Three of a Kind",null,null,null,{"$error":"#N/A"},null,{"$error":"#N/A"},{"$error":"#N/A"},null,{"$error":"#N/A"},null,"Two Pair",null,null,null,{"$error":"#N/A"},null,{"$error":"#N/A"},{"$error":"#N/A"},null,{"$error":"#N/A"},null,"One Pair",null,null,null,{"$error":"#N/A"},null,{"$error":"#N/A"},{"$error":"#N/A"},null,{"$error":"#N/A"},null,"High Card",null,null,null,{"$error":"#N/A"},null,{"$error":"#N/A"},{"$error":"#N/A"},null,{"$error":"#N/A"}]
[8,"♠8",0.25397235652166805,37,"S",8,null,8,"♠8",0.76157704177527208,17,"S",8,null,null,null,null,null,null,null,null,{"$f":"V3+IF(V3=1,13+RAND()^3,RAND()^3)","v":0.44365492912369731},{"$error":"#N/A"},{"$error":"#N/A"},13.535543203194552,3.0000317053195156,2.0259165511220742,7.7540135328149504E-5,{"$error":"#N/A"},{"$error":"#N/A"},7.0521088203532853,11.394488645079161,9.7695026244572283,null,null,null,null,null,null,null,null,null,null,null,null,null,5,{"$f":"W41","v":{"$error":"#N/A"}},{"$f":"X41","v":{"$error":"#N/A"}},{"$f":"Y41","v":{"$error":"#N/A"}},{"$f":"Z41","v":{"$error":"#N/A"}},{"$f":"AA41","v":{"$error":"#N/A"}},null,{"$f":"INDEX($BL$4:$BL$13,MATCH(1,$BS$48:$BS$57,0))","v":{"$error":"#N/A"}},5,{"$f":"AC41","v":{"$error":"#N/A"}},{"$f":"AD41","v":{"$error":"#N/A"}},{"$f":"AE41","v":{"$error":"#N/A"}},{"$f":"AF41","v":{"$error":"#N/A"}},{"$f":"AG41","v":{"$error":"#N/A"}},null,{"$f":"INDEX($BL$4:$BL$13,MATCH(1,$BV$48:$BV$57,0))","v":{"$error":"#N/A"}},null,5,{"$f":"DP4","v":"Flush"},null,null,null,{"$f":"DT4","v":{"$error":"#N/A"}},0,{"$error":"#N/A"},{"$error":"#N/A"},0,{"$error":"#N/A"},null,"Royal Flush",null,null,null,{"$error":"#N/A"},{"$error":"#N/A"},{"$error":"#N/A"},{"$error":"#N/A"},{"$error":"#N/A"},{"$error":"#N/A"},null,"Straight Flush",null,null,null,{"$error":"#N/A"},{"$error":"#N/A"},{"$error":"#N/A"},{"$error":"#N/A"},{"$error":"#N/A"},{"$error":"#N/A"},null,"Four of a Kind",null,null,null,{"$error":"#N/A"},null,{"$error":"#N/A"},{"$error":"#N/A"},null,{"$error":"#N/A"},null,"Full House",null,null,null,{"$error":"#N/A"},null,{"$error":"#N/A"},{"$error":"#N/A"},null,{"$error":"#N/A"},null,"Flush",null,null,null,{"$error":"#N/A"},null,{"$error":"#N/A"},{"$error":"#N/A"},null,{"$error":"#N/A"},null,"Straight",null,null,null,{"$error":"#N/A"},{"$error":"#N/A"},{"$error":"#N/A"},{"$error":"#N/A"},{"$error":"#N/A"},{"$error":"#N/A"},null,"Three of a Kind",null,null,null,{"$error":"#N/A"},null,{"$error":"#N/A"},{"$error":"#N/A"},null,{"$error":"#N/A"},null,"Two Pair",null,null,null,{"$error":"#N/A"},null,{"$error":"#N/A"},{"$error":"#N/A"},null,{"$error":"#N/A"},null,"One Pair",null,null,null,{"$error":"#N/A"},null,{"$error":"#N/A"},{"$error":"#N/A"},null,{"$error":"#N/A"},null,"High Card",null,null,null,{"$error":"#N/A"},null,{"$error":"#N/A"},{"$error":"#N/A"},null,{"$error":"#N/A"}]
[9,"♠9",0.54702801414335955,18,"S",9,null,9,"♠9",0.89355894089235099,6,"S",9,null,null,null,null,null,null,null,null,null,null,null,null,null,null,null,null,null,null,null,null,null,null,null,null,null,null,null,null,null,null,null,null,null,6,{"$f":"W50","v":{"$error":"#N/A"}},{"$f":"X50","v":{"$error":"#N/A"}},{"$f":"Y50","v":{"$error":"#N/A"}},{"$f":"Z50","v":{"$error":"#N/A"}},{"$f":"AA50","v":{"$error":"#N/A"}},null,{"$f":"INDEX($BL$4:$BL$13,MATCH(1,$BS$59:$BS$68,0))","v":{"$error":"#N/A"}},6,{"$f":"AC50","v":{"$error":"#N/A"}},{"$f":"AD50","v":{"$error":"#N/A"}},{"$f":"AE50","v":{"$error":"#N/A"}},{"$f":"AF50","v":{"$error":"#N/A"}},{"$f":"AG50","v":{"$error":"#N/A"}},null,{"$f":"INDEX($BL$4:$BL$13,MATCH(1,$BV$59:$BV$68,0))","v":{"$error":"#N/A"}},null,6,{"$f":"EA4","v":"Straight"},null,null,null,{"$f":"EE4","v":{"$error":"#N/A"}},{"$error":"#N/A"},{"$error":"#N/A"},{"$error":"#N/A"},{"$error":"#N/A"},{"$error":"#N/A"},null,"Royal Flush",null,null,null,{"$error":"#N/A"},{"$error":"#N/A"},{"$error":"#N/A"},{"$error":"#N/A"},{"$error":"#N/A"},{"$error":"#N/A"},null,"Straight Flush",null,null,null,{"$error":"#N/A"},{"$error":"#N/A"},{"$error":"#N/A"},{"$error":"#N/A"},{"$error":"#N/A"},{"$error":"#N/A"},null,"Four of a Kind",null,null,null,{"$error":"#N/A"},null,{"$error":"#N/A"},{"$error":"#N/A"},null,{"$error":"#N/A"},null,"Full House",null,null,null,{"$error":"#N/A"},null,{"$error":"#N/A"},{"$error":"#N/A"},null,{"$error":"#N/A"},null,"Flush",null,null,null,{"$error":"#N/A"},null,{"$error":"#N/A"},{"$error":"#N/A"},null,{"$error":"#N/A"},null,"Straight",null,null,null,{"$error":"#N/A"},{"$error":"#N/A"},{"$error":"#N/A"},{"$error":"#N/A"},{"$error":"#N/A"},{"$error":"#N/A"},null,"Three of a Kind",null,null,null,{"$error":"#N/A"},null,{"$error":"#N/A"},{"$error":"#N/A"},null,{"$error":"#N/A"},null,"Two Pair",null,null,null,{"$error":"#N/A"},null,{"$error":"#N/A"},{"$error":"#N/A"},null,{"$error":"#N/A"},null,"One Pair",null,null,null,{"$error":"#N/A"},null,{"$error":"#N/A"},{"$error":"#N/A"},null,{"$error":"#N/A"},null,"High Card",null,null,null,{"$error":"#N/A"},null,{"$error":"#N/A"},{"$error":"#N/A"},null,{"$error":"#N/A"}]
[10,"♠10",0.15594411623425064,41,"S",10,null,10,"♠10",0.18054974664081402,40,"S",10,null,null,null,null,null,null,null,null,null,{"$f":"RANK(W17,$W$17:$AA$17,1)","v":{"$error":"#N/A"}},{"$f":"RANK(X17,$W$17:$AA$17,1)","v":{"$error":"#N/A"}},{"$f":"RANK(Y17,$W$17:$AA$17,1)","v":{"$error":"#N/A"}},{"$f":"RANK(Z17,$W$17:$AA$17,1)","v":{"$error":"#N/A"}},{"$f":"RANK(AA17,$W$17:$AA$17,1)","v":{"$error":"#N/A"}},null,{"$f":"RANK(AC17,$AC$17:$AG$17,1)","v":{"$error":"#N/A"}},{"$f":"RANK(AD17,$AC$17:$AG$17,1)","v":{"$error":"#N/A"}},{"$error":"#N/A"},{"$error":"#N/A"},{"$error":"#N/A"},null,null,null,null,null,null,null,null,null,null,null,null,null,7,{"$f":"W59","v":{"$error":"#N/A"}},{"$f":"X59","v":{"$error":"#N/A"}},{"$f":"Y59","v":{"$error":"#N/A"}},{"$f":"Z59","v":{"$error":"#N/A"}},{"$f":"AA59","v":{"$error":"#N/A"}},null,{"$f":"INDEX($BL$4:$BL$13,MATCH(1,$BS$70:$BS$79,0))","v":{"$error":"#N/A"}},7,{"$f":"AC59","v":{"$error":"#N/A"}},{"$f":"AD59","v":{"$error":"#N/A"}},{"$f":"AE59","v":{"$error":"#N/A"}},{"$f":"AF59","v":{"$error":"#N/A"}},{"$f":"AG59","v":{"$error":"#N/A"}},null,{"$f":"INDEX($BL$4:$BL$13,MATCH(1,$BV$70:$BV$79,0))","v":{"$error":"#N/A"}},null,7,{"$f":"EL4","v":"Three of a Kind"},null,null,null,{"$f":"EP4","v":{"$error":"#N/A"}},0,{"$error":"#N/A"},{"$error":"#N/A"},0,{"$error":"#N/A"},null,"Royal Flush",null,null,null,{"$error":"#N/A"},{"$error":"#N/A"},{"$error":"#N/A"},{"$error":"#N/A"},{"$error":"#N/A"},{"$error":"#N/A"},null,"Straight Flush",null,null,null,{"$error":"#N/A"},{"$error":"#N/A"},{"$error":"#N/A"},{"$error":"#N/A"},{"$error":"#N/A"},{"$error":"#N/A"},null,"Four of a Kind",null,null,null,{"$error":"#N/A"},null,{"$error":"#N/A"},{"$error":"#N/A"},null,{"$error":"#N/A"},null,"Full House",null,null,null,{"$error":"#N/A"},null,{"$error":"#N/A"},{"$error":"#N/A"},null,{"$error":"#N/A"},null,"Flush",null,null,null,{"$error":"#N/A"},null,{"$error":"#N/A"},{"$error":"#N/A"},null,{"$error":"#N/A"},null,"Straight",null,null,null,{"$error":"#N/A"},{"$error":"#N/A"},{"$error":"#N/A"},{"$error":"#N/A"},{"$error":"#N/A"},{"$error":"#N/A"},null,"Three of a Kind",null,null,null,{"$error":"#N/A"},null,{"$error":"#N/A"},{"$error":"#N/A"},null,{"$error":"#N/A"},null,"Two Pair",null,null,null,{"$error":"#N/A"},null,{"$error":"#N/A"},{"$error":"#N/A"},null,{"$error":"#N/A"},null,"One Pair",null,null,null,{"$error":"#N/A"},null,{"$error":"#N/A"},{"$error":"#N/A"},null,{"$error":"#N/A"},null,"High Card",null,null,null,{"$error":"#N/A"},null,{"$error":"#N/A"},{"$error":"#N/A"},null,{"$error":"#N/A"}]
[11,"♠J",4.6646467619787968E-2,47,"S",11,null,11,"♠J",0.83704216119840336,13,"S",11,null,2,null,null,null,null,null,null,null,{"$f":"[0]!Player21","v":0},{"$f":"[0]!Player22","v":0},{"$f":"$P$1","v":"♦K"},{"$f":"$Q$1","v":"♠3"},{"$f":"$S$1","v":"♣9"},null,{"$f":"[0]!Player31","v":0},{"$f":"[0]!Player32","v":0},{"$f":"$P$2","v":"♣7"},{"$f":"$Q$2","v":"♥J"},{"$f":"$S$2","v":"♥7"},null,null,null,null,null,null,null,null,null,null,null,null,null,8,{"$f":"W68","v":{"$error":"#N/A"}},{"$f":"X68","v":{"$error":"#N/A"}},{"$f":"Y68","v":{"$error":"#N/A"}},{"$f":"Z68","v":{"$error":"#N/A"}},{"$f":"AA68","v":{"$error":"#N/A"}},null,{"$f":"INDEX($BL$4:$BL$13,MATCH(1,$BS$81:$BS$90,0))","v":{"$error":"#N/A"}},8,{"$f":"AC68","v":{"$error":"#N/A"}},{"$f":"AD68","v":{"$error":"#N/A"}},{"$f":"AE68","v":{"$error":"#N/A"}},{"$f":"AF68","v":{"$error":"#N/A"}},{"$f":"AG68","v":{"$error":"#N/A"}},null,{"$f":"INDEX($BL$4:$BL$13,MATCH(1,$BV$81:$BV$90,0))","v":{"$error":"#N/A"}},null,8,{"$f":"EW4","v":"Two Pair"},null,null,null,{"$f":"FA4","v":{"$error":"#N/A"}},0,{"$error":"#N/A"},{"$error":"#N/A"},0,{"$error":"#N/A"},null,"Royal Flush",null,null,null,{"$error":"#N/A"},{"$error":"#N/A"},{"$error":"#N/A"},{"$error":"#N/A"},{"$error":"#N/A"},{"$error":"#N/A"},null,"Straight Flush",null,null,null,{"$error":"#N/A"},{"$error":"#N/A"},{"$error":"#N/A"},{"$error":"#N/A"},{"$error":"#N/A"},{"$error":"#N/A"},null,"Four of a Kind",null,null,null,{"$error":"#N/A"},null,{"$error":"#N/A"},{"$error":"#N/A"},null,{"$error":"#N/A"},null,"Full House",null,null,null,{"$error":"#N/A"},null,{"$error":"#N/A"},{"$error":"#N/A"},null,{"$error":"#N/A"},null,"Flush",null,null,null,{"$error":"#N/A"},null,{"$error":"#N/A"},{"$error":"#N/A"},null,{"$error":"#N/A"},null,"Straight",null,null,null,{"$error":"#N/A"},{"$error":"#N/A"},{"$error":"#N/A"},{"$error":"#N/A"},{"$error":"#N/A"},{"$error":"#N/A"},null,"Three of a Kind",null,null,null,{"$error":"#N/A"},null,{"$error":"#N/A"},{"$error":"#N/A"},null,{"$error":"#N/A"},null,"Two Pair",null,null,null,{"$error":"#N/A"},null,{"$error":"#N/A"},{"$error":"#N/A"},null,{"$error":"#N/A"},null,"One Pair",null,null,null,{"$error":"#N/A"},null,{"$error":"#N/A"},{"$error":"#N/A"},null,{"$error":"#N/A"},null,"High Card",null,null,null,{"$error":"#N/A"},null,{"$error":"#N/A"},{"$error":"#N/A"},null,{"$error":"#N/A"}]
[12,"♠Q",0.11201707117836923,42,"S",12,null,12,"♠Q",0.3010758967278343,34,"S",12,null,null,null,null,null,null,null,null,null,{"$f":"VLOOKUP(W11,$B$1:$F$52,5,0)","v":{"$error":"#N/A"}},{"$f":"VLOOKUP(X11,$B$1:$F$52,5,0)","v":{"$error":"#N/A"}},{"$f":"VLOOKUP(Y11,$B$1:$F$52,5,0)","v":13},{"$f":"VLOOKUP(Z11,$B$1:$F$52,5,0)","v":3},{"$f":"VLOOKUP(AA11,$B$1:$F$52,5,0)","v":9},null,{"$f":"VLOOKUP(AC11,$B$1:$F$52,5,0)","v":{"$error":"#N/A"}},{"$f":"VLOOKUP(AD11,$B$1:$F$52,5,0)","v":{"$error":"#N/A"}},{"$f":"VLOOKUP(AE11,$B$1:$F$52,5,0)","v":7},{"$f":"VLOOKUP(AF11,$B$1:$F$52,5,0)","v":11},{"$f":"VLOOKUP(AG11,$B$1:$F$52,5,0)","v":7},null,null,null,null,null,null,null,null,null,null,null,null,null,9,{"$f":"W77","v":{"$error":"#N/A"}},{"$f":"X77","v":{"$error":"#N/A"}},{"$f":"Y77","v":{"$error":"#N/A"}},{"$f":"Z77","v":{"$error":"#N/A"}},{"$f":"AA77","v":{"$error":"#N/A"}},null,{"$f":"INDEX($BL$4:$BL$13,MATCH(1,$BS$92:$BS$101,0))","v":{"$error":"#N/A"}},9,{"$f":"AC77","v":{"$error":"#N/A"}},{"$f":"AD77","v":{"$error":"#N/A"}},{"$f":"AE77","v":{"$error":"#N/A"}},{"$f":"AF77","v":{"$error":"#N/A"}},{"$f":"AG77","v":{"$error":"#N/A"}},null,{"$f":"INDEX($BL$4:$BL$13,MATCH(1,$BV$92:$BV$101,0))","v":{"$error":"#N/A"}},null,9,{"$f":"FH4","v":"One Pair"},null,null,null,{"$f":"FL4","v":{"$error":"#N/A"}},0,{"$error":"#N/A"},{"$error":"#N/A"},0,{"$error":"#N/A"},null,"Royal Flush",null,null,null,{"$error":"#N/A"},{"$error":"#N/A"},{"$error":"#N/A"},{"$error":"#N/A"},{"$error":"#N/A"},{"$error":"#N/A"},null,"Straight Flush",null,null,null,{"$error":"#N/A"},{"$error":"#N/A"},{"$error":"#N/A"},{"$error":"#N/A"},{"$error":"#N/A"},{"$error":"#N/A"},null,"Four of a Kind",null,null,null,{"$error":"#N/A"},null,{"$error":"#N/A"},{"$error":"#N/A"},null,{"$error":"#N/A"},null,"Full House",null,null,null,{"$error":"#N/A"},null,{"$error":"#N/A"},{"$error":"#N/A"},null,{"$error":"#N/A"},null,"Flush",null,null,null,{"$error":"#N/A"},null,{"$error":"#N/A"},{"$error":"#N/A"},null,{"$error":"#N/A"},null,"Straight",null,null,null,{"$error":"#N/A"},{"$error":"#N/A"},{"$error":"#N/A"},{"$error":"#N/A"},{"$error":"#N/A"},{"$error":"#N/A"},null,"Three of a Kind",null,null,null,{"$error":"#N/A"},null,{"$error":"#N/A"},{"$error":"#N/A"},null,{"$error":"#N/A"},null,"Two Pair",null,null,null,{"$error":"#N/A"},null,{"$error":"#N/A"},{"$error":"#N/A"},null,{"$error":"#N/A"},null,"One Pair",null,null,null,{"$error":"#N/A"},null,{"$error":"#N/A"},{"$error":"#N/A"},null,{"$error":"#N/A"},null,"High Card",null,null,null,{"$error":"#N/A"},null,{"$error":"#N/A"},{"$error":"#N/A"},null,{"$error":"#N/A"}]
[13,"♠K",0.2579116683462529,36,"S",13,null,13,"♠K",0.68040316352992758,20,"S",13,null,null,null,null,null,null,null,null,null,{"$f":"VLOOKUP(W11,$B$1:$F$52,4,0)","v":{"$error":"#N/A"}},{"$f":"VLOOKUP(X11,$B$1:$F$52,4,0)","v":{"$error":"#N/A"}},{"$f":"VLOOKUP(Y11,$B$1:$F$52,4,0)","v":"D"},{"$f":"VLOOKUP(Z11,$B$1:$F$52,4,0)","v":"S"},{"$f":"VLOOKUP(AA11,$B$1:$F$52,4,0)","v":"C"},null,{"$f":"VLOOKUP(AC11,$B$1:$F$52,4,0)","v":{"$error":"#N/A"}},{"$f":"VLOOKUP(AD11,$B$1:$F$52,4,0)","v":{"$error":"#N/A"}},{"$f":"VLOOKUP(AE11,$B$1:$F$52,4,0)","v":"C"},{"$f":"VLOOKUP(AF11,$B$1:$F$52,4,0)","v":"H"},{"$f":"VLOOKUP(AG11,$B$1:$F$52,4,0)","v":"H"},null,null,null,null,null,null,null,null,null,null,null,null,null,10,{"$f":"W86","v":{"$error":"#N/A"}},{"$f":"X86","v":{"$error":"#N/A"}},{"$f":"Y86","v":{"$error":"#N/A"}},{"$f":"Z86","v":{"$error":"#N/A"}},{"$f":"AA86","v":{"$error":"#N/A"}},null,{"$f":"INDEX($BL$4:$BL$13,MATCH(1,$BS$103:$BS$112,0))","v":{"$error":"#N/A"}},10,{"$f":"AC86","v":{"$error":"#N/A"}},{"$f":"AD86","v":{"$error":"#N/A"}},{"$f":"AE86","v":{"$error":"#N/A"}},{"$f":"AF86","v":{"$error":"#N/A"}},{"$f":"AG86","v":{"$error":"#N/A"}},null,{"$f":"INDEX($BL$4:$BL$13,MATCH(1,$BV$103:$BV$112,0))","v":{"$error":"#N/A"}},null,10,{"$f":"FS4","v":"High Card"},null,null,null,{"$f":"FW4","v":{"$error":"#N/A"}},0,{"$error":"#N/A"},{"$error":"#N/A"},0,{"$error":"#N/A"},null,"Royal Flush",null,null,null,{"$error":"#N/A"},{"$error":"#N/A"},{"$error":"#N/A"},{"$error":"#N/A"},{"$error":"#N/A"},{"$error":"#N/A"},null,"Straight Flush",null,null,null,{"$error":"#N/A"},{"$error":"#N/A"},{"$error":"#N/A"},{"$error":"#N/A"},{"$error":"#N/A"},{"$error":"#N/A"},null,"Four of a Kind",null,null,null,{"$error":"#N/A"},null,{"$error":"#N/A"},{"$error":"#N/A"},null,{"$error":"#N/A"},null,"Full House",null,null,null,{"$error":"#N/A"},null,{"$error":"#N/A"},{"$error":"#N/A"},null,{"$error":"#N/A"},null,"Flush",null,null,null,{"$error":"#N/A"},null,{"$error":"#N/A"},{"$error":"#N/A"},null,{"$error":"#N/A"},null,"Straight",null,null,null,{"$error":"#N/A"},{"$error":"#N/A"},{"$error":"#N/A"},{"$error":"#N/A"},{"$error":"#N/A"},{"$error":"#N/A"},null,"Three of a Kind",null,null,null,{"$error":"#N/A"},null,{"$error":"#N/A"},{"$error":"#N/A"},null,{"$error":"#N/A"},null,"Two Pair",null,null,null,{"$error":"#N/A"},null,{"$error":"#N/A"},{"$error":"#N/A"},null,{"$error":"#N/A"},null,"One Pair",null,null,null,{"$error":"#N/A"},null,{"$error":"#N/A"},{"$error":"#N/A"},null,{"$error":"#N/A"},null,"High Card",null,null,null,{"$error":"#N/A"},null,{"$error":"#N/A"},{"$error":"#N/A"},null,{"$error":"#N/A"}]
[14,"♣A",0.7725309899927586,11,"C",1,null,14,"♣A",0.20663566766751085,38,"C",1,null,null,null,null,null,null,null,null,null,{"$f":"HLOOKUP(W16,$W$10:$AA$13,3,0)","v":{"$error":"#N/A"}},{"$f":"HLOOKUP(X16,$W$10:$AA$13,3,0)","v":{"$error":"#N/A"}},{"$f":"HLOOKUP(Y16,$W$10:$AA$13,3,0)","v":{"$error":"#N/A"}},{"$f":"HLOOKUP(Z16,$W$10:$AA$13,3,0)","v":{"$error":"#N/A"}},{"$f":"HLOOKUP(AA16,$W$10:$AA$13,3,0)","v":{"$error":"#N/A"}},null,{"$f":"HLOOKUP(AC16,$AC$10:$AG$13,3,0)","v":{"$error":"#N/A"}},{"$f":"HLOOKUP(AD16,$AC$10:$AG$13,3,0)","v":{"$error":"#N/A"}},{"$error":"#N/A"},{"$error":"#N/A"},{"$error":"#N/A"},null,null,null,null,null,null,null,null,null,null,null,null,null,11,{"$f":"W95","v":{"$error":"#N/A"}},{"$f":"X95","v":{"$error":"#N/A"}},{"$f":"Y95","v":{"$error":"#N/A"}},{"$f":"Z95","v":{"$error":"#N/A"}},{"$f":"AA95","v":{"$error":"#N/A"}},null,{"$f":"INDEX($BL$4:$BL$13,MATCH(1,$BS$114:$BS$123,0))","v":{"$error":"#N/A"}},11,{"$f":"AC95","v":{"$error":"#N/A"}},{"$f":"AD95","v":{"$error":"#N/A"}},{"$f":"AE95","v":{"$error":"#N/A"}},{"$f":"AF95","v":{"$error":"#N/A"}},{"$f":"AG95","v":{"$error":"#N/A"}},null,{"$f":"INDEX($BL$4:$BL$13,MATCH(1,$BV$114:$BV$123,0))","v":{"$error":"#N/A"}},null,null,null,null,null,null,null,null,null,null,null,null,null,"Royal Flush",null,null,null,{"$error":"#N/A"},{"$error":"#N/A"},{"$error":"#N/A"},{"$error":"#N/A"},{"$error":"#N/A"},{"$error":"#N/A"},null,"Straight Flush",null,null,null,{"$error":"#N/A"},{"$error":"#N/A"},{"$error":"#N/A"},{"$error":"#N/A"},{"$error":"#N/A"},{"$error":"#N/A"},null,"Four of a Kind",null,null,null,{"$error":"#N/A"},null,{"$error":"#N/A"},{"$error":"#N/A"},null,{"$error":"#N/A"},null,"Full House",null,null,null,{"$error":"#N/A"},null,{"$error":"#N/A"},{"$error":"#N/A"},null,{"$error":"#N/A"},null,"Flush",null,null,null,{"$error":"#N/A"},null,{"$error":"#N/A"},{"$error":"#N/A"},null,{"$error":"#N/A"},null,"Straight",null,null,null,{"$error":"#N/A"},{"$error":"#N/A"},{"$error":"#N/A"},{"$error":"#N/A"},{"$error":"#N/A"},{"$error":"#N/A"},null,"Three of a Kind",null,null,null,{"$error":"#N/A"},null,{"$error":"#N/A"},{"$error":"#N/A"},null,{"$error":"#N/A"},null,"Two Pair",null,null,null,{"$error":"#N/A"},null,{"$error":"#N/A"},{"$error":"#N/A"},null,{"$error":"#N/A"},null,"One Pair",null,null,null,{"$error":"#N/A"},null,{"$error":"#N/A"},{"$error":"#N/A"},null,{"$error":"#N/A"},null,"High Card",null,null,null,{"$error":"#N/A"},null,{"$error":"#N/A"},{"$error":"#N/A"},null,{"$error":"#N/A"}]
[15,"♣2",0.37919683785273595,27,"C",2,null,15,"♣2",0.26288852041782318,35,"C",2,null,null,null,null,null,null,null,null,null,{"$f":"HLOOKUP(W16,$W$10:$AA$13,4,0)","v":{"$error":"#N/A"}},{"$f":"HLOOKUP(X16,$W$10:$AA$13,4,0)","v":{"$error":"#N/A"}},{"$f":"HLOOKUP(Y16,$W$10:$AA$13,4,0)","v":{"$error":"#N/A"}},{"$f":"HLOOKUP(Z16,$W$10:$AA$13,4,0)","v":{"$error":"#N/A"}},{"$f":"HLOOKUP(AA16,$W$10:$AA$13,4,0)","v":{"$error":"#N/A"}},null,{"$f":"HLOOKUP(AC16,$AC$10:$AG$13,4,0)","v":{"$error":"#N/A"}},{"$f":"HLOOKUP(AD16,$AC$10:$AG$13,4,0)","v":{"$error":"#N/A"}},{"$error":"#N/A"},{"$error":"#N/A"},{"$error":"#N/A"},null,null,null,null,null,null,null,null,null,null,null,null,null,12,{"$f":"W104","v":{"$error":"#N/A"}},{"$f":"X104","v":{"$error":"#N/A"}},{"$f":"Y104","v":{"$error":"#N/A"}},{"$f":"Z104","v":{"$error":"#N/A"}},{"$f":"AA104","v":{"$error":"#N/A"}},null,{"$f":"INDEX($BL$4:$BL$13,MATCH(1,$BS$125:$BS$134,0))","v":{"$error":"#N/A"}},12,{"$f":"AC104","v":{"$error":"#N/A"}},{"$f":"AD104","v":{"$error":"#N/A"}},{"$f":"AE104","v":{"$error":"#N/A"}},{"$f":"AF104","v":{"$error":"#N/A"}},{"$f":"AG104","v":{"$error":"#N/A"}},null,{"$f":"INDEX($BL$4:$BL$13,MATCH(1,$BV$125:$BV$134,0))","v":{"$error":"#N/A"}},null,2,{"$f":"BX5","v":"Royal Flush"},null,null,null,{"$f":"CB5","v":{"$error":"#N/A"}},{"$error":"#N/A"},{"$error":"#N/A"},{"$error":"#N/A"},{"$error":"#N/A"},{"$error":"#N/A"},null,"Royal Flush",null,null,null,{"$error":"#N/A"},{"$error":"#N/A"},{"$error":"#N/A"},{"$error":"#N/A"},{"$error":"#N/A"},{"$error":"#N/A"},null,"Straight Flush",null,null,null,{"$error":"#N/A"},{"$error":"#N/A"},{"$error":"#N/A"},{"$error":"#N/A"},{"$error":"#N/A"},{"$error":"#N/A"},null,"Four of a Kind",null,null,null,{"$error":"#N/A"},null,{"$error":"#N/A"},{"$error":"#N/A"},null,{"$error":"#N/A"},null,"Full House",null,null,null,{"$error":"#N/A"},null,{"$error":"#N/A"},{"$error":"#N/A"},null,{"$error":"#N/A"},null,"Flush",null,null,null,{"$error":"#N/A"},null,{"$error":"#N/A"},{"$error":"#N/A"},null,{"$error":"#N/A"},null,"Straight",null,null,null,{"$error":"#N/A"},{"$error":"#N/A"},{"$error":"#N/A"},{"$error":"#N/A"},{"$error":"#N/A"},{"$error":"#N/A"},null,"Three of a Kind",null,null,null,{"$error":"#N/A"},null,{"$error":"#N/A"},{"$error":"#N/A"},null,{"$error":"#N/A"},null,"Two Pair",null,null,null,{"$error":"#N/A"},null,{"$error":"#N/A"},{"$error":"#N/A"},null,{"$error":"#N/A"},null,"One Pair",null,null,null,{"$error":"#N/A"},null,{"$error":"#N/A"},{"$error":"#N/A"},null,{"$error":"#N/A"},null,"High Card",null,null,null,{"$error":"#N/A"},null,{"$error":"#N/A"},{"$error":"#N/A"},null,{"$error":"#N/A"}]
[16,"♣3",0.20926308192989085,40,"C",3,null,16,"♣3",0.39807025550676101,29,"C",3,null,null,null,null,null,null,null,null,null,1,2,3,4,5,null,1,2,3,4,5,null,null,null,null,null,null,null,null,null,null,null,null,null,13,{"$f":"W113","v":{"$error":"#N/A"}},{"$f":"X113","v":{"$error":"#N/A"}},{"$f":"Y113","v":{"$error":"#N/A"}},{"$f":"Z113","v":{"$error":"#N/A"}},{"$f":"AA113","v":{"$error":"#N/A"}},null,{"$f":"INDEX($BL$4:$BL$13,MATCH(1,$BS$136:$BS$145,0))","v":{"$error":"#N/A"}},13,{"$f":"AC113","v":{"$error":"#N/A"}},{"$f":"AD113","v":{"$error":"#N/A"}},{"$f":"AE113","v":{"$error":"#N/A"}},{"$f":"AF113","v":{"$error":"#N/A"}},{"$f":"AG113","v":{"$error":"#N/A"}},null,{"$f":"INDEX($BL$4:$BL$13,MATCH(1,$BV$136:$BV$145,0))","v":{"$error":"#N/A"}},null,null,{"$f":"CI5","v":"Straight Flush"},null,null,null,{"$f":"CM5","v":{"$error":"#N/A"}},{"$error":"#N/A"},{"$error":"#N/A"},{"$error":"#N/A"},{"$error":"#N/A"},{"$error":"#N/A"},null,"Royal Flush",null,null,null,{"$error":"#N/A"},{"$error":"#N/A"},{"$error":"#N/A"},{"$error":"#N/A"},{"$error":"#N/A"},{"$error":"#N/A"},null,"Straight Flush",null,null,null,{"$error":"#N/A"},{"$error":"#N/A"},{"$error":"#N/A"},{"$error":"#N/A"},{"$error":"#N/A"},{"$error":"#N/A"},null,"Four of a Kind",null,null,null,{"$error":"#N/A"},null,{"$error":"#N/A"},{"$error":"#N/A"},null,{"$error":"#N/A"},null,"Full House",null,null,null,{"$error":"#N/A"},null,{"$error":"#N/A"},{"$error":"#N/A"},null,{"$error":"#N/A"},null,"Flush",null,null,null,{"$error":"#N/A"},null,{"$error":"#N/A"},{"$error":"#N/A"},null,{"$error":"#N/A"},null,"Straight",null,null,null,{"$error":"#N/A"},{"$error":"#N/A"},{"$error":"#N/A"},{"$error":"#N/A"},{"$error":"#N/A"},{"$error":"#N/A"},null,"Three of a Kind",null,null,null,{"$error":"#N/A"},null,{"$error":"#N/A"},{"$error":"#N/A"},null,{"$error":"#N/A"},null,"Two Pair",null,null,null,{"$error":"#N/A"},null,{"$error":"#N/A"},{"$error":"#N/A"},null,{"$error":"#N/A"},null,"One Pair",null,null,null,{"$error":"#N/A"},null,{"$error":"#N/A"},{"$error":"#N/A"},null,{"$error":"#N/A"},null,"High Card",null,null,null,{"$error":"#N/A"},null,{"$error":"#N/A"},{"$error":"#N/A"},null,{"$error":"#N/A"}]
[17,"♣4",0.10676156025607664,43,"C",4,null,17,"♣4",0.22136744118219531,37,"C",4,null,null,null,null,null,null,null,null,{"$f":"V12+IF(V12=1,13+RAND()^3,RAND()^3)","v":0.39094289476311589},{"$error":"#N/A"},{"$error":"#N/A"},13.000134626286531,3.0006833300603772,9.3178622498984716,0.76749683032379201,{"$error":"#N/A"},{"$error":"#N/A"},7.0025480420233563,11.242573535458126,7.7555299329591438,null,null,null,null,null,null,null,null,null,null,null,null,null,14,{"$f":"W122","v":{"$error":"#N/A"}},{"$f":"X122","v":{"$error":"#N/A"}},{"$f":"Y122","v":{"$error":"#N/A"}},{"$f":"Z122","v":{"$error":"#N/A"}},{"$f":"AA122","v":{"$error":"#N/A"}},null,{"$f":"INDEX($BL$4:$BL$13,MATCH(1,$BS$147:$BS$156,0))","v":{"$error":"#N/A"}},14,{"$f":"AC122","v":{"$error":"#N/A"}},{"$f":"AD122","v":{"$error":"#N/A"}},{"$f":"AE122","v":{"$error":"#N/A"}},{"$f":"AF122","v":{"$error":"#N/A"}},{"$f":"AG122","v":{"$error":"#N/A"}},null,{"$f":"INDEX($BL$4:$BL$13,MATCH(1,$BV$147:$BV$156,0))","v":{"$error":"#N/A"}},null,null,{"$f":"CT5","v":"Four of a Kind"},null,null,null,{"$f":"CX5","v":{"$error":"#N/A"}},0,{"$error":"#N/A"},{"$error":"#N/A"},0,{"$error":"#N/A"},null,"Royal Flush",null,null,null,{"$error":"#N/A"},{"$error":"#N/A"},{"$error":"#N/A"},{"$error":"#N/A"},{"$error":"#N/A"},{"$error":"#N/A"},null,"Straight Flush",null,null,null,{"$error":"#N/A"},{"$error":"#N/A"},{"$error":"#N/A"},{"$error":"#N/A"},{"$error":"#N/A"},{"$error":"#N/A"},null,"Four of a Kind",null,null,null,{"$error":"#N/A"},null,{"$error":"#N/A"},{"$error":"#N/A"},null,{"$error":"#N/A"},null,"Full House",null,null,null,{"$error":"#N/A"},null,{"$error":"#N/A"},{"$error":"#N/A"},null,{"$error":"#N/A"},null,"Flush",null,null,null,{"$error":"#N/A"},null,{"$error":"#N/A"},{"$error":"#N/A"},null,{"$error":"#N/A"},null,"Straight",null,null,null,{"$error":"#N/A"},{"$error":"#N/A"},{"$error":"#N/A"},{"$error":"#N/A"},{"$error":"#N/A"},{"$error":"#N/A"},null,"Three of a Kind",null,null,null,{"$error":"#N/A"},null,{"$error":"#N/A"},{"$error":"#N/A"},null,{"$error":"#N/A"},null,"Two Pair",null,null,null,{"$error":"#N/A"},null,{"$error":"#N/A"},{"$error":"#N/A"},null,{"$error":"#N/A"},null,"One Pair",null,null,null,{"$error":"#N/A"},null,{"$error":"#N/A"},{"$error":"#N/A"},null,{"$error":"#N/A"},null,"High Card",null,null,null,{"$error":"#N/A"},null,{"$error":"#N/A"},{"$error":"#N/A"},null,{"$error":"#N/A"}]
[18,"♣5",0.90922229408882971,2,"C",5,null,18,"♣5",0.13865150199959697,43,"C",5,null,null,null,null,null,null,null,null,null,null,null,null,null,null,null,null,null,null,null,null,null,null,null,null,null,null,null,null,null,null,null,null,null,15,{"$f":"W131","v":{"$error":"#N/A"}},{"$f":"X131","v":{"$error":"#N/A"}},{"$f":"Y131","v":{"$error":"#N/A"}},{"$f":"Z131","v":{"$error":"#N/A"}},{"$f":"AA131","v":{"$error":"#N/A"}},null,{"$f":"INDEX($BL$4:$BL$13,MATCH(1,$BS$158:$BS$167,0))","v":{"$error":"#N/A"}},15,{"$f":"AC131","v":{"$error":"#N/A"}},{"$f":"AD131","v":{"$error":"#N/A"}},{"$f":"AE131","v":{"$error":"#N/A"}},{"$f":"AF131","v":{"$error":"#N/A"}},{"$f":"AG131","v":{"$error":"#N/A"}},null,{"$f":"INDEX($BL$4:$BL$13,MATCH(1,$BV$158:$BV$167,0))","v":{"$error":"#N/A"}},null,null,{"$f":"DE5","v":"Full House"},null,null,null,{"$f":"DI5","v":{"$error":"#N/A"}},0,{"$error":"#N/A"},{"$error":"#N/A"},0,{"$error":"#N/A"},null,"Royal Flush",null,null,null,{"$error":"#N/A"},{"$error":"#N/A"},{"$error":"#N/A"},{"$error":"#N/A"},{"$error":"#N/A"},{"$error":"#N/A"},null,"Straight Flush",null,null,null,{"$error":"#N/A"},{"$error":"#N/A"},{"$error":"#N/A"},{"$error":"#N/A"},{"$error":"#N/A"},{"$error":"#N/A"},null,"Four of a Kind",null,null,null,{"$error":"#N/A"},null,{"$error":"#N/A"},{"$error":"#N/A"},null,{"$error":"#N/A"},null,"Full House",null,null,null,{"$error":"#N/A"},null,{"$error":"#N/A"},{"$error":"#N/A"},null,{"$error":"#N/A"},null,"Flush",null,null,null,{"$error":"#N/A"},null,{"$error":"#N/A"},{"$error":"#N/A"},null,{"$error":"#N/A"},null,"Straight",null,null,null,{"$error":"#N/A"},{"$error":"#N/A"},{"$error":"#N/A"},{"$error":"#N/A"},{"$error":"#N/A"},{"$error":"#N/A"},null,"Three of a Kind",null,null,null,{"$error":"#N/A"},null,{"$error":"#N/A"},{"$error":"#N/A"},null,{"$error":"#N/A"},null,"Two Pair",null,null,null,{"$error":"#N/A"},null,{"$error":"#N/A"},{"$error":"#N/A"},null,{"$error":"#N/A"},null,"One Pair",null,null,null,{"$error":"#N/A"},null,{"$error":"#N/A"},{"$error":"#N/A"},null,{"$error":"#N/A"},null,"High Card",null,null,null,{"$error":"#N/A"},null,{"$error":"#N/A"},{"$error":"#N/A"},null,{"$error":"#N/A"}]
[19,"♣6",0.84489234748849351,7,"C",6,null,19,"♣6",0.36222880589374873,31,"C",6,null,null,null,null,null,null,null,null,null,{"$f":"RANK(W26,$W$26:$AA$26,1)","v":{"$error":"#N/A"}},{"$f":"RANK(X26,$W$26:$AA$26,1)","v":{"$error":"#N/A"}},{"$f":"RANK(Y26,$W$26:$AA$26,1)","v":{"$error":"#N/A"}},{"$f":"RANK(Z26,$W$26:$AA$26,1)","v":{"$error":"#N/A"}},{"$f":"RANK(AA26,$W$26:$AA$26,1)","v":{"$error":"#N/A"}},null,{"$f":"RANK(AC26,$AC$26:$AG$26,1)","v":{"$error":"#N/A"}},{"$f":"RANK(AD26,$AC$26:$AG$26,1)","v":{"$error":"#N/A"}},{"$error":"#N/A"},{"$error":"#N/A"},{"$error":"#N/A"},null,null,null,null,null,null,null,null,null,null,null,null,null,16,{"$f":"W140","v":{"$error":"#N/A"}},{"$f":"X140","v":{"$error":"#N/A"}},{"$f":"Y140","v":{"$error":"#N/A"}},{"$f":"Z140","v":{"$error":"#N/A"}},{"$f":"AA140","v":{"$error":"#N/A"}},null,{"$f":"INDEX($BL$4:$BL$13,MATCH(1,$BS$169:$BS$178,0))","v":{"$error":"#N/A"}},16,{"$f":"AC140","v":{"$error":"#N/A"}},{"$f":"AD140","v":{"$error":"#N/A"}},{"$f":"AE140","v":{"$error":"#N/A"}},{"$f":"AF140","v":{"$error":"#N/A"}},{"$f":"AG140","v":{"$error":"#N/A"}},null,{"$f":"INDEX($BL$4:$BL$13,MATCH(1,$BV$169:$BV$178,0))","v":{"$error":"#N/A"}},null,null,{"$f":"DP5","v":"Flush"},null,null,null,{"$f":"DT5","v":{"$error":"#N/A"}},0,{"$error":"#N/A"},{"$error":"#N/A"},0,{"$error":"#N/A"},null,"Royal Flush",null,null,null,{"$error":"#N/A"},{"$error":"#N/A"},{"$error":"#N/A"},{"$error":"#N/A"},{"$error":"#N/A"},{"$error":"#N/A"},null,"Straight Flush",null,null,null,{"$error":"#N/A"},{"$error":"#N/A"},{"$error":"#N/A"},{"$error":"#N/A"},{"$error":"#N/A"},{"$error":"#N/A"},null,"Four of a Kind",null,null,null,{"$error":"#N/A"},null,{"$error":"#N/A"},{"$error":"#N/A"},null,{"$error":"#N/A"},null,"Full House",null,null,null,{"$error":"#N/A"},null,{"$error":"#N/A"},{"$error":"#N/A"},null,{"$error":"#N/A"},null,"Flush",null,null,null,{"$error":"#N/A"},null,{"$error":"#N/A"},{"$error":"#N/A"},null,{"$error":"#N/A"},null,"Straight",null,null,null,{"$error":"#N/A"},{"$error":"#N/A"},{"$error":"#N/A"},{"$error":"#N/A"},{"$error":"#N/A"},{"$error":"#N/A"},null,"Three of a Kind",null,null,null,{"$error":"#N/A"},null,{"$error":"#N/A"},{"$error":"#N/A"},null,{"$error":"#N/A"},null,"Two Pair",null,null,null,{"$error":"#N/A"},null,{"$error":"#N/A"},{"$error":"#N/A"},null,{"$error":"#N/A"},null,"One Pair",null,null,null,{"$error":"#N/A"},null,{"$error":"#N/A"},{"$error":"#N/A"},null,{"$error":"#N/A"},null,"High Card",null,null,null,{"$error":"#N/A"},null,{"$error":"#N/A"},{"$error":"#N/A"},null,{"$error":"#N/A"}]
[20,"♣7",0.96061157750298976,1,"C",7,null,20,"♣7",1.5188615639379677E-2,52,"C",7,null,3,null,null,null,null,null,null,null,{"$f":"[0]!Player21","v":0},{"$f":"[0]!Player22","v":0},{"$f":"$P$1","v":"♦K"},{"$f":"$Q$1","v":"♠3"},{"$f":"$T$1","v":"♦Q"},null,{"$f":"[0]!Player31","v":0},{"$f":"[0]!Player32","v":0},{"$f":"$P$2","v":"♣7"},{"$f":"$Q$2","v":"♥J"},{"$f":"$T$2","v":"♠A"},null,null,null,null,null,null,null,null,null,null,null,null,null,17,{"$f":"W149","v":{"$error":"#N/A"}},{"$f":"X149","v":{"$error":"#N/A"}},{"$f":"Y149","v":{"$error":"#N/A"}},{"$f":"Z149","v":{"$error":"#N/A"}},{"$f":"AA149","v":{"$error":"#N/A"}},null,{"$f":"INDEX($BL$4:$BL$13,MATCH(1,$BS$180:$BS$189,0))","v":{"$error":"#N/A"}},17,{"$f":"AC149","v":{"$error":"#N/A"}},{"$f":"AD149","v":{"$error":"#N/A"}},{"$f":"AE149","v":{"$error":"#N/A"}},{"$f":"AF149","v":{"$error":"#N/A"}},{"$f":"AG149","v":{"$error":"#N/A"}},null,{"$f":"INDEX($BL$4:$BL$13,MATCH(1,$BV$180:$BV$189,0))","v":{"$error":"#N/A"}},null,null,{"$f":"EA5","v":"Straight"},null,null,null,{"$f":"EE5","v":{"$error":"#N/A"}},{"$error":"#N/A"},{"$error":"#N/A"},{"$error":"#N/A"},{"$error":"#N/A"},{"$error":"#N/A"},null,"Royal Flush",null,null,null,{"$error":"#N/A"},{"$error":"#N/A"},{"$error":"#N/A"},{"$error":"#N/A"},{"$error":"#N/A"},{"$error":"#N/A"},null,"Straight Flush",null,null,null,{"$error":"#N/A"},{"$error":"#N/A"},{"$error":"#N/A"},{"$error":"#N/A"},{"$error":"#N/A"},{"$error":"#N/A"},null,"Four of a Kind",null,null,null,{"$error":"#N/A"},null,{"$error":"#N/A"},{"$error":"#N/A"},null,{"$error":"#N/A"},null,"Full House",null,null,null,{"$error":"#N/A"},null,{"$error":"#N/A"},{"$error":"#N/A"},null,{"$error":"#N/A"},null,"Flush",null,null,null,{"$error":"#N/A"},null,{"$error":"#N/A"},{"$error":"#N/A"},null,{"$error":"#N/A"},null,"Straight",null,null,null,{"$error":"#N/A"},{"$error":"#N/A"},{"$error":"#N/A"},{"$error":"#N/A"},{"$error":"#N/A"},{"$error":"#N/A"},null,"Three of a Kind",null,null,null,{"$error":"#N/A"},null,{"$error":"#N/A"},{"$error":"#N/A"},null,{"$error":"#N/A"},null,"Two Pair",null,null,null,{"$error":"#N/A"},null,{"$error":"#N/A"},{"$error":"#N/A"},null,{"$error":"#N/A"},null,"One Pair",null,null,null,{"$error":"#N/A"},null,{"$error":"#N/A"},{"$error":"#N/A"},null,{"$error":"#N/A"},null,"High Card",null,null,null,{"$error":"#N/A"},null,{"$error":"#N/A"},{"$error":"#N/A"},null,{"$error":"#N/A"}]
[21,"♣8",0.80444781195380755,9,"C",8,null,21,"♣8",0.37990555386830527,30,"C",8,null,null,null,null,null,null,null,null,null,{"$f":"VLOOKUP(W20,$B$1:$F$52,5,0)","v":{"$error":"#N/A"}},{"$f":"VLOOKUP(X20,$B$1:$F$52,5,0)","v":{"$error":"#N/A"}},{"$f":"VLOOKUP(Y20,$B$1:$F$52,5,0)","v":13},{"$f":"VLOOKUP(Z20,$B$1:$F$52,5,0)","v":3},{"$f":"VLOOKUP(AA20,$B$1:$F$52,5,0)","v":12},null,{"$f":"VLOOKUP(AC20,$B$1:$F$52,5,0)","v":{"$error":"#N/A"}},{"$f":"VLOOKUP(AD20,$B$1:$F$52,5,0)","v":{"$error":"#N/A"}},{"$f":"VLOOKUP(AE20,$B$1:$F$52,5,0)","v":7},{"$f":"VLOOKUP(AF20,$B$1:$F$52,5,0)","v":11},{"$f":"VLOOKUP(AG20,$B$1:$F$52,5,0)","v":1},null,null,null,null,null,null,null,null,null,null,null,null,null,18,{"$f":"W158","v":{"$error":"#N/A"}},{"$f":"X158","v":{"$error":"#N/A"}},{"$f":"Y158","v":{"$error":"#N/A"}},{"$f":"Z158","v":{"$error":"#N/A"}},{"$f":"AA158","v":{"$error":"#N/A"}},null,{"$f":"INDEX($BL$4:$BL$13,MATCH(1,$BS$191:$BS$200,0))","v":{"$error":"#N/A"}},18,{"$f":"AC158","v":{"$error":"#N/A"}},{"$f":"AD158","v":{"$error":"#N/A"}},{"$f":"AE158","v":{"$error":"#N/A"}},{"$f":"AF158","v":{"$error":"#N/A"}},{"$f":"AG158","v":{"$error":"#N/A"}},null,{"$f":"INDEX($BL$4:$BL$13,MATCH(1,$BV$191:$BV$200,0))","v":{"$error":"#N/A"}},null,null,{"$f":"EL5","v":"Three of a Kind"},null,null,null,{"$f":"EP5","v":{"$error":"#N/A"}},0,{"$error":"#N/A"},{"$error":"#N/A"},0,{"$error":"#N/A"},null,"Royal Flush",null,null,null,{"$error":"#N/A"},{"$error":"#N/A"},{"$error":"#N/A"},{"$error":"#N/A"},{"$error":"#N/A"},{"$error":"#N/A"},null,"Straight Flush",null,null,null,{"$error":"#N/A"},{"$error":"#N/A"},{"$error":"#N/A"},{"$error":"#N/A"},{"$error":"#N/A"},{"$error":"#N/A"},null,"Four of a Kind",null,null,null,{"$error":"#N/A"},null,{"$error":"#N/A"},{"$error":"#N/A"},null,{"$error":"#N/A"},null,"Full House",null,null,null,{"$error":"#N/A"},null,{"$error":"#N/A"},{"$error":"#N/A"},null,{"$error":"#N/A"},null,"Flush",null,null,null,{"$error":"#N/A"},null,{"$error":"#N/A"},{"$error":"#N/A"},null,{"$error":"#N/A"},null,"Straight",null,null,null,{"$error":"#N/A"},{"$error":"#N/A"},{"$error":"#N/A"},{"$error":"#N/A"},{"$error":"#N/A"},{"$error":"#N/A"},null,"Three of a Kind",null,null,null,{"$error":"#N/A"},null,{"$error":"#N/A"},{"$error":"#N/A"},null,{"$error":"#N/A"},null,"Two Pair",null,null,null,{"$error":"#N/A"},null,{"$error":"#N/A"},{"$error":"#N/A"},null,{"$error":"#N/A"},null,"One Pair",null,null,null,{"$error":"#N/A"},null,{"$error":"#N/A"},{"$error":"#N/A"},null,{"$error":"#N/A"},null,"High Card",null,null,null,{"$error":"#N/A"},null,{"$error":"#N/A"},{"$error":"#N/A"},null,{"$error":"#N/A"}]
[22,"♣9",2.3977469289472864E-2,49,"C",9,null,22,"♣9",0.68731251732552956,19,"C",9,null,null,null,null,null,null,null,null,null,{"$f":"VLOOKUP(W20,$B$1:$F$52,4,0)","v":{"$error":"#N/A"}},{"$f":"VLOOKUP(X20,$B$1:$F$52,4,0)","v":{"$error":"#N/A"}},{"$f":"VLOOKUP(Y20,$B$1:$F$52,4,0)","v":"D"},{"$f":"VLOOKUP(Z20,$B$1:$F$52,4,0)","v":"S"},{"$f":"VLOOKUP(AA20,$B$1:$F$52,4,0)","v":"D"},null,{"$f":"VLOOKUP(AC20,$B$1:$F$52,4,0)","v":{"$error":"#N/A"}},{"$f":"VLOOKUP(AD20,$B$1:$F$52,4,0)","v":{"$error":"#N/A"}},{"$f":"VLOOKUP(AE20,$B$1:$F$52,4,0)","v":"C"},{"$f":"VLOOKUP(AF20,$B$1:$F$52,4,0)","v":"H"},{"$f":"VLOOKUP(AG20,$B$1:$F$52,4,0)","v":"S"},null,null,null,null,null,null,null,null,null,null,null,null,null,19,{"$f":"W167","v":{"$error":"#N/A"}},{"$f":"X167","v":{"$error":"#N/A"}},{"$f":"Y167","v":{"$error":"#N/A"}},{"$f":"Z167","v":{"$error":"#N/A"}},{"$f":"AA167","v":{"$error":"#N/A"}},null,{"$f":"INDEX($BL$4:$BL$13,MATCH(1,$BS$202:$BS$211,0))","v":{"$error":"#N/A"}},19,{"$f":"AC167","v":{"$error":"#N/A"}},{"$f":"AD167","v":{"$error":"#N/A"}},{"$f":"AE167","v":{"$error":"#N/A"}},{"$f":"AF167","v":{"$error":"#N/A"}},{"$f":"AG167","v":{"$error":"#N/A"}},null,{"$f":"INDEX($BL$4:$BL$13,MATCH(1,$BV$202:$BV$211,0))","v":{"$error":"#N/A"}},null,null,{"$f":"EW5","v":"Two Pair"},null,null,null,{"$f":"FA5","v":{"$error":"#N/A"}},0,{"$error":"#N/A"},{"$error":"#N/A"},0,{"$error":"#N/A"},null,"Royal Flush",null,null,null,{"$error":"#N/A"},{"$error":"#N/A"},{"$error":"#N/A"},{"$error":"#N/A"},{"$error":"#N/A"},{"$error":"#N/A"},null,"Straight Flush",null,null,null,{"$error":"#N/A"},{"$error":"#N/A"},{"$error":"#N/A"},{"$error":"#N/A"},{"$error":"#N/A"},{"$error":"#N/A"},null,"Four of a Kind",null,null,null,{"$error":"#N/A"},null,{"$error":"#N/A"},{"$error":"#N/A"},null,{"$error":"#N/A"},null,"Full House",null,null,null,{"$error":"#N/A"},null,{"$error":"#N/A"},{"$error":"#N/A"},null,{"$error":"#N/A"},null,"Flush",null,null,null,{"$error":"#N/A"},null,{"$error":"#N/A"},{"$error":"#N/A"},null,{"$error":"#N/A"},null,"Straight",null,null,null,{"$error":"#N/A"},{"$error":"#N/A"},{"$error":"#N/A"},{"$error":"#N/A"},{"$error":"#N/A"},{"$error":"#N/A"},null,"Three of a Kind",null,null,null,{"$error":"#N/A"},null,{"$error":"#N/A"},{"$error":"#N/A"},null,{"$error":"#N/A"},null,"Two Pair",null,null,null,{"$error":"#N/A"},null,{"$error":"#N/A"},{"$error":"#N/A"},null,{"$error":"#N/A"},null,"One Pair",null,null,null,{"$error":"#N/A"},null,{"$error":"#N/A"},{"$error":"#N/A"},null,{"$error":"#N/A"},null,"High Card",null,null,null,{"$error":"#N/A"},null,{"$error":"#N/A"},{"$error":"#N/A"},null,{"$error":"#N/A"}]
[23,"♣10",0.35566209863972831,31,"C",10,null,23,"♣10",0.32637794677343179,33,"C",10,null,null,null,null,null,null,null,null,null,{"$f":"HLOOKUP(W25,$W$19:$AA$22,3,0)","v":{"$error":"#N/A"}},{"$f":"HLOOKUP(X25,$W$19:$AA$22,3,0)","v":{"$error":"#N/A"}},{"$f":"HLOOKUP(Y25,$W$19:$AA$22,3,0)","v":{"$error":"#N/A"}},{"$f":"HLOOKUP(Z25,$W$19:$AA$22,3,0)","v":{"$error":"#N/A"}},{"$f":"HLOOKUP(AA25,$W$19:$AA$22,3,0)","v":{"$error":"#N/A"}},null,{"$f":"HLOOKUP(AC25,$AC$19:$AG$22,3,0)","v":{"$error":"#N/A"}},{"$f":"HLOOKUP(AD25,$AC$19:$AG$22,3,0)","v":{"$error":"#N/A"}},{"$error":"#N/A"},{"$error":"#N/A"},{"$error":"#N/A"},null,null,null,null,null,null,null,null,null,null,null,null,null,20,{"$f":"W176","v":{"$error":"#N/A"}},{"$f":"X176","v":{"$error":"#N/A"}},{"$f":"Y176","v":{"$error":"#N/A"}},{"$f":"Z176","v":{"$error":"#N/A"}},{"$f":"AA176","v":{"$error":"#N/A"}},null,{"$f":"INDEX($BL$4:$BL$13,MATCH(1,$BS$213:$BS$222,0))","v":{"$error":"#N/A"}},20,{"$f":"AC176","v":{"$error":"#N/A"}},{"$f":"AD176","v":{"$error":"#N/A"}},{"$f":"AE176","v":{"$error":"#N/A"}},{"$f":"AF176","v":{"$error":"#N/A"}},{"$f":"AG176","v":{"$error":"#N/A"}},null,{"$f":"INDEX($BL$4:$BL$13,MATCH(1,$BV$213:$BV$222,0))","v":{"$error":"#N/A"}},null,null,{"$f":"FH5","v":"One Pair"},null,null,null,{"$f":"FL5","v":{"$error":"#N/A"}},0,{"$error":"#N/A"},{"$error":"#N/A"},0,{"$error":"#N/A"},null,"Royal Flush",null,null,null,{"$error":"#N/A"},{"$error":"#N/A"},{"$error":"#N/A"},{"$error":"#N/A"},{"$error":"#N/A"},{"$error":"#N/A"},null,"Straight Flush",null,null,null,{"$error":"#N/A"},{"$error":"#N/A"},{"$error":"#N/A"},{"$error":"#N/A"},{"$error":"#N/A"},{"$error":"#N/A"},null,"Four of a Kind",null,null,null,{"$error":"#N/A"},null,{"$error":"#N/A"},{"$error":"#N/A"},null,{"$error":"#N/A"},null,"Full House",null,null,null,{"$error":"#N/A"},null,{"$error":"#N/A"},{"$error":"#N/A"},null,{"$error":"#N/A"},null,"Flush",null,null,null,{"$error":"#N/A"},null,{"$error":"#N/A"},{"$error":"#N/A"},null,{"$error":"#N/A"},null,"Straight",null,null,null,{"$error":"#N/A"},{"$error":"#N/A"},{"$error":"#N/A"},{"$error":"#N/A"},{"$error":"#N/A"},{"$error":"#N/A"},null,"Three of a Kind",null,null,null,{"$error":"#N/A"},null,{"$error":"#N/A"},{"$error":"#N/A"},null,{"$error":"#N/A"},null,"Two Pair",null,null,null,{"$error":"#N/A"},null,{"$error":"#N/A"},{"$error":"#N/A"},null,{"$error":"#N/A"},null,"One Pair",null,null,null,{"$error":"#N/A"},null,{"$error":"#N/A"},{"$error":"#N/A"},null,{"$error":"#N/A"},null,"High Card",null,null,null,{"$error":"#N/A"},null,{"$error":"#N/A"},{"$error":"#N/A"},null,{"$error":"#N/A"}]
[24,"♣J",0.35816225242703859,30,"C",11,null,24,"♣J",0.84817108949845721,10,"C",11,null,null,null,null,null,null,null,null,null,{"$f":"HLOOKUP(W25,$W$19:$AA$22,4,0)","v":{"$error":"#N/A"}},{"$f":"HLOOKUP(X25,$W$19:$AA$22,4,0)","v":{"$error":"#N/A"}},{"$f":"HLOOKUP(Y25,$W$19:$AA$22,4,0)","v":{"$error":"#N/A"}},{"$f":"HLOOKUP(Z25,$W$19:$AA$22,4,0)","v":{"$error":"#N/A"}},{"$f":"HLOOKUP(AA25,$W$19:$AA$22,4,0)","v":{"$error":"#N/A"}},null,{"$f":"HLOOKUP(AC25,$AC$19:$AG$22,4,0)","v":{"$error":"#N/A"}},{"$f":"HLOOKUP(AD25,$AC$19:$AG$22,4,0)","v":{"$error":"#N/A"}},{"$error":"#N/A"},{"$error":"#N/A"},{"$error":"#N/A"},null,null,null,null,null,null,null,null,null,null,null,null,null,21,{"$f":"W185","v":2},{"$f":"X185","v":3},{"$f":"Y185","v":9},{"$f":"Z185","v":12},{"$f":"AA185","v":13},null,{"$f":"INDEX($BL$4:$BL$13,MATCH(1,$BS$224:$BS$233,0))","v":10},21,{"$f":"AC185","v":7},{"$f":"AD185","v":7},{"$f":"AE185","v":9},{"$f":"AF185","v":11},{"$f":"AG185","v":1},null,{"$f":"INDEX($BL$4:$BL$13,MATCH(1,$BV$224:$BV$233,0))","v":9},null,null,{"$f":"FS5","v":"High Card"},null,null,null,{"$f":"FW5","v":{"$error":"#N/A"}},0,{"$error":"#N/A"},{"$error":"#N/A"},0,{"$error":"#N/A"},null,"Royal Flush",null,null,null,0,0,0,0,0,0,null,"Straight Flush",null,null,null,0,0,0,0,0,0,null,"Four of a Kind",null,null,null,0,null,0,0,null,0,null,"Full House",null,null,null,0,null,0,0,null,0,null,"Flush",null,null,null,0,null,0,0,null,0,null,"Straight",null,null,null,0,1,0,0,1,0,null,"Three of a Kind",null,null,null,0,null,0,0,null,0,null,"Two Pair",null,null,null,0,null,0,0,null,0,null,"One Pair",null,null,null,0,null,0,1,null,1,null,"High Card",null,null,null,1,null,1,0,null,0]
[25,"♣Q",0.33974255142313103,32,"C",12,null,25,"♣Q",0.33212504776092422,32,"C",12,null,null,null,null,null,null,null,null,null,1,2,3,4,5,null,1,2,3,4,5,null,null,null,null,null,null,null,null,null,null,null,null,null,1,{"$f":"W6","v":{"$error":"#N/A"}},{"$f":"X6","v":{"$error":"#N/A"}},{"$f":"Y6","v":{"$error":"#N/A"}},{"$f":"Z6","v":{"$error":"#N/A"}},{"$f":"AA6","v":{"$error":"#N/A"}},null,null,1,{"$f":"AC6","v":{"$error":"#N/A"}},{"$f":"AD6","v":{"$error":"#N/A"}},{"$f":"AE6","v":{"$error":"#N/A"}},{"$f":"AF6","v":{"$error":"#N/A"}},{"$f":"AG6","v":{"$error":"#N/A"}}]
[26,"♣K",0.23880554062183201,39,"C",13,null,26,"♣K",0.43241728631655918,26,"C",13,null,null,null,null,null,null,null,null,{"$f":"V21+IF(V21=1,13+RAND()^3,RAND()^3)","v":0.34314148042193277},{"$error":"#N/A"},{"$error":"#N/A"},13.537529865035328,3.9140767282646545,12.171639862103726,0.508621332222989,{"$error":"#N/A"},{"$error":"#N/A"},7.160046302011752,11.011500034951638,14.022011018859491,null,null,null,null,null,null,null,null,null,null,null,null,null,2,{"$f":"W15","v":{"$error":"#N/A"}},{"$f":"X15","v":{"$error":"#N/A"}},{"$f":"Y15","v":{"$error":"#N/A"}},{"$f":"Z15","v":{"$error":"#N/A"}},{"$f":"AA15","v":{"$error":"#N/A"}},null,null,2,{"$f":"AC15","v":{"$error":"#N/A"}},{"$f":"AD15","v":{"$error":"#N/A"}},{"$f":"AE15","v":{"$error":"#N/A"}},{"$f":"AF15","v":{"$error":"#N/A"}},{"$f":"AG15","v":{"$error":"#N/A"}},null,null,null,3,{"$f":"BX6","v":"Royal Flush"},null,null,null,{"$f":"CB6","v":{"$error":"#N/A"}},{"$error":"#N/A"},{"$error":"#N/A"},{"$error":"#N/A"},{"$error":"#N/A"},{"$error":"#N/A"}]
[27,"♦A",0.87955964509164875,6,"D",1,null,27,"♦A",0.49432097602757052,24,"D",1,null,null,null,null,null,null,null,null,null,null,null,null,null,null,null,null,null,null,null,null,null,null,null,null,null,null,null,null,null,null,null,null,null,3,{"$f":"W24","v":{"$error":"#N/A"}},{"$f":"X24","v":{"$error":"#N/A"}},{"$f":"Y24","v":{"$error":"#N/A"}},{"$f":"Z24","v":{"$error":"#N/A"}},{"$f":"AA24","v":{"$error":"#N/A"}},null,null,3,{"$f":"AC24","v":{"$error":"#N/A"}},{"$f":"AD24","v":{"$error":"#N/A"}},{"$f":"AE24","v":{"$error":"#N/A"}},{"$f":"AF24","v":{"$error":"#N/A"}},{"$f":"AG24","v":{"$error":"#N/A"}},null,null,null,null,{"$f":"CI6","v":"Straight Flush"},null,null,null,{"$f":"CM6","v":{"$error":"#N/A"}},{"$error":"#N/A"},{"$error":"#N/A"},{"$error":"#N/A"},{"$error":"#N/A"},{"$error":"#N/A"}]
[28,"♦2",0.39377622562349657,25,"D",2,null,28,"♦2",0.78801893223207375,16,"D",2,null,null,null,null,null,null,null,null,null,{"$f":"RANK(W35,$W$35:$AA$35,1)","v":{"$error":"#N/A"}},{"$f":"RANK(X35,$W$35:$AA$35,1)","v":{"$error":"#N/A"}},{"$f":"RANK(Y35,$W$35:$AA$35,1)","v":{"$error":"#N/A"}},{"$f":"RANK(Z35,$W$35:$AA$35,1)","v":{"$error":"#N/A"}},{"$f":"RANK(AA35,$W$35:$AA$35,1)","v":{"$error":"#N/A"}},null,{"$f":"RANK(AC35,$AC$35:$AG$35,1)","v":{"$error":"#N/A"}},{"$f":"RANK(AD35,$AC$35:$AG$35,1)","v":{"$error":"#N/A"}},{"$error":"#N/A"},{"$error":"#N/A"},{"$error":"#N/A"},null,null,null,null,null,null,null,null,null,null,null,null,null,4,{"$f":"W33","v":{"$error":"#N/A"}},{"$f":"X33","v":{"$error":"#N/A"}},{"$f":"Y33","v":{"$error":"#N/A"}},{"$f":"Z33","v":{"$error":"#N/A"}},{"$f":"AA33","v":{"$error":"#N/A"}},null,null,4,{"$f":"AC33","v":{"$error":"#N/A"}},{"$f":"AD33","v":{"$error":"#N/A"}},{"$f":"AE33","v":{"$error":"#N/A"}},{"$f":"AF33","v":{"$error":"#N/A"}},{"$f":"AG33","v":{"$error":"#N/A"}},null,null,null,null,{"$f":"CT6","v":"Four of a Kind"},null,null,null,{"$f":"CX6","v":{"$error":"#N/A"}},0,{"$error":"#N/A"},{"$error":"#N/A"},0,{"$error":"#N/A"}]
[29,"♦3",0.7428554262266045,13,"D",3,null,29,"♦3",0.97335700875303954,5,"D",3,null,4,null,null,null,null,null,null,null,{"$f":"[0]!Player21","v":0},{"$f":"[0]!Player22","v":0},{"$f":"$P$1","v":"♦K"},{"$f":"$R$1","v":"♥2"},{"$f":"$S$1","v":"♣9"},null,{"$f":"[0]!Player31","v":0},{"$f":"[0]!Player32","v":0},{"$f":"$P$2","v":"♣7"},{"$f":"$R$2","v":"♥9"},{"$f":"$S$2","v":"♥7"},null,null,null,null,null,null,null,null,null,null,null,null,null,5,{"$f":"W42","v":{"$error":"#N/A"}},{"$f":"X42","v":{"$error":"#N/A"}},{"$f":"Y42","v":{"$error":"#N/A"}},{"$f":"Z42","v":{"$error":"#N/A"}},{"$f":"AA42","v":{"$error":"#N/A"}},null,null,5,{"$f":"AC42","v":{"$error":"#N/A"}},{"$f":"AD42","v":{"$error":"#N/A"}},{"$f":"AE42","v":{"$error":"#N/A"}},{"$f":"AF42","v":{"$error":"#N/A"}},{"$f":"AG42","v":{"$error":"#N/A"}},null,null,null,null,{"$f":"DE6","v":"Full House"},null,null,null,{"$f":"DI6","v":{"$error":"#N/A"}},0,{"$error":"#N/A"},{"$error":"#N/A"},0,{"$error":"#N/A"}]
[30,"♦4",0.40696232800315935,24,"D",4,null,30,"♦4",0.52084902509821318,23,"D",4,null,null,null,null,null,null,null,null,null,{"$f":"VLOOKUP(W29,$B$1:$F$52,5,0)","v":{"$error":"#N/A"}},{"$f":"VLOOKUP(X29,$B$1:$F$52,5,0)","v":{"$error":"#N/A"}},{"$f":"VLOOKUP(Y29,$B$1:$F$52,5,0)","v":13},{"$f":"VLOOKUP(Z29,$B$1:$F$52,5,0)","v":2},{"$f":"VLOOKUP(AA29,$B$1:$F$52,5,0)","v":9},null,{"$f":"VLOOKUP(AC29,$B$1:$F$52,5,0)","v":{"$error":"#N/A"}},{"$f":"VLOOKUP(AD29,$B$1:$F$52,5,0)","v":{"$error":"#N/A"}},{"$f":"VLOOKUP(AE29,$B$1:$F$52,5,0)","v":7},{"$f":"VLOOKUP(AF29,$B$1:$F$52,5,0)","v":9},{"$f":"VLOOKUP(AG29,$B$1:$F$52,5,0)","v":7},null,null,null,null,null,null,null,null,null,null,null,null,null,6,{"$f":"W51","v":{"$error":"#N/A"}},{"$f":"X51","v":{"$error":"#N/A"}},{"$f":"Y51","v":{"$error":"#N/A"}},{"$f":"Z51","v":{"$error":"#N/A"}},{"$f":"AA51","v":{"$error":"#N/A"}},null,null,6,{"$f":"AC51","v":{"$error":"#N/A"}},{"$f":"AD51","v":{"$error":"#N/A"}},{"$f":"AE51","v":{"$error":"#N/A"}},{"$f":"AF51","v":{"$error":"#N/A"}},{"$f":"AG51","v":{"$error":"#N/A"}},null,null,null,null,{"$f":"DP6","v":"Flush"},null,null,null,{"$f":"DT6","v":{"$error":"#N/A"}},0,{"$error":"#N/A"},{"$error":"#N/A"},0,{"$error":"#N/A"}]
[31,"♦5",8.1343194781213657E-2,44,"D",5,null,31,"♦5",0.7545584717844851,18,"D",5,null,null,null,null,null,null,null,null,null,{"$f":"VLOOKUP(W29,$B$1:$F$52,4,0)","v":{"$error":"#N/A"}},{"$f":"VLOOKUP(X29,$B$1:$F$52,4,0)","v":{"$error":"#N/A"}},{"$f":"VLOOKUP(Y29,$B$1:$F$52,4,0)","v":"D"},{"$f":"VLOOKUP(Z29,$B$1:$F$52,4,0)","v":"H"},{"$f":"VLOOKUP(AA29,$B$1:$F$52,4,0)","v":"C"},null,{"$f":"VLOOKUP(AC29,$B$1:$F$52,4,0)","v":{"$error":"#N/A"}},{"$f":"VLOOKUP(AD29,$B$1:$F$52,4,0)","v":{"$error":"#N/A"}},{"$f":"VLOOKUP(AE29,$B$1:$F$52,4,0)","v":"C"},{"$f":"VLOOKUP(AF29,$B$1:$F$52,4,0)","v":"H"},{"$f":"VLOOKUP(AG29,$B$1:$F$52,4,0)","v":"H"},null,null,null,null,null,null,null,null,null,null,null,null,null,7,{"$f":"W60","v":{"$error":"#N/A"}},{"$f":"X60","v":{"$error":"#N/A"}},{"$f":"Y60","v":{"$error":"#N/A"}},{"$f":"Z60","v":{"$error":"#N/A"}},{"$f":"AA60","v":{"$error":"#N/A"}},null,null,7,{"$f":"AC60","v":{"$error":"#N/A"}},{"$f":"AD60","v":{"$error":"#N/A"}},{"$f":"AE60","v":{"$error":"#N/A"}},{"$f":"AF60","v":{"$error":"#N/A"}},{"$f":"AG60","v":{"$error":"#N/A"}},null,null,null,null,{"$f":"EA6","v":"Straight"},null,null,null,{"$f":"EE6","v":{"$error":"#N/A"}},{"$error":"#N/A"},{"$error":"#N/A"},{"$error":"#N/A"},{"$error":"#N/A"},{"$error":"#N/A"}]
[32,"♦6",0.60409602842364296,16,"D",6,null,32,"♦6",0.19590597635451468,39,"D",6,null,null,null,null,null,null,null,null,null,{"$f":"HLOOKUP(W34,$W$28:$AA$31,3,0)","v":{"$error":"#N/A"}},{"$f":"HLOOKUP(X34,$W$28:$AA$31,3,0)","v":{"$error":"#N/A"}},{"$f":"HLOOKUP(Y34,$W$28:$AA$31,3,0)","v":{"$error":"#N/A"}},{"$f":"HLOOKUP(Z34,$W$28:$AA$31,3,0)","v":{"$error":"#N/A"}},{"$f":"HLOOKUP(AA34,$W$28:$AA$31,3,0)","v":{"$error":"#N/A"}},null,{"$f":"HLOOKUP(AC34,$AC$28:$AG$31,3,0)","v":{"$error":"#N/A"}},{"$f":"HLOOKUP(AD34,$AC$28:$AG$31,3,0)","v":{"$error":"#N/A"}},{"$error":"#N/A"},{"$error":"#N/A"},{"$error":"#N/A"},null,null,null,null,null,null,null,null,null,null,null,null,null,8,{"$f":"W69","v":{"$error":"#N/A"}},{"$f":"X69","v":{"$error":"#N/A"}},{"$f":"Y69","v":{"$error":"#N/A"}},{"$f":"Z69","v":{"$error":"#N/A"}},{"$f":"AA69","v":{"$error":"#N/A"}},null,null,8,{"$f":"AC69","v":{"$error":"#N/A"}},{"$f":"AD69","v":{"$error":"#N/A"}},{"$f":"AE69","v":{"$error":"#N/A"}},{"$f":"AF69","v":{"$error":"#N/A"}},{"$f":"AG69","v":{"$error":"#N/A"}},null,null,null,null,{"$f":"EL6","v":"Three of a Kind"},null,null,null,{"$f":"EP6","v":{"$error":"#N/A"}},0,{"$error":"#N/A"},{"$error":"#N/A"},0,{"$error":"#N/A"}]
[33,"♦7",6.2605755826843135E-2,45,"D",7,null,33,"♦7",0.22294820477376187,36,"D",7,null,null,null,null,null,null,null,null,null,{"$f":"HLOOKUP(W34,$W$28:$AA$31,4,0)","v":{"$error":"#N/A"}},{"$f":"HLOOKUP(X34,$W$28:$AA$31,4,0)","v":{"$error":"#N/A"}},{"$f":"HLOOKUP(Y34,$W$28:$AA$31,4,0)","v":{"$error":"#N/A"}},{"$f":"HLOOKUP(Z34,$W$28:$AA$31,4,0)","v":{"$error":"#N/A"}},{"$f":"HLOOKUP(AA34,$W$28:$AA$31,4,0)","v":{"$error":"#N/A"}},null,{"$f":"HLOOKUP(AC34,$AC$28:$AG$31,4,0)","v":{"$error":"#N/A"}},{"$f":"HLOOKUP(AD34,$AC$28:$AG$31,4,0)","v":{"$error":"#N/A"}},{"$error":"#N/A"},{"$error":"#N/A"},{"$error":"#N/A"},null,null,null,null,null,null,null,null,null,null,null,null,null,9,{"$f":"W78","v":{"$error":"#N/A"}},{"$f":"X78","v":{"$error":"#N/A"}},{"$f":"Y78","v":{"$error":"#N/A"}},{"$f":"Z78","v":{"$error":"#N/A"}},{"$f":"AA78","v":{"$error":"#N/A"}},null,null,9,{"$f":"AC78","v":{"$error":"#N/A"}},{"$f":"AD78","v":{"$error":"#N/A"}},{"$f":"AE78","v":{"$error":"#N/A"}},{"$f":"AF78","v":{"$error":"#N/A"}},{"$f":"AG78","v":{"$error":"#N/A"}},null,null,null,null,{"$f":"EW6","v":"Two Pair"},null,null,null,{"$f":"FA6","v":{"$error":"#N/A"}},0,{"$error":"#N/A"},{"$error":"#N/A"},0,{"$error":"#N/A"}]
[34,"♦8",0.54685749756137725,19,"D",8,null,34,"♦8",0.60809178556642818,21,"D",8,null,null,null,null,null,null,null,null,null,1,2,3,4,5,null,1,2,3,4,5,null,null,null,null,null,null,null,null,null,null,null,null,null,10,{"$f":"W87","v":{"$error":"#N/A"}},{"$f":"X87","v":{"$error":"#N/A"}},{"$f":"Y87","v":{"$error":"#N/A"}},{"$f":"Z87","v":{"$error":"#N/A"}},{"$f":"AA87","v":{"$error":"#N/A"}},null,null,10,{"$f":"AC87","v":{"$error":"#N/A"}},{"$f":"AD87","v":{"$error":"#N/A"}},{"$f":"AE87","v":{"$error":"#N/A"}},{"$f":"AF87","v":{"$error":"#N/A"}},{"$f":"AG87","v":{"$error":"#N/A"}},null,null,null,null,{"$f":"FH6","v":"One Pair"},null,null,null,{"$f":"FL6","v":{"$error":"#N/A"}},0,{"$error":"#N/A"},{"$error":"#N/A"},0,{"$error":"#N/A"}]
[35,"♦9",0.37506464746846546,28,"D",9,null,35,"♦9",0.98750824657332725,1,"D",9,null,null,null,null,null,null,null,null,{"$f":"V30+IF(V30=1,13+RAND()^3,RAND()^3)","v":0.20852492675409168},{"$error":"#N/A"},{"$error":"#N/A"},13.010369127583534,2.1679474435806823,9.4255416270216248,4.3408638516213745E-2,{"$error":"#N/A"},{"$error":"#N/A"},7.7521219699186981,9.2305229549332832,7.2128366560659281,null,null,null,null,null,null,null,null,null,null,null,null,null,11,{"$f":"W96","v":{"$error":"#N/A"}},{"$f":"X96","v":{"$error":"#N/A"}},{"$f":"Y96","v":{"$error":"#N/A"}},{"$f":"Z96","v":{"$error":"#N/A"}},{"$f":"AA96","v":{"$error":"#N/A"}},null,null,11,{"$f":"AC96","v":{"$error":"#N/A"}},{"$f":"AD96","v":{"$error":"#N/A"}},{"$f":"AE96","v":{"$error":"#N/A"}},{"$f":"AF96","v":{"$error":"#N/A"}},{"$f":"AG96","v":{"$error":"#N/A"}},null,null,null,null,{"$f":"FS6","v":"High Card"},null,null,null,{"$f":"FW6","v":{"$error":"#N/A"}},0,{"$error":"#N/A"},{"$error":"#N/A"},0,{"$error":"#N/A"}]
[36,"♦10",0.41902697728095639,23,"D",10,null,36,"♦10",0.97916647018040981,4,"D",10,null,null,null,null,null,null,null,null,null,null,null,null,null,null,null,null,null,null,null,null,null,null,null,null,null,null,null,null,null,null,null,null,null,12,{"$f":"W105","v":{"$error":"#N/A"}},{"$f":"X105","v":{"$error":"#N/A"}},{"$f":"Y105","v":{"$error":"#N/A"}},{"$f":"Z105","v":{"$error":"#N/A"}},{"$f":"AA105","v":{"$error":"#N/A"}},null,null,12,{"$f":"AC105","v":{"$error":"#N/A"}},{"$f":"AD105","v":{"$error":"#N/A"}},{"$f":"AE105","v":{"$error":"#N/A"}},{"$f":"AF105","v":{"$error":"#N/A"}},{"$f":"AG105","v":{"$error":"#N/A"}}]
[37,"♦J",0.88988067924595682,3,"D",11,null,37,"♦J",0.15863211425437662,41,"D",11,null,null,null,null,null,null,null,null,null,{"$f":"RANK(W44,$W$44:$AA$44,1)","v":{"$error":"#N/A"}},{"$f":"RANK(X44,$W$44:$AA$44,1)","v":{"$error":"#N/A"}},{"$f":"RANK(Y44,$W$44:$AA$44,1)","v":{"$error":"#N/A"}},{"$f":"RANK(Z44,$W$44:$AA$44,1)","v":{"$error":"#N/A"}},{"$f":"RANK(AA44,$W$44:$AA$44,1)","v":{"$error":"#N/A"}},null,{"$f":"RANK(AC44,$AC$44:$AG$44,1)","v":{"$error":"#N/A"}},{"$f":"RANK(AD44,$AC$44:$AG$44,1)","v":{"$error":"#N/A"}},{"$error":"#N/A"},{"$error":"#N/A"},{"$error":"#N/A"},null,null,null,null,null,null,null,null,null,null,null,null,null,13,{"$f":"W114","v":{"$error":"#N/A"}},{"$f":"X114","v":{"$error":"#N/A"}},{"$f":"Y114","v":{"$error":"#N/A"}},{"$f":"Z114","v":{"$error":"#N/A"}},{"$f":"AA114","v":{"$error":"#N/A"}},null,null,13,{"$f":"AC114","v":{"$error":"#N/A"}},{"$f":"AD114","v":{"$error":"#N/A"}},{"$f":"AE114","v":{"$error":"#N/A"}},{"$f":"AF114","v":{"$error":"#N/A"}},{"$f":"AG114","v":{"$error":"#N/A"}},null,null,null,4,{"$f":"BX7","v":"Royal Flush"},null,null,null,{"$f":"CB7","v":{"$error":"#N/A"}},{"$error":"#N/A"},{"$error":"#N/A"},{"$error":"#N/A"},{"$error":"#N/A"},{"$error":"#N/A"}]
[38,"♦Q",2.9703571574391296E-2,48,"D",12,null,38,"♦Q",4.9982492423061298E-2,46,"D",12,null,5,null,null,null,null,null,null,null,{"$f":"[0]!Player21","v":0},{"$f":"[0]!Player22","v":0},{"$f":"$P$1","v":"♦K"},{"$f":"$R$1","v":"♥2"},{"$f":"$T$1","v":"♦Q"},null,{"$f":"[0]!Player31","v":0},{"$f":"[0]!Player32","v":0},{"$f":"$P$2","v":"♣7"},{"$f":"$R$2","v":"♥9"},{"$f":"$T$2","v":"♠A"},null,null,null,null,null,null,null,null,null,null,null,null,null,14,{"$f":"W123","v":{"$error":"#N/A"}},{"$f":"X123","v":{"$error":"#N/A"}},{"$f":"Y123","v":{"$error":"#N/A"}},{"$f":"Z123","v":{"$error":"#N/A"}},{"$f":"AA123","v":{"$error":"#N/A"}},null,null,14,{"$f":"AC123","v":{"$error":"#N/A"}},{"$f":"AD123","v":{"$error":"#N/A"}},{"$f":"AE123","v":{"$error":"#N/A"}},{"$f":"AF123","v":{"$error":"#N/A"}},{"$f":"AG123","v":{"$error":"#N/A"}},null,null,null,null,{"$f":"CI7","v":"Straight Flush"},null,null,null,{"$f":"CM7","v":{"$error":"#N/A"}},{"$error":"#N/A"},{"$error":"#N/A"},{"$error":"#N/A"},{"$error":"#N/A"},{"$error":"#N/A"}]
[39,"♦K",1.3188639699776017E-3,52,"D",13,null,39,"♦K",0.11680450171416867,44,"D",13,null,null,null,null,null,null,null,null,null,{"$f":"VLOOKUP(W38,$B$1:$F$52,5,0)","v":{"$error":"#N/A"}},{"$f":"VLOOKUP(X38,$B$1:$F$52,5,0)","v":{"$error":"#N/A"}},{"$f":"VLOOKUP(Y38,$B$1:$F$52,5,0)","v":13},{"$f":"VLOOKUP(Z38,$B$1:$F$52,5,0)","v":2},{"$f":"VLOOKUP(AA38,$B$1:$F$52,5,0)","v":12},null,{"$f":"VLOOKUP(AC38,$B$1:$F$52,5,0)","v":{"$error":"#N/A"}},{"$f":"VLOOKUP(AD38,$B$1:$F$52,5,0)","v":{"$error":"#N/A"}},{"$f":"VLOOKUP(AE38,$B$1:$F$52,5,0)","v":7},{"$f":"VLOOKUP(AF38,$B$1:$F$52,5,0)","v":9},{"$f":"VLOOKUP(AG38,$B$1:$F$52,5,0)","v":1},null,null,null,null,null,null,null,null,null,null,null,null,null,15,{"$f":"W132","v":{"$error":"#N/A"}},{"$f":"X132","v":{"$error":"#N/A"}},{"$f":"Y132","v":{"$error":"#N/A"}},{"$f":"Z132","v":{"$error":"#N/A"}},{"$f":"AA132","v":{"$error":"#N/A"}},null,null,15,{"$f":"AC132","v":{"$error":"#N/A"}},{"$f":"AD132","v":{"$error":"#N/A"}},{"$f":"AE132","v":{"$error":"#N/A"}},{"$f":"AF132","v":{"$error":"#N/A"}},{"$f":"AG132","v":{"$error":"#N/A"}},null,null,null,null,{"$f":"CT7","v":"Four of a Kind"},null,null,null,{"$f":"CX7","v":{"$error":"#N/A"}},0,{"$error":"#N/A"},{"$error":"#N/A"},0,{"$error":"#N/A"}]
[40,"♥A",0.77359590499962971,10,"H",1,null,40,"♥A",0.83884002269724056,12,"H",1,null,null,null,null,null,null,null,null,null,{"$f":"VLOOKUP(W38,$B$1:$F$52,4,0)","v":{"$error":"#N/A"}},{"$f":"VLOOKUP(X38,$B$1:$F$52,4,0)","v":{"$error":"#N/A"}},{"$f":"VLOOKUP(Y38,$B$1:$F$52,4,0)","v":"D"},{"$f":"VLOOKUP(Z38,$B$1:$F$52,4,0)","v":"H"},{"$f":"VLOOKUP(AA38,$B$1:$F$52,4,0)","v":"D"},null,{"$f":"VLOOKUP(AC38,$B$1:$F$52,4,0)","v":{"$error":"#N/A"}},{"$f":"VLOOKUP(AD38,$B$1:$F$52,4,0)","v":{"$error":"#N/A"}},{"$f":"VLOOKUP(AE38,$B$1:$F$52,4,0)","v":"C"},{"$f":"VLOOKUP(AF38,$B$1:$F$52,4,0)","v":"H"},{"$f":"VLOOKUP(AG38,$B$1:$F$52,4,0)","v":"S"},null,null,null,null,null,null,null,null,null,null,null,null,null,16,{"$f":"W141","v":{"$error":"#N/A"}},{"$f":"X141","v":{"$error":"#N/A"}},{"$f":"Y141","v":{"$error":"#N/A"}},{"$f":"Z141","v":{"$error":"#N/A"}},{"$f":"AA141","v":{"$error":"#N/A"}},null,null,16,{"$f":"AC141","v":{"$error":"#N/A"}},{"$f":"AD141","v":{"$error":"#N/A"}},{"$f":"AE141","v":{"$error":"#N/A"}},{"$f":"AF141","v":{"$error":"#N/A"}},{"$f":"AG141","v":{"$error":"#N/A"}},null,null,null,null,{"$f":"DE7","v":"Full House"},null,null,null,{"$f":"DI7","v":{"$error":"#N/A"}},0,{"$error":"#N/A"},{"$error":"#N/A"},0,{"$error":"#N/A"}]
[41,"♥2",1.6930075554081103E-2,50,"H",2,null,41,"♥2",4.770491795183418E-2,47,"H",2,null,null,null,null,null,null,null,null,null,{"$f":"HLOOKUP(W43,$W$37:$AA$40,3,0)","v":{"$error":"#N/A"}},{"$f":"HLOOKUP(X43,$W$37:$AA$40,3,0)","v":{"$error":"#N/A"}},{"$f":"HLOOKUP(Y43,$W$37:$AA$40,3,0)","v":{"$error":"#N/A"}},{"$f":"HLOOKUP(Z43,$W$37:$AA$40,3,0)","v":{"$error":"#N/A"}},{"$f":"HLOOKUP(AA43,$W$37:$AA$40,3,0)","v":{"$error":"#N/A"}},null,{"$f":"HLOOKUP(AC43,$AC$37:$AG$40,3,0)","v":{"$error":"#N/A"}},{"$f":"HLOOKUP(AD43,$AC$37:$AG$40,3,0)","v":{"$error":"#N/A"}},{"$error":"#N/A"},{"$error":"#N/A"},{"$error":"#N/A"},null,null,null,null,null,null,null,null,null,null,null,null,null,17,{"$f":"W150","v":{"$error":"#N/A"}},{"$f":"X150","v":{"$error":"#N/A"}},{"$f":"Y150","v":{"$error":"#N/A"}},{"$f":"Z150","v":{"$error":"#N/A"}},{"$f":"AA150","v":{"$error":"#N/A"}},null,null,17,{"$f":"AC150","v":{"$error":"#N/A"}},{"$f":"AD150","v":{"$error":"#N/A"}},{"$f":"AE150","v":{"$error":"#N/A"}},{"$f":"AF150","v":{"$error":"#N/A"}},{"$f":"AG150","v":{"$error":"#N/A"}},null,null,null,null,{"$f":"DP7","v":"Flush"},null,null,null,{"$f":"DT7","v":{"$error":"#N/A"}},0,{"$error":"#N/A"},{"$error":"#N/A"},0,{"$error":"#N/A"}]
[42,"♥3",0.67304215632412057,15,"H",3,null,42,"♥3",5.765797293646957E-2,45,"H",3,null,null,null,null,null,null,null,null,null,{"$f":"HLOOKUP(W43,$W$37:$AA$40,4,0)","v":{"$error":"#N/A"}},{"$f":"HLOOKUP(X43,$W$37:$AA$40,4,0)","v":{"$error":"#N/A"}},{"$f":"HLOOKUP(Y43,$W$37:$AA$40,4,0)","v":{"$error":"#N/A"}},{"$f":"HLOOKUP(Z43,$W$37:$AA$40,4,0)","v":{"$error":"#N/A"}},{"$f":"HLOOKUP(AA43,$W$37:$AA$40,4,0)","v":{"$error":"#N/A"}},null,{"$f":"HLOOKUP(AC43,$AC$37:$AG$40,4,0)","v":{"$error":"#N/A"}},{"$f":"HLOOKUP(AD43,$AC$37:$AG$40,4,0)","v":{"$error":"#N/A"}},{"$error":"#N/A"},{"$error":"#N/A"},{"$error":"#N/A"},null,null,null,null,null,null,null,null,null,null,null,null,null,18,{"$f":"W159","v":{"$error":"#N/A"}},{"$f":"X159","v":{"$error":"#N/A"}},{"$f":"Y159","v":{"$error":"#N/A"}},{"$f":"Z159","v":{"$error":"#N/A"}},{"$f":"AA159","v":{"$error":"#N/A"}},null,null,18,{"$f":"AC159","v":{"$error":"#N/A"}},{"$f":"AD159","v":{"$error":"#N/A"}},{"$f":"AE159","v":{"$error":"#N/A"}},{"$f":"AF159","v":{"$error":"#N/A"}},{"$f":"AG159","v":{"$error":"#N/A"}},null,null,null,null,{"$f":"EA7","v":"Straight"},null,null,null,{"$f":"EE7","v":{"$error":"#N/A"}},{"$error":"#N/A"},{"$error":"#N/A"},{"$error":"#N/A"},{"$error":"#N/A"},{"$error":"#N/A"}]
[43,"♥4",0.30552295725925649,33,"H",4,null,43,"♥4",0.86632638663565931,9,"H",4,null,null,null,null,null,null,null,null,null,1,2,3,4,5,null,1,2,3,4,5,null,null,null,null,null,null,null,null,null,null,null,null,null,19,{"$f":"W168","v":{"$error":"#N/A"}},{"$f":"X168","v":{"$error":"#N/A"}},{"$f":"Y168","v":{"$error":"#N/A"}},{"$f":"Z168","v":{"$error":"#N/A"}},{"$f":"AA168","v":{"$error":"#N/A"}},null,null,19,{"$f":"AC168","v":{"$error":"#N/A"}},{"$f":"AD168","v":{"$error":"#N/A"}},{"$f":"AE168","v":{"$error":"#N/A"}},{"$f":"AF168","v":{"$error":"#N/A"}},{"$f":"AG168","v":{"$error":"#N/A"}},null,null,null,null,{"$f":"EL7","v":"Three of a Kind"},null,null,null,{"$f":"EP7","v":{"$error":"#N/A"}},0,{"$error":"#N/A"},{"$error":"#N/A"},0,{"$error":"#N/A"}]
[44,"♥5",0.75133243583788523,12,"H",5,null,44,"♥5",0.98430650879957604,3,"H",5,null,null,null,null,null,null,null,null,{"$f":"V39+IF(V39=1,13+RAND()^3,RAND()^3)","v":0.41312913286985414},{"$error":"#N/A"},{"$error":"#N/A"},13.028799223314911,2.8271985125223393,12.019986385376868,0.31152626348729245,{"$error":"#N/A"},{"$error":"#N/A"},7.3671781091961268,9.004018271660204,14.084748511813075,null,null,null,null,null,null,null,null,null,null,null,null,null,20,{"$f":"W177","v":{"$error":"#N/A"}},{"$f":"X177","v":{"$error":"#N/A"}},{"$f":"Y177","v":{"$error":"#N/A"}},{"$f":"Z177","v":{"$error":"#N/A"}},{"$f":"AA177","v":{"$error":"#N/A"}},null,null,20,{"$f":"AC177","v":{"$error":"#N/A"}},{"$f":"AD177","v":{"$error":"#N/A"}},{"$f":"AE177","v":{"$error":"#N/A"}},{"$f":"AF177","v":{"$error":"#N/A"}},{"$f":"AG177","v":{"$error":"#N/A"}},null,null,null,null,{"$f":"EW7","v":"Two Pair"},null,null,null,{"$f":"FA7","v":{"$error":"#N/A"}},0,{"$error":"#N/A"},{"$error":"#N/A"},0,{"$error":"#N/A"}]
[45,"♥6",0.88524042599275432,5,"H",6,null,45,"♥6",0.98738879299339199,2,"H",6,null,null,null,null,null,null,null,null,null,null,null,null,null,null,null,null,null,null,null,null,null,null,null,null,null,null,null,null,null,null,null,null,null,21,{"$f":"W186","v":"H"},{"$f":"X186","v":"S"},{"$f":"Y186","v":"C"},{"$f":"Z186","v":"D"},{"$f":"AA186","v":"D"},null,null,21,{"$f":"AC186","v":"H"},{"$f":"AD186","v":"C"},{"$f":"AE186","v":"H"},{"$f":"AF186","v":"H"},{"$f":"AG186","v":"S"},null,null,null,null,{"$f":"FH7","v":"One Pair"},null,null,null,{"$f":"FL7","v":{"$error":"#N/A"}},0,{"$error":"#N/A"},{"$error":"#N/A"},0,{"$error":"#N/A"}]
[46,"♥7",0.50578458290451644,20,"H",7,null,46,"♥7",4.2773274186844179E-2,49,"H",7,null,null,null,null,null,null,null,null,null,{"$f":"RANK(W53,$W$53:$AA$53,1)","v":{"$error":"#N/A"}},{"$f":"RANK(X53,$W$53:$AA$53,1)","v":{"$error":"#N/A"}},{"$f":"RANK(Y53,$W$53:$AA$53,1)","v":{"$error":"#N/A"}},{"$f":"RANK(Z53,$W$53:$AA$53,1)","v":{"$error":"#N/A"}},{"$f":"RANK(AA53,$W$53:$AA$53,1)","v":{"$error":"#N/A"}},null,{"$f":"RANK(AC53,$AC$53:$AG$53,1)","v":{"$error":"#N/A"}},{"$f":"RANK(AD53,$AC$53:$AG$53,1)","v":{"$error":"#N/A"}},{"$error":"#N/A"},{"$error":"#N/A"},{"$error":"#N/A"},null,null,null,null,null,null,null,null,null,null,null,null,null,null,null,null,null,null,null,null,null,null,null,null,null,null,null,null,null,null,null,{"$f":"FS7","v":"High Card"},null,null,null,{"$f":"FW7","v":{"$error":"#N/A"}},0,{"$error":"#N/A"},{"$error":"#N/A"},0,{"$error":"#N/A"}]
[47,"♥8",0.28225642684837715,35,"H",8,null,47,"♥8",0.88037996684452802,7,"H",8,null,6,null,null,null,null,null,null,null,{"$f":"[0]!Player21","v":0},{"$f":"[0]!Player22","v":0},{"$f":"$P$1","v":"♦K"},{"$f":"$S$1","v":"♣9"},{"$f":"$T$1","v":"♦Q"},null,{"$f":"[0]!Player31","v":0},{"$f":"[0]!Player32","v":0},{"$f":"$P$2","v":"♣7"},{"$f":"$S$2","v":"♥7"},{"$f":"$T$2","v":"♠A"},null,null,null,null,null,null,null,null,null,null,null,null,null,"Seq","1st","2nd","3rd","4th","5th","Hand","Rank","Seq","1st","2nd","3rd","4th","5th","Hand","Rank"]
[48,"♥9",0.36345013120959324,29,"H",9,null,48,"♥9",3.710751473522611E-2,50,"H",9,null,null,null,null,null,null,null,null,null,{"$f":"VLOOKUP(W47,$B$1:$F$52,5,0)","v":{"$error":"#N/A"}},{"$f":"VLOOKUP(X47,$B$1:$F$52,5,0)","v":{"$error":"#N/A"}},{"$f":"VLOOKUP(Y47,$B$1:$F$52,5,0)","v":13},{"$f":"VLOOKUP(Z47,$B$1:$F$52,5,0)","v":9},{"$f":"VLOOKUP(AA47,$B$1:$F$52,5,0)","v":12},null,{"$f":"VLOOKUP(AC47,$B$1:$F$52,5,0)","v":{"$error":"#N/A"}},{"$f":"VLOOKUP(AD47,$B$1:$F$52,5,0)","v":{"$error":"#N/A"}},{"$f":"VLOOKUP(AE47,$B$1:$F$52,5,0)","v":7},{"$f":"VLOOKUP(AF47,$B$1:$F$52,5,0)","v":7},{"$f":"VLOOKUP(AG47,$B$1:$F$52,5,0)","v":1},null,null,null,null,null,null,null,null,null,null,null,null,null,2,7,7,9,11,1,0,9,10,5,5,8,8,1,0,8,null,5,{"$f":"BX8","v":"Royal Flush"},null,null,null,{"$f":"CB8","v":{"$error":"#N/A"}},{"$error":"#N/A"},{"$error":"#N/A"},{"$error":"#N/A"},{"$error":"#N/A"},{"$error":"#N/A"}]
[49,"♥10",0.24144104571069647,38,"H",10,null,49,"♥10",0.44405116655781351,25,"H",10,null,null,null,null,null,null,null,null,null,{"$f":"VLOOKUP(W47,$B$1:$F$52,4,0)","v":{"$error":"#N/A"}},{"$f":"VLOOKUP(X47,$B$1:$F$52,4,0)","v":{"$error":"#N/A"}},{"$f":"VLOOKUP(Y47,$B$1:$F$52,4,0)","v":"D"},{"$f":"VLOOKUP(Z47,$B$1:$F$52,4,0)","v":"C"},{"$f":"VLOOKUP(AA47,$B$1:$F$52,4,0)","v":"D"},null,{"$f":"VLOOKUP(AC47,$B$1:$F$52,4,0)","v":{"$error":"#N/A"}},{"$f":"VLOOKUP(AD47,$B$1:$F$52,4,0)","v":{"$error":"#N/A"}},{"$f":"VLOOKUP(AE47,$B$1:$F$52,4,0)","v":"C"},{"$f":"VLOOKUP(AF47,$B$1:$F$52,4,0)","v":"H"},{"$f":"VLOOKUP(AG47,$B$1:$F$52,4,0)","v":"S"},null,null,null,null,null,null,null,null,null,null,null,null,null,18,7,7,8,11,1,0,9,8,5,5,8,8,11,0,8,null,null,{"$f":"CI8","v":"Straight Flush"},null,null,null,{"$f":"CM8","v":{"$error":"#N/A"}},{"$error":"#N/A"},{"$error":"#N/A"},{"$error":"#N/A"},{"$error":"#N/A"},{"$error":"#N/A"}]
[50,"♥J",0.46103910406744797,22,"H",11,null,50,"♥J",3.39024777728546E-2,51,"H",11,null,null,null,null,null,null,null,null,null,{"$f":"HLOOKUP(W52,$W$46:$AA$49,3,0)","v":{"$error":"#N/A"}},{"$f":"HLOOKUP(X52,$W$46:$AA$49,3,0)","v":{"$error":"#N/A"}},{"$f":"HLOOKUP(Y52,$W$46:$AA$49,3,0)","v":{"$error":"#N/A"}},{"$f":"HLOOKUP(Z52,$W$46:$AA$49,3,0)","v":{"$error":"#N/A"}},{"$f":"HLOOKUP(AA52,$W$46:$AA$49,3,0)","v":{"$error":"#N/A"}},null,{"$f":"HLOOKUP(AC52,$AC$46:$AG$49,3,0)","v":{"$error":"#N/A"}},{"$f":"HLOOKUP(AD52,$AC$46:$AG$49,3,0)","v":{"$error":"#N/A"}},{"$error":"#N/A"},{"$error":"#N/A"},{"$error":"#N/A"},null,null,null,null,null,null,null,null,null,null,null,null,null,16,5,7,7,11,1,0,9,5,5,5,7,8,8,0,8,null,null,{"$f":"CT8","v":"Four of a Kind"},null,null,null,{"$f":"CX8","v":{"$error":"#N/A"}},0,{"$error":"#N/A"},{"$error":"#N/A"},0,{"$error":"#N/A"}]
[51,"♥Q",0.28841152592234587,34,"H",12,null,51,"♥Q",0.84678217085244978,11,"H",12,null,null,null,null,null,null,null,null,null,{"$f":"HLOOKUP(W52,$W$46:$AA$49,4,0)","v":{"$error":"#N/A"}},{"$f":"HLOOKUP(X52,$W$46:$AA$49,4,0)","v":{"$error":"#N/A"}},{"$f":"HLOOKUP(Y52,$W$46:$AA$49,4,0)","v":{"$error":"#N/A"}},{"$f":"HLOOKUP(Z52,$W$46:$AA$49,4,0)","v":{"$error":"#N/A"}},{"$f":"HLOOKUP(AA52,$W$46:$AA$49,4,0)","v":{"$error":"#N/A"}},null,{"$f":"HLOOKUP(AC52,$AC$46:$AG$49,4,0)","v":{"$error":"#N/A"}},{"$f":"HLOOKUP(AD52,$AC$46:$AG$49,4,0)","v":{"$error":"#N/A"}},{"$error":"#N/A"},{"$error":"#N/A"},{"$error":"#N/A"},null,null,null,null,null,null,null,null,null,null,null,null,null,6,7,7,8,9,1,0,9,18,7,8,8,11,1,0,9,null,null,{"$f":"DE8","v":"Full House"},null,null,null,{"$f":"DI8","v":{"$error":"#N/A"}},0,{"$error":"#N/A"},{"$error":"#N/A"},0,{"$error":"#N/A"}]
[52,"♥K",4.9516947231101227E-2,46,"H",13,null,52,"♥K",0.86869019077590837,8,"H",13,null,null,null,null,null,null,null,null,null,1,2,3,4,5,null,1,2,3,4,5,null,null,null,null,null,null,null,null,null,null,null,null,null,4,5,7,7,9,1,0,9,9,5,8,8,11,1,0,9,null,null,{"$f":"DP8","v":"Flush"},null,null,null,{"$f":"DT8","v":{"$error":"#N/A"}},0,{"$error":"#N/A"},{"$error":"#N/A"},0,{"$error":"#N/A"}]
[null,null,null,null,null,null,null,null,null,null,null,null,null,null,null,null,null,null,null,null,null,{"$f":"V48+IF(V48=1,13+RAND()^3,RAND()^3)","v":3.5457228247939422E-3},{"$error":"#N/A"},{"$error":"#N/A"},13.005509617025282,9.1686786934699374,12.001428837304669,0.26494144768578598,{"$error":"#N/A"},{"$error":"#N/A"},7.1017914330387919,7.0123636821175817,14.192987703506709,null,null,null,null,null,null,null,null,null,null,null,null,null,19,5,7,7,8,1,0,9,20,5,8,8,11,1,0,9,null,null,{"$f":"EA8","v":"Straight"},null,null,null,{"$f":"EE8","v":{"$error":"#N/A"}},{"$error":"#N/A"},{"$error":"#N/A"},{"$error":"#N/A"},{"$error":"#N/A"},{"$error":"#N/A"}]
[null,null,null,null,null,null,null,null,null,null,null,null,null,null,null,null,null,null,null,null,null,null,null,null,null,null,null,null,null,null,null,null,null,null,null,null,null,null,null,null,null,null,null,null,null,null,3,7,7,8,9,11,0,9,7,5,5,8,11,1,0,9,null,null,{"$f":"EL8","v":"Three of a Kind"},null,null,null,{"$f":"EP8","v":{"$error":"#N/A"}},0,{"$error":"#N/A"},{"$error":"#N/A"},0,{"$error":"#N/A"}]
[null,null,null,null,null,null,null,null,null,null,null,null,null,null,null,null,null,null,null,null,null,null,{"$f":"RANK(W62,$W$62:$AA$62,1)","v":{"$error":"#N/A"}},{"$f":"RANK(X62,$W$62:$AA$62,1)","v":{"$error":"#N/A"}},{"$f":"RANK(Y62,$W$62:$AA$62,1)","v":{"$error":"#N/A"}},{"$f":"RANK(Z62,$W$62:$AA$62,1)","v":{"$error":"#N/A"}},{"$f":"RANK(AA62,$W$62:$AA$62,1)","v":{"$error":"#N/A"}},null,{"$f":"RANK(AC62,$AC$62:$AG$62,1)","v":{"$error":"#N/A"}},{"$f":"RANK(AD62,$AC$62:$AG$62,1)","v":{"$error":"#N/A"}},{"$error":"#N/A"},{"$error":"#N/A"},{"$error":"#N/A"},null,null,null,null,null,null,null,null,null,null,null,null,null,1,5,7,7,9,11,0,9,15,5,5,8,11,1,0,9,null,null,{"$f":"EW8","v":"Two Pair"},null,null,null,{"$f":"FA8","v":{"$error":"#N/A"}},0,{"$error":"#N/A"},{"$error":"#N/A"},0,{"$error":"#N/A"}]
[null,null,null,null,null,null,null,null,null,null,null,null,null,null,7,null,null,null,null,null,null,null,{"$f":"[0]!Player21","v":0},{"$f":"[0]!Player22","v":0},{"$f":"$Q$1","v":"♠3"},{"$f":"$R$1","v":"♥2"},{"$f":"$S$1","v":"♣9"},null,{"$f":"[0]!Player31","v":0},{"$f":"[0]!Player32","v":0},{"$f":"$Q$2","v":"♥J"},{"$f":"$R$2","v":"♥9"},{"$f":"$S$2","v":"♥7"},null,null,null,null,null,null,null,null,null,null,null,null,null,17,5,7,7,8,11,0,9,11,5,5,7,11,1,0,9,null,null,{"$f":"FH8","v":"One Pair"},null,null,null,{"$f":"FL8","v":{"$error":"#N/A"}},0,{"$error":"#N/A"},{"$error":"#N/A"},0,{"$error":"#N/A"}]
[null,null,null,null,null,null,null,null,null,null,null,null,null,null,null,null,null,null,null,null,null,null,{"$f":"VLOOKUP(W56,$B$1:$F$52,5,0)","v":{"$error":"#N/A"}},{"$f":"VLOOKUP(X56,$B$1:$F$52,5,0)","v":{"$error":"#N/A"}},{"$f":"VLOOKUP(Y56,$B$1:$F$52,5,0)","v":3},{"$f":"VLOOKUP(Z56,$B$1:$F$52,5,0)","v":2},{"$f":"VLOOKUP(AA56,$B$1:$F$52,5,0)","v":9},null,{"$f":"VLOOKUP(AC56,$B$1:$F$52,5,0)","v":{"$error":"#N/A"}},{"$f":"VLOOKUP(AD56,$B$1:$F$52,5,0)","v":{"$error":"#N/A"}},{"$f":"VLOOKUP(AE56,$B$1:$F$52,5,0)","v":11},{"$f":"VLOOKUP(AF56,$B$1:$F$52,5,0)","v":9},{"$f":"VLOOKUP(AG56,$B$1:$F$52,5,0)","v":7},null,null,null,null,null,null,null,null,null,null,null,null,null,5,5,7,7,8,9,0,9,6,5,7,8,8,1,0,9,null,null,{"$f":"FS8","v":"High Card"},null,null,null,{"$f":"FW8","v":{"$error":"#N/A"}},0,{"$error":"#N/A"},{"$error":"#N/A"},0,{"$error":"#N/A"}]
[null,null,null,null,null,null,null,null,null,null,null,null,null,null,null,null,null,null,null,null,null,null,{"$f":"VLOOKUP(W56,$B$1:$F$52,4,0)","v":{"$error":"#N/A"}},{"$f":"VLOOKUP(X56,$B$1:$F$52,4,0)","v":{"$error":"#N/A"}},{"$f":"VLOOKUP(Y56,$B$1:$F$52,4,0)","v":"S"},{"$f":"VLOOKUP(Z56,$B$1:$F$52,4,0)","v":"H"},{"$f":"VLOOKUP(AA56,$B$1:$F$52,4,0)","v":"C"},null,{"$f":"VLOOKUP(AC56,$B$1:$F$52,4,0)","v":{"$error":"#N/A"}},{"$f":"VLOOKUP(AD56,$B$1:$F$52,4,0)","v":{"$error":"#N/A"}},{"$f":"VLOOKUP(AE56,$B$1:$F$52,4,0)","v":"H"},{"$f":"VLOOKUP(AF56,$B$1:$F$52,4,0)","v":"H"},{"$f":"VLOOKUP(AG56,$B$1:$F$52,4,0)","v":"H"},null,null,null,null,null,null,null,null,null,null,null,null,null,9,7,8,9,11,1,0,10,19,5,7,8,8,1,0,9]
[null,null,null,null,null,null,null,null,null,null,null,null,null,null,null,null,null,null,null,null,null,null,{"$f":"HLOOKUP(W61,$W$55:$AA$58,3,0)","v":{"$error":"#N/A"}},{"$f":"HLOOKUP(X61,$W$55:$AA$58,3,0)","v":{"$error":"#N/A"}},{"$f":"HLOOKUP(Y61,$W$55:$AA$58,3,0)","v":{"$error":"#N/A"}},{"$f":"HLOOKUP(Z61,$W$55:$AA$58,3,0)","v":{"$error":"#N/A"}},{"$f":"HLOOKUP(AA61,$W$55:$AA$58,3,0)","v":{"$error":"#N/A"}},null,{"$f":"HLOOKUP(AC61,$AC$55:$AG$58,3,0)","v":{"$error":"#N/A"}},{"$f":"HLOOKUP(AD61,$AC$55:$AG$58,3,0)","v":{"$error":"#N/A"}},{"$error":"#N/A"},{"$error":"#N/A"},{"$error":"#N/A"},null,null,null,null,null,null,null,null,null,null,null,null,null,13,7,8,9,11,1,0,10,4,5,5,7,8,1,0,9,null,6,{"$f":"BX9","v":"Royal Flush"},null,null,null,{"$f":"CB9","v":{"$error":"#N/A"}},{"$error":"#N/A"},{"$error":"#N/A"},{"$error":"#N/A"},{"$error":"#N/A"},{"$error":"#N/A"}]
[null,null,null,null,null,null,null,null,null,null,null,null,null,null,null,null,null,null,null,null,null,null,{"$f":"HLOOKUP(W61,$W$55:$AA$58,4,0)","v":{"$error":"#N/A"}},{"$f":"HLOOKUP(X61,$W$55:$AA$58,4,0)","v":{"$error":"#N/A"}},{"$f":"HLOOKUP(Y61,$W$55:$AA$58,4,0)","v":{"$error":"#N/A"}},{"$f":"HLOOKUP(Z61,$W$55:$AA$58,4,0)","v":{"$error":"#N/A"}},{"$f":"HLOOKUP(AA61,$W$55:$AA$58,4,0)","v":{"$error":"#N/A"}},null,{"$f":"HLOOKUP(AC61,$AC$55:$AG$58,4,0)","v":{"$error":"#N/A"}},{"$f":"HLOOKUP(AD61,$AC$55:$AG$58,4,0)","v":{"$error":"#N/A"}},{"$error":"#N/A"},{"$error":"#N/A"},{"$error":"#N/A"},null,null,null,null,null,null,null,null,null,null,null,null,null,15,5,8,9,11,1,0,10,14,5,5,7,8,1,0,9,null,null,{"$f":"CI9","v":"Straight Flush"},null,null,null,{"$f":"CM9","v":{"$error":"#N/A"}},{"$error":"#N/A"},{"$error":"#N/A"},{"$error":"#N/A"},{"$error":"#N/A"},{"$error":"#N/A"}]
[null,null,null,null,null,null,null,null,null,null,null,null,null,null,null,null,null,null,null,null,null,null,1,2,3,4,5,null,1,2,3,4,5,null,null,null,null,null,null,null,null,null,null,null,null,null,7,5,7,9,11,1,0,10,3,5,7,8,8,11,0,9,null,null,{"$f":"CT9","v":"Four of a Kind"},null,null,null,{"$f":"CX9","v":{"$error":"#N/A"}},0,{"$error":"#N/A"},{"$error":"#N/A"},0,{"$error":"#N/A"}]
[null,null,null,null,null,null,null,null,null,null,null,null,null,null,null,null,null,null,null,null,null,{"$f":"V57+IF(V57=1,13+RAND()^3,RAND()^3)","v":0.12187547294043774},{"$error":"#N/A"},{"$error":"#N/A"},3.0008887761062479,2.7099917887545688,9.0327476501613599,0.18792290472346457,{"$error":"#N/A"},{"$error":"#N/A"},11.009163373221732,9.1368991924159122,7.0022210860971503,null,null,null,null,null,null,null,null,null,null,null,null,null,11,5,7,9,11,1,0,10,17,5,7,8,8,11,0,9,null,null,{"$f":"DE9","v":"Full House"},null,null,null,{"$f":"DI9","v":{"$error":"#N/A"}},0,{"$error":"#N/A"},{"$error":"#N/A"},0,{"$error":"#N/A"}]
[null,null,null,null,null,null,null,null,null,null,null,null,null,null,null,null,null,null,null,null,null,null,null,null,null,null,null,null,null,null,null,null,null,null,null,null,null,null,null,null,null,null,null,null,null,null,20,5,7,8,11,1,0,10,1,5,5,7,8,11,0,9,null,null,{"$f":"DP9","v":"Flush"},null,null,null,{"$f":"DT9","v":{"$error":"#N/A"}},0,{"$error":"#N/A"},{"$error":"#N/A"},0,{"$error":"#N/A"}]
[null,null,null,null,null,null,null,null,null,null,null,null,null,null,null,null,null,null,null,null,null,null,{"$f":"RANK(W71,$W$71:$AA$71,1)","v":{"$error":"#N/A"}},{"$f":"RANK(X71,$W$71:$AA$71,1)","v":{"$error":"#N/A"}},{"$f":"RANK(Y71,$W$71:$AA$71,1)","v":{"$error":"#N/A"}},{"$f":"RANK(Z71,$W$71:$AA$71,1)","v":{"$error":"#N/A"}},{"$f":"RANK(AA71,$W$71:$AA$71,1)","v":{"$error":"#N/A"}},null,{"$f":"RANK(AC71,$AC$71:$AG$71,1)","v":{"$error":"#N/A"}},{"$f":"RANK(AD71,$AC$71:$AG$71,1)","v":{"$error":"#N/A"}},{"$error":"#N/A"},{"$error":"#N/A"},{"$error":"#N/A"},null,null,null,null,null,null,null,null,null,null,null,null,null,21,5,7,8,11,1,0,10,12,5,5,7,8,11,0,9,null,null,{"$f":"EA9","v":"Straight"},null,null,null,{"$f":"EE9","v":{"$error":"#N/A"}},{"$error":"#N/A"},{"$error":"#N/A"},{"$error":"#N/A"},{"$error":"#N/A"},{"$error":"#N/A"}]
[null,null,null,null,null,null,null,null,null,null,null,null,null,null,8,null,null,null,null,null,null,null,{"$f":"[0]!Player21","v":0},{"$f":"[0]!Player22","v":0},{"$f":"$Q$1","v":"♠3"},{"$f":"$R$1","v":"♥2"},{"$f":"$T$1","v":"♦Q"},null,{"$f":"[0]!Player31","v":0},{"$f":"[0]!Player32","v":0},{"$f":"$Q$2","v":"♥J"},{"$f":"$R$2","v":"♥9"},{"$f":"$T$2","v":"♠A"},null,null,null,null,null,null,null,null,null,null,null,null,null,10,5,7,8,9,1,0,10,2,5,7,8,11,1,0,10,null,null,{"$f":"EL9","v":"Three of a Kind"},null,null,null,{"$f":"EP9","v":{"$error":"#N/A"}},0,{"$error":"#N/A"},{"$error":"#N/A"},0,{"$error":"#N/A"}]
[null,null,null,null,null,null,null,null,null,null,null,null,null,null,null,null,null,null,null,null,null,null,{"$f":"VLOOKUP(W65,$B$1:$F$52,5,0)","v":{"$error":"#N/A"}},{"$f":"VLOOKUP(X65,$B$1:$F$52,5,0)","v":{"$error":"#N/A"}},{"$f":"VLOOKUP(Y65,$B$1:$F$52,5,0)","v":3},{"$f":"VLOOKUP(Z65,$B$1:$F$52,5,0)","v":2},{"$f":"VLOOKUP(AA65,$B$1:$F$52,5,0)","v":12},null,{"$f":"VLOOKUP(AC65,$B$1:$F$52,5,0)","v":{"$error":"#N/A"}},{"$f":"VLOOKUP(AD65,$B$1:$F$52,5,0)","v":{"$error":"#N/A"}},{"$f":"VLOOKUP(AE65,$B$1:$F$52,5,0)","v":11},{"$f":"VLOOKUP(AF65,$B$1:$F$52,5,0)","v":9},{"$f":"VLOOKUP(AG65,$B$1:$F$52,5,0)","v":1},null,null,null,null,null,null,null,null,null,null,null,null,null,14,5,7,8,9,1,0,10,13,5,7,8,11,1,0,10,null,null,{"$f":"EW9","v":"Two Pair"},null,null,null,{"$f":"FA9","v":{"$error":"#N/A"}},0,{"$error":"#N/A"},{"$error":"#N/A"},0,{"$error":"#N/A"}]
[null,null,null,null,null,null,null,null,null,null,null,null,null,null,null,null,null,null,null,null,null,null,{"$f":"VLOOKUP(W65,$B$1:$F$52,4,0)","v":{"$error":"#N/A"}},{"$f":"VLOOKUP(X65,$B$1:$F$52,4,0)","v":{"$error":"#N/A"}},{"$f":"VLOOKUP(Y65,$B$1:$F$52,4,0)","v":"S"},{"$f":"VLOOKUP(Z65,$B$1:$F$52,4,0)","v":"H"},{"$f":"VLOOKUP(AA65,$B$1:$F$52,4,0)","v":"D"},null,{"$f":"VLOOKUP(AC65,$B$1:$F$52,4,0)","v":{"$error":"#N/A"}},{"$f":"VLOOKUP(AD65,$B$1:$F$52,4,0)","v":{"$error":"#N/A"}},{"$f":"VLOOKUP(AE65,$B$1:$F$52,4,0)","v":"H"},{"$f":"VLOOKUP(AF65,$B$1:$F$52,4,0)","v":"H"},{"$f":"VLOOKUP(AG65,$B$1:$F$52,4,0)","v":"S"},null,null,null,null,null,null,null,null,null,null,null,null,null,8,5,7,8,9,11,0,10,16,5,7,8,11,1,0,10,null,null,{"$f":"FH9","v":"One Pair"},null,null,null,{"$f":"FL9","v":{"$error":"#N/A"}},0,{"$error":"#N/A"},{"$error":"#N/A"},0,{"$error":"#N/A"}]
[null,null,null,null,null,null,null,null,null,null,null,null,null,null,null,null,null,null,null,null,null,null,{"$f":"HLOOKUP(W70,$W$64:$AA$67,3,0)","v":{"$error":"#N/A"}},{"$f":"HLOOKUP(X70,$W$64:$AA$67,3,0)","v":{"$error":"#N/A"}},{"$f":"HLOOKUP(Y70,$W$64:$AA$67,3,0)","v":{"$error":"#N/A"}},{"$f":"HLOOKUP(Z70,$W$64:$AA$67,3,0)","v":{"$error":"#N/A"}},{"$f":"HLOOKUP(AA70,$W$64:$AA$67,3,0)","v":{"$error":"#N/A"}},null,{"$f":"HLOOKUP(AC70,$AC$64:$AG$67,3,0)","v":{"$error":"#N/A"}},{"$f":"HLOOKUP(AD70,$AC$64:$AG$67,3,0)","v":{"$error":"#N/A"}},{"$error":"#N/A"},{"$error":"#N/A"},{"$error":"#N/A"},null,null,null,null,null,null,null,null,null,null,null,null,null,12,5,7,8,9,11,0,10,21,5,7,8,11,1,0,10,null,null,{"$f":"FS9","v":"High Card"},null,null,null,{"$f":"FW9","v":{"$error":"#N/A"}},0,{"$error":"#N/A"},{"$error":"#N/A"},0,{"$error":"#N/A"}]
[null,null,null,null,null,null,null,null,null,null,null,null,null,null,null,null,null,null,null,null,null,null,{"$f":"HLOOKUP(W70,$W$64:$AA$67,4,0)","v":{"$error":"#N/A"}},{"$f":"HLOOKUP(X70,$W$64:$AA$67,4,0)","v":{"$error":"#N/A"}},{"$f":"HLOOKUP(Y70,$W$64:$AA$67,4,0)","v":{"$error":"#N/A"}},{"$f":"HLOOKUP(Z70,$W$64:$AA$67,4,0)","v":{"$error":"#N/A"}},{"$f":"HLOOKUP(AA70,$W$64:$AA$67,4,0)","v":{"$error":"#N/A"}},null,{"$f":"HLOOKUP(AC70,$AC$64:$AG$67,4,0)","v":{"$error":"#N/A"}},{"$f":"HLOOKUP(AD70,$AC$64:$AG$67,4,0)","v":{"$error":"#N/A"}},{"$error":"#N/A"},{"$error":"#N/A"},{"$error":"#N/A"}]
[null,null,null,null,null,null,null,null,null,null,null,null,null,null,null,null,null,null,null,null,null,null,1,2,3,4,5,null,1,2,3,4,5,null,null,null,null,null,null,null,null,null,null,null,null,null,null,null,null,null,null,null,null,null,null,null,null,null,null,null,null,null,null,7,{"$f":"BX10","v":"Royal Flush"},null,null,null,{"$f":"CB10","v":{"$error":"#N/A"}},{"$error":"#N/A"},{"$error":"#N/A"},{"$error":"#N/A"},{"$error":"#N/A"},{"$error":"#N/A"}]
[null,null,null,null,null,null,null,null,null,null,null,null,null,null,null,null,null,null,null,null,null,{"$f":"V66+IF(V66=1,13+RAND()^3,RAND()^3)","v":0.209594542110319},{"$error":"#N/A"},{"$error":"#N/A"},3.4751109902356458,2.0042795611148176,12.000009465441101,4.0036560950193397E-4,{"$error":"#N/A"},{"$error":"#N/A"},11.267481061810651,9.0386493130252443,14.138286017924079,null,null,null,null,null,null,null,null,null,null,null,null,null,null,null,null,null,null,null,null,null,null,null,null,null,null,null,null,null,null,null,{"$f":"CI10","v":"Straight Flush"},null,null,null,{"$f":"CM10","v":{"$error":"#N/A"}},{"$error":"#N/A"},{"$error":"#N/A"},{"$error":"#N/A"},{"$error":"#N/A"},{"$error":"#N/A"}]
[null,null,null,null,null,null,null,null,null,null,null,null,null,null,null,null,null,null,null,null,null,null,null,null,null,null,null,null,null,null,null,null,null,null,null,null,null,null,null,null,null,null,null,null,null,null,null,null,null,null,null,null,null,null,null,null,null,null,null,null,null,null,null,null,{"$f":"CT10","v":"Four of a Kind"},null,null,null,{"$f":"CX10","v":{"$error":"#N/A"}},0,{"$error":"#N/A"},{"$error":"#N/A"},0,{"$error":"#N/A"}]
[null,null,null,null,null,null,null,null,null,null,null,null,null,null,null,null,null,null,null,null,null,null,{"$f":"RANK(W80,$W$80:$AA$80,1)","v":{"$error":"#N/A"}},{"$f":"RANK(X80,$W$80:$AA$80,1)","v":{"$error":"#N/A"}},{"$f":"RANK(Y80,$W$80:$AA$80,1)","v":{"$error":"#N/A"}},{"$f":"RANK(Z80,$W$80:$AA$80,1)","v":{"$error":"#N/A"}},{"$f":"RANK(AA80,$W$80:$AA$80,1)","v":{"$error":"#N/A"}},null,{"$f":"RANK(AC80,$AC$80:$AG$80,1)","v":{"$error":"#N/A"}},{"$f":"RANK(AD80,$AC$80:$AG$80,1)","v":{"$error":"#N/A"}},{"$error":"#N/A"},{"$error":"#N/A"},{"$error":"#N/A"},null,null,null,null,null,null,null,null,null,null,null,null,null,null,null,null,null,null,null,null,null,null,null,null,null,null,null,null,null,null,null,{"$f":"DE10","v":"Full House"},null,null,null,{"$f":"DI10","v":{"$error":"#N/A"}},0,{"$error":"#N/A"},{"$error":"#N/A"},0,{"$error":"#N/A"}]
[null,null,null,null,null,null,null,null,null,null,null,null,null,null,9,null,null,null,null,null,null,null,{"$f":"[0]!Player21","v":0},{"$f":"[0]!Player22","v":0},{"$f":"$Q$1","v":"♠3"},{"$f":"$S$1","v":"♣9"},{"$f":"$T$1","v":"♦Q"},null,{"$f":"[0]!Player31","v":0},{"$f":"[0]!Player32","v":0},{"$f":"$Q$2","v":"♥J"},{"$f":"$S$2","v":"♥7"},{"$f":"$T$2","v":"♠A"},null,null,null,null,null,null,null,null,null,null,null,null,null,null,null,null,null,null,null,null,null,null,null,null,null,null,null,null,null,null,null,{"$f":"DP10","v":"Flush"},null,null,null,{"$f":"DT10","v":{"$error":"#N/A"}},0,{"$error":"#N/A"},{"$error":"#N/A"},0,{"$error":"#N/A"}]
[null,null,null,null,null,null,null,null,null,null,null,null,null,null,null,null,null,null,null,null,null,null,{"$f":"VLOOKUP(W74,$B$1:$F$52,5,0)","v":{"$error":"#N/A"}},{"$f":"VLOOKUP(X74,$B$1:$F$52,5,0)","v":{"$error":"#N/A"}},{"$f":"VLOOKUP(Y74,$B$1:$F$52,5,0)","v":3},{"$f":"VLOOKUP(Z74,$B$1:$F$52,5,0)","v":9},{"$f":"VLOOKUP(AA74,$B$1:$F$52,5,0)","v":12},null,{"$f":"VLOOKUP(AC74,$B$1:$F$52,5,0)","v":{"$error":"#N/A"}},{"$f":"VLOOKUP(AD74,$B$1:$F$52,5,0)","v":{"$error":"#N/A"}},{"$f":"VLOOKUP(AE74,$B$1:$F$52,5,0)","v":11},{"$f":"VLOOKUP(AF74,$B$1:$F$52,5,0)","v":7},{"$f":"VLOOKUP(AG74,$B$1:$F$52,5,0)","v":1},null,null,null,null,null,null,null,null,null,null,null,null,null,null,null,null,null,null,null,null,null,null,null,null,null,null,null,null,null,null,null,{"$f":"EA10","v":"Straight"},null,null,null,{"$f":"EE10","v":{"$error":"#N/A"}},{"$error":"#N/A"},{"$error":"#N/A"},{"$error":"#N/A"},{"$error":"#N/A"},{"$error":"#N/A"}]
[null,null,null,null,null,null,null,null,null,null,null,null,null,null,null,null,null,null,null,null,null,null,{"$f":"VLOOKUP(W74,$B$1:$F$52,4,0)","v":{"$error":"#N/A"}},{"$f":"VLOOKUP(X74,$B$1:$F$52,4,0)","v":{"$error":"#N/A"}},{"$f":"VLOOKUP(Y74,$B$1:$F$52,4,0)","v":"S"},{"$f":"VLOOKUP(Z74,$B$1:$F$52,4,0)","v":"C"},{"$f":"VLOOKUP(AA74,$B$1:$F$52,4,0)","v":"D"},null,{"$f":"VLOOKUP(AC74,$B$1:$F$52,4,0)","v":{"$error":"#N/A"}},{"$f":"VLOOKUP(AD74,$B$1:$F$52,4,0)","v":{"$error":"#N/A"}},{"$f":"VLOOKUP(AE74,$B$1:$F$52,4,0)","v":"H"},{"$f":"VLOOKUP(AF74,$B$1:$F$52,4,0)","v":"H"},{"$f":"VLOOKUP(AG74,$B$1:$F$52,4,0)","v":"S"},null,null,null,null,null,null,null,null,null,null,null,null,null,null,null,null,null,null,null,null,null,null,null,null,null,null,null,null,null,null,null,{"$f":"EL10","v":"Three of a Kind"},null,null,null,{"$f":"EP10","v":{"$error":"#N/A"}},0,{"$error":"#N/A"},{"$error":"#N/A"},0,{"$error":"#N/A"}]
[null,null,null,null,null,null,null,null,null,null,null,null,null,null,null,null,null,null,null,null,null,null,{"$f":"HLOOKUP(W79,$W$73:$AA$76,3,0)","v":{"$error":"#N/A"}},{"$f":"HLOOKUP(X79,$W$73:$AA$76,3,0)","v":{"$error":"#N/A"}},{"$f":"HLOOKUP(Y79,$W$73:$AA$76,3,0)","v":{"$error":"#N/A"}},{"$f":"HLOOKUP(Z79,$W$73:$AA$76,3,0)","v":{"$error":"#N/A"}},{"$f":"HLOOKUP(AA79,$W$73:$AA$76,3,0)","v":{"$error":"#N/A"}},null,{"$f":"HLOOKUP(AC79,$AC$73:$AG$76,3,0)","v":{"$error":"#N/A"}},{"$f":"HLOOKUP(AD79,$AC$73:$AG$76,3,0)","v":{"$error":"#N/A"}},{"$error":"#N/A"},{"$error":"#N/A"},{"$error":"#N/A"},null,null,null,null,null,null,null,null,null,null,null,null,null,null,null,null,null,null,null,{"$f":"_xlfn.MODE.MULT(AV78:AZ78)","v":7},{"$f":"IF(ISNUMBER(BA77),IF(BA77=1,14,BA77),0)","v":7},null,null,null,null,null,null,{"$f":"_xlfn.MODE.MULT(BD78:BH78)","v":5},{"$f":"IF(ISNUMBER(BI77),IF(BI77=1,14,BI77),0)","v":5},null,null,{"$f":"EW10","v":"Two Pair"},null,null,null,{"$f":"FA10","v":{"$error":"#N/A"}},0,{"$error":"#N/A"},{"$error":"#N/A"},0,{"$error":"#N/A"}]
[null,null,null,null,null,null,null,null,null,null,null,null,null,null,null,null,null,null,null,null,null,null,{"$f":"HLOOKUP(W79,$W$73:$AA$76,4,0)","v":{"$error":"#N/A"}},{"$f":"HLOOKUP(X79,$W$73:$AA$76,4,0)","v":{"$error":"#N/A"}},{"$f":"HLOOKUP(Y79,$W$73:$AA$76,4,0)","v":{"$error":"#N/A"}},{"$f":"HLOOKUP(Z79,$W$73:$AA$76,4,0)","v":{"$error":"#N/A"}},{"$f":"HLOOKUP(AA79,$W$73:$AA$76,4,0)","v":{"$error":"#N/A"}},null,{"$f":"HLOOKUP(AC79,$AC$73:$AG$76,4,0)","v":{"$error":"#N/A"}},{"$f":"HLOOKUP(AD79,$AC$73:$AG$76,4,0)","v":{"$error":"#N/A"}},{"$error":"#N/A"},{"$error":"#N/A"},{"$error":"#N/A"},null,null,null,null,null,null,null,null,null,null,null,null,null,{"$f":"AU48","v":2},7,7,9,11,1,7,{"$f":"IF(BA78=BA77,0,IF(ISNUMBER(BA78),IF(BA78=1,14,BA78),0))","v":0},{"$f":"BC48","v":10},5,5,8,8,1,8,{"$f":"IF(BI78=BI77,0,IF(ISNUMBER(BI78),IF(BI78=1,14,BI78),0))","v":8},null,null,{"$f":"FH10:FH10","v":"One Pair"},null,null,null,{"$f":"FL10:FL10","v":{"$error":"#N/A"}},0,{"$error":"#N/A"},{"$error":"#N/A"},0,{"$error":"#N/A"}]
[null,null,null,null,null,null,null,null,null,null,null,null,null,null,null,null,null,null,null,null,null,null,1,2,3,4,5,null,1,2,3,4,5,null,null,null,null,null,null,null,null,null,null,null,null,null,{"$f":"AU78","v":2},{"$f":"VLOOKUP($AU$79,$AU$25:$AZ$45,2,0)","v":{"$error":"#N/A"}},{"$f":"VLOOKUP($AU$79,$AU$25:$AZ$45,3,0)","v":{"$error":"#N/A"}},{"$f":"VLOOKUP($AU$79,$AU$25:$AZ$45,4,0)","v":{"$error":"#N/A"}},{"$f":"VLOOKUP($AU$79,$AU$25:$AZ$45,5,0)","v":{"$error":"#N/A"}},{"$f":"VLOOKUP($AU$79,$AU$25:$AZ$45,6,0)","v":{"$error":"#N/A"}},{"$f":"COUNTIF($AV$78:$AZ$78,AV78)","v":2},{"$f":"COUNTIF($AV$78:$AZ$78,AZ78)","v":1},{"$f":"BC78","v":10},{"$f":"VLOOKUP($BC$79,$BC$25:$BH$45,2,0)","v":{"$error":"#N/A"}},{"$f":"VLOOKUP($BC$79,$BC$25:$BH$45,3,0)","v":{"$error":"#N/A"}},{"$f":"VLOOKUP($BC$79,$BC$25:$BH$45,4,0)","v":{"$error":"#N/A"}},{"$f":"VLOOKUP($BC$79,$BC$25:$BH$45,5,0)","v":{"$error":"#N/A"}},{"$f":"VLOOKUP($BC$79,$BC$25:$BH$45,6,0)","v":{"$error":"#N/A"}},{"$f":"COUNTIF($BD$78:$BH$78,BD78)","v":2},{"$f":"COUNTIF($BD$78:$BH$78,BH78)","v":1},null,null,{"$f":"FS10","v":"High Card"},null,null,null,{"$f":"FW10","v":{"$error":"#N/A"}},0,{"$error":"#N/A"},{"$error":"#N/A"},0,{"$error":"#N/A"}]
[null,null,null,null,null,null,null,null,null,null,null,null,null,null,null,null,null,null,null,null,null,{"$f":"V75+IF(V75=1,13+RAND()^3,RAND()^3)","v":8.1284828983250901E-2},{"$error":"#N/A"},{"$error":"#N/A"},3.0018385416600362,9.0131177257037791,12.321514532749021,0.28494742583888666,{"$error":"#N/A"},{"$error":"#N/A"},11.018721699094497,7.002074179313392,14.046359172773446,null,null,null,null,null,null,null,null,null,null,null,null,null,{"$f":"AU79","v":2},{"$f":"VLOOKUP($AU$78,$O$2:$AG$182,9,0)","v":0},{"$f":"VLOOKUP($AU$78,$O$2:$AG$182,10,0)","v":0},{"$f":"VLOOKUP($AU$78,$O$2:$AG$182,11,0)","v":"♦K"},{"$f":"VLOOKUP($AU$78,$O$2:$AG$182,12,0)","v":"♠3"},{"$f":"VLOOKUP($AU$78,$O$2:$AG$182,13,0)","v":"♣9"},null,{"$f":"SMALL($BB$48:$BB$68,1)","v":9},null,{"$f":"VLOOKUP($BC$78,$O$2:$AG$182,15,0)","v":0},{"$f":"VLOOKUP($BC$78,$O$2:$AG$182,16,0)","v":0},{"$f":"VLOOKUP($BC$78,$O$2:$AG$182,17,0)","v":"♥9"},{"$f":"VLOOKUP($BC$78,$O$2:$AG$182,18,0)","v":"♥7"},{"$f":"VLOOKUP($BC$78,$O$2:$AG$182,19,0)","v":"♠A"},null,{"$f":"SMALL($BJ$48:$BJ$68,1)","v":8}]
[null,null,null,null,null,null,null,null,null,null,null,null,null,null,null,null,null,null,null,null,null,null,null,null,null,null,null,null,null,null,null,null,null,null,null,null,null,null,null,null,null,null,null,null,null,null,null,null,null,null,null,null,null,null,null,null,null,null,null,null,null,null,null,8,{"$f":"BX11","v":"Royal Flush"},null,null,null,{"$f":"CB11","v":{"$error":"#N/A"}},{"$error":"#N/A"},{"$error":"#N/A"},{"$error":"#N/A"},{"$error":"#N/A"},{"$error":"#N/A"}]
[null,null,null,null,null,null,null,null,null,null,null,null,null,null,null,null,null,null,null,null,null,null,{"$f":"RANK(W89,$W$89:$AA$89,1)","v":{"$error":"#N/A"}},{"$f":"RANK(X89,$W$89:$AA$89,1)","v":{"$error":"#N/A"}},{"$f":"RANK(Y89,$W$89:$AA$89,1)","v":{"$error":"#N/A"}},{"$f":"RANK(Z89,$W$89:$AA$89,1)","v":{"$error":"#N/A"}},{"$f":"RANK(AA89,$W$89:$AA$89,1)","v":{"$error":"#N/A"}},null,{"$f":"RANK(AC89,$AC$89:$AG$89,1)","v":{"$error":"#N/A"}},{"$f":"RANK(AD89,$AC$89:$AG$89,1)","v":{"$error":"#N/A"}},{"$error":"#N/A"},{"$error":"#N/A"},{"$error":"#N/A"},null,null,null,null,null,null,null,null,null,null,null,null,null,null,null,null,null,null,null,null,null,null,null,null,null,null,null,null,null,null,null,{"$f":"CI11","v":"Straight Flush"},null,null,null,{"$f":"CM11","v":{"$error":"#N/A"}},{"$error":"#N/A"},{"$error":"#N/A"},{"$error":"#N/A"},{"$error":"#N/A"},{"$error":"#N/A"}]
[null,null,null,null,null,null,null,null,null,null,null,null,null,null,10,null,null,null,null,null,null,null,{"$f":"[0]!Player21","v":0},{"$f":"[0]!Player22","v":0},{"$f":"$R$1","v":"♥2"},{"$f":"$S$1","v":"♣9"},{"$f":"$T$1","v":"♦Q"},null,{"$f":"[0]!Player31","v":0},{"$f":"[0]!Player32","v":0},{"$f":"$R$2","v":"♥9"},{"$f":"$S$2","v":"♥7"},{"$f":"$T$2","v":"♠A"},"Bluffer",null,"Utility (preference match)",null,null,null,null,null,null,null,null,null,null,1,null,null,null,null,null,null,null,null,null,null,null,null,null,null,null,null,null,{"$f":"CT11","v":"Four of a Kind"},null,null,null,{"$f":"CX11","v":{"$error":"#N/A"}},0,{"$error":"#N/A"},{"$error":"#N/A"},0,{"$error":"#N/A"}]
[null,null,null,null,null,null,null,null,null,null,null,null,null,null,null,null,null,null,null,null,null,null,{"$f":"VLOOKUP(W83,$B$1:$F$52,5,0)","v":{"$error":"#N/A"}},{"$f":"VLOOKUP(X83,$B$1:$F$52,5,0)","v":{"$error":"#N/A"}},{"$f":"VLOOKUP(Y83,$B$1:$F$52,5,0)","v":2},{"$f":"VLOOKUP(Z83,$B$1:$F$52,5,0)","v":9},{"$f":"VLOOKUP(AA83,$B$1:$F$52,5,0)","v":12},null,{"$f":"VLOOKUP(AC83,$B$1:$F$52,5,0)","v":{"$error":"#N/A"}},{"$f":"VLOOKUP(AD83,$B$1:$F$52,5,0)","v":{"$error":"#N/A"}},{"$f":"VLOOKUP(AE83,$B$1:$F$52,5,0)","v":9},{"$f":"VLOOKUP(AF83,$B$1:$F$52,5,0)","v":7},{"$f":"VLOOKUP(AG83,$B$1:$F$52,5,0)","v":1},"Deceiving factor",null,{"$f":"LARGE(AW85:AW94,1)","v":0},{"$f":"LARGE(AX85:AX94,1)","v":0},null,null,null,null,null,null,null,null,null,null,null,"Robot 2","Robot 3",null,null,null,null,null,null,null,null,null,null,null,null,null,null,{"$f":"DE11","v":"Full House"},null,null,null,{"$f":"DI11","v":{"$error":"#N/A"}},0,{"$error":"#N/A"},{"$error":"#N/A"},0,{"$error":"#N/A"}]
[null,null,null,null,null,null,null,null,null,null,null,null,null,null,null,null,null,null,null,null,null,null,{"$f":"VLOOKUP(W83,$B$1:$F$52,4,0)","v":{"$error":"#N/A"}},{"$f":"VLOOKUP(X83,$B$1:$F$52,4,0)","v":{"$error":"#N/A"}},{"$f":"VLOOKUP(Y83,$B$1:$F$52,4,0)","v":"H"},{"$f":"VLOOKUP(Z83,$B$1:$F$52,4,0)","v":"C"},{"$f":"VLOOKUP(AA83,$B$1:$F$52,4,0)","v":"D"},null,{"$f":"VLOOKUP(AC83,$B$1:$F$52,4,0)","v":{"$error":"#N/A"}},{"$f":"VLOOKUP(AD83,$B$1:$F$52,4,0)","v":{"$error":"#N/A"}},{"$f":"VLOOKUP(AE83,$B$1:$F$52,4,0)","v":"H"},{"$f":"VLOOKUP(AF83,$B$1:$F$52,4,0)","v":"H"},{"$f":"VLOOKUP(AG83,$B$1:$F$52,4,0)","v":"S"},"Royal Flush",1,{"$f":"AW85+IF(AW85=0,$AJ$84)","v":0},{"$f":"AX85+IF(AX85=0,$AK$84)","v":0},{"$f":"AJ85/SUM($AJ$85:$AJ$94)","v":{"$error":"#DIV/0!"}},0,1,{"$f":"AK85/SUM($AK$85:$AK$94)","v":{"$error":"#DIV/0!"}},0,1,null,null,null,"Royal Flush",1,{"$f":"COUNTIF($BB$83:$BB$132,AV85)","v":0},{"$f":"COUNTIF($BJ$83:$BJ$132,AV85)","v":0},null,null,null,null,null,null,null,null,null,null,null,null,null,null,{"$f":"DP11","v":"Flush"},null,null,null,{"$f":"DT11","v":{"$error":"#N/A"}},0,{"$error":"#N/A"},{"$error":"#N/A"},0,{"$error":"#N/A"}]
[null,null,null,null,null,null,null,null,null,null,null,null,null,null,null,null,null,null,null,null,null,null,{"$f":"HLOOKUP(W88,$W$82:$AA$85,3,0)","v":{"$error":"#N/A"}},{"$f":"HLOOKUP(X88,$W$82:$AA$85,3,0)","v":{"$error":"#N/A"}},{"$f":"HLOOKUP(Y88,$W$82:$AA$85,3,0)","v":{"$error":"#N/A"}},{"$f":"HLOOKUP(Z88,$W$82:$AA$85,3,0)","v":{"$error":"#N/A"}},{"$f":"HLOOKUP(AA88,$W$82:$AA$85,3,0)","v":{"$error":"#N/A"}},null,{"$f":"HLOOKUP(AC88,$AC$82:$AG$85,3,0)","v":{"$error":"#N/A"}},{"$f":"HLOOKUP(AD88,$AC$82:$AG$85,3,0)","v":{"$error":"#N/A"}},{"$error":"#N/A"},{"$error":"#N/A"},{"$error":"#N/A"},"Straight Flush",2,0,0,{"$error":"#DIV/0!"},{"$f":"AL85+AM85","v":{"$error":"#DIV/0!"}},0.9,{"$f":"AK86/SUM($AK$85:$AK$94)","v":{"$error":"#DIV/0!"}},{"$f":"AO85+AP85","v":{"$error":"#DIV/0!"}},0.9,null,null,null,"Straight Flush",2,{"$f":"COUNTIF($BB$83:$BB$132,AV86)","v":0},{"$f":"COUNTIF($BJ$83:$BJ$132,AV86)","v":0},null,null,null,null,null,null,null,null,null,null,null,null,null,null,{"$f":"EA11","v":"Straight"},null,null,null,{"$f":"EE11","v":{"$error":"#N/A"}},{"$error":"#N/A"},{"$error":"#N/A"},{"$error":"#N/A"},{"$error":"#N/A"},{"$error":"#N/A"}]
[null,null,null,null,null,null,null,null,null,null,null,null,null,null,null,null,null,null,null,null,null,null,{"$f":"HLOOKUP(W88,$W$82:$AA$85,4,0)","v":{"$error":"#N/A"}},{"$f":"HLOOKUP(X88,$W$82:$AA$85,4,0)","v":{"$error":"#N/A"}},{"$f":"HLOOKUP(Y88,$W$82:$AA$85,4,0)","v":{"$error":"#N/A"}},{"$f":"HLOOKUP(Z88,$W$82:$AA$85,4,0)","v":{"$error":"#N/A"}},{"$f":"HLOOKUP(AA88,$W$82:$AA$85,4,0)","v":{"$error":"#N/A"}},null,{"$f":"HLOOKUP(AC88,$AC$82:$AG$85,4,0)","v":{"$error":"#N/A"}},{"$f":"HLOOKUP(AD88,$AC$82:$AG$85,4,0)","v":{"$error":"#N/A"}},{"$error":"#N/A"},{"$error":"#N/A"},{"$error":"#N/A"},"Four of a Kind",3,0,0,{"$error":"#DIV/0!"},{"$f":"AL86+AM86","v":{"$error":"#DIV/0!"}},0.8,{"$error":"#DIV/0!"},{"$f":"AO86+AP86","v":{"$error":"#DIV/0!"}},0.8,null,null,null,"Four of a Kind",3,0,0,null,null,null,null,null,null,null,null,null,null,null,null,null,null,{"$f":"EL11","v":"Three of a Kind"},null,null,null,{"$f":"EP11","v":{"$error":"#N/A"}},0,{"$error":"#N/A"},{"$error":"#N/A"},0,{"$error":"#N/A"}]
[null,null,null,null,null,null,null,null,null,null,null,null,null,null,null,null,null,null,null,null,null,null,1,2,3,4,5,null,1,2,3,4,5,"Full House",4,0,0,{"$error":"#DIV/0!"},{"$error":"#DIV/0!"},0.6,{"$error":"#DIV/0!"},{"$error":"#DIV/0!"},0.6,null,null,null,"Full House",4,0,0,null,null,null,null,null,null,null,null,null,null,null,null,null,null,{"$f":"EW11","v":"Two Pair"},null,null,null,{"$f":"FA11","v":{"$error":"#N/A"}},0,{"$error":"#N/A"},{"$error":"#N/A"},0,{"$error":"#N/A"}]
[null,null,null,null,null,null,null,null,null,null,null,null,null,null,null,null,null,null,null,null,null,{"$f":"V84+IF(V84=1,13+RAND()^3,RAND()^3)","v":6.4933031476666666E-4},{"$error":"#N/A"},{"$error":"#N/A"},2.6900023355364331,9.7054020609439053,12.000018196852087,0.20458336680059735,{"$error":"#N/A"},{"$error":"#N/A"},9.2569223563989187,7.0001143077352639,14.714669476185412,"Flush",5,0,0,{"$error":"#DIV/0!"},{"$error":"#DIV/0!"},0.5,{"$error":"#DIV/0!"},{"$error":"#DIV/0!"},0.5,null,null,null,"Flush",5,0,0,null,null,null,null,null,null,null,null,null,null,null,null,null,null,{"$f":"FH11","v":"One Pair"},null,null,null,{"$f":"FL11","v":{"$error":"#N/A"}},0,{"$error":"#N/A"},{"$error":"#N/A"},0,{"$error":"#N/A"}]
[null,null,null,null,null,null,null,null,null,null,null,null,null,null,null,null,null,null,null,null,null,null,null,null,null,null,null,null,null,null,null,null,null,"Straight",6,0,0,{"$error":"#DIV/0!"},{"$error":"#DIV/0!"},0.4,{"$error":"#DIV/0!"},{"$error":"#DIV/0!"},0.4,null,null,null,"Straight",6,0,0,null,null,null,null,null,null,null,null,null,null,null,null,null,null,{"$f":"FS11","v":"High Card"},null,null,null,{"$f":"FW11","v":{"$error":"#N/A"}},0,{"$error":"#N/A"},{"$error":"#N/A"},0,{"$error":"#N/A"}]
[null,null,null,null,null,null,null,null,null,null,null,null,null,null,null,null,null,null,null,null,null,null,{"$f":"RANK(W98,$W$98:$AA$98,1)","v":{"$error":"#N/A"}},{"$f":"RANK(X98,$W$98:$AA$98,1)","v":{"$error":"#N/A"}},{"$error":"#N/A"},{"$error":"#N/A"},{"$error":"#N/A"},null,{"$f":"RANK(AC98,$AC$98:$AG$98,1)","v":{"$error":"#N/A"}},{"$f":"RANK(AD98,$AC$98:$AG$98,1)","v":{"$error":"#N/A"}},{"$error":"#N/A"},{"$error":"#N/A"},{"$error":"#N/A"},"Three of a Kind",7,0,0,{"$error":"#DIV/0!"},{"$error":"#DIV/0!"},0.3,{"$error":"#DIV/0!"},{"$error":"#DIV/0!"},0.3,null,null,null,"Three of a Kind",7,0,0]
[null,null,null,null,null,null,null,null,null,null,null,null,null,null,11,null,null,null,null,null,null,null,{"$f":"[0]!Player21","v":0},{"$f":"$P$1","v":"♦K"},{"$f":"$Q$1","v":"♠3"},{"$f":"$R$1","v":"♥2"},{"$f":"$S$1","v":"♣9"},null,{"$f":"[0]!Player31","v":0},{"$f":"$P$2","v":"♣7"},{"$f":"$Q$2","v":"♥J"},{"$f":"$R$2","v":"♥9"},{"$f":"$S$2","v":"♥7"},"Two Pair",8,0,0,{"$error":"#DIV/0!"},{"$error":"#DIV/0!"},0.2,{"$error":"#DIV/0!"},{"$error":"#DIV/0!"},0.2,null,null,null,"Two Pairs",8,0,0,null,null,null,null,null,null,null,null,null,null,null,null,null,9,{"$f":"BX12","v":"Royal Flush"},null,null,null,{"$f":"CB12","v":{"$error":"#N/A"}},{"$error":"#N/A"},{"$error":"#N/A"},{"$error":"#N/A"},{"$error":"#N/A"},{"$error":"#N/A"}]
[null,null,null,null,null,null,null,null,null,null,null,null,null,null,null,null,null,null,null,null,null,null,{"$f":"VLOOKUP(W92,$B$1:$F$52,5,0)","v":{"$error":"#N/A"}},{"$f":"VLOOKUP(X92,$B$1:$F$52,5,0)","v":13},{"$f":"VLOOKUP(Y92,$B$1:$F$52,5,0)","v":3},{"$f":"VLOOKUP(Z92,$B$1:$F$52,5,0)","v":2},{"$f":"VLOOKUP(AA92,$B$1:$F$52,5,0)","v":9},null,{"$f":"VLOOKUP(AC92,$B$1:$F$52,5,0)","v":{"$error":"#N/A"}},{"$f":"VLOOKUP(AD92,$B$1:$F$52,5,0)","v":7},{"$f":"VLOOKUP(AE92,$B$1:$F$52,5,0)","v":11},{"$f":"VLOOKUP(AF92,$B$1:$F$52,5,0)","v":9},{"$f":"VLOOKUP(AG92,$B$1:$F$52,5,0)","v":7},"One Pair",9,0,0,{"$error":"#DIV/0!"},{"$error":"#DIV/0!"},0,{"$error":"#DIV/0!"},{"$error":"#DIV/0!"},0,null,null,null,"One Pair",9,0,0,null,null,null,null,null,null,null,null,null,null,null,null,null,null,{"$f":"CI12","v":"Straight Flush"},null,null,null,{"$f":"CM12","v":{"$error":"#N/A"}},{"$error":"#N/A"},{"$error":"#N/A"},{"$error":"#N/A"},{"$error":"#N/A"},{"$error":"#N/A"}]
[null,null,null,null,null,null,null,null,null,null,null,null,null,null,null,null,null,null,null,null,null,null,{"$f":"VLOOKUP(W92,$B$1:$F$52,4,0)","v":{"$error":"#N/A"}},{"$f":"VLOOKUP(X92,$B$1:$F$52,4,0)","v":"D"},{"$f":"VLOOKUP(Y92,$B$1:$F$52,4,0)","v":"S"},{"$f":"VLOOKUP(Z92,$B$1:$F$52,4,0)","v":"H"},{"$f":"VLOOKUP(AA92,$B$1:$F$52,4,0)","v":"C"},null,{"$f":"VLOOKUP(AC92,$B$1:$F$52,4,0)","v":{"$error":"#N/A"}},{"$f":"VLOOKUP(AD92,$B$1:$F$52,4,0)","v":"C"},{"$f":"VLOOKUP(AE92,$B$1:$F$52,4,0)","v":"H"},{"$f":"VLOOKUP(AF92,$B$1:$F$52,4,0)","v":"H"},{"$f":"VLOOKUP(AG92,$B$1:$F$52,4,0)","v":"H"},"High Card/Fold",10,0,0,{"$error":"#DIV/0!"},{"$error":"#DIV/0!"},-0.1,{"$error":"#DIV/0!"},{"$error":"#DIV/0!"},-0.1,null,null,null,"High Card/Fold",10,0,0,null,null,null,null,null,null,null,null,null,null,null,null,null,null,{"$f":"CT12","v":"Four of a Kind"},null,null,null,{"$f":"CX12","v":{"$error":"#N/A"}},0,{"$error":"#N/A"},{"$error":"#N/A"},0,{"$error":"#N/A"}]
[null,null,null,null,null,null,null,null,null,null,null,null,null,null,null,null,null,null,null,null,null,null,{"$f":"HLOOKUP(W97,$W$91:$AA$94,3,0)","v":{"$error":"#N/A"}},{"$f":"HLOOKUP(X97,$W$91:$AA$94,3,0)","v":{"$error":"#N/A"}},{"$error":"#N/A"},{"$error":"#N/A"},{"$error":"#N/A"},null,{"$f":"HLOOKUP(AC97,$AC$91:$AG$94,3,0)","v":{"$error":"#N/A"}},{"$f":"HLOOKUP(AD97,$AC$91:$AG$94,3,0)","v":{"$error":"#N/A"}},{"$error":"#N/A"},{"$error":"#N/A"},{"$error":"#N/A"},null,null,null,null,null,null,null,null,null,null,null,null,null,null,null,null,null,null,null,null,null,null,null,null,null,null,null,null,null,null,null,{"$f":"DE12","v":"Full House"},null,null,null,{"$f":"DI12","v":{"$error":"#N/A"}},0,{"$error":"#N/A"},{"$error":"#N/A"},0,{"$error":"#N/A"}]
[null,null,null,null,null,null,null,null,null,null,null,null,null,null,null,null,null,null,null,null,null,null,{"$f":"HLOOKUP(W97,$W$91:$AA$94,4,0)","v":{"$error":"#N/A"}},{"$f":"HLOOKUP(X97,$W$91:$AA$94,4,0)","v":{"$error":"#N/A"}},{"$error":"#N/A"},{"$error":"#N/A"},{"$error":"#N/A"},null,{"$f":"HLOOKUP(AC97,$AC$91:$AG$94,4,0)","v":{"$error":"#N/A"}},{"$f":"HLOOKUP(AD97,$AC$91:$AG$94,4,0)","v":{"$error":"#N/A"}},{"$error":"#N/A"},{"$error":"#N/A"},{"$error":"#N/A"},null,null,null,null,null,"Max. bet",{"$f":"VLOOKUP($AW$96,AM85:AN94,2,1)","v":1},null,"Max. bet",{"$f":"VLOOKUP($AX$96,AP85:AQ94,2,1)","v":1},null,null,null,null,null,0.76136636734008789,0.62701481580734253,null,null,null,null,null,null,null,null,null,null,null,null,null,null,{"$f":"DP12","v":"Flush"},null,null,null,{"$f":"DT12","v":{"$error":"#N/A"}},0,{"$error":"#N/A"},{"$error":"#N/A"},0,{"$error":"#N/A"}]
[null,null,null,null,null,null,null,null,null,null,null,null,null,null,null,null,null,null,null,null,null,null,1,2,3,4,5,null,1,2,3,4,5,null,null,null,null,null,null,null,null,null,null,null,null,null,null,null,"Max. bet","Max. bet",null,null,null,null,null,null,null,null,null,null,null,null,null,null,{"$f":"EA12","v":"Straight"},null,null,null,{"$f":"EE12","v":{"$error":"#N/A"}},{"$error":"#N/A"},{"$error":"#N/A"},{"$error":"#N/A"},{"$error":"#N/A"},{"$error":"#N/A"}]
[null,null,null,null,null,null,null,null,null,null,null,null,null,null,null,null,null,null,null,null,null,{"$f":"V93+IF(V93=1,13+RAND()^3,RAND()^3)","v":0.57087573454885088},{"$error":"#N/A"},13.077088252356024,3.4605840513614012,2.4812093383546969,9.0013718543675267,1.3153292317369421E-5,{"$error":"#N/A"},7.7384230149065765,11.033893550189816,9.5663675612738821,7.5929703046467871,"Rocker",null,"Utility (preference match)",null,null,null,null,null,null,null,null,null,null,null,"Bluffer",{"$f":"AN96","v":1},{"$f":"AQ96","v":1},null,null,null,null,null,null,null,null,null,null,null,null,null,null,{"$f":"EL12","v":"Three of a Kind"},null,null,null,{"$f":"EP12","v":{"$error":"#N/A"}},0,{"$error":"#N/A"},{"$error":"#N/A"},0,{"$error":"#N/A"}]
[null,null,null,null,null,null,null,null,null,null,null,null,null,null,null,null,null,null,null,null,null,null,null,null,null,null,null,null,null,null,null,null,null,"Deceiving factor",null,0,0,null,null,null,null,null,null,null,null,null,null,"Rocker",{"$f":"AN111","v":1},{"$f":"AQ111","v":1},null,null,null,null,null,null,null,null,null,null,null,null,null,null,{"$f":"EW12","v":"Two Pair"},null,null,null,{"$f":"FA12","v":{"$error":"#N/A"}},0,{"$error":"#N/A"},{"$error":"#N/A"},0,{"$error":"#N/A"}]
[null,null,null,null,null,null,null,null,null,null,null,null,null,null,null,null,null,null,null,null,null,null,{"$f":"RANK(W107,$W$107:$AA$107,1)","v":{"$error":"#N/A"}},{"$f":"RANK(X107,$W$107:$AA$107,1)","v":{"$error":"#N/A"}},{"$error":"#N/A"},{"$error":"#N/A"},{"$error":"#N/A"},null,{"$f":"RANK(AC107,$AC$107:$AG$107,1)","v":{"$error":"#N/A"}},{"$f":"RANK(AD107,$AC$107:$AG$107,1)","v":{"$error":"#N/A"}},{"$error":"#N/A"},{"$error":"#N/A"},{"$error":"#N/A"},"Royal Flush",1,{"$f":"AW85+$AJ$99","v":0},{"$f":"AX85+$AK$99","v":0},{"$f":"AJ100/SUM($AJ$100:$AJ$109)","v":{"$error":"#DIV/0!"}},0,1,{"$f":"AK100/SUM($AK$100:$AK$109)","v":{"$error":"#DIV/0!"}},0,1,null,null,null,null,"Tricker",{"$f":"AN126","v":0.2},{"$f":"AQ126","v":0.3},null,null,null,null,null,null,null,null,null,null,null,null,null,null,{"$f":"FH12","v":"One Pair"},null,null,null,{"$f":"FL12","v":{"$error":"#N/A"}},0,{"$error":"#N/A"},{"$error":"#N/A"},0,{"$error":"#N/A"}]
[null,null,null,null,null,null,null,null,null,null,null,null,null,null,12,null,null,null,null,null,null,null,{"$f":"[0]!Player21","v":0},{"$f":"$P$1","v":"♦K"},{"$f":"$Q$1","v":"♠3"},{"$f":"$R$1","v":"♥2"},{"$f":"$T$1","v":"♦Q"},null,{"$f":"[0]!Player31","v":0},{"$f":"$P$2","v":"♣7"},{"$f":"$Q$2","v":"♥J"},{"$f":"$R$2","v":"♥9"},{"$f":"$T$2","v":"♠A"},"Straight Flush",2,{"$f":"AW86+$AJ$99","v":0},{"$f":"AX86+$AK$99","v":0},{"$f":"AJ101/SUM($AJ$100:$AJ$109)","v":{"$error":"#DIV/0!"}},{"$f":"AL100+AM100","v":{"$error":"#DIV/0!"}},0.9,{"$f":"AK101/SUM($AK$100:$AK$109)","v":{"$error":"#DIV/0!"}},{"$f":"AO100+AP100","v":{"$error":"#DIV/0!"}},0.9,null,null,null,null,"Optimist",{"$f":"AN141","v":1},{"$f":"AQ141","v":1},null,null,null,null,null,null,null,null,null,null,null,null,null,null,{"$f":"FS12","v":"High Card"},null,null,null,{"$f":"FW12","v":{"$error":"#N/A"}},0,{"$error":"#N/A"},{"$error":"#N/A"},0,{"$error":"#N/A"}]
[null,null,null,null,null,null,null,null,null,null,null,null,null,null,null,null,null,null,null,null,null,null,{"$f":"VLOOKUP(W101,$B$1:$F$52,5,0)","v":{"$error":"#N/A"}},{"$f":"VLOOKUP(X101,$B$1:$F$52,5,0)","v":13},{"$f":"VLOOKUP(Y101,$B$1:$F$52,5,0)","v":3},{"$f":"VLOOKUP(Z101,$B$1:$F$52,5,0)","v":2},{"$f":"VLOOKUP(AA101,$B$1:$F$52,5,0)","v":12},null,{"$f":"VLOOKUP(AC101,$B$1:$F$52,5,0)","v":{"$error":"#N/A"}},{"$f":"VLOOKUP(AD101,$B$1:$F$52,5,0)","v":7},{"$f":"VLOOKUP(AE101,$B$1:$F$52,5,0)","v":11},{"$f":"VLOOKUP(AF101,$B$1:$F$52,5,0)","v":9},{"$f":"VLOOKUP(AG101,$B$1:$F$52,5,0)","v":1},"Four of a Kind",3,0,0,{"$error":"#DIV/0!"},{"$f":"AL101+AM101","v":{"$error":"#DIV/0!"}},0.8,{"$error":"#DIV/0!"},{"$f":"AO101+AP101","v":{"$error":"#DIV/0!"}},0.8,null,null,null,null,"Maverick",{"$f":"AN156","v":0.2},{"$f":"AQ156","v":0.3}]
[null,null,null,null,null,null,null,null,null,null,null,null,null,null,null,null,null,null,null,null,null,null,{"$f":"VLOOKUP(W101,$B$1:$F$52,4,0)","v":{"$error":"#N/A"}},{"$f":"VLOOKUP(X101,$B$1:$F$52,4,0)","v":"D"},{"$f":"VLOOKUP(Y101,$B$1:$F$52,4,0)","v":"S"},{"$f":"VLOOKUP(Z101,$B$1:$F$52,4,0)","v":"H"},{"$f":"VLOOKUP(AA101,$B$1:$F$52,4,0)","v":"D"},null,{"$f":"VLOOKUP(AC101,$B$1:$F$52,4,0)","v":{"$error":"#N/A"}},{"$f":"VLOOKUP(AD101,$B$1:$F$52,4,0)","v":"C"},{"$f":"VLOOKUP(AE101,$B$1:$F$52,4,0)","v":"H"},{"$f":"VLOOKUP(AF101,$B$1:$F$52,4,0)","v":"H"},{"$f":"VLOOKUP(AG101,$B$1:$F$52,4,0)","v":"S"},"Full House",4,0,0,{"$error":"#DIV/0!"},{"$error":"#DIV/0!"},0.6,{"$error":"#DIV/0!"},{"$error":"#DIV/0!"},0.6,null,null,null,null,null,0.82810413837432861,1.8232166767120361E-2,null,null,null,null,null,null,null,null,null,null,null,null,null,10,{"$f":"BX13","v":"Royal Flush"},null,null,null,{"$f":"CB13","v":{"$error":"#N/A"}},{"$error":"#N/A"},{"$error":"#N/A"},{"$error":"#N/A"},{"$error":"#N/A"},{"$error":"#N/A"}]
[null,null,null,null,null,null,null,null,null,null,null,null,null,null,null,null,null,null,null,null,null,null,{"$f":"HLOOKUP(W106,$W$100:$AA$103,3,0)","v":{"$error":"#N/A"}},{"$f":"HLOOKUP(X106,$W$100:$AA$103,3,0)","v":{"$error":"#N/A"}},{"$error":"#N/A"},{"$error":"#N/A"},{"$error":"#N/A"},null,{"$f":"HLOOKUP(AC106,$AC$100:$AG$103,3,0)","v":{"$error":"#N/A"}},{"$f":"HLOOKUP(AD106,$AC$100:$AG$103,3,0)","v":{"$error":"#N/A"}},{"$error":"#N/A"},{"$error":"#N/A"},{"$error":"#N/A"},"Flush",5,0,0,{"$error":"#DIV/0!"},{"$error":"#DIV/0!"},0.5,{"$error":"#DIV/0!"},{"$error":"#DIV/0!"},0.5,null,null,null,null,null,"Call/Raise","Call/Raise",null,null,null,null,null,null,null,null,null,null,null,null,null,null,{"$f":"CI13","v":"Straight Flush"},null,null,null,{"$f":"CM13","v":{"$error":"#N/A"}},{"$error":"#N/A"},{"$error":"#N/A"},{"$error":"#N/A"},{"$error":"#N/A"},{"$error":"#N/A"}]
[null,null,null,null,null,null,null,null,null,null,null,null,null,null,null,null,null,null,null,null,null,null,{"$f":"HLOOKUP(W106,$W$100:$AA$103,4,0)","v":{"$error":"#N/A"}},{"$f":"HLOOKUP(X106,$W$100:$AA$103,4,0)","v":{"$error":"#N/A"}},{"$error":"#N/A"},{"$error":"#N/A"},{"$error":"#N/A"},null,{"$f":"HLOOKUP(AC106,$AC$100:$AG$103,4,0)","v":{"$error":"#N/A"}},{"$f":"HLOOKUP(AD106,$AC$100:$AG$103,4,0)","v":{"$error":"#N/A"}},{"$error":"#N/A"},{"$error":"#N/A"},{"$error":"#N/A"},"Straight",6,0,0,{"$error":"#DIV/0!"},{"$error":"#DIV/0!"},0.4,{"$error":"#DIV/0!"},{"$error":"#DIV/0!"},0.4,null,null,null,null,"Bluffer",{"$f":"$AW$103*AW98","v":0.82810413837432861},{"$f":"$AX$103*AX98","v":1.8232166767120361E-2},null,null,null,null,null,null,null,null,null,null,null,null,null,null,{"$f":"CT13","v":"Four of a Kind"},null,null,null,{"$f":"CX13","v":{"$error":"#N/A"}},0,{"$error":"#N/A"},{"$error":"#N/A"},0,{"$error":"#N/A"}]
[null,null,null,null,null,null,null,null,null,null,null,null,null,null,null,null,null,null,null,null,null,null,1,2,3,4,5,null,1,2,3,4,5,"Three of a Kind",7,0,0,{"$error":"#DIV/0!"},{"$error":"#DIV/0!"},0.3,{"$error":"#DIV/0!"},{"$error":"#DIV/0!"},0.3,null,null,null,null,"Rocker",{"$f":"$AW$103*AW99","v":0.82810413837432861},{"$f":"$AX$103*AX99","v":1.8232166767120361E-2},null,null,null,null,null,null,null,null,null,null,null,null,null,null,{"$f":"DE13","v":"Full House"},null,null,null,{"$f":"DI13","v":{"$error":"#N/A"}},0,{"$error":"#N/A"},{"$error":"#N/A"},0,{"$error":"#N/A"}]
[null,null,null,null,null,null,null,null,null,null,null,null,null,null,null,null,null,null,null,null,null,{"$f":"V102+IF(V102=1,13+RAND()^3,RAND()^3)","v":0.83510673271032509},{"$error":"#N/A"},13.001134264210005,3.2323145506325943,2.9567120565515563,12.000843333972291,0.84833546139968141,{"$error":"#N/A"},7.0367430567551299,11.377118340105829,9.3434324162808835,14.012045985295181,"Two Pair",8,0,0,{"$error":"#DIV/0!"},{"$error":"#DIV/0!"},0.2,{"$error":"#DIV/0!"},{"$error":"#DIV/0!"},0.2,null,null,null,null,"Tricker",0.16562082767486574,5.4696500301361084E-3,null,null,null,null,null,null,null,null,null,null,null,null,null,null,{"$f":"DP13","v":"Flush"},null,null,null,{"$f":"DT13","v":{"$error":"#N/A"}},0,{"$error":"#N/A"},{"$error":"#N/A"},0,{"$error":"#N/A"}]
[null,null,null,null,null,null,null,null,null,null,null,null,null,null,null,null,null,null,null,null,null,null,null,null,null,null,null,null,null,null,null,null,null,"One Pair/Check",9,0,0,{"$error":"#DIV/0!"},{"$error":"#DIV/0!"},0,{"$error":"#DIV/0!"},{"$error":"#DIV/0!"},0,null,null,null,null,"Optimist",0.82810413837432861,1.8232166767120361E-2,null,null,null,null,null,null,null,null,null,null,null,null,null,null,{"$f":"EA13","v":"Straight"},null,null,null,{"$f":"EE13","v":{"$error":"#N/A"}},{"$error":"#N/A"},{"$error":"#N/A"},{"$error":"#N/A"},{"$error":"#N/A"},{"$error":"#N/A"}]
[null,null,null,null,null,null,null,null,null,null,null,null,null,null,null,null,null,null,null,null,null,null,{"$f":"RANK(W116,$W$116:$AA$116,1)","v":{"$error":"#N/A"}},{"$f":"RANK(X116,$W$116:$AA$116,1)","v":{"$error":"#N/A"}},{"$error":"#N/A"},{"$error":"#N/A"},{"$error":"#N/A"},null,{"$f":"RANK(AC116,$AC$116:$AG$116,1)","v":{"$error":"#N/A"}},{"$f":"RANK(AD116,$AC$116:$AG$116,1)","v":{"$error":"#N/A"}},{"$error":"#N/A"},{"$error":"#N/A"},{"$error":"#N/A"},"High Card/Fold",10,0,0,{"$error":"#DIV/0!"},{"$error":"#DIV/0!"},-0.1,{"$error":"#DIV/0!"},{"$error":"#DIV/0!"},-0.1,null,null,null,null,"Maverick",0.16562082767486574,5.4696500301361084E-3,null,null,null,null,null,null,null,null,null,null,null,null,null,null,{"$f":"EL13","v":"Three of a Kind"},null,null,null,{"$f":"EP13","v":{"$error":"#N/A"}},0,{"$error":"#N/A"},{"$error":"#N/A"},0,{"$error":"#N/A"}]
[null,null,null,null,null,null,null,null,null,null,null,null,null,null,13,null,null,null,null,null,null,null,{"$f":"[0]!Player21","v":0},{"$f":"$P$1","v":"♦K"},{"$f":"$Q$1","v":"♠3"},{"$f":"$S$1","v":"♣9"},{"$f":"$T$1","v":"♦Q"},null,{"$f":"[0]!Player31","v":0},{"$f":"$P$2","v":"♣7"},{"$f":"$Q$2","v":"♥J"},{"$f":"$S$2","v":"♥7"},{"$f":"$T$2","v":"♠A"},null,null,null,null,null,null,null,null,null,null,null,null,null,null,null,0.50516009330749512,0.55994027853012085,null,null,null,null,null,null,null,null,null,null,null,null,null,null,{"$f":"EW13","v":"Two Pair"},null,null,null,{"$f":"FA13","v":{"$error":"#N/A"}},0,{"$error":"#N/A"},{"$error":"#N/A"},0,{"$error":"#N/A"}]
[null,null,null,null,null,null,null,null,null,null,null,null,null,null,null,null,null,null,null,null,null,null,{"$f":"VLOOKUP(W110,$B$1:$F$52,5,0)","v":{"$error":"#N/A"}},{"$f":"VLOOKUP(X110,$B$1:$F$52,5,0)","v":13},{"$f":"VLOOKUP(Y110,$B$1:$F$52,5,0)","v":3},{"$f":"VLOOKUP(Z110,$B$1:$F$52,5,0)","v":9},{"$f":"VLOOKUP(AA110,$B$1:$F$52,5,0)","v":12},null,{"$f":"VLOOKUP(AC110,$B$1:$F$52,5,0)","v":{"$error":"#N/A"}},{"$f":"VLOOKUP(AD110,$B$1:$F$52,5,0)","v":7},{"$f":"VLOOKUP(AE110,$B$1:$F$52,5,0)","v":11},{"$f":"VLOOKUP(AF110,$B$1:$F$52,5,0)","v":7},{"$f":"VLOOKUP(AG110,$B$1:$F$52,5,0)","v":1},null,null,null,null,null,"Max. bet",{"$f":"VLOOKUP($AW$96,AM100:AN109,2,1)","v":1},null,"Max. bet",{"$f":"VLOOKUP($AX$96,AP100:AQ109,2,1)","v":1},null,null,null,null,null,"Call/Raise","Call/Raise",null,null,null,null,null,null,null,null,null,null,null,null,null,null,{"$f":"FH13","v":"One Pair"},null,null,null,{"$f":"FL13","v":{"$error":"#N/A"}},0,{"$error":"#N/A"},{"$error":"#N/A"},0,{"$error":"#N/A"}]
[null,null,null,null,null,null,null,null,null,null,null,null,null,null,null,null,null,null,null,null,null,null,{"$f":"VLOOKUP(W110,$B$1:$F$52,4,0)","v":{"$error":"#N/A"}},{"$f":"VLOOKUP(X110,$B$1:$F$52,4,0)","v":"D"},{"$f":"VLOOKUP(Y110,$B$1:$F$52,4,0)","v":"S"},{"$f":"VLOOKUP(Z110,$B$1:$F$52,4,0)","v":"C"},{"$f":"VLOOKUP(AA110,$B$1:$F$52,4,0)","v":"D"},null,{"$f":"VLOOKUP(AC110,$B$1:$F$52,4,0)","v":{"$error":"#N/A"}},{"$f":"VLOOKUP(AD110,$B$1:$F$52,4,0)","v":"C"},{"$f":"VLOOKUP(AE110,$B$1:$F$52,4,0)","v":"H"},{"$f":"VLOOKUP(AF110,$B$1:$F$52,4,0)","v":"H"},{"$f":"VLOOKUP(AG110,$B$1:$F$52,4,0)","v":"S"},null,null,null,null,null,null,null,null,null,null,null,null,null,null,"Bluffer",{"$f":"$AW$110*(AW98-AW105)","v":8.6834929497996427E-2},{"$f":"$AX$110*(AX98-AX105)","v":0.54973135399233186},null,null,null,null,null,null,null,null,null,null,null,null,null,null,{"$f":"FS13","v":"High Card"},null,null,null,{"$f":"FW13","v":{"$error":"#N/A"}},0,{"$error":"#N/A"},{"$error":"#N/A"},0,{"$error":"#N/A"}]
[null,null,null,null,null,null,null,null,null,null,null,null,null,null,null,null,null,null,null,null,null,null,{"$f":"HLOOKUP(W115,$W$109:$AA$112,3,0)","v":{"$error":"#N/A"}},{"$f":"HLOOKUP(X115,$W$109:$AA$112,3,0)","v":{"$error":"#N/A"}},{"$error":"#N/A"},{"$error":"#N/A"},{"$error":"#N/A"},null,{"$f":"HLOOKUP(AC115,$AC$109:$AG$112,3,0)","v":{"$error":"#N/A"}},{"$f":"HLOOKUP(AD115,$AC$109:$AG$112,3,0)","v":{"$error":"#N/A"}},{"$error":"#N/A"},{"$error":"#N/A"},{"$error":"#N/A"},"Tricker",null,"Utility (preference match)",null,null,null,null,null,null,null,null,null,null,null,"Rocker",{"$f":"$AW$110*(AW99-AW106)","v":8.6834929497996427E-2},{"$f":"$AX$110*(AX99-AX106)","v":0.54973135399233186}]
[null,null,null,null,null,null,null,null,null,null,null,null,null,null,null,null,null,null,null,null,null,null,{"$f":"HLOOKUP(W115,$W$109:$AA$112,4,0)","v":{"$error":"#N/A"}},{"$f":"HLOOKUP(X115,$W$109:$AA$112,4,0)","v":{"$error":"#N/A"}},{"$error":"#N/A"},{"$error":"#N/A"},{"$error":"#N/A"},null,{"$f":"HLOOKUP(AC115,$AC$109:$AG$112,4,0)","v":{"$error":"#N/A"}},{"$f":"HLOOKUP(AD115,$AC$109:$AG$112,4,0)","v":{"$error":"#N/A"}},{"$error":"#N/A"},{"$error":"#N/A"},{"$error":"#N/A"},"Deceiving factor",null,1,1,null,null,null,null,null,null,null,null,null,null,"Tricker",1.7366985899599278E-2,0.16491940619769954,null,null,null,null,null,null,null,null,null,null,null,null,null,11,{"$f":"BX14","v":"Royal Flush"},null,null,null,{"$f":"CB14","v":{"$error":"#N/A"}},{"$error":"#N/A"},{"$error":"#N/A"},{"$error":"#N/A"},{"$error":"#N/A"},{"$error":"#N/A"}]
[null,null,null,null,null,null,null,null,null,null,null,null,null,null,null,null,null,null,null,null,null,null,1,2,3,4,5,null,1,2,3,4,5,"Royal Flush",1,{"$f":"AW85+IF(AW85=0,AJ$114)","v":1},{"$f":"AX85+IF(AX85=0,AK$114)","v":1},{"$f":"AJ115/SUM($AJ$115:$AJ$124)","v":0.1},0,1,{"$f":"AK115/SUM($AK$115:$AK$124)","v":0.1},0,1,null,null,null,null,"Optimist",8.6834929497996427E-2,0.54973135399233186,null,null,null,null,null,null,null,null,null,null,null,null,null,null,{"$f":"CI14","v":"Straight Flush"},null,null,null,{"$f":"CM14","v":{"$error":"#N/A"}},{"$error":"#N/A"},{"$error":"#N/A"},{"$error":"#N/A"},{"$error":"#N/A"},{"$error":"#N/A"}]
[null,null,null,null,null,null,null,null,null,null,null,null,null,null,null,null,null,null,null,null,null,{"$f":"V111+IF(V111=1,13+RAND()^3,RAND()^3)","v":0.81210056961933319},{"$error":"#N/A"},13.128157644477739,3.4333713730799049,9.2684773469307178,12.00239333865037,9.5339074698026979E-3,{"$error":"#N/A"},7.0000353736128043,11.043441305912573,7.6003233913010027,14.000020903384565,"Straight Flush",2,{"$f":"AW86+IF(AW86=0,AJ$114)","v":1},1,{"$f":"AJ116/SUM($AJ$115:$AJ$124)","v":0.1},{"$f":"AL115+AM115","v":0.1},0.9,{"$f":"AK116/SUM($AK$115:$AK$124)","v":0.1},{"$f":"AO115+AP115","v":0.1},0.9,null,null,null,null,"Maverick",1.7366985899599278E-2,0.16491940619769954,null,null,null,null,null,null,null,null,null,null,null,null,null,null,{"$f":"CT14","v":"Four of a Kind"},null,null,null,{"$f":"CX14","v":{"$error":"#N/A"}},0,{"$error":"#N/A"},{"$error":"#N/A"},0,{"$error":"#N/A"}]
[null,null,null,null,null,null,null,null,null,null,null,null,null,null,null,null,null,null,null,null,null,null,null,null,null,null,null,null,null,null,null,null,null,"Four of a Kind",3,{"$f":"AW87+IF(AW87=0,AJ$114)","v":1},1,0.1,{"$f":"AL116+AM116","v":0.2},0.8,0.1,{"$f":"AO116+AP116","v":0.2},0.8,null,null,null,null,null,5.3504526615142822E-2,0.59245824813842773,null,null,null,null,null,null,null,null,null,null,null,null,null,null,{"$f":"DE14","v":"Full House"},null,null,null,{"$f":"DI14","v":{"$error":"#N/A"}},0,{"$error":"#N/A"},{"$error":"#N/A"},0,{"$error":"#N/A"}]
[null,null,null,null,null,null,null,null,null,null,null,null,null,null,null,null,null,null,null,null,null,null,{"$f":"RANK(W125,$W$125:$AA$125,1)","v":{"$error":"#N/A"}},{"$f":"RANK(X125,$W$125:$AA$125,1)","v":{"$error":"#N/A"}},{"$error":"#N/A"},{"$error":"#N/A"},{"$error":"#N/A"},null,{"$f":"RANK(AC125,$AC$125:$AG$125,1)","v":{"$error":"#N/A"}},{"$f":"RANK(AD125,$AC$125:$AG$125,1)","v":{"$error":"#N/A"}},{"$error":"#N/A"},{"$error":"#N/A"},{"$error":"#N/A"},"Full House",4,{"$f":"AW88+IF(AW88=0,AJ$114)","v":1},1,0.1,0.30000000000000004,0.6,0.1,0.30000000000000004,0.6,null,null,null,null,null,"Call/Raise","Call/Raise",null,null,null,null,null,null,null,null,null,null,null,null,null,null,{"$f":"DP14","v":"Flush"},null,null,null,{"$f":"DT14","v":{"$error":"#N/A"}},0,{"$error":"#N/A"},{"$error":"#N/A"},0,{"$error":"#N/A"}]
[null,null,null,null,null,null,null,null,null,null,null,null,null,null,14,null,null,null,null,null,null,null,{"$f":"[0]!Player21","v":0},{"$f":"$P$1","v":"♦K"},{"$f":"$R$1","v":"♥2"},{"$f":"$S$1","v":"♣9"},{"$f":"$T$1","v":"♦Q"},null,{"$f":"[0]!Player31","v":0},{"$f":"$P$2","v":"♣7"},{"$f":"$R$2","v":"♥9"},{"$f":"$S$2","v":"♥7"},{"$f":"$T$2","v":"♠A"},"Flush",5,{"$f":"AW89+IF(AW89=0,AJ$114)","v":1},1,0.1,0.4,0.5,0.1,0.4,0.5,null,null,null,null,"Bluffer",{"$f":"AW98-AW105-AW112","v":8.506093212767496E-2},{"$f":"AX98-AX105-AX112","v":0.43203647924054778},null,null,null,null,null,null,null,null,null,null,null,null,null,null,{"$f":"EA14","v":"Straight"},null,null,null,{"$f":"EE14","v":{"$error":"#N/A"}},{"$error":"#N/A"},{"$error":"#N/A"},{"$error":"#N/A"},{"$error":"#N/A"},{"$error":"#N/A"}]
[null,null,null,null,null,null,null,null,null,null,null,null,null,null,null,null,null,null,null,null,null,null,{"$f":"VLOOKUP(W119,$B$1:$F$52,5,0)","v":{"$error":"#N/A"}},{"$f":"VLOOKUP(X119,$B$1:$F$52,5,0)","v":13},{"$f":"VLOOKUP(Y119,$B$1:$F$52,5,0)","v":2},{"$f":"VLOOKUP(Z119,$B$1:$F$52,5,0)","v":9},{"$f":"VLOOKUP(AA119,$B$1:$F$52,5,0)","v":12},null,{"$f":"VLOOKUP(AC119,$B$1:$F$52,5,0)","v":{"$error":"#N/A"}},{"$f":"VLOOKUP(AD119,$B$1:$F$52,5,0)","v":7},{"$f":"VLOOKUP(AE119,$B$1:$F$52,5,0)","v":9},{"$f":"VLOOKUP(AF119,$B$1:$F$52,5,0)","v":7},{"$f":"VLOOKUP(AG119,$B$1:$F$52,5,0)","v":1},"Straight",6,{"$f":"AW90+IF(AW90=0,AJ$114)","v":1},1,0.1,0.5,0.4,0.1,0.5,0.4,null,null,null,null,"Rocker",{"$f":"AW99-AW106-AW113","v":8.506093212767496E-2},0.43203647924054778,null,null,null,null,null,null,null,null,null,null,null,null,null,null,{"$f":"EL14","v":"Three of a Kind"},null,null,null,{"$f":"EP14","v":{"$error":"#N/A"}},0,{"$error":"#N/A"},{"$error":"#N/A"},0,{"$error":"#N/A"}]
[null,null,null,null,null,null,null,null,null,null,null,null,null,null,null,null,null,null,null,null,null,null,{"$f":"VLOOKUP(W119,$B$1:$F$52,4,0)","v":{"$error":"#N/A"}},{"$f":"VLOOKUP(X119,$B$1:$F$52,4,0)","v":"D"},{"$f":"VLOOKUP(Y119,$B$1:$F$52,4,0)","v":"H"},{"$f":"VLOOKUP(Z119,$B$1:$F$52,4,0)","v":"C"},{"$f":"VLOOKUP(AA119,$B$1:$F$52,4,0)","v":"D"},null,{"$f":"VLOOKUP(AC119,$B$1:$F$52,4,0)","v":{"$error":"#N/A"}},{"$f":"VLOOKUP(AD119,$B$1:$F$52,4,0)","v":"C"},{"$f":"VLOOKUP(AE119,$B$1:$F$52,4,0)","v":"H"},{"$f":"VLOOKUP(AF119,$B$1:$F$52,4,0)","v":"H"},{"$f":"VLOOKUP(AG119,$B$1:$F$52,4,0)","v":"S"},"Three of a Kind",7,{"$f":"AW91+IF(AW91=0,AJ$114)","v":1},1,0.1,0.6,0.3,0.1,0.6,0.3,null,null,null,null,"Tricker",1.7012186425534988E-2,0.12961094377216434,null,null,null,null,null,null,null,null,null,null,null,null,null,null,{"$f":"EW14","v":"Two Pair"},null,null,null,{"$f":"FA14","v":{"$error":"#N/A"}},0,{"$error":"#N/A"},{"$error":"#N/A"},0,{"$error":"#N/A"}]
[null,null,null,null,null,null,null,null,null,null,null,null,null,null,null,null,null,null,null,null,null,null,{"$f":"HLOOKUP(W124,$W$118:$AA$121,3,0)","v":{"$error":"#N/A"}},{"$f":"HLOOKUP(X124,$W$118:$AA$121,3,0)","v":{"$error":"#N/A"}},{"$error":"#N/A"},{"$error":"#N/A"},{"$error":"#N/A"},null,{"$f":"HLOOKUP(AC124,$AC$118:$AG$121,3,0)","v":{"$error":"#N/A"}},{"$f":"HLOOKUP(AD124,$AC$118:$AG$121,3,0)","v":{"$error":"#N/A"}},{"$error":"#N/A"},{"$error":"#N/A"},{"$error":"#N/A"},"Two Pair",8,{"$f":"AW92+IF(AW92=0,AJ$114)","v":1},1,0.1,0.7,0.2,0.1,0.7,0.2,null,null,null,null,"Optimist",8.506093212767496E-2,0.43203647924054778,null,null,null,null,null,null,null,null,null,null,null,null,null,null,{"$f":"FH14","v":"One Pair"},null,null,null,{"$f":"FL14","v":{"$error":"#N/A"}},0,{"$error":"#N/A"},{"$error":"#N/A"},0,{"$error":"#N/A"}]
[null,null,null,null,null,null,null,null,null,null,null,null,null,null,null,null,null,null,null,null,null,null,{"$f":"HLOOKUP(W124,$W$118:$AA$121,4,0)","v":{"$error":"#N/A"}},{"$f":"HLOOKUP(X124,$W$118:$AA$121,4,0)","v":{"$error":"#N/A"}},{"$error":"#N/A"},{"$error":"#N/A"},{"$error":"#N/A"},null,{"$f":"HLOOKUP(AC124,$AC$118:$AG$121,4,0)","v":{"$error":"#N/A"}},{"$f":"HLOOKUP(AD124,$AC$118:$AG$121,4,0)","v":{"$error":"#N/A"}},{"$error":"#N/A"},{"$error":"#N/A"},{"$error":"#N/A"},"One Pair/Check",9,{"$f":"AW93+IF(AW93=0,AJ$114)","v":1},1,0.1,0.79999999999999993,0,0.1,0.79999999999999993,0,null,null,null,null,"Maverick",1.7012186425534988E-2,0.12961094377216434,null,null,null,null,null,null,null,null,null,null,null,null,null,null,{"$f":"FS14","v":"High Card"},null,null,null,{"$f":"FW14","v":{"$error":"#N/A"}},0,{"$error":"#N/A"},{"$error":"#N/A"},0,{"$error":"#N/A"}]
[null,null,null,null,null,null,null,null,null,null,null,null,null,null,null,null,null,null,null,null,null,null,1,2,3,4,5,null,1,2,3,4,5,"High Card/Fold",10,{"$f":"AW94+IF(AW94=0,AJ$114)","v":1},1,0.1,0.89999999999999991,-0.1,0.1,0.89999999999999991,-0.1]
[null,null,null,null,null,null,null,null,null,null,null,null,null,null,null,null,null,null,null,null,null,{"$f":"V120+IF(V120=1,13+RAND()^3,RAND()^3)","v":1.8382416531299177E-2},{"$error":"#N/A"},13.392578866539749,2.7691809107584096,9.0021285825698474,12.010227967680233,0.28168417845553656,{"$error":"#N/A"},7.0082950668885742,9.000151595525038,7.0363618270118451,14.116242656998166,null,null,null,null,null,null,null,null,null,null,null,null,null,null,null,null,null,null,null,null,null,null,null,null,null,null,null,null,null,null,12,{"$f":"BX15","v":"Royal Flush"},null,null,null,{"$f":"CB15","v":{"$error":"#N/A"}},{"$error":"#N/A"},{"$error":"#N/A"},{"$error":"#N/A"},{"$error":"#N/A"},{"$error":"#N/A"}]
[null,null,null,null,null,null,null,null,null,null,null,null,null,null,null,null,null,null,null,null,null,null,null,null,null,null,null,null,null,null,null,null,null,null,null,null,null,null,"Max. bet",{"$f":"VLOOKUP($AW$96,AM115:AN124,2,1)","v":0.2},null,"Max. bet",{"$f":"VLOOKUP($AX$96,AP115:AQ124,2,1)","v":0.3},null,null,null,null,null,null,null,null,null,null,null,null,null,null,null,null,null,null,null,null,null,{"$f":"CI15","v":"Straight Flush"},null,null,null,{"$f":"CM15","v":{"$error":"#N/A"}},{"$error":"#N/A"},{"$error":"#N/A"},{"$error":"#N/A"},{"$error":"#N/A"},{"$error":"#N/A"}]
[null,null,null,null,null,null,null,null,null,null,null,null,null,null,null,null,null,null,null,null,null,null,{"$f":"RANK(W134,$W$134:$AA$134,1)","v":{"$error":"#N/A"}},{"$f":"RANK(X134,$W$134:$AA$134,1)","v":{"$error":"#N/A"}},{"$error":"#N/A"},{"$error":"#N/A"},{"$error":"#N/A"},null,{"$f":"RANK(AC134,$AC$134:$AG$134,1)","v":{"$error":"#N/A"}},{"$f":"RANK(AD134,$AC$134:$AG$134,1)","v":{"$error":"#N/A"}},{"$error":"#N/A"},{"$error":"#N/A"},{"$error":"#N/A"},null,null,null,null,null,null,null,null,null,null,null,null,null,null,null,null,null,null,null,null,null,null,null,null,null,null,null,null,null,null,null,{"$f":"CT15","v":"Four of a Kind"},null,null,null,{"$f":"CX15","v":{"$error":"#N/A"}},0,{"$error":"#N/A"},{"$error":"#N/A"},0,{"$error":"#N/A"}]
[null,null,null,null,null,null,null,null,null,null,null,null,null,null,15,null,null,null,null,null,null,null,{"$f":"[0]!Player21","v":0},{"$f":"$Q$1","v":"♠3"},{"$f":"$R$1","v":"♥2"},{"$f":"$S$1","v":"♣9"},{"$f":"$T$1","v":"♦Q"},null,{"$f":"[0]!Player31","v":0},{"$f":"$Q$2","v":"♥J"},{"$f":"$R$2","v":"♥9"},{"$f":"$S$2","v":"♥7"},{"$f":"$T$2","v":"♠A"},"Optimist",null,"Utility (preference match)",null,null,null,null,null,null,null,null,null,null,null,null,null,null,null,null,null,null,null,null,null,null,null,null,null,null,null,null,{"$f":"DE15","v":"Full House"},null,null,null,{"$f":"DI15","v":{"$error":"#N/A"}},0,{"$error":"#N/A"},{"$error":"#N/A"},0,{"$error":"#N/A"}]
[null,null,null,null,null,null,null,null,null,null,null,null,null,null,null,null,null,null,null,null,null,null,{"$f":"VLOOKUP(W128,$B$1:$F$52,5,0)","v":{"$error":"#N/A"}},{"$f":"VLOOKUP(X128,$B$1:$F$52,5,0)","v":3},{"$f":"VLOOKUP(Y128,$B$1:$F$52,5,0)","v":2},{"$f":"VLOOKUP(Z128,$B$1:$F$52,5,0)","v":9},{"$f":"VLOOKUP(AA128,$B$1:$F$52,5,0)","v":12},null,{"$f":"VLOOKUP(AC128,$B$1:$F$52,5,0)","v":{"$error":"#N/A"}},{"$f":"VLOOKUP(AD128,$B$1:$F$52,5,0)","v":11},{"$f":"VLOOKUP(AE128,$B$1:$F$52,5,0)","v":9},{"$f":"VLOOKUP(AF128,$B$1:$F$52,5,0)","v":7},{"$f":"VLOOKUP(AG128,$B$1:$F$52,5,0)","v":1},"Deceiving factor",null,{"$f":"AJ84","v":0},{"$f":"AK84","v":0},null,null,null,null,null,null,null,null,null,null,null,null,null,null,null,null,null,null,null,null,null,null,null,null,null,null,null,{"$f":"DP15","v":"Flush"},null,null,null,{"$f":"DT15","v":{"$error":"#N/A"}},0,{"$error":"#N/A"},{"$error":"#N/A"},0,{"$error":"#N/A"}]
[null,null,null,null,null,null,null,null,null,null,null,null,null,null,null,null,null,null,null,null,null,null,{"$f":"VLOOKUP(W128,$B$1:$F$52,4,0)","v":{"$error":"#N/A"}},{"$f":"VLOOKUP(X128,$B$1:$F$52,4,0)","v":"S"},{"$f":"VLOOKUP(Y128,$B$1:$F$52,4,0)","v":"H"},{"$f":"VLOOKUP(Z128,$B$1:$F$52,4,0)","v":"C"},{"$f":"VLOOKUP(AA128,$B$1:$F$52,4,0)","v":"D"},null,{"$f":"VLOOKUP(AC128,$B$1:$F$52,4,0)","v":{"$error":"#N/A"}},{"$f":"VLOOKUP(AD128,$B$1:$F$52,4,0)","v":"H"},{"$f":"VLOOKUP(AE128,$B$1:$F$52,4,0)","v":"H"},{"$f":"VLOOKUP(AF128,$B$1:$F$52,4,0)","v":"H"},{"$f":"VLOOKUP(AG128,$B$1:$F$52,4,0)","v":"S"},"Royal Flush",1,{"$f":"AW85+IF(AW85=0,AJ$129)","v":0},{"$f":"AX85+IF(AX85=0,AK$129)","v":0},{"$f":"AJ130/SUM($AJ$130:$AJ$138)","v":{"$error":"#DIV/0!"}},0,1,{"$f":"AK130/SUM($AK$130:$AK$138)","v":{"$error":"#DIV/0!"}},0,1,null,null,null,null,null,null,null,null,null,null,null,null,null,null,null,null,null,null,null,null,null,{"$f":"EA15","v":"Straight"},null,null,null,{"$f":"EE15","v":{"$error":"#N/A"}},{"$error":"#N/A"},{"$error":"#N/A"},{"$error":"#N/A"},{"$error":"#N/A"},{"$error":"#N/A"}]
[null,null,null,null,null,null,null,null,null,null,null,null,null,null,null,null,null,null,null,null,null,null,{"$f":"HLOOKUP(W133,$W$127:$AA$130,3,0)","v":{"$error":"#N/A"}},{"$f":"HLOOKUP(X133,$W$127:$AA$130,3,0)","v":{"$error":"#N/A"}},{"$error":"#N/A"},{"$error":"#N/A"},{"$error":"#N/A"},null,{"$f":"HLOOKUP(AC133,$AC$127:$AG$130,3,0)","v":{"$error":"#N/A"}},{"$f":"HLOOKUP(AD133,$AC$127:$AG$130,3,0)","v":{"$error":"#N/A"}},{"$error":"#N/A"},{"$error":"#N/A"},{"$error":"#N/A"},"Straight Flush",2,{"$f":"AW86+IF(AW86=0,AJ$129)","v":0},0,{"$f":"AJ131/SUM($AJ$130:$AJ$138)","v":{"$error":"#DIV/0!"}},{"$f":"AL130+AM130","v":{"$error":"#DIV/0!"}},0.9,{"$f":"AK131/SUM($AK$130:$AK$138)","v":{"$error":"#DIV/0!"}},{"$f":"AO130+AP130","v":{"$error":"#DIV/0!"}},0.9,null,null,null,null,null,null,null,null,null,null,null,null,null,null,null,null,null,null,null,null,null,{"$f":"EL15","v":"Three of a Kind"},null,null,null,{"$f":"EP15","v":{"$error":"#N/A"}},0,{"$error":"#N/A"},{"$error":"#N/A"},0,{"$error":"#N/A"}]
[null,null,null,null,null,null,null,null,null,null,null,null,null,null,null,null,null,null,null,null,null,null,{"$f":"HLOOKUP(W133,$W$127:$AA$130,4,0)","v":{"$error":"#N/A"}},{"$f":"HLOOKUP(X133,$W$127:$AA$130,4,0)","v":{"$error":"#N/A"}},{"$error":"#N/A"},{"$error":"#N/A"},{"$error":"#N/A"},null,{"$f":"HLOOKUP(AC133,$AC$127:$AG$130,4,0)","v":{"$error":"#N/A"}},{"$f":"HLOOKUP(AD133,$AC$127:$AG$130,4,0)","v":{"$error":"#N/A"}},{"$error":"#N/A"},{"$error":"#N/A"},{"$error":"#N/A"},"Four of a Kind",3,{"$f":"AW87+IF(AW87=0,AJ$129)","v":0},0,{"$error":"#DIV/0!"},{"$f":"AL131+AM131","v":{"$error":"#DIV/0!"}},0.8,{"$error":"#DIV/0!"},{"$f":"AO131+AP131","v":{"$error":"#DIV/0!"}},0.8,null,null,null,null,null,null,null,null,null,null,null,null,null,null,null,null,null,null,null,null,null,{"$f":"EW15","v":"Two Pair"},null,null,null,{"$f":"FA15","v":{"$error":"#N/A"}},0,{"$error":"#N/A"},{"$error":"#N/A"},0,{"$error":"#N/A"}]
[null,null,null,null,null,null,null,null,null,null,null,null,null,null,null,null,null,null,null,null,null,null,1,2,3,4,5,null,1,2,3,4,5,"Full House",4,{"$f":"AW88+IF(AW88=0,AJ$129)","v":0},0,{"$error":"#DIV/0!"},{"$error":"#DIV/0!"},0.6,{"$error":"#DIV/0!"},{"$error":"#DIV/0!"},0.6,null,null,null,null,null,null,null,null,null,null,null,null,null,null,null,null,null,null,null,null,null,{"$f":"FH15","v":"One Pair"},null,null,null,{"$error":"#N/A"},0,{"$error":"#N/A"},{"$error":"#N/A"},0,{"$error":"#N/A"}]
[null,null,null,null,null,null,null,null,null,null,null,null,null,null,null,null,null,null,null,null,null,{"$f":"V129+IF(V129=1,13+RAND()^3,RAND()^3)","v":0.51396398777668606},{"$error":"#N/A"},3.1351893086508951,2.0165091638504649,9.0432001077704065,12.687129048390407,0.22716219824528194,{"$error":"#N/A"},11.779473970369127,9.0008920584242009,7.0022685844787667,14.977924250755441,"Flush",5,{"$f":"AW89+IF(AW89=0,AJ$129)","v":0},0,{"$error":"#DIV/0!"},{"$error":"#DIV/0!"},0.5,{"$error":"#DIV/0!"},{"$error":"#DIV/0!"},0.5,null,null,null,null,null,null,null,null,null,null,null,null,null,null,null,null,null,null,null,null,null,{"$f":"FS15","v":"High Card"},null,null,null,{"$f":"FW15","v":{"$error":"#N/A"}},0,{"$error":"#N/A"},{"$error":"#N/A"},0,{"$error":"#N/A"}]
[null,null,null,null,null,null,null,null,null,null,null,null,null,null,null,null,null,null,null,null,null,null,null,null,null,null,null,null,null,null,null,null,null,"Straight",6,{"$f":"AW90+IF(AW90=0,AJ$129)","v":0},0,{"$error":"#DIV/0!"},{"$error":"#DIV/0!"},0.4,{"$error":"#DIV/0!"},{"$error":"#DIV/0!"},0.4]
[null,null,null,null,null,null,null,null,null,null,null,null,null,null,null,null,null,null,null,null,null,null,{"$f":"RANK(W143,$W$143:$AA$143,1)","v":{"$error":"#N/A"}},{"$f":"RANK(X143,$W$143:$AA$143,1)","v":{"$error":"#N/A"}},{"$error":"#N/A"},{"$error":"#N/A"},{"$error":"#N/A"},null,{"$f":"RANK(AC143,$AC$143:$AG$143,1)","v":{"$error":"#N/A"}},{"$f":"RANK(AD143,$AC$143:$AG$143,1)","v":{"$error":"#N/A"}},{"$error":"#N/A"},{"$error":"#N/A"},{"$error":"#N/A"},"Three of a Kind",7,{"$f":"AW91+IF(AW91=0,AJ$129)","v":0},0,{"$error":"#DIV/0!"},{"$error":"#DIV/0!"},0.3,{"$error":"#DIV/0!"},{"$error":"#DIV/0!"},0.3,null,null,null,null,null,null,null,null,null,null,null,null,null,null,null,null,null,null,null,null,13,{"$f":"BX16","v":"Royal Flush"},null,null,null,{"$f":"CB16","v":{"$error":"#N/A"}},{"$error":"#N/A"},{"$error":"#N/A"},{"$error":"#N/A"},{"$error":"#N/A"},{"$error":"#N/A"}]
[null,null,null,null,null,null,null,null,null,null,null,null,null,null,16,null,null,null,null,null,null,null,{"$f":"[0]!Player22","v":0},{"$f":"$P$1","v":"♦K"},{"$f":"$Q$1","v":"♠3"},{"$f":"$R$1","v":"♥2"},{"$f":"$S$1","v":"♣9"},null,{"$f":"[0]!Player32","v":0},{"$f":"$P$2","v":"♣7"},{"$f":"$Q$2","v":"♥J"},{"$f":"$R$2","v":"♥9"},{"$f":"$S$2","v":"♥7"},"Two Pair",8,{"$f":"AW92+IF(AW92=0,AJ$129)","v":0},0,{"$error":"#DIV/0!"},{"$error":"#DIV/0!"},0.2,{"$error":"#DIV/0!"},{"$error":"#DIV/0!"},0.2,null,null,null,null,null,null,null,null,null,null,null,null,null,null,null,null,null,null,null,null,null,{"$f":"CI16","v":"Straight Flush"},null,null,null,{"$f":"CM16","v":{"$error":"#N/A"}},{"$error":"#N/A"},{"$error":"#N/A"},{"$error":"#N/A"},{"$error":"#N/A"},{"$error":"#N/A"}]
[null,null,null,null,null,null,null,null,null,null,null,null,null,null,null,null,null,null,null,null,null,null,{"$f":"VLOOKUP(W137,$B$1:$F$52,5,0)","v":{"$error":"#N/A"}},{"$f":"VLOOKUP(X137,$B$1:$F$52,5,0)","v":13},{"$f":"VLOOKUP(Y137,$B$1:$F$52,5,0)","v":3},{"$f":"VLOOKUP(Z137,$B$1:$F$52,5,0)","v":2},{"$f":"VLOOKUP(AA137,$B$1:$F$52,5,0)","v":9},null,{"$f":"VLOOKUP(AC137,$B$1:$F$52,5,0)","v":{"$error":"#N/A"}},{"$f":"VLOOKUP(AD137,$B$1:$F$52,5,0)","v":7},{"$f":"VLOOKUP(AE137,$B$1:$F$52,5,0)","v":11},{"$f":"VLOOKUP(AF137,$B$1:$F$52,5,0)","v":9},{"$f":"VLOOKUP(AG137,$B$1:$F$52,5,0)","v":7},"One Pair/Check",9,{"$f":"AW93+IF(AW93=0,AJ$129)","v":0},0,{"$error":"#DIV/0!"},{"$error":"#DIV/0!"},0,{"$error":"#DIV/0!"},{"$error":"#DIV/0!"},0,null,null,null,null,null,null,null,null,null,null,null,null,null,null,null,null,null,null,null,null,null,{"$f":"CT16","v":"Four of a Kind"},null,null,null,{"$f":"CX16","v":{"$error":"#N/A"}},0,{"$error":"#N/A"},{"$error":"#N/A"},0,{"$error":"#N/A"}]
[null,null,null,null,null,null,null,null,null,null,null,null,null,null,null,null,null,null,null,null,null,null,{"$f":"VLOOKUP(W137,$B$1:$F$52,4,0)","v":{"$error":"#N/A"}},{"$f":"VLOOKUP(X137,$B$1:$F$52,4,0)","v":"D"},{"$f":"VLOOKUP(Y137,$B$1:$F$52,4,0)","v":"S"},{"$f":"VLOOKUP(Z137,$B$1:$F$52,4,0)","v":"H"},{"$f":"VLOOKUP(AA137,$B$1:$F$52,4,0)","v":"C"},null,{"$f":"VLOOKUP(AC137,$B$1:$F$52,4,0)","v":{"$error":"#N/A"}},{"$f":"VLOOKUP(AD137,$B$1:$F$52,4,0)","v":"C"},{"$f":"VLOOKUP(AE137,$B$1:$F$52,4,0)","v":"H"},{"$f":"VLOOKUP(AF137,$B$1:$F$52,4,0)","v":"H"},{"$f":"VLOOKUP(AG137,$B$1:$F$52,4,0)","v":"H"},"High Card/Fold",10,{"$f":"AW94+IF(AW94=0,AJ$129)","v":0},0,null,{"$error":"#DIV/0!"},-0.1,null,{"$error":"#DIV/0!"},-0.1,null,null,null,null,null,null,null,null,null,null,null,null,null,null,null,null,null,null,null,null,null,{"$f":"DE16","v":"Full House"},null,null,null,{"$f":"DI16","v":{"$error":"#N/A"}},0,{"$error":"#N/A"},{"$error":"#N/A"},0,{"$error":"#N/A"}]
[null,null,null,null,null,null,null,null,null,null,null,null,null,null,null,null,null,null,null,null,null,null,{"$f":"HLOOKUP(W142,$W$136:$AA$139,3,0)","v":{"$error":"#N/A"}},{"$f":"HLOOKUP(X142,$W$136:$AA$139,3,0)","v":{"$error":"#N/A"}},{"$error":"#N/A"},{"$error":"#N/A"},{"$error":"#N/A"},null,{"$f":"HLOOKUP(AC142,$AC$136:$AG$139,3,0)","v":{"$error":"#N/A"}},{"$f":"HLOOKUP(AD142,$AC$136:$AG$139,3,0)","v":{"$error":"#N/A"}},{"$error":"#N/A"},{"$error":"#N/A"},{"$error":"#N/A"},null,null,null,null,null,null,null,null,null,null,null,null,null,null,null,null,null,null,null,null,null,null,null,null,null,null,null,null,null,null,null,{"$f":"DP16","v":"Flush"},null,null,null,{"$f":"DT16","v":{"$error":"#N/A"}},0,{"$error":"#N/A"},{"$error":"#N/A"},0,{"$error":"#N/A"}]
[null,null,null,null,null,null,null,null,null,null,null,null,null,null,null,null,null,null,null,null,null,null,{"$f":"HLOOKUP(W142,$W$136:$AA$139,4,0)","v":{"$error":"#N/A"}},{"$f":"HLOOKUP(X142,$W$136:$AA$139,4,0)","v":{"$error":"#N/A"}},{"$error":"#N/A"},{"$error":"#N/A"},{"$error":"#N/A"},null,{"$f":"HLOOKUP(AC142,$AC$136:$AG$139,4,0)","v":{"$error":"#N/A"}},{"$f":"HLOOKUP(AD142,$AC$136:$AG$139,4,0)","v":{"$error":"#N/A"}},{"$error":"#N/A"},{"$error":"#N/A"},{"$error":"#N/A"},null,null,null,null,null,"Max. bet",{"$f":"VLOOKUP($AW$96,AM130:AN138,2,1)","v":1},null,"Max. bet",{"$f":"VLOOKUP($AX$96,AP130:AQ138,2,1)","v":1},null,null,null,null,null,null,null,null,null,null,null,null,null,null,null,null,null,null,null,null,null,{"$f":"EA16","v":"Straight"},null,null,null,{"$f":"EE16","v":{"$error":"#N/A"}},{"$error":"#N/A"},{"$error":"#N/A"},{"$error":"#N/A"},{"$error":"#N/A"},{"$error":"#N/A"}]
[null,null,null,null,null,null,null,null,null,null,null,null,null,null,null,null,null,null,null,null,null,null,1,2,3,4,5,null,1,2,3,4,5,null,null,null,null,null,null,null,null,null,null,null,null,null,null,null,null,null,null,null,null,null,null,null,null,null,null,null,null,null,null,null,{"$f":"EL16","v":"Three of a Kind"},null,null,null,{"$f":"EP16","v":{"$error":"#N/A"}},0,{"$error":"#N/A"},{"$error":"#N/A"},0,{"$error":"#N/A"}]
[null,null,null,null,null,null,null,null,null,null,null,null,null,null,null,null,null,null,null,null,null,{"$f":"V138+IF(V138=1,13+RAND()^3,RAND()^3)","v":0.51747960959872852},{"$error":"#N/A"},13.036924453024694,3.0731472183220157,2.0000021806731323,9.0003281373490793,0.25614650258165084,{"$error":"#N/A"},7.4989235582333436,11.005091111635782,9.0068124546087507,7.20519844122789,"Maverick",null,"Utility (preference match)",null,null,null,null,null,null,null,null,null,null,null,null,null,null,null,null,null,null,null,null,null,null,null,null,null,null,null,null,{"$f":"EW16","v":"Two Pair"},null,null,null,{"$f":"FA16","v":{"$error":"#N/A"}},0,{"$error":"#N/A"},{"$error":"#N/A"},0,{"$error":"#N/A"}]
[null,null,null,null,null,null,null,null,null,null,null,null,null,null,null,null,null,null,null,null,null,null,null,null,null,null,null,null,null,null,null,null,null,"Deceiving factor",null,0.2,0.2,null,null,null,null,null,null,null,null,null,null,null,null,null,null,null,null,null,null,null,null,null,null,null,null,null,null,null,{"$f":"FH16","v":"One Pair"},null,null,null,{"$f":"FL16","v":{"$error":"#N/A"}},0,{"$error":"#N/A"},{"$error":"#N/A"},0,{"$error":"#N/A"}]
[null,null,null,null,null,null,null,null,null,null,null,null,null,null,null,null,null,null,null,null,null,null,{"$f":"RANK(W152,$W$152:$AA$152,1)","v":{"$error":"#N/A"}},{"$f":"RANK(X152,$W$152:$AA$152,1)","v":{"$error":"#N/A"}},{"$error":"#N/A"},{"$error":"#N/A"},{"$error":"#N/A"},null,{"$f":"RANK(AC152,$AC$152:$AG$152,1)","v":{"$error":"#N/A"}},{"$f":"RANK(AD152,$AC$152:$AG$152,1)","v":{"$error":"#N/A"}},{"$error":"#N/A"},{"$error":"#N/A"},{"$error":"#N/A"},"Royal Flush",1,{"$f":"AW85+IF(AW85=0,AJ$144)","v":0.2},{"$f":"AX85+IF(AX85=0,AK$144)","v":0.2},{"$f":"AJ145/SUM($AJ$145:$AJ$154)","v":0.10000000000000002},0,1,{"$f":"AK145/SUM($AK$145:$AK$154)","v":0.10000000000000002},0,1,null,null,null,null,null,null,null,null,null,null,null,null,null,null,null,null,null,null,null,null,null,{"$f":"FS16","v":"High Card"},null,null,null,{"$f":"FW16","v":{"$error":"#N/A"}},0,{"$error":"#N/A"},{"$error":"#N/A"},0,{"$error":"#N/A"}]
[null,null,null,null,null,null,null,null,null,null,null,null,null,null,17,null,null,null,null,null,null,null,{"$f":"[0]!Player22","v":0},{"$f":"$P$1","v":"♦K"},{"$f":"$Q$1","v":"♠3"},{"$f":"$R$1","v":"♥2"},{"$f":"$T$1","v":"♦Q"},null,{"$f":"[0]!Player32","v":0},{"$f":"$P$2","v":"♣7"},{"$f":"$Q$2","v":"♥J"},{"$f":"$R$2","v":"♥9"},{"$f":"$T$2","v":"♠A"},"Straight Flush",2,{"$f":"AW86+IF(AW86=0,AJ$144)","v":0.2},{"$f":"AX86+IF(AX86=0,AK$144)","v":0.2},{"$f":"AJ146/SUM($AJ$145:$AJ$154)","v":0.10000000000000002},{"$f":"AL145+AM145","v":0.10000000000000002},0.9,{"$f":"AK146/SUM($AK$145:$AK$154)","v":0.10000000000000002},{"$f":"AO145+AP145","v":0.10000000000000002},0.9]
[null,null,null,null,null,null,null,null,null,null,null,null,null,null,null,null,null,null,null,null,null,null,{"$f":"VLOOKUP(W146,$B$1:$F$52,5,0)","v":{"$error":"#N/A"}},{"$f":"VLOOKUP(X146,$B$1:$F$52,5,0)","v":13},{"$f":"VLOOKUP(Y146,$B$1:$F$52,5,0)","v":3},{"$f":"VLOOKUP(Z146,$B$1:$F$52,5,0)","v":2},{"$f":"VLOOKUP(AA146,$B$1:$F$52,5,0)","v":12},null,{"$f":"VLOOKUP(AC146,$B$1:$F$52,5,0)","v":{"$error":"#N/A"}},{"$f":"VLOOKUP(AD146,$B$1:$F$52,5,0)","v":7},{"$f":"VLOOKUP(AE146,$B$1:$F$52,5,0)","v":11},{"$f":"VLOOKUP(AF146,$B$1:$F$52,5,0)","v":9},{"$f":"VLOOKUP(AG146,$B$1:$F$52,5,0)","v":1},"Four of a Kind",3,0.2,0.2,0.10000000000000002,{"$f":"AL146+AM146","v":0.20000000000000004},0.8,0.10000000000000002,{"$f":"AO146+AP146","v":0.20000000000000004},0.8,null,null,null,null,null,null,null,null,null,null,null,null,null,null,null,null,null,null,null,null,14,{"$f":"BX17","v":"Royal Flush"},null,null,null,{"$f":"CB17","v":{"$error":"#N/A"}},{"$error":"#N/A"},{"$error":"#N/A"},{"$error":"#N/A"},{"$error":"#N/A"},{"$error":"#N/A"}]
[null,null,null,null,null,null,null,null,null,null,null,null,null,null,null,null,null,null,null,null,null,null,{"$f":"VLOOKUP(W146,$B$1:$F$52,4,0)","v":{"$error":"#N/A"}},{"$f":"VLOOKUP(X146,$B$1:$F$52,4,0)","v":"D"},{"$f":"VLOOKUP(Y146,$B$1:$F$52,4,0)","v":"S"},{"$f":"VLOOKUP(Z146,$B$1:$F$52,4,0)","v":"H"},{"$f":"VLOOKUP(AA146,$B$1:$F$52,4,0)","v":"D"},null,{"$f":"VLOOKUP(AC146,$B$1:$F$52,4,0)","v":{"$error":"#N/A"}},{"$f":"VLOOKUP(AD146,$B$1:$F$52,4,0)","v":"C"},{"$f":"VLOOKUP(AE146,$B$1:$F$52,4,0)","v":"H"},{"$f":"VLOOKUP(AF146,$B$1:$F$52,4,0)","v":"H"},{"$f":"VLOOKUP(AG146,$B$1:$F$52,4,0)","v":"S"},"Full House",4,0.2,0.2,0.10000000000000002,0.30000000000000004,0.6,0.10000000000000002,0.30000000000000004,0.6,null,null,null,null,null,null,null,null,null,null,null,null,null,null,null,null,null,null,null,null,null,{"$f":"CI17","v":"Straight Flush"},null,null,null,{"$f":"CM17","v":{"$error":"#N/A"}},{"$error":"#N/A"},{"$error":"#N/A"},{"$error":"#N/A"},{"$error":"#N/A"},{"$error":"#N/A"}]
[null,null,null,null,null,null,null,null,null,null,null,null,null,null,null,null,null,null,null,null,null,null,{"$f":"HLOOKUP(W151,$W$145:$AA$148,3,0)","v":{"$error":"#N/A"}},{"$f":"HLOOKUP(X151,$W$145:$AA$148,3,0)","v":{"$error":"#N/A"}},{"$error":"#N/A"},{"$error":"#N/A"},{"$error":"#N/A"},null,{"$f":"HLOOKUP(AC151,$AC$145:$AG$148,3,0)","v":{"$error":"#N/A"}},{"$f":"HLOOKUP(AD151,$AC$145:$AG$148,3,0)","v":{"$error":"#N/A"}},{"$error":"#N/A"},{"$error":"#N/A"},{"$error":"#N/A"},"Flush",5,0.2,0.2,0.10000000000000002,0.40000000000000008,0.5,0.10000000000000002,0.40000000000000008,0.5,null,null,null,null,null,null,null,null,null,null,null,null,null,null,null,null,null,null,null,null,null,{"$f":"CT17","v":"Four of a Kind"},null,null,null,{"$f":"CX17","v":{"$error":"#N/A"}},0,{"$error":"#N/A"},{"$error":"#N/A"},0,{"$error":"#N/A"}]
[null,null,null,null,null,null,null,null,null,null,null,null,null,null,null,null,null,null,null,null,null,null,{"$f":"HLOOKUP(W151,$W$145:$AA$148,4,0)","v":{"$error":"#N/A"}},{"$f":"HLOOKUP(X151,$W$145:$AA$148,4,0)","v":{"$error":"#N/A"}},{"$error":"#N/A"},{"$error":"#N/A"},{"$error":"#N/A"},null,{"$f":"HLOOKUP(AC151,$AC$145:$AG$148,4,0)","v":{"$error":"#N/A"}},{"$f":"HLOOKUP(AD151,$AC$145:$AG$148,4,0)","v":{"$error":"#N/A"}},{"$error":"#N/A"},{"$error":"#N/A"},{"$error":"#N/A"},"Straight",6,0.2,0.2,0.10000000000000002,0.50000000000000011,0.4,0.10000000000000002,0.50000000000000011,0.4,null,null,null,null,null,null,null,null,null,null,null,null,null,null,null,null,null,null,null,null,null,{"$f":"DE17","v":"Full House"},null,null,null,{"$f":"DI17","v":{"$error":"#N/A"}},0,{"$error":"#N/A"},{"$error":"#N/A"},0,{"$error":"#N/A"}]
[null,null,null,null,null,null,null,null,null,null,null,null,null,null,null,null,null,null,null,null,null,null,1,2,3,4,5,null,1,2,3,4,5,"Three of a Kind",7,0.2,0.2,0.10000000000000002,0.60000000000000009,0.3,0.10000000000000002,0.60000000000000009,0.3,null,null,null,null,null,null,null,null,null,null,null,null,null,null,null,null,null,null,null,null,null,{"$f":"DP17","v":"Flush"},null,null,null,{"$f":"DT17","v":{"$error":"#N/A"}},0,{"$error":"#N/A"},{"$error":"#N/A"},0,{"$error":"#N/A"}]
[null,null,null,null,null,null,null,null,null,null,null,null,null,null,null,null,null,null,null,null,null,{"$f":"V147+IF(V147=1,13+RAND()^3,RAND()^3)","v":5.9764761948288551E-2},{"$error":"#N/A"},13.009777574152592,3.2126219773056759,2.7029452218887324,12.014234098708814,0.12033598641450956,{"$error":"#N/A"},7.179138237084782,11.771128670740042,9.0231015446135743,14.000491673278283,"Two Pair",8,0.2,0.2,0.10000000000000002,0.70000000000000007,0.2,0.10000000000000002,0.70000000000000007,0.2,null,null,null,null,null,null,null,null,null,null,null,null,null,null,null,null,null,null,null,null,null,{"$f":"EA17","v":"Straight"},null,null,null,{"$f":"EE17","v":{"$error":"#N/A"}},{"$error":"#N/A"},{"$error":"#N/A"},{"$error":"#N/A"},{"$error":"#N/A"},{"$error":"#N/A"}]
[null,null,null,null,null,null,null,null,null,null,null,null,null,null,null,null,null,null,null,null,null,null,null,null,null,null,null,null,null,null,null,null,null,"One Pair/Check",9,0.2,0.2,0.10000000000000002,0.8,0,0.10000000000000002,0.8,0,null,null,null,null,null,null,null,null,null,null,null,null,null,null,null,null,null,null,null,null,null,{"$f":"EL17","v":"Three of a Kind"},null,null,null,{"$f":"EP17","v":{"$error":"#N/A"}},0,{"$error":"#N/A"},{"$error":"#N/A"},0,{"$error":"#N/A"}]
[null,null,null,null,null,null,null,null,null,null,null,null,null,null,null,null,null,null,null,null,null,null,{"$f":"RANK(W161,$W$161:$AA$161,1)","v":{"$error":"#N/A"}},{"$f":"RANK(X161,$W$161:$AA$161,1)","v":{"$error":"#N/A"}},{"$error":"#N/A"},{"$error":"#N/A"},{"$error":"#N/A"},null,{"$f":"RANK(AC161,$AC$161:$AG$161,1)","v":{"$error":"#N/A"}},{"$f":"RANK(AD161,$AC$161:$AG$161,1)","v":{"$error":"#N/A"}},{"$error":"#N/A"},{"$error":"#N/A"},{"$error":"#N/A"},"High Card/Fold",10,0.2,0.2,0.10000000000000002,0.9,-0.1,0.10000000000000002,0.9,-0.1,null,null,null,null,null,null,null,null,null,null,null,null,null,null,null,null,null,null,null,null,null,{"$f":"EW17","v":"Two Pair"},null,null,null,{"$f":"FA17","v":{"$error":"#N/A"}},0,{"$error":"#N/A"},{"$error":"#N/A"},0,{"$error":"#N/A"}]
[null,null,null,null,null,null,null,null,null,null,null,null,null,null,18,null,null,null,null,null,null,null,{"$f":"[0]!Player22","v":0},{"$f":"$P$1","v":"♦K"},{"$f":"$Q$1","v":"♠3"},{"$f":"$S$1","v":"♣9"},{"$f":"$T$1","v":"♦Q"},null,{"$f":"[0]!Player32","v":0},{"$f":"$P$2","v":"♣7"},{"$f":"$Q$2","v":"♥J"},{"$f":"$S$2","v":"♥7"},{"$f":"$T$2","v":"♠A"},null,null,null,null,null,null,null,null,null,null,null,null,null,null,null,null,null,null,null,null,null,null,null,null,null,null,null,null,null,null,null,{"$f":"FH17","v":"One Pair"},null,null,null,{"$f":"FL17","v":{"$error":"#N/A"}},0,{"$error":"#N/A"},{"$error":"#N/A"},0,{"$error":"#N/A"}]
[null,null,null,null,null,null,null,null,null,null,null,null,null,null,null,null,null,null,null,null,null,null,{"$f":"VLOOKUP(W155,$B$1:$F$52,5,0)","v":{"$error":"#N/A"}},{"$f":"VLOOKUP(X155,$B$1:$F$52,5,0)","v":13},{"$f":"VLOOKUP(Y155,$B$1:$F$52,5,0)","v":3},{"$f":"VLOOKUP(Z155,$B$1:$F$52,5,0)","v":9},{"$f":"VLOOKUP(AA155,$B$1:$F$52,5,0)","v":12},null,{"$f":"VLOOKUP(AC155,$B$1:$F$52,5,0)","v":{"$error":"#N/A"}},{"$f":"VLOOKUP(AD155,$B$1:$F$52,5,0)","v":7},{"$f":"VLOOKUP(AE155,$B$1:$F$52,5,0)","v":11},{"$f":"VLOOKUP(AF155,$B$1:$F$52,5,0)","v":7},{"$f":"VLOOKUP(AG155,$B$1:$F$52,5,0)","v":1},null,null,null,null,null,"Max. bet",{"$f":"VLOOKUP($AW$96,AM145:AN153,2,1)","v":0.2},null,"Max. bet",{"$f":"VLOOKUP($AX$96,AP145:AQ154,2,1)","v":0.3},null,null,null,null,null,null,null,null,null,null,null,null,null,null,null,null,null,null,null,null,null,{"$f":"FS17","v":"High Card"},null,null,null,{"$f":"FW17","v":{"$error":"#N/A"}},0,{"$error":"#N/A"},{"$error":"#N/A"},0,{"$error":"#N/A"}]
[null,null,null,null,null,null,null,null,null,null,null,null,null,null,null,null,null,null,null,null,null,null,{"$f":"VLOOKUP(W155,$B$1:$F$52,4,0)","v":{"$error":"#N/A"}},{"$f":"VLOOKUP(X155,$B$1:$F$52,4,0)","v":"D"},{"$f":"VLOOKUP(Y155,$B$1:$F$52,4,0)","v":"S"},{"$f":"VLOOKUP(Z155,$B$1:$F$52,4,0)","v":"C"},{"$f":"VLOOKUP(AA155,$B$1:$F$52,4,0)","v":"D"},null,{"$f":"VLOOKUP(AC155,$B$1:$F$52,4,0)","v":{"$error":"#N/A"}},{"$f":"VLOOKUP(AD155,$B$1:$F$52,4,0)","v":"C"},{"$f":"VLOOKUP(AE155,$B$1:$F$52,4,0)","v":"H"},{"$f":"VLOOKUP(AF155,$B$1:$F$52,4,0)","v":"H"},{"$f":"VLOOKUP(AG155,$B$1:$F$52,4,0)","v":"S"}]
[null,null,null,null,null,null,null,null,null,null,null,null,null,null,null,null,null,null,null,null,null,null,{"$f":"HLOOKUP(W160,$W$154:$AA$157,3,0)","v":{"$error":"#N/A"}},{"$f":"HLOOKUP(X160,$W$154:$AA$157,3,0)","v":{"$error":"#N/A"}},{"$error":"#N/A"},{"$error":"#N/A"},{"$error":"#N/A"},null,{"$f":"HLOOKUP(AC160,$AC$154:$AG$157,3,0)","v":{"$error":"#N/A"}},{"$f":"HLOOKUP(AD160,$AC$154:$AG$157,3,0)","v":{"$error":"#N/A"}},{"$error":"#N/A"},{"$error":"#N/A"},{"$error":"#N/A"},null,null,null,null,null,null,null,null,null,null,null,null,null,null,null,null,null,null,null,null,null,null,null,null,null,null,null,null,null,null,15,{"$f":"BX18","v":"Royal Flush"},null,null,null,{"$f":"CB18","v":{"$error":"#N/A"}},{"$error":"#N/A"},{"$error":"#N/A"},{"$error":"#N/A"},{"$error":"#N/A"},{"$error":"#N/A"}]
[null,null,null,null,null,null,null,null,null,null,null,null,null,null,null,null,null,null,null,null,null,null,{"$f":"HLOOKUP(W160,$W$154:$AA$157,4,0)","v":{"$error":"#N/A"}},{"$f":"HLOOKUP(X160,$W$154:$AA$157,4,0)","v":{"$error":"#N/A"}},{"$error":"#N/A"},{"$error":"#N/A"},{"$error":"#N/A"},null,{"$f":"HLOOKUP(AC160,$AC$154:$AG$157,4,0)","v":{"$error":"#N/A"}},{"$f":"HLOOKUP(AD160,$AC$154:$AG$157,4,0)","v":{"$error":"#N/A"}},{"$error":"#N/A"},{"$error":"#N/A"},{"$error":"#N/A"},null,null,null,null,null,null,null,null,null,null,null,null,null,null,null,null,null,null,null,null,null,null,null,null,null,null,null,null,null,null,null,{"$f":"CI18","v":"Straight Flush"},null,null,null,{"$f":"CM18","v":{"$error":"#N/A"}},{"$error":"#N/A"},{"$error":"#N/A"},{"$error":"#N/A"},{"$error":"#N/A"},{"$error":"#N/A"}]
[null,null,null,null,null,null,null,null,null,null,null,null,null,null,null,null,null,null,null,null,null,null,1,2,3,4,5,null,1,2,3,4,5,null,null,null,null,null,null,null,null,null,null,null,null,null,null,null,null,null,null,null,null,null,null,null,null,null,null,null,null,null,null,null,{"$f":"CT18","v":"Four of a Kind"},null,null,null,{"$f":"CX18","v":{"$error":"#N/A"}},0,{"$error":"#N/A"},{"$error":"#N/A"},0,{"$error":"#N/A"}]
[null,null,null,null,null,null,null,null,null,null,null,null,null,null,null,null,null,null,null,null,null,{"$f":"V156+IF(V156=1,13+RAND()^3,RAND()^3)","v":1.2902328943679764E-2},{"$error":"#N/A"},13.949926577959227,3.0082297334668096,9.0009597411736255,12.083642222658487,0.57194153859111307,{"$error":"#N/A"},7.151024477025623,11.541636087094199,7.3075180870416716,14.318942946548953,null,null,null,null,null,null,null,null,null,null,null,null,null,null,null,null,null,null,null,null,null,null,null,null,null,null,null,null,null,null,null,{"$f":"DE18","v":"Full House"},null,null,null,{"$f":"DI18","v":{"$error":"#N/A"}},0,{"$error":"#N/A"},{"$error":"#N/A"},0,{"$error":"#N/A"}]
[null,null,null,null,null,null,null,null,null,null,null,null,null,null,null,null,null,null,null,null,null,null,null,null,null,null,null,null,null,null,null,null,null,null,null,null,null,null,null,null,null,null,null,null,null,null,null,null,null,null,null,null,null,null,null,null,null,null,null,null,null,null,null,null,{"$f":"DP18","v":"Flush"},null,null,null,{"$f":"DT18","v":{"$error":"#N/A"}},0,{"$error":"#N/A"},{"$error":"#N/A"},0,{"$error":"#N/A"}]
[null,null,null,null,null,null,null,null,null,null,null,null,null,null,null,null,null,null,null,null,null,null,{"$f":"RANK(W170,$W$170:$AA$170,1)","v":{"$error":"#N/A"}},{"$f":"RANK(X170,$W$170:$AA$170,1)","v":{"$error":"#N/A"}},{"$error":"#N/A"},{"$error":"#N/A"},{"$error":"#N/A"},null,{"$f":"RANK(AC170,$AC$170:$AG$170,1)","v":{"$error":"#N/A"}},{"$f":"RANK(AD170,$AC$170:$AG$170,1)","v":{"$error":"#N/A"}},{"$error":"#N/A"},{"$error":"#N/A"},{"$error":"#N/A"},null,null,null,null,null,null,null,null,null,null,null,null,null,null,null,null,null,null,null,null,null,null,null,null,null,null,null,null,null,null,null,{"$f":"EA18","v":"Straight"},null,null,null,{"$f":"EE18","v":{"$error":"#N/A"}},{"$error":"#N/A"},{"$error":"#N/A"},{"$error":"#N/A"},{"$error":"#N/A"},{"$error":"#N/A"}]
[null,null,null,null,null,null,null,null,null,null,null,null,null,null,19,null,null,null,null,null,null,null,{"$f":"[0]!Player22","v":0},{"$f":"$P$1","v":"♦K"},{"$f":"$R$1","v":"♥2"},{"$f":"$S$1","v":"♣9"},{"$f":"$T$1","v":"♦Q"},null,{"$f":"[0]!Player32","v":0},{"$f":"$P$2","v":"♣7"},{"$f":"$R$2","v":"♥9"},{"$f":"$S$2","v":"♥7"},{"$f":"$T$2","v":"♠A"},null,null,null,null,null,null,null,null,null,null,null,null,null,null,null,null,null,null,null,null,null,null,null,null,null,null,null,null,null,null,null,{"$f":"EL18","v":"Three of a Kind"},null,null,null,{"$f":"EP18","v":{"$error":"#N/A"}},0,{"$error":"#N/A"},{"$error":"#N/A"},0,{"$error":"#N/A"}]
[null,null,null,null,null,null,null,null,null,null,null,null,null,null,null,null,null,null,null,null,null,null,{"$f":"VLOOKUP(W164,$B$1:$F$52,5,0)","v":{"$error":"#N/A"}},{"$f":"VLOOKUP(X164,$B$1:$F$52,5,0)","v":13},{"$f":"VLOOKUP(Y164,$B$1:$F$52,5,0)","v":2},{"$f":"VLOOKUP(Z164,$B$1:$F$52,5,0)","v":9},{"$f":"VLOOKUP(AA164,$B$1:$F$52,5,0)","v":12},null,{"$f":"VLOOKUP(AC164,$B$1:$F$52,5,0)","v":{"$error":"#N/A"}},{"$f":"VLOOKUP(AD164,$B$1:$F$52,5,0)","v":7},{"$f":"VLOOKUP(AE164,$B$1:$F$52,5,0)","v":9},{"$f":"VLOOKUP(AF164,$B$1:$F$52,5,0)","v":7},{"$f":"VLOOKUP(AG164,$B$1:$F$52,5,0)","v":1},null,null,null,null,null,null,null,null,null,null,null,null,null,null,null,null,null,null,null,null,null,null,null,null,null,null,null,null,null,null,null,{"$f":"EW18","v":"Two Pair"},null,null,null,{"$f":"FA18","v":{"$error":"#N/A"}},0,{"$error":"#N/A"},{"$error":"#N/A"},0,{"$error":"#N/A"}]
[null,null,null,null,null,null,null,null,null,null,null,null,null,null,null,null,null,null,null,null,null,null,{"$f":"VLOOKUP(W164,$B$1:$F$52,4,0)","v":{"$error":"#N/A"}},{"$f":"VLOOKUP(X164,$B$1:$F$52,4,0)","v":"D"},{"$f":"VLOOKUP(Y164,$B$1:$F$52,4,0)","v":"H"},{"$f":"VLOOKUP(Z164,$B$1:$F$52,4,0)","v":"C"},{"$f":"VLOOKUP(AA164,$B$1:$F$52,4,0)","v":"D"},null,{"$f":"VLOOKUP(AC164,$B$1:$F$52,4,0)","v":{"$error":"#N/A"}},{"$f":"VLOOKUP(AD164,$B$1:$F$52,4,0)","v":"C"},{"$f":"VLOOKUP(AE164,$B$1:$F$52,4,0)","v":"H"},{"$f":"VLOOKUP(AF164,$B$1:$F$52,4,0)","v":"H"},{"$f":"VLOOKUP(AG164,$B$1:$F$52,4,0)","v":"S"},null,null,null,null,null,null,null,null,null,null,null,null,null,null,null,null,null,null,null,null,null,null,null,null,null,null,null,null,null,null,null,{"$f":"FH18","v":"One Pair"},null,null,null,{"$f":"FL18","v":{"$error":"#N/A"}},0,{"$error":"#N/A"},{"$error":"#N/A"},0,{"$error":"#N/A"}]
[null,null,null,null,null,null,null,null,null,null,null,null,null,null,null,null,null,null,null,null,null,null,{"$f":"HLOOKUP(W169,$W$163:$AA$166,3,0)","v":{"$error":"#N/A"}},{"$f":"HLOOKUP(X169,$W$163:$AA$166,3,0)","v":{"$error":"#N/A"}},{"$error":"#N/A"},{"$error":"#N/A"},{"$error":"#N/A"},null,{"$f":"HLOOKUP(AC169,$AC$163:$AG$166,3,0)","v":{"$error":"#N/A"}},{"$f":"HLOOKUP(AD169,$AC$163:$AG$166,3,0)","v":{"$error":"#N/A"}},{"$error":"#N/A"},{"$error":"#N/A"},{"$error":"#N/A"},null,null,null,null,null,null,null,null,null,null,null,null,null,null,null,null,null,null,null,null,null,null,null,null,null,null,null,null,null,null,null,{"$f":"FS18","v":"High Card"},null,null,null,{"$f":"FW18","v":{"$error":"#N/A"}},0,{"$error":"#N/A"},{"$error":"#N/A"},0,{"$error":"#N/A"}]
[null,null,null,null,null,null,null,null,null,null,null,null,null,null,null,null,null,null,null,null,null,null,{"$f":"HLOOKUP(W169,$W$163:$AA$166,4,0)","v":{"$error":"#N/A"}},{"$f":"HLOOKUP(X169,$W$163:$AA$166,4,0)","v":{"$error":"#N/A"}},{"$error":"#N/A"},{"$error":"#N/A"},{"$error":"#N/A"},null,{"$f":"HLOOKUP(AC169,$AC$163:$AG$166,4,0)","v":{"$error":"#N/A"}},{"$f":"HLOOKUP(AD169,$AC$163:$AG$166,4,0)","v":{"$error":"#N/A"}},{"$error":"#N/A"},{"$error":"#N/A"},{"$error":"#N/A"}]
[null,null,null,null,null,null,null,null,null,null,null,null,null,null,null,null,null,null,null,null,null,null,1,2,3,4,5,null,1,2,3,4,5,null,null,null,null,null,null,null,null,null,null,null,null,null,null,null,null,null,null,null,null,null,null,null,null,null,null,null,null,null,null,16,{"$f":"BX19","v":"Royal Flush"},null,null,null,{"$f":"CB19","v":{"$error":"#N/A"}},{"$error":"#N/A"},{"$error":"#N/A"},{"$error":"#N/A"},{"$error":"#N/A"},{"$error":"#N/A"}]
[null,null,null,null,null,null,null,null,null,null,null,null,null,null,null,null,null,null,null,null,null,{"$f":"V165+IF(V165=1,13+RAND()^3,RAND()^3)","v":0.6363845493642849},{"$error":"#N/A"},13.025747420929125,2.1210034310775878,9.5588955830731646,12.292585394193681,2.9576518980623978E-3,{"$error":"#N/A"},7.001523806972334,9.3659965206652309,7.8713128633963603,14.421506709097393,null,null,null,null,null,null,null,null,null,null,null,null,null,null,null,null,null,null,null,null,null,null,null,null,null,null,null,null,null,null,null,{"$f":"CI19","v":"Straight Flush"},null,null,null,{"$f":"CM19","v":{"$error":"#N/A"}},{"$error":"#N/A"},{"$error":"#N/A"},{"$error":"#N/A"},{"$error":"#N/A"},{"$error":"#N/A"}]
[null,null,null,null,null,null,null,null,null,null,null,null,null,null,null,null,null,null,null,null,null,null,null,null,null,null,null,null,null,null,null,null,null,null,null,null,null,null,null,null,null,null,null,null,null,null,null,null,null,null,null,null,null,null,null,null,null,null,null,null,null,null,null,null,{"$f":"CT19","v":"Four of a Kind"},null,null,null,{"$f":"CX19","v":{"$error":"#N/A"}},0,{"$error":"#N/A"},{"$error":"#N/A"},0,{"$error":"#N/A"}]
[null,null,null,null,null,null,null,null,null,null,null,null,null,null,null,null,null,null,null,null,null,null,{"$f":"RANK(W179,$W$179:$AA$179,1)","v":{"$error":"#N/A"}},{"$f":"RANK(X179,$W$179:$AA$179,1)","v":{"$error":"#N/A"}},{"$error":"#N/A"},{"$error":"#N/A"},{"$error":"#N/A"},null,{"$f":"RANK(AC179,$AC$179:$AG$179,1)","v":{"$error":"#N/A"}},{"$f":"RANK(AD179,$AC$179:$AG$179,1)","v":{"$error":"#N/A"}},{"$error":"#N/A"},{"$error":"#N/A"},{"$error":"#N/A"},null,null,null,null,null,null,null,null,null,null,null,null,null,null,null,null,null,null,null,null,null,null,null,null,null,null,null,null,null,null,null,{"$f":"DE19","v":"Full House"},null,null,null,{"$f":"DI19","v":{"$error":"#N/A"}},0,{"$error":"#N/A"},{"$error":"#N/A"},0,{"$error":"#N/A"}]
[null,null,null,null,null,null,null,null,null,null,null,null,null,null,20,null,null,null,null,null,null,null,{"$f":"[0]!Player22","v":0},{"$f":"$Q$1","v":"♠3"},{"$f":"$R$1","v":"♥2"},{"$f":"$S$1","v":"♣9"},{"$f":"$T$1","v":"♦Q"},null,{"$f":"[0]!Player32","v":0},{"$f":"$Q$2","v":"♥J"},{"$f":"$R$2","v":"♥9"},{"$f":"$S$2","v":"♥7"},{"$f":"$T$2","v":"♠A"},null,null,null,null,null,null,null,null,null,null,null,null,null,null,null,null,null,null,null,null,null,null,null,null,null,null,null,null,null,null,null,{"$f":"DP19","v":"Flush"},null,null,null,{"$f":"DT19","v":{"$error":"#N/A"}},0,{"$error":"#N/A"},{"$error":"#N/A"},0,{"$error":"#N/A"}]
[null,null,null,null,null,null,null,null,null,null,null,null,null,null,null,null,null,null,null,null,null,null,{"$f":"VLOOKUP(W173,$B$1:$F$52,5,0)","v":{"$error":"#N/A"}},{"$f":"VLOOKUP(X173,$B$1:$F$52,5,0)","v":3},{"$f":"VLOOKUP(Y173,$B$1:$F$52,5,0)","v":2},{"$f":"VLOOKUP(Z173,$B$1:$F$52,5,0)","v":9},{"$f":"VLOOKUP(AA173,$B$1:$F$52,5,0)","v":12},null,{"$f":"VLOOKUP(AC173,$B$1:$F$52,5,0)","v":{"$error":"#N/A"}},{"$f":"VLOOKUP(AD173,$B$1:$F$52,5,0)","v":11},{"$f":"VLOOKUP(AE173,$B$1:$F$52,5,0)","v":9},{"$f":"VLOOKUP(AF173,$B$1:$F$52,5,0)","v":7},{"$f":"VLOOKUP(AG173,$B$1:$F$52,5,0)","v":1},null,null,null,null,null,null,null,null,null,null,null,null,null,null,null,null,null,null,null,null,null,null,null,null,null,null,null,null,null,null,null,{"$f":"EA19","v":"Straight"},null,null,null,{"$f":"EE19","v":{"$error":"#N/A"}},{"$error":"#N/A"},{"$error":"#N/A"},{"$error":"#N/A"},{"$error":"#N/A"},{"$error":"#N/A"}]
[null,null,null,null,null,null,null,null,null,null,null,null,null,null,null,null,null,null,null,null,null,null,{"$f":"VLOOKUP(W173,$B$1:$F$52,4,0)","v":{"$error":"#N/A"}},{"$f":"VLOOKUP(X173,$B$1:$F$52,4,0)","v":"S"},{"$f":"VLOOKUP(Y173,$B$1:$F$52,4,0)","v":"H"},{"$f":"VLOOKUP(Z173,$B$1:$F$52,4,0)","v":"C"},{"$f":"VLOOKUP(AA173,$B$1:$F$52,4,0)","v":"D"},null,{"$f":"VLOOKUP(AC173,$B$1:$F$52,4,0)","v":{"$error":"#N/A"}},{"$f":"VLOOKUP(AD173,$B$1:$F$52,4,0)","v":"H"},{"$f":"VLOOKUP(AE173,$B$1:$F$52,4,0)","v":"H"},{"$f":"VLOOKUP(AF173,$B$1:$F$52,4,0)","v":"H"},{"$f":"VLOOKUP(AG173,$B$1:$F$52,4,0)","v":"S"},null,null,null,null,null,null,null,null,null,null,null,null,null,null,null,null,null,null,null,null,null,null,null,null,null,null,null,null,null,null,null,{"$f":"EL19","v":"Three of a Kind"},null,null,null,{"$f":"EP19","v":{"$error":"#N/A"}},0,{"$error":"#N/A"},{"$error":"#N/A"},0,{"$error":"#N/A"}]
[null,null,null,null,null,null,null,null,null,null,null,null,null,null,null,null,null,null,null,null,null,null,{"$f":"HLOOKUP(W178,$W$172:$AA$175,3,0)","v":{"$error":"#N/A"}},{"$f":"HLOOKUP(X178,$W$172:$AA$175,3,0)","v":{"$error":"#N/A"}},{"$error":"#N/A"},{"$error":"#N/A"},{"$error":"#N/A"},null,{"$f":"HLOOKUP(AC178,$AC$172:$AG$175,3,0)","v":{"$error":"#N/A"}},{"$f":"HLOOKUP(AD178,$AC$172:$AG$175,3,0)","v":{"$error":"#N/A"}},{"$error":"#N/A"},{"$error":"#N/A"},{"$error":"#N/A"},null,null,null,null,null,null,null,null,null,null,null,null,null,null,null,null,null,null,null,null,null,null,null,null,null,null,null,null,null,null,null,{"$f":"EW19","v":"Two Pair"},null,null,null,{"$f":"FA19","v":{"$error":"#N/A"}},0,{"$error":"#N/A"},{"$error":"#N/A"},0,{"$error":"#N/A"}]
[null,null,null,null,null,null,null,null,null,null,null,null,null,null,null,null,null,null,null,null,null,null,{"$f":"HLOOKUP(W178,$W$172:$AA$175,4,0)","v":{"$error":"#N/A"}},{"$f":"HLOOKUP(X178,$W$172:$AA$175,4,0)","v":{"$error":"#N/A"}},{"$error":"#N/A"},{"$error":"#N/A"},{"$error":"#N/A"},null,{"$f":"HLOOKUP(AC178,$AC$172:$AG$175,4,0)","v":{"$error":"#N/A"}},{"$f":"HLOOKUP(AD178,$AC$172:$AG$175,4,0)","v":{"$error":"#N/A"}},{"$error":"#N/A"},{"$error":"#N/A"},{"$error":"#N/A"},null,null,null,null,null,null,null,null,null,null,null,null,null,null,null,null,null,null,null,null,null,null,null,null,null,null,null,null,null,null,null,{"$f":"FH19","v":"One Pair"},null,null,null,{"$f":"FL19","v":{"$error":"#N/A"}},0,{"$error":"#N/A"},{"$error":"#N/A"},0,{"$error":"#N/A"}]
[null,null,null,null,null,null,null,null,null,null,null,null,null,null,null,null,null,null,null,null,null,null,1,2,3,4,5,null,1,2,3,4,5,null,null,null,null,null,null,null,null,null,null,null,null,null,null,null,null,null,null,null,null,null,null,null,null,null,null,null,null,null,null,null,{"$f":"FS19","v":"High Card"},null,null,null,{"$f":"FW19","v":{"$error":"#N/A"}},0,{"$error":"#N/A"},{"$error":"#N/A"},0,{"$error":"#N/A"}]
[null,null,null,null,null,null,null,null,null,null,null,null,null,null,null,null,null,null,null,null,null,{"$f":"V174+IF(V174=1,13+RAND()^3,RAND()^3)","v":0.20316096962509866},{"$error":"#N/A"},3.1121971829708968,2.000276141112995,9.0006253737238406,12.061881715696307,0.40444261885216998,{"$error":"#N/A"},11.021403056565156,9.6567559439263135,7.2108675387068137,14.389755263921705]
[null,null,null,null,null,null,null,null,null,null,null,null,null,null,null,null,null,null,null,null,null,null,null,null,null,null,null,null,null,null,null,null,null,null,null,null,null,null,null,null,null,null,null,null,null,null,null,null,null,null,null,null,null,null,null,null,null,null,null,null,null,null,null,17,{"$f":"BX20","v":"Royal Flush"},null,null,null,{"$f":"CB20","v":{"$error":"#N/A"}},{"$error":"#N/A"},{"$error":"#N/A"},{"$error":"#N/A"},{"$error":"#N/A"},{"$error":"#N/A"}]
[null,null,null,null,null,null,null,null,null,null,null,null,null,null,null,null,null,null,null,null,null,null,{"$f":"RANK(W188,$W$188:$AA$188,1)","v":5},{"$f":"RANK(X188,$W$188:$AA$188,1)","v":2},1,3,4,null,{"$f":"RANK(AC188,$AC$188:$AG$188,1)","v":2},{"$f":"RANK(AD188,$AC$188:$AG$188,1)","v":4},3,1,5,null,null,null,null,null,null,null,null,null,null,null,null,null,null,null,null,null,null,null,null,null,null,null,null,null,null,null,null,null,null,null,{"$f":"CI20","v":"Straight Flush"},null,null,null,{"$f":"CM20","v":{"$error":"#N/A"}},{"$error":"#N/A"},{"$error":"#N/A"},{"$error":"#N/A"},{"$error":"#N/A"},{"$error":"#N/A"}]
[null,null,null,null,null,null,null,null,null,null,null,null,null,null,21,null,null,null,null,null,null,null,{"$f":"$P$1","v":"♦K"},{"$f":"$Q$1","v":"♠3"},{"$f":"$R$1","v":"♥2"},{"$f":"$S$1","v":"♣9"},{"$f":"$T$1","v":"♦Q"},null,{"$f":"$P$2","v":"♣7"},{"$f":"$Q$2","v":"♥J"},{"$f":"$R$2","v":"♥9"},{"$f":"$S$2","v":"♥7"},{"$f":"$T$2","v":"♠A"},null,null,null,null,null,null,null,null,null,null,null,null,null,null,null,null,null,null,null,null,null,null,null,null,null,null,null,null,null,null,null,{"$f":"CT20","v":"Four of a Kind"},null,null,null,{"$f":"CX20","v":{"$error":"#N/A"}},0,{"$error":"#N/A"},{"$error":"#N/A"},0,{"$error":"#N/A"}]
[null,null,null,null,null,null,null,null,null,null,null,null,null,null,null,null,null,null,null,null,null,null,{"$f":"VLOOKUP(W182,$B$1:$F$52,5,0)","v":13},{"$f":"VLOOKUP(X182,$B$1:$F$52,5,0)","v":3},{"$f":"VLOOKUP(Y182,$B$1:$F$52,5,0)","v":2},{"$f":"VLOOKUP(Z182,$B$1:$F$52,5,0)","v":9},{"$f":"VLOOKUP(AA182,$B$1:$F$52,5,0)","v":12},null,{"$f":"VLOOKUP(AC182,$B$1:$F$52,5,0)","v":7},{"$f":"VLOOKUP(AD182,$B$1:$F$52,5,0)","v":11},{"$f":"VLOOKUP(AE182,$B$1:$F$52,5,0)","v":9},{"$f":"VLOOKUP(AF182,$B$1:$F$52,5,0)","v":7},{"$f":"VLOOKUP(AG182,$B$1:$F$52,5,0)","v":1},null,null,null,null,null,null,null,null,null,null,null,null,null,null,null,null,null,null,null,null,null,null,null,null,null,null,null,null,null,null,null,{"$f":"DE20","v":"Full House"},null,null,null,{"$f":"DI20","v":{"$error":"#N/A"}},0,{"$error":"#N/A"},{"$error":"#N/A"},0,{"$error":"#N/A"}]
[null,null,null,null,null,null,null,null,null,null,null,null,null,null,null,null,null,null,null,null,null,null,{"$f":"VLOOKUP(W182,$B$1:$F$52,4,0)","v":"D"},{"$f":"VLOOKUP(X182,$B$1:$F$52,4,0)","v":"S"},{"$f":"VLOOKUP(Y182,$B$1:$F$52,4,0)","v":"H"},{"$f":"VLOOKUP(Z182,$B$1:$F$52,4,0)","v":"C"},{"$f":"VLOOKUP(AA182,$B$1:$F$52,4,0)","v":"D"},null,{"$f":"VLOOKUP(AC182,$B$1:$F$52,4,0)","v":"C"},{"$f":"VLOOKUP(AD182,$B$1:$F$52,4,0)","v":"H"},{"$f":"VLOOKUP(AE182,$B$1:$F$52,4,0)","v":"H"},{"$f":"VLOOKUP(AF182,$B$1:$F$52,4,0)","v":"H"},{"$f":"VLOOKUP(AG182,$B$1:$F$52,4,0)","v":"S"},null,null,null,null,null,null,null,null,null,null,null,null,null,null,null,null,null,null,null,null,null,null,null,null,null,null,null,null,null,null,null,{"$f":"DP20","v":"Flush"},null,null,null,{"$f":"DT20","v":{"$error":"#N/A"}},0,{"$error":"#N/A"},{"$error":"#N/A"},0,{"$error":"#N/A"}]
[null,null,null,null,null,null,null,null,null,null,null,null,null,null,null,null,null,null,null,null,null,null,{"$f":"HLOOKUP(W187,$W$181:$AA$184,3,0)","v":2},{"$f":"HLOOKUP(X187,$W$181:$AA$184,3,0)","v":3},9,12,13,null,{"$f":"HLOOKUP(AC187,$AC$181:$AG$184,3,0)","v":7},{"$f":"HLOOKUP(AD187,$AC$181:$AG$184,3,0)","v":7},9,11,1,null,null,null,null,null,null,null,null,null,null,null,null,null,null,null,null,null,null,null,null,null,null,null,null,null,null,null,null,null,null,null,{"$f":"EA20","v":"Straight"},null,null,null,{"$f":"EE20","v":{"$error":"#N/A"}},{"$error":"#N/A"},{"$error":"#N/A"},{"$error":"#N/A"},{"$error":"#N/A"},{"$error":"#N/A"}]
[null,null,null,null,null,null,null,null,null,null,null,null,null,null,null,null,null,null,null,null,null,null,{"$f":"HLOOKUP(W187,$W$181:$AA$184,4,0)","v":"H"},{"$f":"HLOOKUP(X187,$W$181:$AA$184,4,0)","v":"S"},"C","D","D",null,{"$f":"HLOOKUP(AC187,$AC$181:$AG$184,4,0)","v":"H"},{"$f":"HLOOKUP(AD187,$AC$181:$AG$184,4,0)","v":"C"},"H","H","S",null,null,null,null,null,null,null,null,null,null,null,null,null,null,null,null,null,null,null,null,null,null,null,null,null,null,null,null,null,null,null,{"$f":"EL20","v":"Three of a Kind"},null,null,null,{"$f":"EP20","v":{"$error":"#N/A"}},0,{"$error":"#N/A"},{"$error":"#N/A"},0,{"$error":"#N/A"}]
[null,null,null,null,null,null,null,null,null,null,null,null,null,null,null,null,null,null,null,null,null,null,1,2,3,4,5,null,1,2,3,4,5,null,null,null,null,null,null,null,null,null,null,null,null,null,null,null,null,null,null,null,null,null,null,null,null,null,null,null,null,null,null,null,{"$f":"EW20","v":"Two Pair"},null,null,null,{"$f":"FA20","v":{"$error":"#N/A"}},0,{"$error":"#N/A"},{"$error":"#N/A"},0,{"$error":"#N/A"}]
[null,null,null,null,null,null,null,null,null,null,null,null,null,null,null,null,null,null,null,null,null,{"$f":"V183+IF(V183=1,13+RAND()^3,RAND()^3)","v":3.4581381912937308E-3},13.07515681377183,3.022391896964467,2.0582788366508051,9.154707461304481,12.121162228510002,0.23875821170403078,7.983770589660474,11.035653709654447,9.0114317622224043,7.0015499369139649,14.318570486372113,null,null,null,null,null,null,null,null,null,null,null,null,null,null,null,null,null,null,null,null,null,null,null,null,null,null,null,null,null,null,null,{"$f":"FH20","v":"One Pair"},null,null,null,{"$f":"FL20","v":{"$error":"#N/A"}},0,{"$error":"#N/A"},{"$error":"#N/A"},0,{"$error":"#N/A"}]
[null,null,null,null,null,null,null,null,null,null,null,null,null,null,null,null,null,null,null,null,null,null,null,null,null,null,null,null,null,null,null,null,null,null,null,null,null,null,null,null,null,null,null,null,null,null,null,null,null,null,null,null,null,null,null,null,null,null,null,null,null,null,null,null,{"$f":"FS20","v":"High Card"},null,null,null,{"$f":"FW20","v":{"$error":"#N/A"}},0,{"$error":"#N/A"},{"$error":"#N/A"},0,{"$error":"#N/A"}]
[]
[null,null,null,null,null,null,null,null,null,null,null,null,null,null,null,null,null,null,null,null,null,null,null,null,null,null,null,null,null,null,null,null,null,null,null,null,null,null,null,null,null,null,null,null,null,null,null,null,null,null,null,null,null,null,null,null,null,null,null,null,null,null,null,18,{"$f":"BX21","v":"Royal Flush"},null,null,null,{"$f":"CB21","v":{"$error":"#N/A"}},{"$error":"#N/A"},{"$error":"#N/A"},{"$error":"#N/A"},{"$error":"#N/A"},{"$error":"#N/A"}]
[null,null,null,null,null,null,null,null,null,null,null,null,null,null,null,null,null,null,null,null,null,null,null,null,null,null,null,null,null,null,null,null,null,null,null,null,null,null,null,null,null,null,null,null,null,null,null,null,null,null,null,null,null,null,null,null,null,null,null,null,null,null,null,null,{"$f":"CI21","v":"Straight Flush"},null,null,null,{"$f":"CM21","v":{"$error":"#N/A"}},{"$error":"#N/A"},{"$error":"#N/A"},{"$error":"#N/A"},{"$error":"#N/A"},{"$error":"#N/A"}]
[null,null,null,null,null,null,null,null,null,null,null,null,null,null,null,null,null,null,null,null,null,null,null,null,null,null,null,null,null,null,null,null,null,null,null,null,null,null,null,null,null,null,null,null,null,null,null,null,null,null,null,null,null,null,null,null,null,null,null,null,null,null,null,null,{"$f":"CT21","v":"Four of a Kind"},null,null,null,{"$f":"CX21","v":{"$error":"#N/A"}},0,{"$error":"#N/A"},{"$error":"#N/A"},0,{"$error":"#N/A"}]
[null,null,null,null,null,null,null,null,null,null,null,null,null,null,null,null,null,null,null,null,null,null,null,null,null,null,null,null,null,null,null,null,null,null,null,null,null,null,null,null,null,null,null,null,null,null,null,null,null,null,null,null,null,null,null,null,null,null,null,null,null,null,null,null,{"$f":"DE21","v":"Full House"},null,null,null,{"$f":"DI21","v":{"$error":"#N/A"}},0,{"$error":"#N/A"},{"$error":"#N/A"},0,{"$error":"#N/A"}]
[null,null,null,null,null,null,null,null,null,null,null,null,null,null,null,null,null,null,null,null,null,null,null,null,null,null,null,null,null,null,null,null,null,null,null,null,null,null,null,null,null,null,null,null,null,null,null,null,null,null,null,null,null,null,null,null,null,null,null,null,null,null,null,null,{"$f":"DP21","v":"Flush"},null,null,null,{"$f":"DT21","v":{"$error":"#N/A"}},0,{"$error":"#N/A"},{"$error":"#N/A"},0,{"$error":"#N/A"}]
[null,null,null,null,null,null,null,null,null,null,null,null,null,null,null,null,null,null,null,null,null,null,null,null,null,null,null,null,null,null,null,null,null,null,null,null,null,null,null,null,null,null,null,null,null,null,null,null,null,null,null,null,null,null,null,null,null,null,null,null,null,null,null,null,{"$f":"EA21","v":"Straight"},null,null,null,{"$f":"EE21","v":{"$error":"#N/A"}},{"$error":"#N/A"},{"$error":"#N/A"},{"$error":"#N/A"},{"$error":"#N/A"},{"$error":"#N/A"}]
[null,null,null,null,null,null,null,null,null,null,null,null,null,null,null,null,null,null,null,null,null,null,null,null,null,null,null,null,null,null,null,null,null,null,null,null,null,null,null,null,null,null,null,null,null,null,null,null,null,null,null,null,null,null,null,null,null,null,null,null,null,null,null,null,{"$f":"EL21","v":"Three of a Kind"},null,null,null,{"$f":"EP21","v":{"$error":"#N/A"}},0,{"$error":"#N/A"},{"$error":"#N/A"},0,{"$error":"#N/A"}]
[null,null,null,null,null,null,null,null,null,null,null,null,null,null,null,null,null,null,null,null,null,null,null,null,null,null,null,null,null,null,null,null,null,null,null,null,null,null,null,null,null,null,null,null,null,null,null,null,null,null,null,null,null,null,null,null,null,null,null,null,null,null,null,null,{"$f":"EW21","v":"Two Pair"},null,null,null,{"$f":"FA21","v":{"$error":"#N/A"}},0,{"$error":"#N/A"},{"$error":"#N/A"},0,{"$error":"#N/A"}]
[null,null,null,null,null,null,null,null,null,null,null,null,null,null,null,null,null,null,null,null,null,null,null,null,null,null,null,null,null,null,null,null,null,null,null,null,null,null,null,null,null,null,null,null,null,null,null,null,null,null,null,null,null,null,null,null,null,null,null,null,null,null,null,null,{"$f":"FH21","v":"One Pair"},null,null,null,{"$f":"FL21","v":{"$error":"#N/A"}},0,{"$error":"#N/A"},{"$error":"#N/A"},0,{"$error":"#N/A"}]
[null,null,null,null,null,null,null,null,null,null,null,null,null,null,null,null,null,null,null,null,null,null,null,null,null,null,null,null,null,null,null,null,null,null,null,null,null,null,null,null,null,null,null,null,null,null,null,null,null,null,null,null,null,null,null,null,null,null,null,null,null,null,null,null,{"$f":"FS21","v":"High Card"},null,null,null,{"$f":"FW21","v":{"$error":"#N/A"}},0,{"$error":"#N/A"},{"$error":"#N/A"},0,{"$error":"#N/A"}]
[]
[null,null,null,null,null,null,null,null,null,null,null,null,null,null,null,null,null,null,null,null,null,null,null,null,null,null,null,null,null,null,null,null,null,null,null,null,null,null,null,null,null,null,null,null,null,null,null,null,null,null,null,null,null,null,null,null,null,null,null,null,null,null,null,19,{"$f":"BX22","v":"Royal Flush"},null,null,null,{"$f":"CB22","v":{"$error":"#N/A"}},{"$error":"#N/A"},{"$error":"#N/A"},{"$error":"#N/A"},{"$error":"#N/A"},{"$error":"#N/A"}]
[null,null,null,null,null,null,null,null,null,null,null,null,null,null,null,null,null,null,null,null,null,null,null,null,null,null,null,null,null,null,null,null,null,null,null,null,null,null,null,null,null,null,null,null,null,null,null,null,null,null,null,null,null,null,null,null,null,null,null,null,null,null,null,null,{"$f":"CI22","v":"Straight Flush"},null,null,null,{"$f":"CM22","v":{"$error":"#N/A"}},{"$error":"#N/A"},{"$error":"#N/A"},{"$error":"#N/A"},{"$error":"#N/A"},{"$error":"#N/A"}]
[null,null,null,null,null,null,null,null,null,null,null,null,null,null,null,null,null,null,null,null,null,null,null,null,null,null,null,null,null,null,null,null,null,null,null,null,null,null,null,null,null,null,null,null,null,null,null,null,null,null,null,null,null,null,null,null,null,null,null,null,null,null,null,null,{"$f":"CT22","v":"Four of a Kind"},null,null,null,{"$f":"CX22","v":{"$error":"#N/A"}},0,{"$error":"#N/A"},{"$error":"#N/A"},0,{"$error":"#N/A"}]
[null,null,null,null,null,null,null,null,null,null,null,null,null,null,null,null,null,null,null,null,null,null,null,null,null,null,null,null,null,null,null,null,null,null,null,null,null,null,null,null,null,null,null,null,null,null,null,null,null,null,null,null,null,null,null,null,null,null,null,null,null,null,null,null,{"$f":"DE22","v":"Full House"},null,null,null,{"$f":"DI22","v":{"$error":"#N/A"}},0,{"$error":"#N/A"},{"$error":"#N/A"},0,{"$error":"#N/A"}]
[null,null,null,null,null,null,null,null,null,null,null,null,null,null,null,null,null,null,null,null,null,null,null,null,null,null,null,null,null,null,null,null,null,null,null,null,null,null,null,null,null,null,null,null,null,null,null,null,null,null,null,null,null,null,null,null,null,null,null,null,null,null,null,null,{"$f":"DP22","v":"Flush"},null,null,null,{"$f":"DT22","v":{"$error":"#N/A"}},0,{"$error":"#N/A"},{"$error":"#N/A"},0,{"$error":"#N/A"}]
[null,null,null,null,null,null,null,null,null,null,null,null,null,null,null,null,null,null,null,null,null,null,null,null,null,null,null,null,null,null,null,null,null,null,null,null,null,null,null,null,null,null,null,null,null,null,null,null,null,null,null,null,null,null,null,null,null,null,null,null,null,null,null,null,{"$f":"EA22","v":"Straight"},null,null,null,{"$f":"EE22","v":{"$error":"#N/A"}},{"$error":"#N/A"},{"$error":"#N/A"},{"$error":"#N/A"},{"$error":"#N/A"},{"$error":"#N/A"}]
[null,null,null,null,null,null,null,null,null,null,null,null,null,null,null,null,null,null,null,null,null,null,null,null,null,null,null,null,null,null,null,null,null,null,null,null,null,null,null,null,null,null,null,null,null,null,null,null,null,null,null,null,null,null,null,null,null,null,null,null,null,null,null,null,{"$f":"EL22","v":"Three of a Kind"},null,null,null,{"$f":"EP22","v":{"$error":"#N/A"}},0,{"$error":"#N/A"},{"$error":"#N/A"},0,{"$error":"#N/A"}]
[null,null,null,null,null,null,null,null,null,null,null,null,null,null,null,null,null,null,null,null,null,null,null,null,null,null,null,null,null,null,null,null,null,null,null,null,null,null,null,null,null,null,null,null,null,null,null,null,null,null,null,null,null,null,null,null,null,null,null,null,null,null,null,null,{"$f":"EW22","v":"Two Pair"},null,null,null,{"$f":"FA22","v":{"$error":"#N/A"}},0,{"$error":"#N/A"},{"$error":"#N/A"},0,{"$error":"#N/A"}]
[null,null,null,null,null,null,null,null,null,null,null,null,null,null,null,null,null,null,null,null,null,null,null,null,null,null,null,null,null,null,null,null,null,null,null,null,null,null,null,null,null,null,null,null,null,null,null,null,null,null,null,null,null,null,null,null,null,null,null,null,null,null,null,null,{"$f":"FH22","v":"One Pair"},null,null,null,{"$f":"FL22","v":{"$error":"#N/A"}},0,{"$error":"#N/A"},{"$error":"#N/A"},0,{"$error":"#N/A"}]
[null,null,null,null,null,null,null,null,null,null,null,null,null,null,null,null,null,null,null,null,null,null,null,null,null,null,null,null,null,null,null,null,null,null,null,null,null,null,null,null,null,null,null,null,null,null,null,null,null,null,null,null,null,null,null,null,null,null,null,null,null,null,null,null,{"$f":"FS22","v":"High Card"},null,null,null,{"$f":"FW22","v":{"$error":"#N/A"}},0,{"$error":"#N/A"},{"$error":"#N/A"},0,{"$error":"#N/A"}]
[]
[null,null,null,null,null,null,null,null,null,null,null,null,null,null,null,null,null,null,null,null,null,null,null,null,null,null,null,null,null,null,null,null,null,null,null,null,null,null,null,null,null,null,null,null,null,null,null,null,null,null,null,null,null,null,null,null,null,null,null,null,null,null,null,20,{"$f":"BX23","v":"Royal Flush"},null,null,null,{"$f":"CB23","v":{"$error":"#N/A"}},{"$error":"#N/A"},{"$error":"#N/A"},{"$error":"#N/A"},{"$error":"#N/A"},{"$error":"#N/A"}]
[null,null,null,null,null,null,null,null,null,null,null,null,null,null,null,null,null,null,null,null,null,null,null,null,null,null,null,null,null,null,null,null,null,null,null,null,null,null,null,null,null,null,null,null,null,null,null,null,null,null,null,null,null,null,null,null,null,null,null,null,null,null,null,null,{"$f":"CI23","v":"Straight Flush"},null,null,null,{"$f":"CM23","v":{"$error":"#N/A"}},{"$error":"#N/A"},{"$error":"#N/A"},{"$error":"#N/A"},{"$error":"#N/A"},{"$error":"#N/A"}]
[null,null,null,null,null,null,null,null,null,null,null,null,null,null,null,null,null,null,null,null,null,null,null,null,null,null,null,null,null,null,null,null,null,null,null,null,null,null,null,null,null,null,null,null,null,null,null,null,null,null,null,null,null,null,null,null,null,null,null,null,null,null,null,null,{"$f":"CT23","v":"Four of a Kind"},null,null,null,{"$f":"CX23","v":{"$error":"#N/A"}},0,{"$error":"#N/A"},{"$error":"#N/A"},0,{"$error":"#N/A"}]
[null,null,null,null,null,null,null,null,null,null,null,null,null,null,null,null,null,null,null,null,null,null,null,null,null,null,null,null,null,null,null,null,null,null,null,null,null,null,null,null,null,null,null,null,null,null,null,null,null,null,null,null,null,null,null,null,null,null,null,null,null,null,null,null,{"$f":"DE23","v":"Full House"},null,null,null,{"$f":"DI23","v":{"$error":"#N/A"}},0,{"$error":"#N/A"},{"$error":"#N/A"},0,{"$error":"#N/A"}]
[null,null,null,null,null,null,null,null,null,null,null,null,null,null,null,null,null,null,null,null,null,null,null,null,null,null,null,null,null,null,null,null,null,null,null,null,null,null,null,null,null,null,null,null,null,null,null,null,null,null,null,null,null,null,null,null,null,null,null,null,null,null,null,null,{"$f":"DP23","v":"Flush"},null,null,null,{"$f":"DT23","v":{"$error":"#N/A"}},0,{"$error":"#N/A"},{"$error":"#N/A"},0,{"$error":"#N/A"}]
[null,null,null,null,null,null,null,null,null,null,null,null,null,null,null,null,null,null,null,null,null,null,null,null,null,null,null,null,null,null,null,null,null,null,null,null,null,null,null,null,null,null,null,null,null,null,null,null,null,null,null,null,null,null,null,null,null,null,null,null,null,null,null,null,{"$f":"EA23","v":"Straight"},null,null,null,{"$f":"EE23","v":{"$error":"#N/A"}},{"$error":"#N/A"},{"$error":"#N/A"},{"$error":"#N/A"},{"$error":"#N/A"},{"$error":"#N/A"}]
[null,null,null,null,null,null,null,null,null,null,null,null,null,null,null,null,null,null,null,null,null,null,null,null,null,null,null,null,null,null,null,null,null,null,null,null,null,null,null,null,null,null,null,null,null,null,null,null,null,null,null,null,null,null,null,null,null,null,null,null,null,null,null,null,{"$f":"EL23","v":"Three of a Kind"},null,null,null,{"$f":"EP23","v":{"$error":"#N/A"}},0,{"$error":"#N/A"},{"$error":"#N/A"},0,{"$error":"#N/A"}]
[null,null,null,null,null,null,null,null,null,null,null,null,null,null,null,null,null,null,null,null,null,null,null,null,null,null,null,null,null,null,null,null,null,null,null,null,null,null,null,null,null,null,null,null,null,null,null,null,null,null,null,null,null,null,null,null,null,null,null,null,null,null,null,null,{"$f":"EW23","v":"Two Pair"},null,null,null,{"$f":"FA23","v":{"$error":"#N/A"}},0,{"$error":"#N/A"},{"$error":"#N/A"},0,{"$error":"#N/A"}]
[null,null,null,null,null,null,null,null,null,null,null,null,null,null,null,null,null,null,null,null,null,null,null,null,null,null,null,null,null,null,null,null,null,null,null,null,null,null,null,null,null,null,null,null,null,null,null,null,null,null,null,null,null,null,null,null,null,null,null,null,null,null,null,null,{"$f":"FH23","v":"One Pair"},null,null,null,{"$f":"FL23","v":{"$error":"#N/A"}},0,{"$error":"#N/A"},{"$error":"#N/A"},0,{"$error":"#N/A"}]
[null,null,null,null,null,null,null,null,null,null,null,null,null,null,null,null,null,null,null,null,null,null,null,null,null,null,null,null,null,null,null,null,null,null,null,null,null,null,null,null,null,null,null,null,null,null,null,null,null,null,null,null,null,null,null,null,null,null,null,null,null,null,null,null,{"$f":"FS23","v":"High Card"},null,null,null,{"$f":"FW23","v":{"$error":"#N/A"}},0,{"$error":"#N/A"},{"$error":"#N/A"},0,{"$error":"#N/A"}]
[]
[null,null,null,null,null,null,null,null,null,null,null,null,null,null,null,null,null,null,null,null,null,null,null,null,null,null,null,null,null,null,null,null,null,null,null,null,null,null,null,null,null,null,null,null,null,null,null,null,null,null,null,null,null,null,null,null,null,null,null,null,null,null,null,21,{"$f":"BX24","v":"Royal Flush"},null,null,null,{"$f":"CB24","v":0},0,0,0,0,0]
[null,null,null,null,null,null,null,null,null,null,null,null,null,null,null,null,null,null,null,null,null,null,null,null,null,null,null,null,null,null,null,null,null,null,null,null,null,null,null,null,null,null,null,null,null,null,null,null,null,null,null,null,null,null,null,null,null,null,null,null,null,null,null,null,{"$f":"CI24","v":"Straight Flush"},null,null,null,{"$f":"CM24","v":0},0,0,0,0,0]
[null,null,null,null,null,null,null,null,null,null,null,null,null,null,null,null,null,null,null,null,null,null,null,null,null,null,null,null,null,null,null,null,null,null,null,null,null,null,null,null,null,null,null,null,null,null,null,null,null,null,null,null,null,null,null,null,null,null,null,null,null,null,null,null,{"$f":"CT24","v":"Four of a Kind"},null,null,null,{"$f":"CX24","v":0},0,0,0,0,0]
[null,null,null,null,null,null,null,null,null,null,null,null,null,null,null,null,null,null,null,null,null,null,null,null,null,null,null,null,null,null,null,null,null,null,null,null,null,null,null,null,null,null,null,null,null,null,null,null,null,null,null,null,null,null,null,null,null,null,null,null,null,null,null,null,{"$f":"DE24","v":"Full House"},null,null,null,{"$f":"DI24","v":0},0,0,0,0,0]
[null,null,null,null,null,null,null,null,null,null,null,null,null,null,null,null,null,null,null,null,null,null,null,null,null,null,null,null,null,null,null,null,null,null,null,null,null,null,null,null,null,null,null,null,null,null,null,null,null,null,null,null,null,null,null,null,null,null,null,null,null,null,null,null,{"$f":"DP24","v":"Flush"},null,null,null,{"$f":"DT24","v":0},0,0,0,0,0]
[null,null,null,null,null,null,null,null,null,null,null,null,null,null,null,null,null,null,null,null,null,null,null,null,null,null,null,null,null,null,null,null,null,null,null,null,null,null,null,null,null,null,null,null,null,null,null,null,null,null,null,null,null,null,null,null,null,null,null,null,null,null,null,null,{"$f":"EA24","v":"Straight"},null,null,null,{"$f":"EE24","v":0},1,0,0,1,0]
[null,null,null,null,null,null,null,null,null,null,null,null,null,null,null,null,null,null,null,null,null,null,null,null,null,null,null,null,null,null,null,null,null,null,null,null,null,null,null,null,null,null,null,null,null,null,null,null,null,null,null,null,null,null,null,null,null,null,null,null,null,null,null,null,{"$f":"EL24","v":"Three of a Kind"},null,null,null,{"$f":"EP24","v":0},0,0,0,0,0]
[null,null,null,null,null,null,null,null,null,null,null,null,null,null,null,null,null,null,null,null,null,null,null,null,null,null,null,null,null,null,null,null,null,null,null,null,null,null,null,null,null,null,null,null,null,null,null,null,null,null,null,null,null,null,null,null,null,null,null,null,null,null,null,null,{"$f":"EW24","v":"Two Pair"},null,null,null,{"$f":"FA24","v":0},0,0,0,0,0]
[null,null,null,null,null,null,null,null,null,null,null,null,null,null,null,null,null,null,null,null,null,null,null,null,null,null,null,null,null,null,null,null,null,null,null,null,null,null,null,null,null,null,null,null,null,null,null,null,null,null,null,null,null,null,null,null,null,null,null,null,null,null,null,null,{"$f":"FH24","v":"One Pair"},null,null,null,{"$f":"FL24","v":0},0,0,1,0,1]
[null,null,null,null,null,null,null,null,null,null,null,null,null,null,null,null,null,null,null,null,null,null,null,null,null,null,null,null,null,null,null,null,null,null,null,null,null,null,null,null,null,null,null,null,null,null,null,null,null,null,null,null,null,null,null,null,null,null,null,null,null,null,null,null,{"$f":"FS24","v":"High Card"},null,null,null,{"$f":"FW24","v":1},0,1,0,0,0]
[]
[]
[]
[]
[]
[]
[0.42343337915532064,0.84593294297720134,0.19331321672858637,0.26476756280201663,0.39334877932800294,0.9023640443434664,0.88708424060493218,0.16277898969710569,0.47523673128166666,0.67931524677617705,0.65608482395855405,0.41284595567922544,0.61476838530767108,0.52911697235152955,0.96690266691625815,0.84964977121885543,0.81548629857048649,0.79784133668302293,0.85733862439841058,7.0475975025611537E-2,0.57693402183648212,0.87868463538723962,0.95205408545693626,0.31965098740342279,0.23857555609022696,0.15708222312756925,0.8783901495943417,0.76813596546910401,0.18712391724554334,0.68010778713871689,0.61828704230598885,0.23268717523243754,0.38965915236691484,0.89521747319701217,0.22177461735030513,0.21082745280417969,0.90411187573270069,0.78393476813775353,6.5432578950275766E-2,0.12190063617774249,0.26903074455586418,0.42896173530685944,0.6224923707910277,0.34343730787668814,0.38061879020836875,0.88830114916005465,0.44139115991565436,5.8021874211892088E-3,0.78899820668372223,0.23095421743370093,0.11350652732539857,0.71271251969300187,5.0060043725352221E-2,0.77473769717881713,0.92522726270468758,0.46853456377138814,3.9347305555941903E-2,0.80512411577345111,0.72162750306074441,4.7025194192202413E-2,0.73974198251057743,0.57339563345904088,0.96515623599943268,0.12741926468296838,0.84993170585385402,0.64340972272341479,0.93053165199942045,0.52513390387035308,0.41169947956346076,7.5106933724529257E-2,0.89009036852918133,0.22752270378295913,0.25349375380267669,0.86500588389866073,0.63619386459383986,8.2963354328663641E-2,0.66098253744009738,0.14305272686628034,0.65097510067795528,0.77908087208764643,0.87207664842240395,0.75086461463348764,3.5236685011320157E-2,0.23724400855424965,0.5567458039148615,0.28056273208047533,0.54967092852592425,0.23052961149254347,0.46549445928246014,0.10296580262154598,0.5184606882143924,0.99522344153758291,8.6361238247575467E-2,0.20208256573108263,0.25512996828567114,0.36420112417484296,0.25440005531414567,3.9556748156367116E-2,0.18723927041835764,0.15964256617793982]
[0.85962919829331175,6.0855649700850667E-2,0.8810506882763296,0.69184891985102559,4.0631905867817286E-3,0.6006289992853292,0.60341277209709809,0.31776249479328389,0.76125512207748214,0.91832971945582154,0.31675157633701456,0.40446207479000107,5.0609245028827243E-2,1.977371105110326E-2,0.59725052545991841,0.90455428212027966,0.92607810936004886,0.10775714121343871,0.59539346572415031,2.5720648545783931E-3,0.63621608537070085,0.3150186015738401,1.7045211005851435E-2,0.1496532127759429,3.4297995307260853E-3,0.69956288766711039,0.49215704961621665,0.30917434241127772,0.43080693860776587,0.13653677022781441,0.76837145771771609,0.3121233151661652,0.3301227316655585,0.23219785992341258,0.68918274063351259,3.0087756531018028E-2,0.61431807718661413,0.22514364387040486,0.72426044890058694,4.1206410718892417E-2,1.3073510614373229E-2,0.67496932734268711,0.44474365872025223,0.81569868659647626,0.72960763022762176,0.37954116030165608,6.578290094045236E-2,5.6744112366593491E-2,0.94359473679091055,0.57476151313653623,2.5505314053058892E-2,0.37690729135708623,0.12974020646492512,0.97475746344502656,0.82246691222863888,9.1520324657618723E-2,0.78661995083128877,0.43107248285293742,0.72153615663221382,0.67771357459490922,0.40199459948545091,0.22327671070346689,0.43132892106934095,0.72962741968463285,0.26672819340224496,0.84357383014322274,0.46610296774725979,0.62976209235748504,0.70747857656946633,0.15057940096778688,0.21874237903629812,2.0501173521984217E-2,0.33990507410325577,0.98423637537709885,0.37562972263100647,0.65666977868876442,0.20669778868076405,0.7989810495754287,2.4961433728271198E-2,0.44165027121017975,0.5528742345571207,0.15620063064054157,0.86891788549366611,0.23521966208396128,0.67756474873016481,0.7708232025033348,0.63354340004887399,0.61767653765776875,0.53661985822797653,2.8891578869179924E-2,0.9382066319714234,8.4106895370859913E-2,0.97672991967627876,0.10186610129595175,0.2987221719186679,0.1510130746203947,0.89742959540787093,0.14690008124329301,0.9265501993498968,0.24255605943860259]
[0.49105627130891261,0.46233149567611065,0.51001575160927315,0.42551366572182425,0.66246328419963818,0.69994206701715234,0.42568692329715108,0.13482182171933466,0.57475764232387327,0.18290141858987052,8.5436947376843153E-2,0.42740393806298205,0.24281949623755616,0.5354406306225078,0.59059482125106544,0.21865307512237797,0.73110031604709769,0.31391528053891704,0.6892753722707925,0.54643096170300243,0.94129381146432634,0.2978172426372383,0.23071082307107516,0.32658321821502767,0.14484050733091969,0.6107577218667658,0.63038626604549486,0.62656150246367781,0.88010465913953007,0.69092581497796646,0.13690047170660036,0.30974275215177383,0.61167914177471427,0.1513709642123362,0.81483541008077387,0.9542888501630219,0.18328901126382591,0.14076770273557637,0.8917011105330801,0.59536186166869565,0.9287076582350422,0.25502069041683895,0.16520178797228025,0.22929952138293597,0.45787141274811483,0.7991375815145968,0.74266808022970321,0.30108524525645131,8.9531276600280596E-2,0.30684718911717146,0.66035780844762471,9.4563663912819673E-2,0.52487583270775273,0.65831950440315701,5.2996773416871035E-2,0.88983434389497351,0.14639496314568001,0.61140136673834511,0.95430419634310026,0.95324842566706958,4.5054717472861938E-2,0.89058072029464019,0.38070283804636329,6.7888162485423509E-2,0.48994612334652898,0.61387247025805414,0.94596541780222143,0.45477466151860779,0.61296572317364428,0.12922047245683277,0.98838385424335085,0.12923835745397061,0.33627914365124389,0.75727554193159841,3.4984041199332294E-2,0.30739245972389284,0.73730053893356229,0.67172485358734246,0.59808033968857011,0.34453226641658641,0.46876076022572932,0.91258409303921262,0.50853307493872524,0.71251258472915091,0.40954525540301523,0.17852675360493331,0.67609688976526605,0.19758049577911652,2.6673043728356993E-2,0.46802801305238073,0.56718253612607261,0.50695977221074073,0.43483376818817621,0.51697369794752457,0.80825061655256758,0.84980459558419252,0.61847989600831477,2.7440598141287742E-2,0.75603017337519229,0.29578783310670598]
[0.47125493173129707,0.79976435135717794,0.60203863701978733,0.31360445384686475,0.56009744175732357,0.5261546607363089,0.35443746250227837,0.89023593715873317,0.49377911436957045,0.73664574377075487,0.62846662696272648,0.82716919453601212,0.39219093282884565,0.41066176445262204,0.28017875243463264,0.86832903148211771,3.265171029217373E-2,0.5013535824187495,1.4834004499317488E-2,0.68877518540816551,0.39227669347745486,0.98876104560402656,0.61079388855878625,0.9500867731277215,0.41009617174174728,0.81990355846355356,0.24973860714344065,0.27091322720137867,0.76490305230475142,0.48040295018684043,0.57447369181606256,0.96800314840885715,0.68942526783645697,0.95278922505097663,0.20304158738911493,0.98511460796969141,0.86265650367318536,0.67969391463680817,1.7309226947778922E-2,0.82570569635514246,0.65628394874786689,0.52420112888586079,0.56102063862810836,0.57478285700266663,6.8795549334812134E-2,0.33373307047486833,0.50362612083599079,0.77110900001773652,0.57036507294858341,1.6634804185595042E-2,0.48747855213010827,0.39315488936525145,0.17486721208972755,0.37619414710032928,0.85614044650800947,0.57499303671490432,0.13561072613165237,0.47643751939758072,0.24520691166409869,0.65144400527683854,6.6064231451956612E-3,0.39681393041908786,0.14428271962088224,0.943434835600234,5.9931184629513079E-2,0.32542469504597837,3.5084049096486103E-2,0.7096684908172326,0.80951660728728903,0.14226946818294917,0.68957863115428197,0.24846833600699703,0.6230983842290162,0.38801128632528736,0.51387012793392195,0.78060437318968867,0.48433363526492357,0.38035389586260682,0.95485697013674931,0.93381608780659231,0.74877357274628231,0.66154284930825502,0.55940555170212203,0.71478457694190378,0.36634230529880041,0.44329772329192307,0.90692274752160595,0.32794568712389383,0.33869901102626165,0.86383294146487777,0.41589705751004913,0.17702021016974079,0.39062918674544278,0.18857991750801417,0.58499322443685953,0.39153353354173004,0.37203245977605481,0.67154160108120797,0.32940779609439985,0.25555386552380321]
[0.4510063725743072,0.82177212866547089,0.69891762768338328,0.38642784379621342,0.66575282592758744,0.83937914471286035,0.65055991991486706,0.90488240893565797,0.92365256285628528,0.13096379693532767,0.59484582038434342,0.99719690854774978,0.39497837193172614,9.9387669766799802E-2,0.17657285160456337,0.82371952584367059,0.17684550588844006,0.59318302937389,0.37702108890625663,0.5447893235843605,0.47333388164156953,0.68196677514363102,0.52068436894641068,0.65268031577490404,0.85881191486140518,0.24800225961874756,0.86603804141915242,0.75380226213412993,0.37278529016880435,0.67496900030798379,0.49453275937681995,0.46998413780767212,0.53180675713519099,0.29725297932927564,0.65277634827886366,0.52633589480616549,0.21583766818647065,0.79698526818520843,0.91495393727428975,0.53478004484336783,0.51036295374358587,0.32969828732495599,0.37966240799809015,0.21991535798446227,4.8042032419495784E-2,0.97714131980034591,0.37769952807396256,7.0018820345268407E-2,0.84771651014716809,0.73098648894605656,0.22932558892378929,6.164488827526271E-2,0.19313173509839343,0.78610473252427993,0.41071572968514825,0.9970814347484267,0.43205266372186601,7.0709225388369101E-2,8.9699684193817242E-2,0.47926980174493206,0.29376762909947518,0.90668470698000625,0.93395556970909088,0.56314885097589751,0.51772197084552263,0.17304670251137033,0.16122243197219788,0.87900796358151068,0.12590950263826028,0.95955039568974565,0.70657703947742001,0.63410298656579012,0.76865308341771221,0.88556797269832999,0.34468463850855524,8.0398130697230119E-2,0.40870937819111086,0.19518723503405877,0.63856451788345769,0.88031193174489231,0.13320486811085541,0.19479736860100683,0.89520083939751061,0.47509761879499435,8.5444218674669448E-2,0.6234201276817164,0.82208228573787867,0.61069658003526295,0.28484063134976634,0.54441755325918673,0.59470082650123191,0.29846070312225803,0.26539634592675132,0.27709355596815466,0.77320398156173042,0.22219122652751677,0.33291114741556138,5.4524076575144131E-2,0.19489754540811488,0.16127072819956778]
[0.67022430997552296,0.73414750903347126,0.89198191265182747,0.63085554883811812,0.23961622795386761,0.36800737266258254,0.98051861979718946,0.1734551337220237,0.83267863606491399,0.43673710754672379,0.12324486707449545,0.90091438965080017,0.3867658969214065,0.62609207670451783,0.67627046855396278,0.35270038275612836,0.69628163855733982,0.41399534932282134,0.89986747238481402,0.20702841331328581,0.62521313546558011,0.73934391528522658,0.73513035272406635,0.94069372277550112,0.73440235067917159,0.43151726997840079,0.87961412084685286,0.46777976854471759,0.11408104344194814,0.14697996895988708,0.64644358827445392,0.50577414966226386,0.58281060841244958,0.18358712978718894,0.40002713249627153,5.6119335333867371E-3,5.6960135109297316E-2,0.95905976651337532,0.22587136152928,0.80402701232646534,7.4630296418999875E-2,6.7519911772593644E-2,0.33857517884970578,0.64320637934373426,2.0966909534724243E-3,0.83124844496247519,6.3089311696731376E-2,0.74101124580825184,0.48421115194615438,2.214402451079045E-2,0.77205803643112147,4.67906741446934E-2,0.36402816399754501,8.8809114151160329E-2,0.12386264224352683,0.38264808772302328,0.45913506817057181,0.1411203699285809,0.29708680828691347,0.4813428416072586,0.25380677006246977,0.62316442023629171,0.23958882693390182,0.97883821254055103,0.74812789770622945,0.72642201288560138,0.38326095986819742,0.26771725656925982,0.89322072062504543,0.82754906047721855,0.45328524732598785,0.87173884495838638,0.78852727557553071,0.50324899418673885,0.96767024428613713,0.20530473995344289,0.80668237377296281,0.11085459016089383,0.46607100825597236,0.41016711898688452,0.80890248670257603,0.36280510732427806,0.88658360741596642,0.37269258336140487,0.12126710993026901,0.53340048173585231,0.21009658387892771,0.17307250968397314,0.75135360186802036,4.4024118042996774E-3,0.22558537001544554,8.8672899457235776E-2,0.64640404137257346,0.70268536460380315,4.9909685395059689E-2,0.14132949886365487,0.5982688988509226,0.4053998468513359,0.44853978017066065,0.75769093400629095]
[0.32399026615103232,0.5398276111628092,0.98495503781175819,0.48595890829721033,0.16856035045783435,0.80124096543597978,0.89904347716134503,0.72473914962864749,7.7380175015736796E-2,0.77522156376495621,0.31517891595312952,0.34666589356753819,0.85612542427122951,0.74317712995023089,0.59991190256353533,6.4255101146223348E-2,0.81675152562138653,0.31321162912441314,0.6932914399372978,0.18820195156254138,5.4938616260252093E-2,0.50629199744759334,0.8938057979411782,0.71638443858682177,0.85590945256059459,0.4315313486490997,0.37714033589662399,0.28435905352761526,5.5664351454750127E-2,0.21330391721496467,0.83201383902464809,0.34550568559957084,0.41113533256967472,0.49621400058223919,0.79328549649033941,0.3738131073699863,0.31553671576563613,0.21470118800363769,0.28946712397292762,0.68726486147183197,0.85399069832580776,0.57626421866169331,0.85908597244016371,0.47178690448535088,0.20562719900893967,0.7360980532060557,0.98604936744803739,0.39772384858493126,0.33073919017138942,0.90183081055735526,0.81513633020194343,4.6328388527938413E-2,0.67794103510695325,0.2585934619902176,0.58754492741645414,8.2143920004407178E-3,0.85242265129827111,0.32101145284954558,0.97912521807467312,0.56704476561860939,0.28670471275587517,0.79477017752354062,0.39924292864240207,0.74309871653499548,0.26796004355149905,0.1768873737005815,0.69694062442548954,0.54769922597728726,0.47788880963698765,0.99836121028989622,0.98996670357057759,0.16107101229091769,0.27536785935950026,0.6101361195558922,0.37784118185217896,0.98402313982628287,0.45377708641252756,0.21877786414244771,0.73070420272322567,0.66392277977619951,0.92133366313003862,0.76706240133683667,0.12314129479586478,0.53660338160599874,9.5583023575226855E-2,0.59445033527696545,0.11409996900249086,0.89055054717873516,0.39637178784104599,0.92599165447581866,0.14617159892700937,0.40241521010587067,0.93754550456097219,0.46198516581816795,0.51510015128690545,5.462491821113169E-2,0.35062751250573587,0.41827919728376495,0.44401223684170243,0.84428823718768453]
[0.53435850823450404,0.25256648228885503,0.41638132220775259,0.84827382972096466,0.56972953725487718,0.17625294000483716,0.61468592095774754,0.22965098625853297,0.54768525340596486,0.73324823501275616,0.54160018107080499,0.25277269734448471,0.14281460097173304,0.41519765051672475,0.61696576767170164,0.22205957677786803,0.69558903374365388,0.66317567206740136,0.3663207958126703,0.53294423004541824,0.50907296215847953,0.32824342740746837,0.76653160538310727,0.59777571094611037,0.789713229353738,0.2377341215583727,0.99424096093276237,0.96823257829957043,0.19857385585038934,0.41475807334504122,0.18693852994140514,0.81619187777176594,0.43833604422436168,0.72519601613221796,0.15447875277396461,0.10402798453349282,8.2031696507767093E-2,0.36673172542406995,0.64903845871909682,0.71093865378103138,0.20212753873995937,0.34719726084050151,0.72763291248451101,0.79296325811922119,0.86553793207156005,0.28852228487313347,4.1390359135385912E-2,0.98121977432330199,0.5442888228015611,0.42897766589961406,0.11157265808576966,0.66169379150518359,0.27141828814764435,0.79572093721430581,0.32878646920373389,0.87150194633722078,0.87440948978680932,0.75337900843188566,0.33323102739288324,7.3760682807632372E-2,9.8122943005530261E-2,0.21287668822376049,0.45291583421566195,0.91700901412028168,0.99864309570467047,0.11846662190375057,0.11005997360487363,0.72190444022244149,0.5125373865737417,0.69924059395272675,0.99839889988403807,0.77150312704965618,0.88056939485966035,0.1776499316656156,0.76633262629510845,0.37729796973615792,0.32247834037926726,4.4081028856831739E-2,0.52855143515549763,0.16463266386175202,0.14659504563561487,0.5705091972233316,5.8168139910777072E-2,0.68291104188178997,0.54183146358077117,0.76318965610047307,0.43120934456200177,6.1033260751530038E-2,0.90466061155742616,0.71079239206702016,0.22924631282436536,0.86384302348713971,0.10344766817780071,0.78032863259641116,0.93407115211702862,3.2848650851242223E-2,0.14137073135598133,0.13017126740110563,0.17020828980871405,0.45326132211544123]
[0.89720782394513099,0.25523871078627902,0.57497384150560804,0.10407245631482109,0.63394522140988618,0.7866880362379175,0.39582282552622838,0.64949737116767237,0.71858332303390826,0.58856046968135589,6.0976002867348944E-2,0.40167863497193279,0.88991255028330185,0.26871058129001535,0.8629206278034387,0.37105126595449589,0.83749417817667038,0.22702234995429227,0.45245268005927164,0.48124906675383683,0.43825945032690328,0.77681287326848647,0.12214560040692302,6.5281381496043345E-2,0.2217949551579782,0.95680526648473352,0.97467047001372364,0.11808046745054002,0.46964538180404947,0.57160543941938124,0.6317165694978063,0.61332986093148534,0.95027873385569828,0.41806458509719302,0.23675231542773667,0.43203948035777928,0.77645107121036472,0.62404779285777412,0.4714432801229993,0.42369305724447004,0.94931951593505071,0.73339659287846815,0.82842478706103151,0.91755435795188067,0.29815861319733161,0.89197012461012859,0.79869791930618239,0.86223017260070367,0.14660153112625429,0.56141098142880586,0.45431657388455982,0.43780983584683364,0.8860887852691175,0.70208048878526197,0.34628368005917243,0.80406402125284071,0.76771705340942464,0.56301240771816585,0.38334741340451028,0.59393497811766638,2.4039045820055893E-2,0.41303977296059835,0.91791637150152094,0.46825714778558969,0.8912936141661727,0.97447713260994728,7.2156279496246034E-3,0.36776693549648409,0.29743122007636524,0.70315043727328441,0.7256129753436833,0.75829131563074981,0.51837404732246817,0.20506807635638347,0.48046450940444374,0.6087510819830132,0.48320280355130951,0.86653017076995087,0.41546934583533413,0.5497411029046565,0.54845164667882118,0.79228308562529082,0.57759929483251682,0.71341831177701476,0.81276046638932675,0.89438275367205466,0.80265111226966512,0.4676837626672945,0.73251154488012382,0.49231358010226089,0.84931955413093618,0.97759315081992892,0.12070278766895426,0.67240376043331396,0.51344586186313723,0.9499965956913955,0.60388080246835163,0.50731067194616664,0.32423317331007095,0.6334279443240769]
[0.60763898657439008,0.60671069298858304,0.22644196988256782,0.80028323476896801,0.77928843463692521,0.2457901189546613,0.80848118284488346,0.82056144478381254,0.83957131175104338,0.53077455393838779,0.32913365210935008,0.20406801311484224,0.12961619203206831,0.96719104292446489,0.49150777532717815,0.7610811338952409,0.52451094870638992,0.55928968321441297,0.79965042351631821,0.38744250221026078,1.2767046720923991E-3,0.64397625005950521,0.96315602148562018,3.0702229435550121E-2,0.3821017332244957,0.60569610357607939,0.88274390153269944,0.44843420061696282,0.68691853508233502,0.81004764943660745,0.12947852708385665,0.19026720259702357,6.6828105843466545E-2,0.13192820926788373,0.18958754336649519,0.7080108854813103,0.32096113922031511,0.44528674391142442,0.98382763172294263,0.17840005441692863,0.54366715097637752,3.5728884367969393E-2,0.14033955832470624,0.54583807637687431,0.32334460742748339,0.63719036502454496,0.18816790165404396,0.31331273415597494,0.4643414949618978,0.68252055342398488,0.71931991574443677,0.98406274563448615,0.93383118470349513,0.87331536553387457,0.57899231008350593,0.84913676551453854,0.27787957707636879,0.85819993260253857,0.22949826688981345,0.49503630783952401,0.31889929071676049,0.46993036586853809,0.14267566175408797,0.13791199856815961,0.94853406385263017,9.412301523160238E-2,0.3610995690437665,0.32963667669913843,0.74563371746475282,0.95809948645678034,1.617569781078676E-2,0.14984564269989509,0.24698352263802781,0.97760599029062634,0.68157526641997046,0.54965220406518722,0.51750580137312263,0.42181417169136581,0.91618691693371224,0.18134597432043309,0.98250609781369291,0.91018687872211557,0.69356425860559168,0.10285334353004538,0.6777702112258327,0.82448157272965483,0.83526812966859942,0.62141032460717693,0.45314403048566132,0.99053080974131413,0.91893262714810486,0.46053260058834389,0.34286990463258649,0.87467067705573787,0.28890747961110708,0.95360527416581042,0.59336600298408793,0.61927379622031697,0.99627571633251499,0.3158383038226924]
[0.78053788828430359,0.84217714369153995,0.83588472286920945,0.66110820582588037,0.2105279596792502,0.30631833332905734,2.8518182119839586E-2,4.2631730237975285E-3,0.26168713104366703,0.39407675105101458,0.41420631817035458,0.99851206678376736,0.2776949275610231,0.5233026611648901,0.64130173655770806,0.95092983936286091,6.7662992435697955E-2,0.74719695667855834,0.66315771507685495,0.20019315823863604,0.48607352901142964,0.5793080176480796,0.10862759818506484,0.58788766262157688,9.9371709470239877E-2,0.76883624727670041,0.57931210277403478,0.89069181465954972,0.63707969871032999,0.33737772803615418,0.34921782361366971,9.645641070053057E-2,0.12781876682851934,0.1505053365827479,0.20738467679490868,0.33923032064636671,0.19748556247104543,0.3505585871717426,0.39987516280510516,0.54163837209353727,0.43438303737741579,0.16907049651446038,8.1111877843394575E-2,0.5315655112679909,0.69714486525211306,0.38437603447523372,0.87669682566965401,0.71510824065258916,0.35628280415994684,7.3206756735539558E-2,0.73194692990112786,0.31772641091705023,0.38612627783442866,0.59201387372777148,0.1710666606135347,0.42569425947515938,0.4939204378737021,0.3318573802492607,0.21050860820333972,6.2517706999371092E-2,0.56299802456343118,0.81145608999546437,0.89456585245377096,8.9417836923783245E-2,0.19207847229732411,0.52283152171828573,0.73053946958746441,0.36759258511579118,0.45780203796726637,0.49411304715640358,0.55143958486664901,0.34676512826933026,0.21757552090206889,0.65504471362373007,0.34822939239288719,0.55391406795399245,0.6881785324024331,0.30929635457879756,0.62855617698681998,0.80692505506543066,8.2234220253176837E-2,0.45215648765667515,0.47080615143623328,0.76617478757268453,0.7368700278348802,0.33315124395251072,5.0669744826762897E-2,0.66111736936851784,2.0127724450195505E-2,0.69723633961646048,0.5245409785283307,0.83327463758339348,0.50569402362562854,0.89113655828085836,0.25579722196312438,0.46577993235498549,0.17179560838375851,0.26556767064584708,0.97193554109434077,0.21077374629845003]
[0.73401259941928843,0.32020533212211211,0.35342792771448295,0.84545405150317487,0.57202878696960457,0.17561955065796864,0.28801331056648638,2.4316330129243724E-3,2.313309610558445E-2,0.89842345232695331,0.85047888763951396,0.34038591119609107,0.45939370593188267,0.30199154614078993,0.61692491239904379,0.80069454667858442,0.41709247750386869,3.4523710158616772E-2,0.67145278343102044,0.19898467282953969,7.7329253510322715E-2,0.26488665191448713,0.17846289407937599,0.94185386894001744,0.92930877468171713,0.51006630014183818,0.43325035989037808,0.11221898130616725,0.5589386174781259,0.81333930968666879,0.74466813664311293,0.52751919154978399,0.90142138882184841,0.82304956447311683,0.47630143615685994,0.8244215901924844,0.16090054638766804,0.10517740213670479,0.67336952070778189,0.13089670305690648,0.73623610855424892,0.87533174701729755,0.30237022357012144,0.61393794567375026,0.33168306009019177,1.0598797695099416E-3,0.6197594595800745,0.50333077451230346,0.3345873804783005,0.12529140094077718,1.817670575111241E-2,2.5491651808930871E-2,0.85447995599590221,0.70454107521469844,0.61514617598905874,2.2005767333173831E-2,7.17791621702355E-2,0.29197357803297475,2.4757732968879176E-2,2.8191827340070419E-2,0.14893985474648241,0.80489537256969323,0.86406684934233713,0.47377729092534249,0.67640609803366569,0.16751887421662914,0.13894331391871051,0.50044125153297903,0.5828255929975481,0.39937871480583509,5.1188397055059176E-2,0.19902334546384071,0.70761314045900103,0.20461193867727767,0.39040065013146152,0.52267856582627503,0.26024740027014159,0.56463052700100369,0.98446439628275295,0.49610458665484636,0.36417673513523974,0.16309183622810586,0.45199037575405443,0.27116692963423406,0.79578147073298489,0.51452503762430013,0.65147306839732821,0.80931802278772436,0.32677420061170015,0.98554517411895748,0.45231110536790209,0.82788960617739527,0.33485113226435204,0.83254465199077843,0.76888890801088761,5.2921459318081121E-2,0.4390636991694209,0.62563239089971201,0.22562366130479405,6.0735355519632939E-2]
[0.38402173983992072,0.49718633223623532,0.31490569421003323,0.91637930550512237,0.10694178472354887,0.4204514023634911,0.74455737846405368,0.91858593657043641,0.9433484830611597,0.20376371015748851,0.8699773542174436,0.7407955752612021,0.12664871951243684,0.7000497875982209,0.66494545655415116,5.8037108223593536E-2,0.73976320860353351,0.33437390435522529,0.32110013093252088,0.70700688337680251,0.49400588923819666,0.21955679305594666,0.81818226179171993,0.37351206818988991,0.67149729759630816,0.67524874784660094,0.84904967401030906,0.56502047591209048,0.79908584756305145,0.5026834896399105,0.58505899866898681,0.7613383103635063,0.63933189519700728,0.40360966474126259,0.6661729521568196,0.65307916446722447,0.64574087222081977,0.72189868375909183,0.28744236826851433,7.0478520663018629E-2,0.94195832675272129,0.46523249077356232,0.89514278235251332,0.69043376950531221,0.13373878608676171,1.5025250908276666E-2,0.71029072534443993,0.58688197192782776,0.96626064243189624,0.45832654272998852,0.38884078473603845,0.48584395999529051,0.46816572013154234,0.31066578129895117,0.39029429752415956,9.8829347023010605E-2,0.69372402054579896,1.0739113715673154E-2,0.61924000087696685,0.51602827367476845,0.13609945841166515,0.31598674678433203,0.67202485639153842,0.49394014575724043,0.37257892502472445,0.11855791153054118,0.32074566509150104,4.9890510601574345E-2,0.24141778326161034,0.96388746938548742,0.40636198901992315,0.57017798980806034,0.69484101069750281,0.59941453046662352,0.23655927542058297,0.51027752848048358,0.61036530951146351,0.40252862723681992,0.15802578310446069,0.66420479142533961,0.10500962774874545,0.76028843996233197,0.68447121703220659,0.81419201600888935,0.96886933635591299,0.2465320287837196,0.79622425349376769,0.36659061023980877,0.61647565679613636,0.34575193991524333,0.84375729667949118,0.22135407544935071,0.38130885206488407,0.78204814407881995,0.66785852198033357,0.80139825558788191,0.76335807701244318,0.78717854118208475,0.29075376796653851,0.55817259460428748]
[0.38361338343171014,9.154422329829337E-2,0.16647057400181775,0.93513371797486589,0.86091476666742395,0.97298583437000319,0.71950745777744451,0.26348596455860041,0.86159160293998949,0.57273729403755769,0.51185013977191063,0.57532024745879895,0.57385116544566972,1.3486014136372182E-2,0.63022875896832309,0.35379682634768228,0.70523104294253103,0.1329871771494342,0.82033310735868836,0.14834248270831007,2.1509224692242812E-2,0.12148105590662905,0.32614697419258798,6.0906084605395372E-2,0.63758330822901044,0.27105765481832222,8.2301592244298227E-2,3.1923305408654956E-2,0.77919585657362789,7.8744960306782019E-2,0.15291438660908552,0.18635567587630097,0.98861461933686379,0.43852298589398486,0.74592176000598431,0.5764185494618832,0.82892850694710463,0.10520045029903602,0.17365386592525489,0.31039637387767482,0.65847662857175826,0.20345652994193852,0.11146392637346381,0.21859388859668771,0.44362422839549964,0.78110555470624299,2.0521190457532201E-2,0.43618499515129838,0.67816241774273023,0.87361647265557207,0.46010195752348371,0.36902650307175366,0.49667674516683391,0.66730578713377409,0.68988517506824121,0.95482377955228281,0.78745548069707838,5.952839060602555E-2,0.21815046361097168,0.81830213126043927,0.92790158729394834,0.36676111381525067,1.5155912319292919E-2,0.65053633044675896,0.11586355453005037,0.32615369657824644,0.18609992350538584,0.56310617646534267,0.77588590716009953,0.29600999036516118,0.11758084130092372,0.94439649097798639,0.32956493224960426,0.82991263941003912,0.65149755081030492,0.96602854792325565,0.89804842381991634,0.89600887743576862,0.84048297517039183,0.97051701629048381,0.54358787884969051,0.91153979631937632,7.2745781486292516E-2,0.21320778682251507,0.73533303938599859,0.16630669962375477,0.17041496214552909,0.94375555337480066,0.8757654846037819,0.21952653785392584,0.98914136283081733,3.3762933739898804E-2,0.8129031515432239,0.55191475391291167,0.12277681640670846,0.68573572569950025,0.30136369100866534,0.36755947386602172,0.65218313591599808,0.91623513307030613]
[0.35427475776512762,9.7428544455037236E-2,4.2505872506334308E-3,0.2684821263136371,0.61215939190458846,0.74157546979919664,0.24767671194050089,0.45102151411046132,0.71411514145210153,0.96082727425637859,0.55811897065669247,0.13541806579573545,3.4778864593216885E-2,0.76449332505125855,0.6718137383917413,0.52782140778994369,5.1326428792268786E-2,0.74187520969910292,0.2367274170981627,0.57845611726025681,0.49513533905854612,0.11841973116654292,0.76109124625578539,0.1973464777162599,0.46510745103840523,0.90958466988203246,9.781853979442634E-2,0.87763500783773174,0.28685650352356429,0.8145080025734035,0.43030230759185473,0.60399266971918519,0.17017270158523468,0.8223237124840248,0.21269989961678293,0.70661416656270137,0.76241038156653651,0.17510597242033088,0.46817397581252607,0.60203217629025585,5.5031959070618197E-2,0.56369593862423661,0.30451858126309883,3.0035871225808863E-2,5.9015200197608531E-3,0.38880488917291223,0.23944357794225035,0.91439938869305326,0.92209074284655945,0.17581700387010546,0.80649148367307943,0.71877739544373154,3.736257507875862E-2,0.42245626369715261,0.64748508217472478,0.59380626826854366,0.39647183876537984,0.29769132924995834,0.94982032491947255,7.9720728727487922E-2,0.30576325833308726,0.69821536016051355,0.22162866849605389,7.5688327919612663E-2,0.5923398891429138,0.30002959137108876,0.27081426525140528,0.3055592825269825,0.42422054526526187,0.88258915361965173,0.55835833043695515,0.71734741015473513,0.78679720842228784,0.852296654981329,0.62281451481060657,0.29354641300232032,0.17933074118685488,0.58449626307034663,0.38817030550999243,0.30339826231717493,0.91900307542840842,7.7561501583611081E-2,0.90878125804415455,0.82510977015739506,0.39804664486899588,0.41086943810690757,0.17726414482249109,8.0513323030458439E-2,0.217503527226653,0.36018158440199488,0.52576025584922859,0.55101558932349504,0.12940988393442165,0.45413543129648148,0.89941886449646957,0.16354494763939642,4.313938934177608E-2,0.57288924984382539,0.20932323957534982,0.35846517273807121]
[0.33458110503847494,0.19616919966328372,0.87144475319579595,0.94376893456879907,0.58557225966970705,0.24100872613787849,0.649628648201098,0.63709844194821341,0.69256180660716615,0.40475715080759112,0.43772763583781693,0.66605114605575733,0.22555329440617111,7.60551617236227E-3,0.38812674989519869,0.78515294788250345,0.2211217930523548,0.81869573303656729,0.77656636519789246,8.0835893715935692E-2,9.1852316412154633E-2,0.82601700677995438,0.65860498127795075,3.3583590427044285E-3,0.2700401562294269,0.38318631065080822,0.42530872795996588,0.71294672002145365,0.31035607400841858,0.16769090948164889,0.372832997019094,0.42940423041046949,0.22171973534877709,0.13739623511899623,0.67967254324989368,0.94172931078718536,0.70383526632152893,0.45892562355198341,0.81572614550678679,0.20274275910116601,0.25474071608970927,0.5587199202000338,0.72943739338822688,0.74227041624930212,9.9000342296306165E-2,0.41364997580101781,0.14311210224539883,0.59617587422971541,0.62876858604757668,2.5276043059505704E-2,0.27538204782188214,0.6371548048898793,0.25959202346538812,0.76297467571319422,0.11091661007644327,0.92492173557448965,9.5198265854377184E-2,0.40877342159858709,0.39788844874631391,8.9645148746912207E-2,0.98560503043268322,0.40453335760120235,0.4783853584674459,0.18903152516691046,0.24430507124143741,0.33835768641374575,0.10649344730394528,0.61689362146253823,0.52798885570375254,0.50527623505699304,0.2316198811349004,0.51125350074834819,0.42964065606972901,0.41283469244489746,9.2549402345740162E-2,0.48211711755396525,0.51190350972582366,0.74323324622842735,0.90271174817784794,0.27975811397042638,0.8224005362683463,0.23684591923586185,0.90862634340966164,0.94553678622601744,0.80739247806176517,0.40980347960250596,0.98647984864792304,0.99487643189124175,0.86811925429055414,0.95751503707581131,0.13659954078480518,0.90047904733364204,0.72350448468366335,0.88106986729779091,0.77836451889238756,0.67902944804179555,0.98482930981674477,1.0810598105994607E-2,0.74128435434477957,0.34404893712389617]
[0.89940685649054297,6.3858715130135413E-2,0.20460580010134921,0.3410089247685687,0.60135276294464768,0.17388051245137437,5.3541824709857133E-2,0.94623053751749231,0.59126082443705963,0.18227851568249476,0.33143682975076083,0.37907330035872522,0.81811276468976335,0.31586040181390906,0.25010669781519479,0.18086444451060191,0.68179575612064769,4.822942578906908E-2,5.4191094414074659E-2,0.68350307614761086,0.78800002070211239,0.52493243375371168,4.1856985445434147E-2,0.28179337730515985,0.86071999271206945,0.52692540173015767,0.73197718444432336,0.93598154084960494,0.46686983409611171,0.50711357633733556,0.28248407889842553,0.5836973881616172,0.49403956624169898,0.84533787804866045,0.73837571507152733,0.90328981509503081,0.26369342978264654,0.3551596228392575,0.51764855851379499,9.1198480718942987E-2,0.60815087955209413,4.5411385469986687E-3,0.96966701788411458,2.6045152452704112E-2,5.3834039406465584E-2,0.26090020106177603,0.63047257916835198,0.67729849420308019,0.83662704566659274,0.61823900473217264,0.8512459049611909,0.75559781531344705,0.6826760272663398,0.57942939632137869,0.76151251521145868,0.59493627393004633,0.70840190129128899,0.78966799620714245,0.20534168116841334,0.95604475870321204,7.8787911971325175E-2,0.99755840454310352,0.36116363836227827,0.4107660899809954,2.204629842665673E-3,0.53439606591583699,0.54657266969298035,1.149592967236035E-2,0.57990920506149923,0.52292517619403567,0.53733790649275659,5.9661222549265425E-2,0.70452550776372991,0.45339071758069205,0.35351530494995076,6.6099360424869857E-2,0.22331063234612891,0.37280253239740613,0.14806483171419793,0.60147069612206128,0.46563804969409295,0.72502582935414017,0.14510583670472232,0.28150112902008828,0.31627282786051414,0.32172271368279648,0.68501160070932876,0.82107403101794474,0.86981404381505167,0.97224473463679917,0.90032650556156157,0.46735736203549394,0.86263284456781031,0.28246717600886073,0.34980101118859008,0.923047554432043,6.0196451522798511E-2,0.10837778107347296,0.51037878021927907,0.49805327180592085]
[0.84917200847912289,0.41044313716584746,0.32425279677540675,0.5788373618913174,0.99909603011750103,0.52807029188013177,0.70373965868506227,0.6711869875345311,0.69085083274137071,0.69500838183738833,0.50619303449998676,6.7071755709644743E-2,0.72557713100955457,0.70537375728400908,5.0453267163175997E-2,0.59940132796313095,0.91653667368480374,0.66260165320204556,0.99563003304599973,2.6103472158081176E-2,0.18854095156615436,0.92021191967027505,0.56594197942943369,0.70102368153695471,0.75894355702168159,0.51445703482538807,0.1177151518300722,0.49269349210921676,0.51923467012497371,8.2271294693649466E-2,0.82263333708480857,0.1038561233737243,0.20828472540732246,0.72709739850098887,0.19091407082505651,0.13291312144274414,4.2943631821920403E-2,0.27148936120367395,0.71683292716571623,0.90208762646725005,0.26867042293568588,0.98491237924232788,0.85939593709721263,0.23213316183775534,0.70802434683431192,0.33370447313324736,0.33422130956036999,0.98671694375858365,0.85720028079562627,0.38096080602889737,9.0911916744084609E-2,0.92955178146980533,2.8814720512723269E-2,5.3567963339758329E-2,0.93416090624190895,0.16739334743913659,0.27495058518531579,0.64442134071965351,0.40473517693675365,0.57668694181800617,0.37186549057941509,0.163531887885347,0.29246738226623181,0.53516875940538189,0.52117612329739083,0.83497416852756334,0.71448079488178884,0.37261037176772638,0.90684270803058875,0.41981411829342152,1.7469689402550448E-2,0.81456511171438362,6.6943789546112464E-2,0.3753367473714051,0.99780172136549061,0.54032856901485482,2.5666377045732935E-2,0.87964055712765143,0.18575445120134793,0.2621795639607617,0.3397662216665257,0.63515186676870838,0.5604372457044684,0.24837374080627472,0.53727037437757508,0.35393448484915868,0.63306656884652812,0.89319203718201179,0.41325729773630726,0.47445234679786386,0.97941056243771696,0.54940192873965976,0.4967331734858087,0.96382182596204768,0.88897689086116849,0.98403857701017805,0.88063389981628692,0.15044138890702285,0.77173179604802988,0.36466511483617958]
[0.73687994092173081,0.93194819096450943,0.85859508699732368,3.9449007096111544E-2,0.3859403329490273,0.53503823189151367,0.99183461852493671,0.20571463164535253,0.42612911905408257,0.8036972995599313,0.74965932589258899,0.59484444602561348,0.26799582685238277,0.88153952778565525,0.39679508359932447,0.2706198629102291,4.6177142358454715E-2,0.42655914446861409,0.41193389350870813,0.43781316714945573,0.57132165375029131,0.49816607863901552,0.35672139747259202,0.68337072194875403,0.5683563327443607,0.66214052069986495,0.67737914468837723,0.7656290420949966,0.60699220018551336,0.990347497132957,0.1084077604521787,0.64014500200192703,0.55641772624591368,0.98558794881853362,0.59544537784422147,0.52618512092357939,0.11621268988742162,2.4886397631659785E-2,0.36536954065759242,0.55114441696078809,0.92246175070709735,0.41231278540528793,0.60290144059541639,0.31707383201424355,0.58675345316575056,0.83332158195571615,0.98073453111991982,0.54302497628756385,0.69485850194027154,2.09649555999325E-2,0.28576303034129602,0.31422513955825504,0.80274366608691206,5.6665221298893842E-3,0.42814466719016731,0.71584800574658125,0.14497909176034107,0.24783786259930796,0.23573472689831609,0.76649458449084229,0.13326803291148726,0.90360439286311223,0.86863668268136152,0.54331778593397573,0.57139145880135944,0.83367155041462293,0.19167350101944713,0.20452100337334522,3.2340354196268128E-2,0.59357205535338786,0.58920040458144396,0.24281549133999858,0.69547427540481799,0.19718298215320318,0.69926653967921348,0.12636982987193224,8.0810331403393332E-2,0.14413290611960605,0.71830542976655076,0.12696614043604149,0.85762417458599316,0.3062311212013461,0.47914702943773968,0.47583019687614747,0.43237789947626659,0.47651539322850034,0.89288082475877029,0.13238307543300609,0.34809232848276861,0.72487096063875767,0.64231793335964371,0.76594232541809404,0.19817629460932062,0.31817797283780602,0.16642008873293901,0.97893621270192888,2.0446389012372168E-2,0.61048061374374363,0.25150555548600084,3.5885116658485927E-2]
[9.5918225068223562E-2,0.74966672160709635,0.83797701005726821,0.67861842850438525,0.78480098453885605,0.41369894069671631,0.65624933158677534,3.7450948607740675E-2,0.34271194279562955,2.9655371560844412E-2,0.80574691444139157,0.88522768698115462,0.52256253070896852,0.64393571924618576,0.67087006125893012,0.23332783834723203,0.97481750967536818,0.19275342247793248,0.43212512611849985,0.7158867036927361,0.4778760542685675,2.8174797495048698E-2,0.73001686016738165,0.81895284635649057,0.96765825045637088,0.59461006968509855,0.88524404876640461,0.34625159728663191,0.17971620436313307,0.95044044997493016,0.45363967332480204,0.30444349147678262,0.20324525552881556,0.73001705072187117,0.75698582825669081,0.95016610552265068,0.85036078854524466,4.3198230667889193E-2,0.60941661326604313,0.99682149151473065,6.9053451703997126E-2,0.22673983970777967,0.36797540479890567,8.2078006687936411E-2,0.56577688074715182,2.1667088759577791E-2,0.43396300311146874,0.64400281971253892,0.90230302581392707,0.5852546529809457,0.99960758911442116,0.79849739902412531,0.94968288082906782,0.53002199337461042,0.6855442284537332,0.58434003557516179,0.79398833252214696,0.49266619170148873,8.9924899379767775E-2,0.23779955328835101,0.74401274301923315,0.30071583189150153,0.58353711892952254,0.90455272865063796,0.70478770053953954,0.47264174012322679,6.151956959498539E-2,0.62065210501336587,0.92729590339227852,0.9068217734307098,0.88351611833111376,0.40270552071758925,0.7352188590623272,0.61874183936534954,6.698160928657515E-2,0.10630459043205087,0.40023198382330938,0.27887584461609005,0.51774532358677838,0.84377369021743975,0.30883061425640745,7.9431173602030003E-2,0.84921430173012147,0.19928295629188519,0.31197517306002376,0.84122229594857523,0.25462132979019259,0.62951493668203284,0.48034849110738609,0.97455046408539481,0.51182964766705297,0.84685054764085788,0.83824727932378496,0.13489923377435997,0.72173396763783892,0.89250149235240894,0.95435256155271875,0.46577108484522078,0.32470014611837683,0.38525103451755738]
[9.5494132692025779E-2,0.83642131604370429,0.65151740273994441,0.16494087002858027,0.92851750954691914,9.6785433427612699E-2,0.83871598060731978,0.55699594548728526,0.32834077707245779,0.18314368063435071,0.73985466630460328,0.54625709988959592,0.40181510659896125,0.22038884141206916,7.2143839536063181E-2,0.67345710332976216,0.1372942162156342,0.92329407244259099,0.82579656555968173,0.5421343894674745,0.85240714448618016,0.19003251297134538,0.57365811462730143,0.85437664599907914,3.237954881256111E-2,0.69031818238896336,0.33739577522126507,0.50655804737079912,0.13087332527455442,9.4781826487638998E-2,0.6357596863828503,0.89116294680892894,0.94940929229557847,0.4244290247913407,0.75379643441655741,0.79377311806222473,0.26175326784812003,1.8090730689718226E-2,0.44551649197144172,0.67452058435813778,0.3798692183727862,0.85483664908930534,0.99241659252844483,5.6360507677468252E-2,0.46053303830242387,0.48839623016153166,0.64861996243554521,6.1248030720505775E-2,0.18725024645479493,0.85041417960438193,0.40173428918541509,0.83128417893043094,0.50698589777986003,0.5663106164072188,0.54965883008258909,0.75468725776077061,0.41316835577337829,4.427241917295599E-2,0.84039223529517304,0.12632615567453853,0.59441152291622557,0.2487581239750668,0.64737317409395678,0.97248636117673415,3.5896465674444933E-2,0.46173898168789995,0.11115507721715778,0.95456707209135139,0.66108768012668606,0.97258771280572842,0.97106146128825599,0.96952602912887997,0.11627161379467543,8.9263548295867245E-2,0.91154831194036079,0.48807529488778789,0.37092874744410109,0.89032898926275317,0.4242472177670592,0.56471404342736087,0.93519392101291898,0.9241465369599362,0.22717520062525631,0.46081057908814727,0.19512346741213926,0.89910333776332552,5.0073598181640921E-2,0.72413027490932547,0.19965105799037763,0.75968040805854098,0.17788369610986887,8.898544990155921E-2,0.28943377801212777,0.46308758622018509,0.28122948888482113,0.17587515787004704,0.30157620116598571,0.16361102311159936,0.49645115355675407,5.0042069076149387E-3]
[6.1975179329330055E-2,0.51508178336018795,0.43302145952810889,0.76407249530765464,0.25691904387934017,0.13712623563287574,0.33302378915434494,2.7757433272987742E-2,0.16502450871926411,0.19409147248339975,0.18289384119919117,0.27337034158489493,0.28523851446719883,0.32769981803504644,0.68245104283242408,0.28440730499315348,0.17246696188942112,0.96896028480192087,0.51289315506715039,0.9191608021153862,9.1780290625539385E-2,0.50770114800135957,8.4621180135976415E-3,0.7930821120637328,0.30628308582368968,0.74183457979378897,0.16236657171420754,0.77874749985052683,0.17753001659776513,0.9788407901831141,0.50582006659264922,0.72221329847581128,0.44580572406505425,0.80487741506260124,0.61339275326985809,5.3781534923198371E-2,0.6369052833508746,0.30735353787178465,6.3735238785646353E-2,0.58238294548094238,0.39188122918394708,0.82656439346143173,0.29710342111666677,0.76435304621828437,0.74428250122951223,0.32024655018954451,0.20277938631412118,0.17916254016136823,0.17527148129034109,0.57553297905143153,0.1227664631170936,0.15607988960567498,0.92896524421702298,0.8678017330423986,0.50953548769946222,1.1372826329502206E-2,0.76940898723021789,0.6290092920618392,0.53157224600208108,0.33017614901535708,0.91288373605942774,4.2361892249138E-2,0.10293640930915304,0.16893316018223492,0.80957584554024864,0.91348837355741253,8.8769797723133537E-2,0.58004258827128918,0.51638592640300607,0.60111832992393077,0.8056805688705323,0.54026068598045796,0.14449942287550488,0.90177548181377676,0.93921033561080947,0.93806793725495796,0.56490387512632378,0.62993497008628996,0.63687283273895468,0.33421417732435699,0.21629663424385492,0.86768963004297117,0.85895771974738733,0.11257737037254401,0.48635671575977268,0.21801954879467,0.6689718316847052,8.9628940890169484E-2,0.62645799266318447,0.4000321623200469,0.46729205395471096,2.5557861670466253E-2,6.5251557967399565E-2,0.13267174167165441,0.88981129591687769,0.82512130081535295,0.23000323490754171,0.73028458406769292,8.9100359823516162E-2,0.68321089100386734]
[0.78736565660751245,2.3471460393090227E-2,0.33915277547841149,0.70558510932793828,0.47488458850778292,0.81065720274307962,0.88919040556899043,0.40747929485526502,0.31834203176180109,0.8630280730840153,0.60761262737898247,1.4475262051760751E-4,1.9371843295772462E-2,0.83779440917181713,0.788600512755398,0.56573293254180468,0.20562467050288757,0.47364205651653246,0.9383472473131973,0.88793985742949944,0.4566117485252944,0.58808182759277317,0.29103481999651859,2.8647993226577628E-2,5.6560268114904666E-3,0.86785538051198685,0.73212591960761175,0.95838550444430404,0.59775314121756595,1.7438763877955066E-2,0.57849368690478109,0.58893483355113685,0.33622818912028196,0.18331206250419119,0.19611673557009091,0.92630178236177563,0.86004882863183085,0.8104195732412921,8.382910319827519E-3,0.1296578417162525,0.53356673019694301,0.76234964215602352,0.61933093859827637,0.37249789944958145,0.88398017283722674,0.44845767845616091,0.96220340788934478,0.2107705841129095,0.21476357150028147,0.5936954746385974,0.26264625685028986,0.59735270841939958,0.85724383520968717,0.50406457222191003,4.10027474866278E-2,0.41577919860200074,0.90822115729558284,0.97377362166178627,8.8323710231078101E-2,0.13740600520029878,0.14864363666166158,0.52903358662108768,0.99161021095882729,0.76966433057180283,0.42136242111818667,0.50697701534383022,0.56742752806861185,0.35829249781397809,0.95806187639785789,0.36693574552437058,0.86767327015869511,0.50828783725645821,0.38594705441546839,0.73083513216172269,0.39778587823589007,0.88346539020351356,0.34517461561368823,0.64626869209628579,6.1776836592027817E-2,0.96545361156543996,8.86559033971549E-2,0.95767280723827219,0.86479067538597953,0.56019752036579729,0.69463872846086672,0.77089406124620841,0.1390132239500822,0.366870970631337,0.16586245767467445,0.17402957490734283,0.88602381289427101,0.26383047913146207,0.60976609892939027,0.36948483033452761,0.60148564435474605,7.5896891391566523E-2,0.31156278579376051,6.3051989108476869E-3,0.12335266640454223,0.89241141243712319]
[0.7947971727329981,0.23910369076555205,0.70832405246437313,8.565646603051702E-3,0.97648334366539813,0.7190874983749046,0.77843007963844135,8.2763166789824094E-2,0.68238459483556246,4.934451022266062E-2,0.91401076052586305,0.28729194530618907,0.90605411644098066,0.47756159921673336,6.009423742671649E-2,9.2675450457592179E-3,0.4380817133569509,7.581618176453786E-2,0.53212953248971229,0.39497716963817797,0.45937650222057214,9.8193280457492316E-2,0.53336158057999961,0.15242630201482266,0.87182896266504395,0.55061365064795209,0.38519667272781388,0.28714059951290027,0.24086541503326198,0.28662322019203501,0.49261140701060835,6.8456126310197374E-2,0.41094343291280855,0.76579038267339739,0.45901950922194212,0.52264258571556288,0.32966628327744341,0.20618176187263582,6.8753608245522124E-2,1.9657002862970452E-2,0.30066245960909355,5.7611524630247102E-2,0.63529724989359393,0.94780256836256893,0.57980246531035085,0.7969030810824892,6.6748462199936687E-2,0.28532177520530633,0.78231865949183788,0.16196706670928773,0.15969718636998742,1.5270902010043885E-2,0.3974668534769431,0.13971705204963236,0.9770240891532932,0.17540453022285651,0.20736077898924776,0.81023162718502229,0.11906171364992368,0.10006554953398417,0.68936307994334589,0.20712020665487341,0.66611921199867485,0.46853943446035251,0.83786269239839284,0.56549389896008662,0.70133355254423613,0.35984521034198358,0.6744369109881071,0.22691006353635845,0.69152668210135815,0.26331804475547183,0.49784447592596914,4.676409412556537E-3,0.9710563611613775,0.3021046368451219,0.74491931383940002,0.16792550497693759,0.65067177865023207,0.29535743945148896,3.4371877897432235E-2,0.96609287959556756,0.28345671938461992,0.96690285303815082,0.48835561460177401,0.81066129609621052,0.11319212770648257,0.90699619539963461,0.70470518719734743,0.22499317971157062,0.30786273054264301,0.43476905809083444,0.50601808725348962,0.94538196856481849,0.39063011150001714,0.70059267414315352,0.60463085201465205,0.80430229488785387,0.65525317161927232,0.64055290968700651]
[0.99067221165321517,0.22963501315783674,0.7518744068265627,0.97530548332371658,0.45136111848747806,0.46960988483536226,0.58194747459761964,0.46723920999173374,0.9438270217246999,0.23223999403582218,0.31017309675066118,0.78396731937659858,2.4137538130979297E-2,0.19843286514853897,0.93584521740392312,0.89681467388622682,0.21506354885400447,0.33298880539466369,0.66502062204369716,0.47150011519879642,0.97927913356299401,0.71929026605799251,6.3181500181477279E-3,1.4457930508511074E-2,0.99535111741256055,0.10327670228321362,0.58735732433044896,0.93578468326057906,3.8363397517726994E-2,0.10611484432547269,0.26276066306868606,0.15342799805664808,0.79832395254868027,0.95293992720350029,0.93828198683117559,0.23748995864959499,0.8917564530006119,0.92239462780813475,0.67400744652489064,0.41641706889679597,0.65390633735300507,0.72444835732293411,0.98050646680073039,0.2325928819720533,0.84891581045141018,0.24195999604420393,0.70954953378792018,0.62370539290363836,0.98558963173225067,0.46033836627756419,0.8529530462025785,0.17495091450819678,0.49527052748812928,0.39103130896977778,0.62705598912962923,0.97833748717125613,0.52686832206178846,0.22817877980228385,0.8565945017070441,0.88223354795827524,0.18399831657953769,0.26156609220720206,0.85423605832775162,0.25227340644573371,0.81579078469814703,0.38469009402345111,0.99373454944021955,0.219122332591416,0.65894995828335978,0.48364573612341921,0.31687622680756089,0.74148930385850476,0.1763365827971467,7.0317900851907256E-3,5.8891587919588373E-3,0.76204724639369392,7.1907907977997176E-4,0.74092833481327525,0.11462124175166832,0.34652694631699821,0.4365160623866382,0.4290263884654576,0.80905881246453226,0.91313936184093902,0.71112451499887053,0.32196343316224252,0.62936811546090654,0.40675969409095603,0.72878718335125114,0.23175123677027976,6.6637652147548687E-3,0.56833866622164786,0.63426252807455863,0.99824956940000553,0.6774410023718983,0.1637913345483395,0.59857970776076808,0.85845476160478873,0.45164312170103893,0.93084934538956909]
[5.3878533204757217E-2,0.62115487365548305,0.30461708398923126,0.42608430404535458,0.8208960626410724,0.929918995565444,0.35323601269983018,0.29161094901298801,0.72279025972664479,0.99070569894114935,0.14431921584324647,0.54285969713937388,0.33069304632577223,0.85838894606113014,0.32195458252570719,0.75098447808886482,0.42103199557802617,0.5847656007706874,0.47793264795284107,0.23400241834168978,0.32944894480618681,0.18147179673786007,0.1728540127979854,0.99799670538535645,7.0681952890406463E-2,0.38832669615956272,0.80685648831274026,0.59054800780392214,0.81253684525645331,0.97496257192489977,0.36567359732802773,0.46015682673261871,0.89040515858671154,0.28960460902785223,0.47802310811136262,0.55913492808139564,0.61774731534250404,0.84381759731334738,0.39191755055868926,0.40343814396444799,0.77976522909186352,0.5588903451143169,0.3521217036862625,0.3037900835326548,0.47340073537005045,0.36782897585428687,0.13412336204715658,0.9309005999706913,0.84867320820694303,0.7903753466071225,3.4304974016152179E-2,0.57823002947954893,0.60731288914531556,0.97339459332208866,0.9168654608853013,0.80566054152114386,0.13203407771401865,0.9570511845319124,0.69895303246649532,0.84071420220362891,0.54842311241282693,0.66589085645220181,4.2761919541323468E-2,0.59126258905014584,7.4126390335325087E-3,0.28608805990706232,0.50444766181004541,6.5319050636799103E-2,0.21637425284130085,0.41471840078211009,0.5881534985077026,0.3861736634874734,0.97370637261237747,0.91806348704984175,0.52333562962508318,0.35813521224605638,0.18294458064437491,0.16170610288832854,0.84122184489363083,0.23002512552364718,0.55409625700760479,0.88483796699812278,0.40365705493140069,0.38488958144833441,0.69217456025635526,0.54283353358959696,0.74271834421571703,0.83106373239848774,0.70635061538770227,0.9600774528640208,0.1841533681359252,0.74760649649677025,0.40144823317329692,0.30579258054804392,0.90291993987330077,0.19239485448890459,0.79556488977289419,0.41797274418027441,0.39819881097821075,0.21125976778569178]
[6.3796691225965985E-2,0.66359310901273882,0.99965834880931193,3.2856915999242675E-2,0.93500922205912051,0.86946926322777518,0.54440935311017102,0.12892822264845982,0.86692690394430094,4.5183139740794354E-2,0.918658915798924,0.60307553987606954,0.75414229705559366,0.33081441180982873,0.10455558257884001,0.16086690078099464,0.54993156592176173,0.29225094728493817,0.44695334307353107,0.75762893858013136,0.62271869782764078,0.81297468569352649,9.3394881295231325E-2,0.20585722560261632,0.66993187734416315,0.99830581066573243,0.76877247750034672,0.46978278458207756,0.99151637542407822,0.66049176934383824,0.64692817186877116,0.22805786003544626,8.4370371703528346E-2,0.8106534558702656,8.1084150681366984E-2,0.35495243338469074,0.23086176070709252,0.27136561276156501,0.30426217909487041,0.30387001710763162,0.98088377040250563,0.6260690716255517,0.84596283168475161,0.22587499091083529,0.68379174896245043,0.78731751277754136,0.26163563668471546,0.84120731815993888,0.58949680433188023,0.90638921865034039,0.63971824073006633,5.7949260133908997E-2,1.1916165776703624E-2,0.85717890606074532,0.11425434568638315,0.52218865510667234,0.87948221352723643,0.38035343199260907,0.30200912743449226,0.59761841705738905,0.18901273879458713,0.24497395157987312,0.50961684065455848,0.47592482882471787,0.35658935326109553,0.34777586163063179,0.41802853954582597,0.44245348278772323,0.87224938167899213,0.35074531211710469,0.86330515667932994,3.8292568333973986E-2,0.2001455113559597,0.92445686166369123,0.4624977240319279,1.4651921215336206E-2,0.54220188096655242,0.36563409794587998,0.2721849995413127,0.87470345309650499,0.97080480936627378,0.26894076334697392,0.74952507340976127,0.19116410491423297,0.69678056127830679,0.43439089189733759,0.26430808642641712,0.46675650721185624,0.81022166004944618,0.55485854834049275,0.9372222880044272,0.75741223773466182,0.89817693033023094,0.68236030185510921,0.4765723348888028,0.89439905448562906,0.49804856482120263,0.22995211957521111,0.52753242163614034,3.3259424201040888E-2]
[0.25843417643019151,0.37684479961706185,0.18521260036316201,1.8502798849000968E-2,0.82911842740004793,7.681398779951909E-2,0.6414976544293699,0.66590004016231641,0.99265180275996412,0.5523862201906804,6.2183492919680172E-2,0.12867063257650879,0.18715839959155522,0.92802911977419766,0.59184678947358782,0.63775108285690418,0.37899947614200202,0.89750952643161042,0.78624104586471999,0.82282084258825638,0.16180370227087915,7.9844565420944869E-2,1.3600334373216283E-2,0.73632688842673788,0.94604372080089238,0.12801851869722514,0.77406633844385198,0.48834710788482638,0.61033017578147308,0.70483418345353732,0.69557147409952669,0.92845222635743385,0.97275875891478003,0.95308808635388331,0.67748106782167217,0.53028922159792813,0.3076202465663519,0.46722055585601663,0.36180723822569627,0.16395028111832366,0.32783124815540088,0.24002379138837004,0.62613344207730637,0.63522521656192144,0.27306639322963999,0.29045489948374081,0.82159778555423835,0.1118666953995473,0.8659563273448756,0.64117979492965971,0.404830013055409,0.30080834428432512,0.47983802663586306,0.64174116562801242,0.97591205944729287,0.67023690326807506,0.21358413804971332,0.60838608855182164,0.59050234540757451,0.87382981360848466,0.32364656262452063,0.18794578523863259,2.9824551366498309E-2,0.10360334933797732,0.86430387599739988,0.65467886246867868,0.13569790950240268,0.85174755619546505,6.5835928739075955E-2,0.70375801068580313,0.93491978286775168,0.19168223783580318,0.52096145157741258,0.2757875798830548,0.33404050287344722,0.15638435609570822,0.23988957616692608,0.98563062479596086,0.79145208630427832,0.90295403429582188,0.75810373742661386,0.9092278717425134,0.14852265753030192,0.28129588794905269,0.84861403219238729,0.60973685092534824,0.59478380656630403,0.35870922819268636,0.82229545446448959,0.36234860833807592,0.11298944507109387,0.36339896831410456,0.31852552929591837,0.45022284162277715,0.82240554377167918,0.13249638590644164,0.56727621965865438,0.77115768589704803,0.39220708665325998,0.74383820490760133]
[0.48079355147240943,0.65846376583462662,0.76508585311705291,0.65276548171904747,0.33270842807399992,0.86985796752495259,0.16651879399742275,0.2620661990487495,0.17854005567133446,1.7063061645288924E-2,0.44322857379756986,0.46902053024229085,0.6033054230069067,0.38697859585518457,7.0163908647026485E-2,0.32506443697229004,0.70859270478062919,0.18668536910903621,0.43988131999992242,0.99373850830953558,0.58258325953647228,0.36786679640305286,0.53482689037918274,8.3253132163395471E-2,0.52645946884591166,2.3113246710645963E-2,0.86924265281060664,0.86806761554141354,0.4855016735839951,0.78468695642606612,0.69284687273494105,0.75720811299373236,0.73633411483477473,0.7985720021036008,0.80209309036886356,0.74991646972477377,0.9743105839034355,0.64272470622782274,0.26426211843096648,0.45753955282518821,0.23766595298405546,0.95787525682354913,0.87154484224681195,0.53925522565416173,0.25626886777445013,7.0482577520340928E-2,0.63335306463111296,0.89195806151014878,0.4461302788661996,0.67603955311205099,0.92080879873234733,0.64657646750662467,0.65073596159536706,0.48541801505058979,0.85090609124525907,0.93108563246515241,0.63737637907821398,0.85604886183565854,0.21243420274302927,0.49679056064753513,0.4191888478581971,1.6499624884176334E-2,0.58603942059335057,0.92358377213743748,0.88894064487266933,0.27381644557250284,0.43119502433823442,0.32591298167346117,0.13226133030016296,0.7433672421520876,0.11187237579914577,3.7184879014136918E-2,0.68665170442849832,0.34463520749657284,0.19226266473892439,0.25783683697201298,0.34853043236266812,0.54274445509434199,0.64355317266874867,0.91956514418387969,0.84130576126023104,0.48370670987981634,0.37383651044073518,5.17712828321365E-2,0.33598572766109336,0.97459750279138835,0.43023099486446326,0.16417157860401566,0.91827376147612538,0.70316315854160549,0.52815067557551432,0.33022624034191261,0.93300930444979424,0.19959027569948207,0.43195292061708501,0.12000919709137092,0.28822133182064558,0.33738571001136597,5.7612169874231234E-2,0.44801765368068702]
[0.65076528864505678,0.62463413213843377,0.69612308652690968,0.10524456950689209,0.60575771328902395,0.77811124652166586,0.6459918965381275,0.22870036945454131,0.93477297610188859,0.64249184161926376,0.84422435231870729,0.45526058964869409,0.86257176286039383,0.39474449929895616,0.57235911120860139,0.54121807561306945,0.3261968483289569,0.91520463414248132,0.41840951500740931,0.79181632882309705,0.78554428820548783,0.34356747210544569,0.91980574983690799,0.42045340465796754,0.77879521930513096,0.79040195353581344,0.68778102317706336,0.73365786476818773,0.78571613131956208,0.47524471225276466,0.1895384444261704,0.19996013311765437,0.67408552879882011,0.22859391642569726,0.9574101916073321,6.9570578295171548E-2,0.84035734606866475,0.64317504800135405,0.93563822355877369,0.85239671992130506,0.46462204704345644,0.36589410323591209,0.65929669720943496,0.92504085870049269,0.71960726540436726,0.15264288706717921,0.31025621392046754,0.47834964173203143,0.46293080500172101,0.46226717671692119,4.8670674088666432E-2,0.93551769775401439,0.65468041986886172,0.62899537836740527,0.34847240959991888,0.38204986805514496,0.66425305375363253,7.0779649780224219E-2,0.95169708643787354,0.55322591390571818,7.5720732485185849E-2,0.25657985891743296,1.6993883849808489E-3,0.74442949753918608,0.67517759593575433,4.8536336444368056E-2,0.40939485612286453,0.95023312310139896,0.39900319715999644,0.25417065025586405,0.99656742756134131,0.17134873796346906,0.85761997287562519,0.67782027832882541,0.52791525342292556,0.62213394586569337,0.98504861714724901,9.6173820342791427E-2,0.50355159727469312,6.6808675061669542E-2,0.39754635897802448,0.51176235897446398,0.84146600761002266,0.33217047591536164,0.28992817178081476,0.94897023580406881,0.43612932917927683,0.27973357498250062,0.38748684512410991,0.30787147196676468,0.66138105953065229,0.3854628217665057,0.18851241306722821,0.4945476584414763,0.37576516652538039,0.88872360554001972,0.32828195487112344,0.45701445164236343,0.50767308165168767,0.20481418866319101]
[0.67244080337752354,0.60418358979965969,5.2476172176055602E-2,0.43828547018456032,0.22018296830379636,0.50303037983408638,0.34454847095284336,0.99106568090054714,0.14331638256869872,0.52794378492887239,3.6690920643578262E-2,0.61221981832167327,0.5027307664896582,0.33559799026312553,0.60589240323019489,0.89710446844993341,0.51782718211427659,0.82673460023989287,0.68736742717786747,0.12363552930410404,0.66435753861220825,0.33575141952191989,0.56029524859441093,0.39361465647938232,0.88738934645356837,0.78140505826044404,0.57400161868333177,0.94189770709832055,0.41422303244057246,0.99822489012024629,9.7867355180569549E-2,0.48782377140476729,0.39640261212910644,0.92737076595910328,0.21914011747191142,0.16381427264813941,0.63515802014069334,0.44457922088888191,9.3761457410852844E-2,0.47563609570016785,0.77698778375242583,0.86492542982436948,0.49522644125152893,0.75421991162133095,0.55175084313293099,0.28127160997484957,0.18403659473736911,0.86161627169355059,0.26920760613004802,0.76393536388649752,0.20232682941485791,0.23171821663330927,2.2423454585504765E-2,0.30547662623989591,0.32093106402829008,0.72166813462516521,0.69025110391788957,0.35553787425724981,9.3015030277685318E-2,0.44216304471275114,0.57258408467582045,0.33757943993075978,0.72110758831184352,0.89649276160511826,0.16223438163392778,0.99387360113567158,0.23819736185434204,4.5125546234627611E-2,0.40281831065019869,0.23483735379131998,0.85073708827542882,0.70529133429028157,0.17253151225496566,0.94136671337072519,0.81667823312531374,9.8441696344220397E-2,0.70791944692598019,0.77149587952256704,0.46477592577425075,0.81343305518826581,0.38239794385693826,0.60209866878292084,0.1392170586696716,0.13820065886493182,0.85005400933803799,0.18497684207165277,0.19922091264396891,0.40455898170250626,0.97810851257126785,0.87909100892512593,0.87221121392307943,0.41920368274596331,0.88909015811119863,0.19142788262143784,9.7629575625098886E-3,0.8498533217716755,0.5956512690904463,0.25055398388379369,0.8755552008138433,0.45456944772925589]
[0.71863473184189586,2.4512688869999799E-2,0.72691193913143348,0.85310321985269932,0.22025388505098931,0.26493278380339069,7.6765077867493092E-2,0.37976143784152128,0.20745109595898681,0.20300556487345311,0.56236802487510207,0.18685148685722897,0.87008470019568629,0.66597322622217914,0.51954693518886086,0.51415954741552827,9.9697630900516643E-2,0.28997660930460523,0.9002312842748128,0.54133987849692378,0.54536456293480218,0.55231030637416501,0.6145610354300266,0.88304876728151671,0.91519484265089834,0.6887275620645853,0.79287976899398893,0.48222318992515623,0.55844948967262842,0.92929030286393988,8.860108656512955E-2,0.76312070171463875,0.17470060510392993,0.46135853217587075,0.27032529491439494,8.9837326020859809E-2,0.82082326730609034,0.91723645469085646,0.35644880592626838,0.99999887165213597,0.24029900455227782,0.54977594482222303,1.4856828498489461E-2,0.77230001361166134,0.20031770198038301,0.80571054940430453,0.82046787597528059,0.22209375083396954,0.24948772380872763,0.8760250664195226,0.70523912801132671,4.98397987562883E-2,0.67561172755381804,0.24452825890040286,0.81151953893619089,0.29355851941222355,0.80387355055329324,0.41588894712897317,0.22086409747602453,0.92354874211470117,0.4787715685868964,1.5620476687236651E-2,0.46117452780159551,0.92972298587862079,6.5561608726699139E-2,0.18297565120086468,0.77576396411443582,9.2707160948774625E-2,0.56483622231960029,0.64367407232984364,8.1029038090936867E-2,0.4016977466533681,0.89134587135482513,1.0274111292262078E-2,0.43122635960328903,0.48998803507497968,0.80643118482428433,6.9991112299129243E-2,0.32978603701890541,0.88103986770675102,0.22498192847459009,0.92698229889012096,8.023174120791543E-2,0.93409378575742519,0.9049586375655343,0.43797771701629096,0.63245023399452538,0.70712345676209376,0.89127530716510084,0.17658936808929981,1.3763977224545698E-4,0.39532522771505885,0.29900900480350789,0.72221808070271054,0.29266391944677661,0.27437793673671518,0.55639788782177069,0.50872991254286715,0.17009663100129735,0.53001161439772149]
[0.31461871769482841,0.1337982273570627,0.41638971825304749,0.15818351856542612,0.13741087976614119,0.91830958994973233,0.95406066166919579,0.96350307824366943,0.59924844736311222,0.48961481453978051,0.27134259623261381,0.19783060911805717,0.75937727288450874,0.26842399413931195,9.8101959171522868E-2,0.57551088707360332,0.71219110597690105,0.31520621631643075,0.7049768778021509,0.14883803936658124,0.59370365371771916,7.1919910313395841E-2,0.10800182643618894,0.95436090749625768,0.38268526733791386,0.42374085426567243,6.277231831374408E-3,0.80583392136477061,0.10013894473703311,0.26340400117139906,0.11563304296377475,0.7647831274709932,0.755595728626412,0.56658397361568047,0.67748922677759027,0.36363604740760402,0.20001720772395759,0.32803584915095418,0.41578613226535255,0.28302823106334118,5.7198758980815945E-2,4.0699182164513292E-2,0.82057650764357004,0.46011814320462707,0.74399585200891571,0.62670824203615783,0.17849125995133941,0.88145545418457671,0.58776706197022943,0.99957145311844497,0.4946793624158663,0.32807593444398553,0.47644024564822918,8.8973096805644469E-2,0.64454460378649014,2.9007138290646273E-2,0.32141263502436868,0.22614274480415764,0.41522046523699618,0.49219988513535362,0.9663042302199859,4.1266593390293593E-2,0.73378540785471436,0.33976565368440659,0.49463380292905179,0.85905112148828466,0.48794531806198849,0.90960741889676755,1.1749865976500851E-2,3.0544393062911679E-2,0.93309645173288247,0.69980738156933053,0.66600004012948077,0.37287657095762083,0.15414148902575764,0.58421722119151398,0.90584764791773253,0.68474425458734811,0.88081696040234558,0.50986664229999168,0.4406472454573459,0.28345291091258862,0.14327074213121416,8.7639992653545828E-2,0.23208981478156998,0.85876843136264547,0.93207158125553891,0.84102946323041927,0.19137004421437009,0.69737836920302332,0.86047879439209518,0.13669676774041617,0.53929523330106499,0.89815560817779261,0.71594380444443284,0.44313676743802333,0.97604204516313564,0.83841306135253602,0.21511367776487345,0.65867230120560916]
[0.27180822559405027,0.71854774101624597,0.39588268465752596,0.10721241218099409,0.17398816714270882,0.78990631646709175,0.29344583776907429,0.71003755433367288,0.8574970539516289,0.42189025811712844,0.10567964604253799,0.41333127530295088,0.35111495835346174,0.48431920942024931,0.53916303265725041,4.3038488542244902E-2,0.68573535572611444,0.79574653534349127,0.77967389547860166,0.39178102854934771,6.5836982789499454E-2,0.19348846479725945,0.37357123301941508,0.39136687395417402,0.62410044957893007,7.0107745999741011E-2,0.93876071247422765,0.44794297106070458,0.1596126469837047,0.81749004826245231,0.64234416396246408,0.56256242451281757,0.69933017225021765,0.71778390523755142,0.53951301034051724,0.61823698247759895,0.39650306856041329,0.95203360280729243,0.87303216824846286,0.46910717273983704,0.46762443282003985,0.17348552329328937,0.64669925581978616,0.71596530807067282,2.9105191209471859E-2,0.34127317965575088,9.9895897591583682E-2,0.4826662920234811,0.62790913872660714,0.986508341588612,9.9316181599483411E-2,1.5074459332540036E-2,0.82339588788785323,0.22721522923658577,0.82413867040133393,0.82305402059138755,0.49904745130784334,0.67419736883710135,0.48994315851821757,0.27067698170492427,0.80916919508726304,0.10186322962976313,0.88556995022113383,0.38299665474840616,0.45540934026183688,0.57312097308496601,0.50565166350644941,0.50491182112695743,0.2000887548179644,0.18229008259571511,0.84638716055714669,0.5100614600444221,0.82557819620776929,0.93681897415540227,0.910092757562871,0.71956536778100522,0.76831244557097311,0.12370113166058161,0.85492169237272431,0.44747952578300176,1.7342399917421036E-2,5.8939621444391022E-2,0.44628270028866002,0.29548463181193829,0.49646178082986925,0.9821490283720723,2.120191535219984E-2,0.91789228694340719,0.79667125282048368,0.22512820947239376,0.60284337734675308,0.27722982560005804,0.70004555749072916,0.39370065746009042,0.8230203092988434,0.21172699931238692,0.25712347040862626,0.95744191229860576,0.67056103754205032,0.93114375905826763]
[9.4446807722834869E-2,3.7471500031859617E-2,0.62749173333087649,0.80112145327622386,0.75340745357375016,0.48552003040795033,0.40559493253144985,0.62914445439510747,0.91147792311314768,0.57878081261961989,0.40744601289450522,0.31051223871253641,0.9715020521413591,0.7573141025511152,0.66882039934550208,0.42908694849098961,0.57072338960617608,0.81131465174628425,8.5186694290854126E-2,0.62852696076524794,0.91881114694599508,0.70635607690537427,0.98720639297430857,0.33018190254482893,0.26119046191508144,0.49248302788389808,1.815021286591556E-2,0.31375021060277442,0.93960813640150109,0.81282630037228043,0.42222993799584974,0.43436527036866468,0.88465896617113171,0.99422471275119795,0.69818910006521717,0.4496952957550705,0.76690896056488156,0.53426291939407144,0.19016305128378352,0.75762147358416565,0.2658670748569919,0.29623292557332803,0.54067374588835837,0.24075048091932794,0.51741123752913776,0.72708880875143833,0.25175579278142945,0.88261428531673181,0.45284087282131791,0.89041592641988621,0.37324764502119512,0.16845514386767935,0.85785191727492915,6.4215485928408422E-2,0.60782650183862141,0.20993076095448526,0.33080595835706883,0.22758377361576776,0.52399331558557349,0.33177299621179002,0.76882669093803679,0.38595677632764847,0.24493772616131193,0.68705939194953758,0.60113054776589792,0.80318888278947809,0.11077481666862421,0.63530777229721092,0.58072603539875289,0.74953678760850362,8.4652607058777307E-2,0.92149800172168328,0.39046032673257092,0.10201049761973335,0.36556622092061852,3.0061004168844163E-2,0.35018327481408185,0.33313538384890484,0.37059875422821564,9.6808245886635835E-2,0.50189582223754481,0.28829333688151582,0.36669480951769295,0.7471969378695823,0.61008476507400622,0.83865050877062974,0.74634447910825885,0.48882756264967564,0.3331405151455693,0.46508576882605446,0.41391815851170177,0.6580393472854299,0.77499458121233578,2.8045210624992212E-2,0.86723289518233881,1.2871884671637468E-2,0.18761035503738177,0.77121490808346893,3.9001617438562119E-3,0.5753748993985659]
[0.3650028291125138,0.29350591628167566,0.80079673476164759,0.52801141664005879,0.98464497066815015,0.32484351934972922,6.982016262709223E-3,0.91177316308471867,0.65923228972683168,0.39003047072647468,3.7660033111427405E-2,0.57892145929702477,0.46657093184236409,0.41530459573658884,0.2497548173546531,0.62393070290491481,0.22016676678875791,0.86109419385494879,0.29171394103371562,0.97524726681484963,0.79567901359658766,0.88674766740587951,0.46469890139874448,0.37397430557894873,7.2143029576208551E-2,0.73088462297011725,0.81251539160888964,0.38648636942239567,0.95394193671667959,0.45819285946553467,0.33015204661671615,0.81824151165680981,0.62028529999674531,0.36317289329330715,0.32748622703651076,0.96148530688430467,0.76084356321250723,0.13046128595739781,0.43386565852645576,0.64911617103208352,0.3396529563979751,0.35062090601317331,0.16307668933613584,0.55172543194340207,0.56361203613977451,7.7172234872808665E-2,0.45644740233978298,0.36380324402783559,0.86227406154405106,0.38106862711398881,0.23423293228290787,4.4243103947855134E-2,0.5173143382428127,0.96150806753946993,0.73242906880759429,1.4152245387882623E-2,0.78298612229680487,0.50298603135828113,0.99695757526396922,0.82870452102218761,0.62768740671823098,0.12238026607366048,0.62369735421430295,0.4785169361347904,0.24190546797728163,0.74630453332781144,0.84440056627253612,0.4658744059008797,0.41639783831138688,0.56614474043205143,0.78801497799408871,5.0862155966128197E-3,0.59707825799928449,0.47927389476955129,0.91409867505670872,0.92137094075946424,0.16972533822892577,0.1207637350917915,0.26045074966156567,0.36607015769571905,0.13762385995318238,0.70531248353615938,0.38069438167681613,0.4912209070891721,0.18690968985774858,2.0861893858952207E-3,0.9652975131337902,0.69372657486669054,0.20378273378441547,0.95699859984292923,0.43947549125780494,0.34462384597669071,0.48081227935877435,0.23686287823208318,0.22803865696626591,0.20919024843269629,8.1849502648024042E-2,2.6808205299015286E-2,0.41938367287481071,0.2954070410256866]
[0.90818491104805288,0.3777832742367675,0.83513685229825585,0.28992881761520817,0.18652278507418774,0.9114918214840525,0.69487761561176986,0.18738622333331711,0.55281369542246017,0.22223758214573208,8.8917491119128722E-2,6.3222723147727478E-2,0.15370049923013063,0.61030104194610113,0.48653398888490318,0.5227507145014243,0.88730563561530362,0.34716051422088701,0.75262446944015904,0.1316899120760967,7.9575587068073772E-2,7.0118617736706801E-2,1.4329806982211091E-2,0.98899952194925145,0.23790193946347005,0.30850231110859327,0.99529441789923079,0.81996243697201798,0.75425987422979335,0.24019583062698679,0.67273988118897432,0.52426769000581508,0.1243498554089999,0.44622476134454536,3.5351740445873525E-2,0.15891483345698398,0.56962094834054089,0.62812776204111509,2.7991065794475412E-2,0.71582678817726597,0.47568317006682614,0.28690753533703139,0.93582662743219014,0.58832043285769087,8.9955329595799438E-2,0.26757812009675619,0.38926871529253049,0.65498069005357851,0.90803344184029122,0.55761500912738304,5.6606018571317751E-2,0.28589904697553292,0.97071008901174971,0.81756454509729892,0.80367986534618674,0.36994339465039938,0.97286485772612674,4.3043462819550404E-2,0.59906870200168238,0.55596408641766248,0.52474591921625491,0.90453247098888656,6.4479270479569362E-3,0.49392097872088647,0.47236806910687401,0.21366362706622088,0.11341038987981777,0.69164958876098137,0.21160968752240839,0.53341670966145416,0.26717595592687582,0.103017816372038,0.38853407107793181,0.83120340445457475,0.4188721862153032,0.21619363755889576,0.57820397032674187,0.95239554821755013,0.21399182212969936,0.33042205556070148,2.9387977779013474E-2,0.47546148719106085,0.55017828105833988,0.72493172755581159,0.69973914346001242,0.67735360535511568,2.2121041636142036E-2,0.651390813280873,0.70944727836942867,0.75958113109421388,0.63979214127374995,0.48039498083071441,0.94727992566122088,0.52695769975522633,0.43059091587126108,0.75606941649660264,0.90790823075661597,0.62920397033395847,0.52797292839807652,0.95319368504958957]
[0.38011891502659256,0.77018860656114962,0.28561783983071887,0.80897622316523021,0.76634549366488414,0.66440244919520464,0.88259356819085388,0.84429455160684497,0.22718722342478082,4.0327249984951297E-2,0.3985979103972429,0.2034554448885797,0.23344834035314865,0.23256546262508626,0.81656601463270939,0.71605112565511764,0.16504540185420047,0.16223587372202664,0.33331331540648623,0.2956106414966897,0.40932532721612214,0.56577272028201786,0.86518231930487177,0.95437461254058709,0.99948376508411096,0.42430654777158916,0.91599143990935694,3.6398054587782114E-2,0.8698367844456395,0.95365562133881299,0.919868707225174,0.85395556079544632,0.75233938422452717,0.2288634229100569,4.003601075762464E-2,0.29096169424301033,0.80305687993700281,0.20906488157675962,0.19135820464800857,6.6569642031010567E-2,0.25101890634352564,0.76992554117962897,0.5643338809739451,7.3526978264819021E-2,0.78774496439382513,0.80130897419779745,0.85322915171931157,8.763486883203131E-2,0.57863606622287223,0.80676561643040301,0.58538336819955761,0.26174386486970691,0.80839465538074451,0.38228759736048967,0.7078647055873768,0.84889790196323334,0.88752804538603403,0.58615005192029423,7.5511078985758595E-2,0.4257094620213594,0.32597195655459243,0.45997354788240075,0.43605326346401385,6.5059793975159375E-2,0.61167600229701757,5.1931823438153835E-3,0.1337090350030441,0.58340698605931396,9.8735564303184975E-2,0.21342471366710791,0.70285900880112684,0.27402740595039665,0.91876714294291129,0.62966334339567231,0.72103233203291917,0.56089652024969772,0.16009025794968101,0.44278161616430822,0.21911545544467492,0.3851395087913021,0.86206700007270864,0.79882774284691516,0.48149018374818631,0.31686851106988845,0.43914221034355883,0.87174844657156059,0.62299203362541178,0.42387464525005281,0.22461636955173192,0.5032214084825013,0.73020947540099235,0.34591287008352278,0.614951372840432,0.80124960551016133,0.93317895381554716,0.84977937007000892,0.69985102539984823,0.59690079372070004,0.96455620740954495,0.82076404332998598]
[0.21983943631504255,0.26267733179077934,0.20701507093726423,0.75486687840688427,0.90391355887702651,0.64401476598317564,0.77370240047567984,0.5768304397060191,0.2992761708866043,0.37293451532505928,0.11739355545606123,0.95205791237618265,0.64633448108015301,0.76555356265108354,0.53649004224128582,0.93611259263577107,0.16189577265999355,0.32867349287851755,6.9071975141938413E-2,0.95441230160947998,0.98186079556769568,0.69872634358204311,0.23338158391049835,0.15690411838943286,0.87510557571236858,0.35602873332693608,0.23984756419438669,0.10466267310561816,0.49680340507473997,0.15405935458653175,0.26355451135595409,0.95633436244283532,0.15716266063987006,1.8265992812251497E-2,5.8616828690092215E-2,0.94862247195106042,0.4433674570584426,0.71306572352836783,0.92904178211270605,0.34705701865632976,0.79162768312695297,0.93471953984519107,0.60648460293912765,0.5365162283940752,6.5497940033037549E-2,0.4771129182344942,0.21417672958830869,0.64602898544092191,0.44416479216428306,0.54925890478797612,0.41788241146381211,0.14233358821804853,0.16730692071046194,0.87157196011976046,0.99552650356818928,0.57862308854242595,7.2970015411239153E-2,1.1919849309904751E-2,0.21515331955875294,0.93091975806008853,0.21369664516549547,0.13605808354433035,0.58284068161097025,0.32449823547142298,0.41120076224436419,0.72939618380620497,0.75165572616244536,0.20453640298100095,0.9662566180522465,0.53880067344169646,0.78196486396411302,0.91553753848259023,0.13358868362548881,0.19892851323419314,0.88541226237587367,0.58250603515719934,0.56192788807131,0.8873253003007473,0.81494805239841683,0.92347643153752079,0.59793075945137775,0.31892880983081584,0.21154194606741283,0.93960258440498323,0.95629600435622031,0.4981402932448572,0.51851526080362131,0.49443973554096532,0.5649909683246207,0.81614269212372581,0.55994680228039806,0.45775359186067877,0.71328297670967766,0.35154949632399601,0.58628134958591205,0.34321480169364071,9.2023376399918755E-2,0.83197115191374726,0.43108855626083009,0.74168801050395206]
[0.8166230085670888,0.25207491791325731,0.31945158131330464,2.2283589918685842E-2,0.82271744201931896,0.90844784630184927,0.35060086966555359,0.89743386976588146,0.69117433673114026,0.76724434252663976,0.36178741021775596,0.37509276290969806,0.91315139795765043,0.27414285034563379,0.37229466341646567,0.37335736454388802,0.80511986445281192,0.89436852803570366,0.23548902463860844,0.7013849306267923,0.61058135495087951,0.47551199945978206,0.87869710757713793,0.99679173234113594,0.97873493605427653,0.53715317295913478,0.17369109085209122,0.85188423197154262,0.41141919866279764,0.60052131106824536,2.615557031008664E-2,3.7031020892072775E-2,0.39438437636366619,0.57954505570493808,3.823259653674338E-2,0.525404162306636,0.82729903218625511,0.67823368653938765,7.3118611164820435E-2,0.87646761155776498,0.77598968353224529,0.23709511130039762,0.31028299727365394,0.61722642419576046,0.45359135160194053,0.68405845610641203,0.69419512473712208,0.6319575761417453,0.53760240345678223,0.68351528980417009,5.8101694972889195E-2,8.7332840952675905E-2,0.55845871060086816,0.30183585134825741,0.82000265604109235,0.12313737261828228,0.88938680088997413,0.50540190529673645,0.46407391479349425,0.59253673094428594,0.32202582250001788,0.65762363968222304,0.84352220510423837,0.23992939429652149,0.29515413873163521,6.8744602398037924E-2,0.545388111711958,0.23600897747743221,0.44561364427613759,3.4800321390083933E-2,2.3605740049833956E-2,0.57710166346572755,0.60585446764690776,0.66148989362514199,0.65289689725539357,0.22464961142230411,0.90300859542049139,0.37084562549984113,0.57724715104192215,0.7402606780252784,0.92277411447125457,0.65395385066832068,0.46972641394745096,7.3593600283484051E-2,0.66102139423318118,0.42922422474482969,0.38642333389662575,0.25724707445400696,0.37111398385763572,0.49338800998260524,0.74019833346063246,0.55317469454184498,0.1230746355911555,0.92759722030489045,0.89641084403849747,0.29931793923007977,3.2525154155664926E-2,0.78060034803498457,0.35673426064947378,0.97894475287107496]
[0.79700483377514164,3.0940247967330414E-3,0.56871098503212369,0.40721240837988548,0.33480706186490894,0.13986251131305105,0.26587526067866063,0.59436224670383209,0.54540096697144091,0.87355462869092337,0.12462138536252032,0.56858476376700673,0.99200342342015879,0.22186742828323203,0.65567896333614561,0.83005505766086918,0.25841733547740575,0.71668315336060462,0.24045338122585802,0.22295680381422145,0.35515093135855091,0.24249696027836265,0.81059351202723762,0.31126895044200409,0.65533516680885306,0.53617928880679078,0.5261164570767034,0.45818744309319404,0.60349672833700496,0.1826663296770602,0.53951895407270856,0.59795181159696087,0.49273038593408969,0.27046780670094817,0.40664442423570668,0.79592073324975454,0.38853206563962162,0.31396771214068908,0.58667530484991237,0.19093210910381109,0.96767184525817573,0.59945889652949258,0.31699241984529702,0.62141739051922629,0.6667155728484484,0.85274164624616999,7.7867176728685705E-2,0.3530473049476972,9.4063537785786688E-2,0.78876052067840674,0.28751669392456347,1.6419417352883769E-2,0.98595960208812494,0.8253812560438748,0.36886044843756649,0.54959700174387782,0.45825901806393576,0.78815727406112834,0.88323155188234126,0.62347656778036309,0.54400825294685762,0.16855368582596908,0.87774123511916624,0.19564346494551399,0.34563197307031368,0.19388295216663709,0.33784092437796998,0.11932070761085456,0.67797911872879346,0.95880354791464095,0.65112508023417748,0.27445706356192479,0.92498078987163457,5.9019387465065631E-2,0.7447410698672402,0.44489104555221615,0.51391227047659693,0.99750229312429195,7.771396672884967E-2,0.27271955424683014,0.14511317407849134,0.84714189609924362,0.44736112350132051,0.42760840286773871,0.5340944185591413,0.96159396121876706,0.82167922827956941,0.63094945127059643,0.32813403544887365,0.61354744777658843,0.5794325273247678,0.61677732840583099,0.56184980027816067,0.12063876465800838,0.70456103668474546,0.49603820724739511,0.48340759944700373,0.18697568763587036,0.2486790573714075,0.2430642559821875]
[0.53496751466746351,0.78947044618485518,3.9459767328631545E-2,0.79429356852287514,0.69139389732576428,0.31646521121683902,0.7131514876706696,2.279237128256939E-2,0.94712324582136598,0.46517018560259105,0.36645406967061112,0.31648437661592521,0.39662282791549119,0.27481329498603779,0.57547278546015901,0.59993541964059582,4.8202856252380744E-2,0.60242211615580465,9.4379870962124635E-2,0.81624192738181778,0.38811028282607241,0.98032641357232653,0.96720992575704268,0.59206789236476132,0.84070103409467745,0.44624321634581177,0.25675737505738094,0.63172761988577308,0.57867703525556013,0.70645106414001868,0.9807027585763155,0.49352887005225843,0.7947278952650132,0.18086950736046503,0.70175938715949882,0.1602666785456035,0.33120800980486864,0.92476914516570208,0.95049060147714892,0.65891517929218579,0.29370898712938842,0.76152921734167611,0.27570488703352392,0.29793336966729245,0.67907724399912828,0.83187100748716547,0.24286529404532153,0.64235355011664574,1.9422638473793219E-2,0.66995647376594503,0.9203646043272169,0.72980881151843535,0.17551759416367363,0.52128182484165597,0.56467881169276968,0.87778779336050328,0.90907362476047271,0.85999883810722177,0.59980303515275413,0.43076303775969171,0.37144638929778773,0.8461444401233168,0.55732382062180075,0.21149416173040458,0.75096864098625982,0.5187963171653428,0.56944364753096832,0.39214714033908205,0.92846091897338257,0.55816514347119006,0.57441406528714323,0.78410089293922691,0.85854377050580732,0.21731416275720472,0.81090542535223131,9.3152763048722775E-3,0.71872924136943883,0.6947715943180236,0.2155449400091678,0.12306126435981501,0.38097515389459868,0.55141350009809931,0.33830298654242508,0.84021064321462091,0.75942805787476864,0.48980502894021327,0.76984314476532112,0.60764198019604654,0.7884187832216234,0.68507218181823215,1.4700805732141276E-2,0.98312916820145757,0.12213894781444989,0.82322449441749423,0.43198816474185753,0.60449021122246105,0.91718891962881588,1.7395749034731844E-2,0.20297631238855929,0.22092833177172133]
[6.5783343072109757E-2,0.83882383607939459,0.16713304647520111,0.86200950117654662,0.72842955964807565,0.56648617283310032,0.29838960767545719,0.61778045445054275,0.93601981352573682,0.3894352481536858,0.55353576257253911,0.3420797172047868,0.85384576507939036,0.87644583017777267,7.5835668618025376E-2,0.68440023776754266,0.84942513751455262,0.67878463049967108,0.7473804570346827,0.14363586252950145,0.95675553441188899,0.87617869736066833,0.79105162912706628,0.28182639992409986,0.11935935333189829,0.34988312968647683,0.19689684472375346,0.29533462689202772,0.8795086760605757,3.0562992414606027E-2,0.88046983657960431,0.37124363290888318,0.6547447835828808,0.69455860865628882,0.9927582007140443,0.10486491923805497,0.96050165650660191,0.18629358351957948,0.89380580622909167,0.81810563819106508,0.45437887502084007,0.73298986082808226,0.72557439580012217,0.17400553911889272,0.64900021498587224,0.39041864860266728,0.12089905537584567,0.11708676965140818,0.16048080444368196,0.96285661265834566,0.60089989135802535,3.0897144732362269E-2,0.60427559097012506,0.88463770301640809,0.73501398625712588,0.8265171498881414,0.20790967414163453,0.59712385782350186,0.33552332683632069,9.0050515006169118E-2,0.27691709807312315,0.96182854085236047,0.17688267314592709,0.85633451047100262,0.30115532339147355,0.53942853023166237,0.50408136758874167,0.60626666639206672,0.99270683375013691,0.95031188862824434,0.89627295077743452,0.89972786279851402,0.82960729354927165,0.24225399654690916,0.19055594564499523,0.52035970290391587,0.38615732091858979,0.78697087442179847,7.5952286603980235E-2,0.41295723528149053,0.55641953156541357,0.36586959677448005,0.57706118564174691,0.66569684926759309,0.72153672008547987,0.87448278133151613,0.26619223698675454,8.0743626041219763E-3,0.10574945374710976,0.53724228450406908,0.67271375806294731,0.1314429759713901,0.17304666079493336,0.29863538775324583,0.2709870040661122,0.78936685459235967,0.26362134319732589,0.83045403900761305,0.34649077600237166,0.53781453836598558]
[0.96213673645404763,0.85370738113274092,0.40547566890154685,0.58636145751252977,0.64064605840173849,0.67817625428839712,0.97342700577332919,0.71117251768856882,0.53211273465298192,0.26582080031666599,0.19866204205222948,0.169800788148596,0.59260669937167543,0.48751148040095393,0.56831524062522942,0.49446864916573663,0.50060366950193502,0.18895586784783547,0.44961807577316881,9.8541817335376924E-2,2.2733003766170157E-2,0.50203160465031382,7.6947541238923223E-2,0.22160095818449876,0.10490425263431147,0.43464895475574794,0.93790648664540022,0.80951061872473329,0.71047662059641148,0.83336331158687282,0.26451684278082954,0.22213731070897658,0.50544863046197497,0.58994372347080526,0.40035222366408485,0.3011407558985203,0.71547329557020145,0.9573396655858688,7.1289772610184987E-2,0.19676530903759515,0.4142052846335883,0.38090809533584236,0.12025318289626119,0.67799379631695955,0.42715227993558202,0.40982673848305984,9.926421578202449E-3,0.67675794291556834,0.7909890429236911,0.88694520002582011,6.285933929118992E-2,0.90966749082884013,0.99693110414425434,0.3281437007672805,0.8404766893205089,0.57889368565308363,0.54639287314381502,0.86744405497593979,0.72495546842874736,0.10985501854219759,0.45958683911503828,0.84845604117402862,0.71363290427497805,0.82621101658827467,0.42916061784064297,0.31104796707662874,0.439085973429853,7.0056199375910899E-2,0.64678591627942572,0.9490629420193567,0.18018666187529631,0.41520141635594365,0.44094968752945674,0.10596890534759817,0.58882676279108137,0.67088187612032923,0.21886457093651279,0.27599997802280107,0.80483486720612185,0.7664030767883282,0.6686195928367481,0.25440197674997811,0.43392899628559445,0.65628435802748109,0.37087560059650204,0.65835459746878222,0.20111055566302871,0.64409217538280539,0.13040388082769061,0.15991308003022719,0.49059739959288873,0.77662583681059039,0.47979991353298423,0.80246337790768785,7.8066720569331394E-2,0.20540976223761165,0.35480189232152526,0.49238928068344134,0.14022661628218969,0.24113505360371212]
[0.90712002247603118,0.86150539292731632,0.56322886006583173,0.4453628855601135,0.60785698100545815,0.75196399377105128,0.97612786191749001,0.9085938821860704,0.13382271550238634,0.81459192807210379,0.81079842904196131,0.29741934232432243,0.65408145847484378,0.30650195077164233,5.8388515968248567E-2,0.56807055949836238,0.73226988725717101,3.6009448500666119E-2,0.32028167560722887,0.52607969828618206,3.9159098451414298E-2,0.1045433085103713,3.1762710822623053E-2,0.24946302661583331,0.6150719732743587,0.72877942521460759,0.87097333062869287,0.62924087044894583,0.97810564724279725,0.35494225862528372,0.14153814215808314,0.88961757807136621,7.6504327695705143E-2,0.49435907959526459,0.67828270637952126,0.49615498808950842,0.9233658924799597,0.97812656827518141,0.16845682977164,0.65032378913717892,0.43857528458705386,3.9477264613885232E-2,0.55885442182154976,0.55795011345034395,6.4217272108368251E-2,0.90814720139198357,0.47102463258901806,0.30336820065521453,0.54015824826334324,0.14698753721476965,0.62717408650671702,0.94138856932474446,0.86679069319087887,0.57691132082789287,0.40455906854025858,0.74069694393864194,0.99504403820172094,0.37129607316852942,0.19574101488089879,2.7722647686464263E-2,0.69317519010676376,0.28565833731339829,0.32047314435994367,0.87531586580373044,0.15669596786102868,0.61741641851606011,0.98360253376385487,0.38889044430530195,1.6439299059774037E-2,0.87822890605119552,0.68093364296388514,0.23540211395081678,0.97308740506789815,0.71236335040530274,0.14745007393087972,0.80866800558726026,0.61469933880028005,0.45564679277476472,0.31452352248943094,0.19501421793543317,0.50699270921186435,0.98518298940332383,5.7587760550169675E-2,0.37131855619948984,0.99298693878844135,0.76962481298005148,1.3194380960769192E-2,0.2394842463786766,0.65676075570986892,0.70320190021043338,0.33155907932962081,0.86078417898031578,0.30009391173677735,0.10292709037834913,0.12455307210329658,0.86536121995609616,0.66220925950098231,0.1217667553859989,6.5482535348645454E-3,0.14626416410306775]
[0.98324692484532628,0.39715477891832329,0.33862081972299196,0.1734199804781803,0.241923929507596,0.95545683891530031,0.17524596682608129,0.92127191747822934,0.42064200172812938,0.86366215367375931,0.23938527593811165,0.8084668369104212,0.6920990115398441,0.32453425323177365,0.98042878881106543,0.49121401425615474,0.60270424554056656,8.1651559875286495E-2,0.90091598571152975,0.10133906995065534,0.52789540859543838,0.97525340451022291,0.36349372437593597,0.47894444552563775,2.6817041368101924E-2,0.77977533032720148,8.225767190267752E-2,0.47447903422660676,0.65280126383836901,0.99995535472349173,0.89753989019299307,4.7737786632243151E-2,0.62385270915788826,4.2056638463758733E-2,5.1018772011043878E-2,0.61578653406825756,0.8606365684628412,0.69362086241635934,0.30775892816442973,0.55249973699514743,0.21773468714139033,0.51669372110190148,0.21109182384273129,0.4699035369530622,0.94088842760209201,0.50490095320066997,0.51060213922520237,0.83850956321651227,0.99536322151640122,0.74937666247319634,0.30244109123162932,0.68279526605712271,0.26400257998115195,0.60094956114343046,2.5273238467174441E-2,0.92081814675156215,0.75248959426295847,4.3859986372338344E-2,0.59084278905152632,0.75865864428904517,0.26633405837260493,4.7473713173528664E-2,0.97511859950389179,0.87754510144374842,0.65174988706350923,0.11410403746810527,0.44359286658372721,0.16188747148425886,4.1212042314270225E-2,0.77851886775483148,0.79098222716093447,0.74238129748681858,0.99199486367241285,0.24731166720459241,0.85176454378113287,0.94296740172710314,0.77720937039614346,0.3352366939804724,0.56615607973383986,0.42333219421249879,0.15810703760687939,0.77995861965084434,0.30970156957247497,0.66749629856058756,8.1487121371709659E-2,0.14995366678519439,0.29167612096593598,0.41128227470250689,3.4466202203566554E-2,0.22253283225921006,9.1678194115987321E-2,7.9308432231148474E-2,0.25106277160895296,0.38908092976824682,0.76210359645200609,0.48355557970031882,0.29667378634344821,0.86327635592128604,6.8653408341117217E-3,0.66112867939731212]
[0.73247107774630649,4.6902477789756869E-2,0.29065213885882824,0.34300344203658517,0.90895899392096269,0.67625633969927634,0.43723729752890372,0.2013994182257407,0.43730016240464686,0.63813055931655061,0.91812086112499347,0.669546835152107,0.47501028889379771,0.77836111092180815,0.19196123940616738,0.41382099680242002,0.8639394280178625,2.718577882392037E-2,0.84650813724579566,0.83767767693265338,0.91739289754526199,0.42075242992824746,0.50636512612298279,0.10099961392573342,0.99927816418205373,0.24137183204727142,0.84537732656637277,0.82829746654120129,0.37557449747387261,0.38528231624853559,4.0914796024069555E-2,0.30765372303389271,0.88781884748692474,0.7904928250475296,0.23304204312348653,0.11666851176873982,0.75955240184961503,0.91875590419168074,0.36191002418120144,0.55427146038524122,0.26022397473351,0.90039883467656956,0.21323957026815188,0.74808457695750774,0.40423565279746088,0.56264098726044109,0.38475030488214523,0.80566114404957201,0.53226261133609265,0.7858688274042045,0.77383359038425992,0.26554185539124542,0.24147924222723804,0.96632631544382952,0.7954448576517269,0.31198234356233456,3.5168494064869771E-2,0.50974786651177428,0.32875846453309487,5.7005572181420994E-2,0.95428316622183162,0.94316040268730417,0.33943838775672985,0.25639356566981264,0.38931881062161622,3.9399561839316255E-2,0.40834546004823935,0.87103482528980947,0.32740021451081036,0.3807080645932146,0.45446025893990327,0.39082952408538751,0.90880180936940402,0.37684941531225069,0.72888735181314357,0.95306615553330898,0.15642823780807547,1.161326165485832E-2,0.22906631301760716,0.51359886375370734,5.4945399903414516E-2,0.77209188917055371,0.59250859754239238,0.59922049671220867,4.9950473588077027E-2,0.35230972365369218,0.87656993008509332,0.15175724215250008,0.96026671401503394,0.85797458342340249,0.33709850968829513,0.49859141874276613,0.38092319839943301,0.35321955403780259,0.17740504395431578,0.55064905318063784,0.3263188779083197,0.34103172140338389,0.51756706847324296,0.76107464083032172]
[0.38983624435108388,0.59354488431523367,0.60663618912947126,0.56932825801065734,0.95904673543253072,0.11686342018607787,0.77750767001508392,4.5454911334128267E-2,0.55838580537743354,0.68435540564731157,0.79215589604506897,0.87606999877307856,0.40178186023249263,0.19110062236578695,0.46541437152146081,0.42648749452984414,2.7903027860946006E-3,0.51515656936353804,0.22444084160820565,0.20540101864658633,0.37436589853528912,3.3332932079655597E-2,0.24537183484829228,0.17123710370393075,0.41240865652755465,0.93283472416284052,0.62818484953750997,0.96529364771119297,0.1949717163599477,0.23252143898300892,8.1675312956034363E-3,2.303863277230378E-2,0.67117818883315006,0.84691993397818177,0.89216552843837083,0.96855904927640135,0.67037586396958571,0.28349542624825996,0.82459259025168041,0.55111739650273273,0.67375120915273057,0.89271839034114175,1.162751019308339E-2,0.50530406514469373,0.79163949786620602,0.65600626549705321,0.57278844156309738,0.76934169715513634,0.46309632412174206,0.90177452517136136,0.54961470304161419,0.58653100254046742,0.57596231318067392,0.43129845030810521,0.67733618826059616,0.50365779131263078,0.41522590611099752,0.89613883618827817,0.20860144305989459,6.9834579541008357E-2,0.45262215756632262,0.41709308552526125,0.8331749429161206,0.53348295355380404,0.70219921357576165,0.93011712547260672,0.88832387985702066,0.52003817182002421,0.54046949856040516,0.37386850426879981,2.5154959981113723E-2,0.24347413522030059,0.71158207415920094,0.46731282769575022,0.55269401523674588,0.26910633842154008,0.94287960952701488,5.5003764179772929E-3,0.21018865538283449,0.39912392585817491,0.26681698210037064,0.56312319116990139,3.8878440593709596E-2,0.44118553589528298,0.52589994527067918,0.9953963889304176,0.22641916283848373,0.82763471130342503,0.79709744639573832,0.71594197093548662,0.63927569205659618,0.73266278671668716,0.65359672425093907,0.27214998165860571,0.58077848145493904,0.2980868592565159,0.57966312189360525,5.9672762185588257E-2,0.46056828301701436,0.91392625225035606]
[0.33533663877731823,0.75894868036396523,0.90044820403683146,0.53237866920363341,0.52560750494660113,0.56974031744635845,0.97939737748425504,0.11081455461329337,0.67618940515068049,0.48496319524801534,0.7897381190200784,7.9947976824585099E-2,0.33563621528567211,0.24483508140444221,0.41766628181199095,0.89400836965065122,6.8322640165826565E-2,0.74659623348514348,7.1365642836442755E-2,0.74568028787685858,0.73581387821434985,0.8018359176345522,0.11318929112208265,0.6655745510466804,0.52125503079583135,0.90527065638793991,0.11662930026877882,0.13585324078903915,0.2714612496023654,0.48383892179527888,0.64340009397997744,0.76494909731457572,0.87591949701053196,5.2674717658189096E-2,0.26835263655057584,0.32085920169021631,6.2045159682343698E-2,0.32218419151582856,0.81246946930409114,0.95393922823931621,0.83095122207476924,0.29816306349936039,0.25463541728253469,0.31541274261527608,0.5487718892474116,0.18482756620364971,0.97913856779009623,0.73305913369040721,5.9876732339833039E-2,0.69167314675366021,8.4509812815280583E-2,0.71070878385201552,0.29623363990266227,0.96783977864732784,0.22155241844921891,0.69382230620385865,0.16062708924531011,0.41215118617606961,0.14760392081742757,0.29074611455676103,0.83487034114218561,0.29358339614048001,7.1955070439742919E-2,0.13499066472378007,0.10750393978719908,0.82196713028376434,0.88403374521898148,6.5986343202462105E-3,0.10396501145542725,0.58679077463480755,0.15049630218648902,0.20989492876940108,0.39716862036543754,0.14289782631211179,0.68664028139899858,1.0156628279836766E-2,0.28749554575179348,0.98811846611373388,0.9696358455780163,0.25845082656810925,0.24258614930464462,0.72635970394897187,0.34537326150558256,0.11156245625133154,0.60065825186217414,0.67188664780125151,7.5278326506834303E-2,6.3205114647642002E-2,0.19456170936199013,0.24522910209146753,0.44531147695677109,0.52129594301061277,0.39059516433890895,6.1845359643222908E-2,0.3512625721300533,0.44089787438073791,0.65055845466176809,0.75623351161951136,0.93072519454374747,0.17403744699476242]
[0.35210207047612696,0.61993208433723124,0.50801070956169558,0.71825787278468611,0.4506082425003568,0.53380806811894865,0.64414253993850168,0.29065921691841046,0.76949888983444648,0.19370754185428851,8.0750953793351954E-2,0.44920858310744638,0.29166298417693548,0.63441302018527979,0.80206622347045398,0.39243325434611831,0.75036315577560175,4.893366777776087E-2,0.77961143343986739,0.6572210887271891,0.40794617208086326,0.52968868011579173,0.48433507849129798,0.89693205848960467,0.60989708704690293,0.97983098577629391,0.47904572921857169,0.87640407522652186,0.7026004411262351,0.17388843709445156,0.57768715785614011,0.62506509831286328,0.90206456070157293,0.85752310633262319,0.87279573245236297,0.87664917164916356,0.80201928668801681,0.91161906198397924,0.49403549854065476,0.96262879536648893,0.81486033765800958,6.8685411862593471E-2,7.6739887893154668E-3,0.4591582824737851,0.85867524317783583,0.68247794390118,0.38409685258892967,0.64163636443285432,0.21697255904490165,0.4375439231866991,0.50664731435070409,0.37747638603763101,0.25658320652533917,0.5220527981909423,0.33933273031471756,0.19370910611763381,0.10321973039867516,0.36556493103426824,0.20735717012745747,0.29539187221229968,0.20884157545702531,0.36061769046183345,1.6811618812248685E-2,0.77543280725447772,0.36220070697069484,1.8165068407669294E-2,0.67231895312781043,0.73647538792860134,0.73134757734864908,1.9060695949660533E-2,0.93244063875963712,8.0340134036635646E-2,0.10465877768502041,0.19170835302371114,0.2078607842747735,0.46284427656442773,0.33879762080825737,0.18124401977684201,0.54683789481271317,0.14830562306094031,0.74682720370097577,7.9961713968552117E-2,0.28067847366954324,0.56089924497176413,0.92235101740102887,0.67468441046532202,0.44424532946242534,0.28405841167117407,0.2345954701761308,0.38855469661596709,2.0947234300089712E-2,5.95767540503086E-2,0.84860749444856765,0.60732093707857004,1.3549134957393072E-2,0.41915431718391738,0.37150253859519611,0.29965996651251015,0.54927015500165044,0.81500073444955168]
[0.17811472236050585,0.22605800532417575,0.81243686152836347,0.945791522277182,0.88702283696587514,0.63197805675538288,2.9664427712619013E-3,0.32300269381163016,0.91663334785809836,0.60854320388828442,0.2738748635411572,0.93015437448189953,0.31916952158285417,0.73497850269256415,0.85980107583157173,0.40769618852792744,0.35153353926922626,0.18682791814137834,0.93237435863747897,0.4295405925779191,0.82979503810340338,0.56992549001985982,0.57961286173859772,0.86752878329703231,0.53271463562610921,0.28579247760844795,0.54524249453786477,0.97028713778662012,0.61576057122042127,0.51051072339265469,0.68885917166648725,0.42019113420620569,0.90543684076723008,0.138309041418888,0.7820524520886708,0.50537863225795365,0.28298647234523666,0.64533723011381916,0.19870328230096335,0.89802737365821994,0.32471334940564034,0.35217380948693255,0.58817094500495215,0.12851803132343043,0.98267179121157766,0.19817972483253832,0.84264669562784145,0.54643920201181684,0.57621499465092652,0.32583416490900607,0.79346128906529856,0.19072599532717394,0.55942972083936549,0.7422828164735612,0.33815308307878944,0.32237405342801717,0.63328077021899187,0.72687987296660661,8.7153202525232731E-2,0.82749401660616895,0.85415348032494054,0.29206328168184248,0.86883585312952882,0.39317159083906306,0.6411860992491939,0.12877162450652102,0.33197366083914714,0.69845924937761328,0.16051399674202194,0.29877328583194096,0.11322095159013135,0.74602508204912221,0.42778881953083336,0.14586408318346133,0.29891872503201422,4.9872686897781793E-2,0.81387724113558979,0.34949005139434164,0.69682888802188625,0.57498751277839721,0.35485943863183533,0.79482167492039335,0.45557028225187035,3.4952030266145129E-2,0.62997673261240017,0.78758326640777632,0.65436440296663756,0.16456872482009888,0.39243489002537002,0.37626085828161604,0.86847959743727099,0.491002801253551,0.3552056597649671,0.73856831577351234,0.4188719979332447,0.38113662287532524,0.55431991093649791,0.36100642855488818,7.0039317730035799E-2,8.1416733409305331E-2]
[0.6528992655025504,0.13382302510201305,9.5700486924616857E-2,0.54035460747168573,0.84665189876775881,0.22360223095539666,0.12310145008568385,0.32547601688113303,0.53922787085063462,0.63857136414185867,0.17279774876874132,0.46646342759689152,0.56929281144366195,2.8036550276200667E-2,0.24944262277575924,0.49279429981323108,0.38965907165965552,0.78022973712189025,0.92644111233361448,0.41091182310582397,7.2707139090787964E-2,0.35719864855086669,2.8505303199323206E-3,0.4287027545758274,5.8307934238717163E-3,0.40806812777005619,7.1739917172060519E-2,0.2656348594206297,0.29546775283445381,0.92469516475060931,0.6734459482125964,0.30116144424056679,0.96700972099212545,0.91359056900096225,0.8606594529405952,0.8339325670710408,0.51606232052274437,0.77603433384352916,8.4793368200383301E-2,0.50354883655179872,0.65786580147955387,0.25156895206176555,0.98381089179943937,0.97722067509481314,0.31908604436357535,0.67071371123968992,0.18585281320956226,0.33589281984085084,0.95042820557205465,0.34092137722557425,0.950332793309274,0.51358404548807612,0.61605568781639941,0.57806719138715612,0.95621121777842255,0.23297428318995428,0.76953147752083229,0.65286484676910306,0.1712791208495611,0.72588401970733663,0.99888147875034006,0.25504174151985071,0.46991212978735453,0.19892178405000405,0.90339492790859,0.11261296351626837,0.54116745382903508,0.53194285335212532,0.47873686624016454,0.67519120350275807,0.51751269418675849,0.71983185291286067,0.77445332785447651,0.4883579308516518,0.1061517996597674,0.65925736449525496,0.46962576418572832,7.2546168623518481E-2,0.33437389237261839,0.41485486436354768,0.40710487509761639,0.18533782188659753,0.45957665834419092,0.88799987569020533,0.15701749666961418,0.59119026327741053,0.79051595105671946,0.40256939649977319,0.85020529182014837,0.46436529069731092,0.23941747732538265,0.81076402918634283,0.25677865620832097,0.90696666593826836,2.9779675442018871E-2,0.50885207130864518,0.53191465296953189,0.63345846235232395,0.71074259708382082,0.78021382800292927]
[]
[1,2,3,4,5,6,7,8,9,10,11,12,13,14,15,16,17,18,19,20,21,22,23,24,25,26,27,28,29,30,31,32,33,34,35,36,37,38,39,40,41,42,43,44,45,46,47,48,49,50,51,52,53,54,55,56,57,58,59,60,61,62,63,64,65,66,67,68,69,70,71,72,73,74,75,76,77,78,79,80,81,82,83,84,85,86,87,88,89,90,91,92,93,94,95,96,97,98,99,100]

{"sheet":"Deck","index":4,"n_rows":233,"n_cols":193,"rows_kept":233,"cut":false,"hidden":true,"merged":[[253,12,253,13]]}
[1,"♠A",0.33357530832290649,{"$f":"RANK(C1,$C$1:$C$52)","v":29},"S",1,null,"Royal Flush",1,null,null,{"$f":"RANK(L8,$L$8:$P$8,1)","v":{"$error":"#N/A"}},{"$f":"RANK(M8,$L$8:$P$8,1)","v":{"$error":"#N/A"}},{"$f":"RANK(N8,$L$8:$P$8,1)","v":{"$error":"#N/A"}},{"$f":"RANK(O8,$L$8:$P$8,1)","v":{"$error":"#N/A"}},{"$f":"RANK(P8,$L$8:$P$8,1)","v":{"$error":"#N/A"}},null,{"$f":"RANK(R8,$R$8:$V$8,1)","v":{"$error":"#N/A"}},{"$f":"RANK(S8,$R$8:$V$8,1)","v":{"$error":"#N/A"}},{"$error":"#N/A"},{"$error":"#N/A"},{"$error":"#N/A"},null,{"$f":"RANK(X8,$X$8:$AB$8,1)","v":{"$error":"#N/A"}},{"$f":"RANK(Y8,$X$8:$AB$8,1)","v":{"$error":"#N/A"}},{"$error":"#N/A"},{"$error":"#N/A"},{"$error":"#N/A"},null,null,null,null,null,null,null,null,null,null,null,"Student",null,null,null,null,null,null,null,"Robot1",null,null,null,null,null,null,null,"Robot1",null,null,null,null,null,null,null,null,null,null,null,null,null,null,null,null,null,null,null,null,"Match?",null,null,"Match?",null,null,"Match?"]
[2,"♠2",0.59382933378219604,19,"S",2,null,"Straight Flush",2,1,null,{"$f":"[0]!Player11","v":0},{"$f":"[0]!Player12","v":0},{"$f":"[0]!House1","v":0},{"$f":"[0]!House2","v":0},{"$f":"[0]!House3","v":0},null,{"$f":"[0]!Player21","v":0},{"$f":"[0]!Player22","v":0},{"$f":"[0]!House1","v":0},{"$f":"[0]!House2","v":0},{"$f":"[0]!House3","v":0},null,{"$f":"[0]!Player31","v":0},{"$f":"[0]!Player32","v":0},{"$f":"[0]!House1","v":0},{"$f":"[0]!House2","v":0},{"$f":"[0]!House3","v":0},null,null,null,null,null,null,null,null,null,null,null,null,null,null,null,null,null,null,null,null,null,null,null,null,null,null,null,null,null,null,null,null,null,null,null,null,null,null,null,null,null,null,null,null,null,null,"Student",null,null,"Robot1",null,null,"Robot1"]
[3,"♠3",0.189289391040802,38,"S",3,null,"Four of a Kind",3,null,null,{"$f":"VLOOKUP(L2,$B$1:$F$52,5,0)","v":{"$error":"#N/A"}},{"$f":"VLOOKUP(M2,$B$1:$F$52,5,0)","v":{"$error":"#N/A"}},{"$f":"VLOOKUP(N2,$B$1:$F$52,5,0)","v":{"$error":"#N/A"}},{"$f":"VLOOKUP(O2,$B$1:$F$52,5,0)","v":{"$error":"#N/A"}},{"$f":"VLOOKUP(P2,$B$1:$F$52,5,0)","v":{"$error":"#N/A"}},null,{"$f":"VLOOKUP(R2,$B$1:$F$52,5,0)","v":{"$error":"#N/A"}},{"$f":"VLOOKUP(S2,$B$1:$F$52,5,0)","v":{"$error":"#N/A"}},{"$f":"VLOOKUP(T2,$B$1:$F$52,5,0)","v":{"$error":"#N/A"}},{"$f":"VLOOKUP(U2,$B$1:$F$52,5,0)","v":{"$error":"#N/A"}},{"$f":"VLOOKUP(V2,$B$1:$F$52,5,0)","v":{"$error":"#N/A"}},null,{"$f":"VLOOKUP(X2,$B$1:$F$52,5,0)","v":{"$error":"#N/A"}},{"$f":"VLOOKUP(Y2,$B$1:$F$52,5,0)","v":{"$error":"#N/A"}},{"$f":"VLOOKUP(Z2,$B$1:$F$52,5,0)","v":{"$error":"#N/A"}},{"$f":"VLOOKUP(AA2,$B$1:$F$52,5,0)","v":{"$error":"#N/A"}},{"$f":"VLOOKUP(AB2,$B$1:$F$52,5,0)","v":{"$error":"#N/A"}},null,null,null,null,null,null,null,null,null,null,null,null,null,null,null,null,null,null,null,null,null,null,null,null,null,null,null,null,null,null,null,null,null,null,null,null,null,null,null,null,null,null,null,null,null,null,"Number","Suit","Total","Number","Suit","Total","Number","Suit","Total"]
[4,"♠4",0.32699435949325562,30,"S",4,null,"Full House",4,null,null,{"$f":"VLOOKUP(L2,$B$1:$F$52,4,0)","v":{"$error":"#N/A"}},{"$f":"VLOOKUP(M2,$B$1:$F$52,4,0)","v":{"$error":"#N/A"}},{"$f":"VLOOKUP(N2,$B$1:$F$52,4,0)","v":{"$error":"#N/A"}},{"$f":"VLOOKUP(O2,$B$1:$F$52,4,0)","v":{"$error":"#N/A"}},{"$f":"VLOOKUP(P2,$B$1:$F$52,4,0)","v":{"$error":"#N/A"}},null,{"$f":"VLOOKUP(R2,$B$1:$F$52,4,0)","v":{"$error":"#N/A"}},{"$f":"VLOOKUP(S2,$B$1:$F$52,4,0)","v":{"$error":"#N/A"}},{"$f":"VLOOKUP(T2,$B$1:$F$52,4,0)","v":{"$error":"#N/A"}},{"$f":"VLOOKUP(U2,$B$1:$F$52,4,0)","v":{"$error":"#N/A"}},{"$f":"VLOOKUP(V2,$B$1:$F$52,4,0)","v":{"$error":"#N/A"}},null,{"$f":"VLOOKUP(X2,$B$1:$F$52,4,0)","v":{"$error":"#N/A"}},{"$f":"VLOOKUP(Y2,$B$1:$F$52,4,0)","v":{"$error":"#N/A"}},{"$f":"VLOOKUP(Z2,$B$1:$F$52,4,0)","v":{"$error":"#N/A"}},{"$f":"VLOOKUP(AA2,$B$1:$F$52,4,0)","v":{"$error":"#N/A"}},{"$f":"VLOOKUP(AB2,$B$1:$F$52,4,0)","v":{"$error":"#N/A"}},null,null,null,null,null,1,{"$f":"L5","v":{"$error":"#N/A"}},{"$f":"M5","v":{"$error":"#N/A"}},{"$f":"N5","v":{"$error":"#N/A"}},{"$f":"O5","v":{"$error":"#N/A"}},{"$f":"P5","v":{"$error":"#N/A"}},{"$f":"INDEX($BV$4:$BV$13,MATCH(1,$BY$4:$BY$13,0))","v":{"$error":"#N/A"}},{"$f":"INDEX($BU$4:$BU$13,MATCH(AN4,$BV$4:$BV$13,0))","v":{"$error":"#N/A"}},1,{"$f":"R5","v":{"$error":"#N/A"}},{"$f":"S5","v":{"$error":"#N/A"}},{"$f":"T5","v":{"$error":"#N/A"}},{"$f":"U5","v":{"$error":"#N/A"}},{"$f":"V5","v":{"$error":"#N/A"}},{"$f":"INDEX($BV$4:$BV$13,MATCH(1,$CB$4:$CB$13,0))","v":{"$error":"#N/A"}},{"$f":"INDEX($BU$4:$BU$13,MATCH(AV4,$BV$4:$BV$13,0))","v":{"$error":"#N/A"}},1,{"$f":"X5","v":{"$error":"#N/A"}},{"$f":"Y5","v":{"$error":"#N/A"}},{"$f":"Z5","v":{"$error":"#N/A"}},{"$f":"AA5","v":{"$error":"#N/A"}},{"$f":"AB5","v":{"$error":"#N/A"}},{"$f":"INDEX($BV$4:$BV$13,MATCH(1,$CE$4:$CE$13,0))","v":{"$error":"#N/A"}},{"$f":"INDEX($BU$4:$BU$13,MATCH(BD4,$BV$4:$BV$13,0))","v":{"$error":"#N/A"}},null,null,null,null,null,null,null,null,null,null,null,null,null,null,null,1,{"$f":"CG4","v":"Royal Flush"},{"$f":"CH4","v":{"$error":"#N/A"}},{"$f":"CI4","v":{"$error":"#N/A"}},{"$f":"CJ4","v":{"$error":"#N/A"}},{"$f":"CK4","v":{"$error":"#N/A"}},{"$f":"CL4","v":{"$error":"#N/A"}},{"$f":"CM4","v":{"$error":"#N/A"}},{"$f":"CN4","v":{"$error":"#N/A"}},{"$f":"CO4","v":{"$error":"#N/A"}},{"$f":"CP4","v":{"$error":"#N/A"}},null,"Royal Flush",{"$f":"IF(AND(10=AI4,11=AJ4,12=AK4,13=AL4,1=AM4),1,0)","v":{"$error":"#N/A"}},{"$f":"IF(AND(AI25=AJ25,AJ25=AK25,AK25=AL25,AL25=AM25),1,0)","v":{"$error":"#N/A"}},{"$f":"CH4*CI4","v":{"$error":"#N/A"}},{"$f":"IF(AND(10=AQ4,11=AR4,12=AS4,13=AT4,1=AU4),1,0)","v":{"$error":"#N/A"}},{"$f":"IF(AND(AQ25=AR25,AR25=AS25,AS25=AT25,AT25=AU25),1,0)","v":{"$error":"#N/A"}},{"$f":"CK4*CL4","v":{"$error":"#N/A"}},{"$f":"IF(AND(10=AY4,11=AZ4,12=BA4,13=BB4,1=BC4),1,0)","v":{"$error":"#N/A"}},{"$f":"IF(AND(AY25=AZ25,AZ25=BA25,BA25=BB25,BB25=BC25),1,0)","v":{"$error":"#N/A"}},{"$f":"CN4*CO4","v":{"$error":"#N/A"}},null,"Straight Flush",{"$f":"IF(OR(AND(AI4<10,AJ4=AI4+1,AK4=AJ4+1,AL4=AK4+1,AM4=AL4+1),AND(AI4=2,AJ4=3,AK4=4,AL4=5,AM4=1)),1,0)","v":{"$error":"#N/A"}},{"$f":"IF(AND(AI25=AJ25,AJ25=AK25,AK25=AL25,AL25=AM25),1,0)","v":{"$error":"#N/A"}},{"$f":"CS4*CT4","v":{"$error":"#N/A"}},{"$f":"IF(OR(AND(AQ4<10,AR4=AQ4+1,AS4=AR4+1,AT4=AS4+1,AU4=AT4+1),AND(AQ4=2,AR4=3,AS4=4,AT4=5,AU4=1)),1,0)","v":{"$error":"#N/A"}},{"$f":"IF(AND(AQ25=AR25,AR25=AS25,AS25=AT25,AT25=AU25),1,0)","v":{"$error":"#N/A"}},{"$f":"CV4*CW4","v":{"$error":"#N/A"}},{"$f":"IF(OR(AND(AY4<10,AZ4=AY4+1,BA4=AZ4+1,BB4=BA4+1,BC4=BB4+1),AND(AY4=2,AZ4=3,BA4=4,BB4=5,BC4=1)),1,0)","v":{"$error":"#N/A"}},{"$f":"IF(AND(AY25=AZ25,AZ25=BA25,BA25=BB25,BB25=BC25),1,0)","v":{"$error":"#N/A"}},{"$f":"CY4*CZ4","v":{"$error":"#N/A"}},null,"Four of a Kind",{"$f":"IF(OR(AND(AI4=AJ4,AJ4=AK4,AK4=AL4),AND(AJ4=AK4,AK4=AL4,AL4=AM4)),1,0)","v":{"$error":"#N/A"}},null,{"$f":"DD4","v":{"$error":"#N/A"}},{"$f":"IF(OR(AND(AQ4=AR4,AR4=AS4,AS4=AT4),AND(AR4=AS4,AS4=AT4,AT4=AU4)),1,0)","v":{"$error":"#N/A"}},null,{"$f":"DG4","v":{"$error":"#N/A"}},{"$f":"IF(OR(AND(AY4=AZ4,AZ4=BA4,BA4=BB4),AND(AZ4=BA4,BA4=BB4,BB4=BC4)),1,0)","v":{"$error":"#N/A"}},null,{"$f":"DJ4","v":{"$error":"#N/A"}},null,"Full House",{"$f":"IF(OR(AND(AI4=AJ4,AJ4=AK4,AL4=AM4),AND(AI4=AJ4,AK4=AL4,AL4=AM4)),1,0)","v":{"$error":"#N/A"}},null,{"$f":"DO4","v":{"$error":"#N/A"}},{"$f":"IF(OR(AND(AQ4=AR4,AR4=AS4,AT4=AU4),AND(AQ4=AR4,AS4=AT4,AT4=AU4)),1,0)","v":{"$error":"#N/A"}},null,{"$f":"DR4","v":{"$error":"#N/A"}},{"$f":"IF(OR(AND(AY4=AZ4,AZ4=BA4,BB4=BC4),AND(AY4=AZ4,BA4=BB4,BB4=BC4)),1,0)","v":{"$error":"#N/A"}},null,{"$f":"DU4","v":{"$error":"#N/A"}},null,"Flush",{"$f":"IF(AND(AI25=AJ25,AJ25=AK25,AK25=AL25,AL25=AM25),1,0)","v":{"$error":"#N/A"}},null,{"$f":"DZ4","v":{"$error":"#N/A"}},{"$f":"IF(AND(AQ25=AR25,AR25=AS25,AS25=AT25,AT25=AU25),1,0)","v":{"$error":"#N/A"}},null,{"$f":"EC4","v":{"$error":"#N/A"}},{"$f":"IF(AND(AY25=AZ25,AZ25=BA25,BA25=BB25,BB25=BC25),1,0)","v":{"$error":"#N/A"}},null,{"$f":"EF4","v":{"$error":"#N/A"}},null,"Straight",{"$f":"IF(\nOR(\nAND(AI4<10,AJ4=AI4+1,AK4=AJ4+1,AL4=AK4+1,AM4=AL4+1),\nAND(AI4=10,AJ4=11,AK4=12,AL4=13,AM4=1)\n),1,0)","v":{"$error":"#N/A"}},{"$f":"IF(AND(AI25=AJ25,AJ25=AK25,AK25=AL25,AL25=AM25),0,1)","v":{"$error":"#N/A"}},{"$f":"EK4*EL4","v":{"$error":"#N/A"}},{"$f":"IF(OR(\nAND(AQ4<10,AR4=AQ4+1,AS4=AR4+1,AT4=AS4+1,AU4=AT4+1),\nAND(AQ4=10,AR4=11,AS4=12,AT4=13,AU4=1),\n),1,0)","v":{"$error":"#N/A"}},{"$f":"IF(AND(AQ25=AR25,AR25=AS25,AS25=AT25,AT25=AU25),0,1)","v":{"$error":"#N/A"}},{"$f":"EN4*EO4","v":{"$error":"#N/A"}},{"$f":"IF(OR(\nAND(AY4<10,AZ4=AY4+1,BA4=AZ4+1,BB4=BA4+1,BC4=BB4+1),\nAND(AY4=10,AZ4=11,BA4=12,BB4=13,BC4=1)\n),1,0)","v":{"$error":"#N/A"}},{"$f":"IF(AND(AY25=AZ25,AZ25=BA25,BA25=BB25,BB25=BC25),0,1)","v":{"$error":"#N/A"}},{"$f":"EQ4*ER4","v":{"$error":"#N/A"}},null,"Three of a Kind",{"$f":"IF(OR(AND(AI4=AJ4,AJ4=AK4,AL4<>AM4),AND(AI4<>AJ4,AK4=AL4,AL4=AM4),AND(AJ4=AK4,AK4=AL4)),1,0)","v":{"$error":"#N/A"}},null,{"$f":"EV4","v":{"$error":"#N/A"}},{"$f":"IF(OR(AND(AQ4=AR4,AR4=AS4,AT4<>AU4),AND(AQ4<>AR4,AS4=AT4,AT4=AU4),AND(AR4=AS4,AS4=AT4)),1,0)","v":{"$error":"#N/A"}},null,{"$f":"EY4","v":{"$error":"#N/A"}},{"$f":"IF(OR(AND(AY4=AZ4,AZ4=BA4,BB4<>BC4),AND(AY4<>AZ4,BA4=BB4,BB4=BC4),AND(AZ4=BA4,BA4=BB4)),1,0)","v":{"$error":"#N/A"}},null,{"$f":"FB4","v":{"$error":"#N/A"}},null,"Two Pair",{"$f":"IF(OR(AND(AI4=AJ4,AK4=AL4,AM4<>AI4,AM4<>AK4,AJ4<>AK4),AND(AJ4=AK4,AL4=AM4,AI4<>AJ4,AI4<>AL4,AK4<>AL4),AND(AI4=AJ4,AL4=AM4,AK4<>AJ4,AK4<>AL4,AJ4<>AL4)),1,0)","v":{"$error":"#N/A"}},null,{"$f":"FG4","v":{"$error":"#N/A"}},{"$f":"IF(OR(AND(AQ4=AR4,AS4=AT4,AU4<>AQ4,AU4<>AS4,AR4<>AS4),AND(AR4=AS4,AT4=AU4,AQ4<>AR4,AQ4<>AT4,AS4<>AT4),AND(AQ4=AR4,AT4=AU4,AS4<>AR4,AS4<>AT4,AR4<>AT4)),1,0)","v":{"$error":"#N/A"}},null,{"$f":"FJ4","v":{"$error":"#N/A"}},{"$f":"IF(OR(AND(AY4=AZ4,BA4=BB4,BC4<>AY4,BC4<>BA4,AZ4<>BA4),AND(AZ4=BA4,BB4=BC4,AY4<>AZ4,AY4<>BB4,BA4<>BB4),AND(AY4=AZ4,BB4=BC4,BA4<>AZ4,BA4<>BB4,AZ4<>BB4)),1,0)","v":{"$error":"#N/A"}},null,{"$f":"FM4","v":{"$error":"#N/A"}},null,"One Pair",{"$f":"IF(OR(AND(AI4=AJ4,AJ4<>AK4,AK4<>AL4,AL4<>AM4),AND(AI4<>AJ4,AJ4=AK4,AK4<>AL4,AL4<>AM4),AND(AI4<>AJ4,AJ4<>AK4,AK4=AL4,AL4<>AM4),AND(AI4<>AJ4,AJ4<>AK4,AK4<>AL4,AL4=AM4)),1,0)","v":{"$error":"#N/A"}},null,{"$f":"FR4","v":{"$error":"#N/A"}},{"$f":"IF(OR(AND(AQ4=AR4,AR4<>AS4,AS4<>AT4,AT4<>AU4),AND(AQ4<>AR4,AR4=AS4,AS4<>AT4,AT4<>AU4),AND(AQ4<>AR4,AR4<>AS4,AS4=AT4,AT4<>AU4),AND(AQ4<>AR4,AR4<>AS4,AS4<>AT4,AT4=AU4)),1,0)","v":{"$error":"#N/A"}},null,{"$f":"FU4","v":{"$error":"#N/A"}},{"$f":"IF(OR(AND(AY4=AZ4,AZ4<>BA4,BA4<>BB4,BB4<>BC4),AND(AY4<>AZ4,AZ4=BA4,BA4<>BB4,BB4<>BC4),AND(AY4<>AZ4,AZ4<>BA4,BA4=BB4,BB4<>BC4),AND(AY4<>AZ4,AZ4<>BA4,BA4<>BB4,BB4=BC4)),1,0)","v":{"$error":"#N/A"}},null,{"$f":"FX4","v":{"$error":"#N/A"}},null,"High Card",{"$f":"IF(AND(AI4<>AJ4,AJ4<>AK4,AK4<>AL4,AL4<>AM4),1,0)","v":{"$error":"#N/A"}},null,{"$f":"GC4","v":{"$error":"#N/A"}},{"$f":"IF(AND(AQ4<>AR4,AR4<>AS4,AS4<>AT4,AT4<>AU4),1,0)","v":{"$error":"#N/A"}},null,{"$f":"GF4","v":{"$error":"#N/A"}},{"$f":"IF(AND(AY4<>AZ4,AZ4<>BA4,BA4<>BB4,BB4<>BC4),1,0)","v":{"$error":"#N/A"}},null,{"$f":"GI4","v":{"$error":"#N/A"}}]
[5,"♠5",7.3419153690338135E-2,46,"S",5,null,"Flush",5,null,null,{"$f":"HLOOKUP(L7,$L$1:$P$4,3,0)","v":{"$error":"#N/A"}},{"$f":"HLOOKUP(M7,$L$1:$P$4,3,0)","v":{"$error":"#N/A"}},{"$f":"HLOOKUP(N7,$L$1:$P$4,3,0)","v":{"$error":"#N/A"}},{"$f":"HLOOKUP(O7,$L$1:$P$4,3,0)","v":{"$error":"#N/A"}},{"$f":"HLOOKUP(P7,$L$1:$P$4,3,0)","v":{"$error":"#N/A"}},null,{"$f":"HLOOKUP(R7,$R$1:$V$4,3,0)","v":{"$error":"#N/A"}},{"$f":"HLOOKUP(S7,$R$1:$V$4,3,0)","v":{"$error":"#N/A"}},{"$f":"HLOOKUP(T7,$R$1:$V$4,3,0)","v":{"$error":"#N/A"}},{"$f":"HLOOKUP(U7,$R$1:$V$4,3,0)","v":{"$error":"#N/A"}},{"$f":"HLOOKUP(V7,$R$1:$V$4,3,0)","v":{"$error":"#N/A"}},null,{"$f":"HLOOKUP(X7,$X$1:$AB$4,3,0)","v":{"$error":"#N/A"}},{"$f":"HLOOKUP(Y7,$X$1:$AB$4,3,0)","v":{"$error":"#N/A"}},{"$error":"#N/A"},{"$error":"#N/A"},{"$error":"#N/A"},null,null,null,null,null,2,{"$f":"L14","v":{"$error":"#N/A"}},{"$f":"M14","v":{"$error":"#N/A"}},{"$f":"N14","v":{"$error":"#N/A"}},{"$f":"O14","v":{"$error":"#N/A"}},{"$f":"P14","v":{"$error":"#N/A"}},{"$f":"INDEX($BV$15:$BV$24,MATCH(1,$BY$15:$BY$24,0))","v":{"$error":"#N/A"}},{"$error":"#N/A"},2,{"$f":"R14","v":{"$error":"#N/A"}},{"$f":"S14","v":{"$error":"#N/A"}},{"$f":"T14","v":{"$error":"#N/A"}},{"$f":"U14","v":{"$error":"#N/A"}},{"$f":"V14","v":{"$error":"#N/A"}},{"$f":"INDEX($BV$15:$BV$24,MATCH(1,$CB$15:$CB$24,0))","v":{"$error":"#N/A"}},{"$error":"#N/A"},2,{"$f":"X14","v":{"$error":"#N/A"}},{"$f":"Y14","v":{"$error":"#N/A"}},{"$f":"Z14","v":{"$error":"#N/A"}},{"$f":"AA14","v":{"$error":"#N/A"}},{"$f":"AB14","v":{"$error":"#N/A"}},{"$f":"INDEX($BV$15:$BV$24,MATCH(1,$CE$15:$CE$24,0))","v":{"$error":"#N/A"}},{"$error":"#N/A"},null,null,null,null,null,null,null,null,null,null,null,null,null,null,null,2,{"$f":"CR4","v":"Straight Flush"},{"$f":"CS4","v":{"$error":"#N/A"}},{"$f":"CT4","v":{"$error":"#N/A"}},{"$f":"CU4","v":{"$error":"#N/A"}},{"$f":"CV4","v":{"$error":"#N/A"}},{"$f":"CW4","v":{"$error":"#N/A"}},{"$f":"CX4","v":{"$error":"#N/A"}},{"$f":"CY4","v":{"$error":"#N/A"}},{"$f":"CZ4","v":{"$error":"#N/A"}},{"$f":"DA4","v":{"$error":"#N/A"}},null,"Royal Flush",{"$error":"#N/A"},{"$error":"#N/A"},{"$error":"#N/A"},{"$error":"#N/A"},{"$error":"#N/A"},{"$error":"#N/A"},{"$error":"#N/A"},{"$error":"#N/A"},{"$error":"#N/A"},null,"Straight Flush",{"$f":"IF(OR(AND(AI5<10,AJ5=AI5+1,AK5=AJ5+1,AL5=AK5+1,AM5=AL5+1),AND(AI5=2,AJ5=3,AK5=4,AL5=5,AM5=1)),1,0)","v":{"$error":"#N/A"}},{"$error":"#N/A"},{"$error":"#N/A"},{"$f":"IF(OR(AND(AQ5<10,AR5=AQ5+1,AS5=AR5+1,AT5=AS5+1,AU5=AT5+1),AND(AQ5=2,AR5=3,AS5=4,AT5=5,AU5=1)),1,0)","v":{"$error":"#N/A"}},{"$error":"#N/A"},{"$f":"CV5*CW5","v":{"$error":"#N/A"}},{"$f":"IF(OR(AND(AY5<10,AZ5=AY5+1,BA5=AZ5+1,BB5=BA5+1,BC5=BB5+1),AND(AY5=2,AZ5=3,BA5=4,BB5=5,BC5=1)),1,0)","v":{"$error":"#N/A"}},{"$error":"#N/A"},{"$f":"CY5*CZ5","v":{"$error":"#N/A"}},null,"Four of a Kind",{"$error":"#N/A"},null,{"$error":"#N/A"},{"$error":"#N/A"},null,{"$error":"#N/A"},{"$error":"#N/A"},null,{"$f":"DJ5","v":{"$error":"#N/A"}},null,"Full House",{"$error":"#N/A"},null,{"$error":"#N/A"},{"$error":"#N/A"},null,{"$error":"#N/A"},{"$error":"#N/A"},null,{"$error":"#N/A"},null,"Flush",{"$error":"#N/A"},null,{"$error":"#N/A"},{"$error":"#N/A"},null,{"$error":"#N/A"},{"$error":"#N/A"},null,{"$error":"#N/A"},null,"Straight",{"$f":"IF(\nOR(\nAND(AI5<10,AJ5=AI5+1,AK5=AJ5+1,AL5=AK5+1,AM5=AL5+1),\nAND(AI5=10,AJ5=11,AK5=12,AL5=13,AM5=1)\n),1,0)","v":{"$error":"#N/A"}},{"$f":"IF(AND(AI26=AJ26,AJ26=AK26,AK26=AL26,AL26=AM26),0,1)","v":{"$error":"#N/A"}},{"$error":"#N/A"},{"$f":"IF(OR(\nAND(AQ5<10,AR5=AQ5+1,AS5=AR5+1,AT5=AS5+1,AU5=AT5+1),\nAND(AQ5=10,AR5=11,AS5=12,AT5=13,AU5=1),\n),1,0)","v":{"$error":"#N/A"}},{"$error":"#N/A"},{"$error":"#N/A"},{"$f":"IF(OR(\nAND(AY5<10,AZ5=AY5+1,BA5=AZ5+1,BB5=BA5+1,BC5=BB5+1),\nAND(AY5=10,AZ5=11,BA5=12,BB5=13,BC5=1)\n),1,0)","v":{"$error":"#N/A"}},{"$error":"#N/A"},{"$error":"#N/A"},null,"Three of a Kind",{"$error":"#N/A"},null,{"$error":"#N/A"},{"$error":"#N/A"},null,{"$error":"#N/A"},{"$error":"#N/A"},null,{"$error":"#N/A"},null,"Two Pair",{"$error":"#N/A"},null,{"$error":"#N/A"},{"$error":"#N/A"},null,{"$error":"#N/A"},{"$error":"#N/A"},null,{"$error":"#N/A"},null,"One Pair",{"$error":"#N/A"},null,{"$error":"#N/A"},{"$error":"#N/A"},null,{"$error":"#N/A"},{"$error":"#N/A"},null,{"$error":"#N/A"},null,"High Card",{"$error":"#N/A"},null,{"$error":"#N/A"},{"$error":"#N/A"},null,{"$error":"#N/A"},{"$error":"#N/A"},null,{"$error":"#N/A"}]
[6,"♠6",0.85496300458908081,4,"S",6,null,"Straight",6,null,null,{"$f":"HLOOKUP(L7,$L$1:$P$4,4,0)","v":{"$error":"#N/A"}},{"$f":"HLOOKUP(M7,$L$1:$P$4,4,0)","v":{"$error":"#N/A"}},{"$f":"HLOOKUP(N7,$L$1:$P$4,4,0)","v":{"$error":"#N/A"}},{"$f":"HLOOKUP(O7,$L$1:$P$4,4,0)","v":{"$error":"#N/A"}},{"$f":"HLOOKUP(P7,$L$1:$P$4,4,0)","v":{"$error":"#N/A"}},null,{"$f":"HLOOKUP(R7,$R$1:$V$4,4,0)","v":{"$error":"#N/A"}},{"$f":"HLOOKUP(S7,$R$1:$V$4,4,0)","v":{"$error":"#N/A"}},{"$f":"HLOOKUP(T7,$R$1:$V$4,4,0)","v":{"$error":"#N/A"}},{"$f":"HLOOKUP(U7,$R$1:$V$4,4,0)","v":{"$error":"#N/A"}},{"$f":"HLOOKUP(V7,$R$1:$V$4,4,0)","v":{"$error":"#N/A"}},null,{"$f":"HLOOKUP(X7,$X$1:$AB$4,4,0)","v":{"$error":"#N/A"}},{"$f":"HLOOKUP(Y7,$X$1:$AB$4,4,0)","v":{"$error":"#N/A"}},{"$error":"#N/A"},{"$error":"#N/A"},{"$error":"#N/A"},null,null,null,null,null,3,{"$f":"L23","v":{"$error":"#N/A"}},{"$f":"M23","v":{"$error":"#N/A"}},{"$f":"N23","v":{"$error":"#N/A"}},{"$f":"O23","v":{"$error":"#N/A"}},{"$f":"P23","v":{"$error":"#N/A"}},{"$f":"INDEX($BV$26:$BV$35,MATCH(1,$BY$26:$BY$35,0))","v":{"$error":"#N/A"}},{"$error":"#N/A"},3,{"$f":"R23","v":{"$error":"#N/A"}},{"$f":"S23","v":{"$error":"#N/A"}},{"$f":"T23","v":{"$error":"#N/A"}},{"$f":"U23","v":{"$error":"#N/A"}},{"$f":"V23","v":{"$error":"#N/A"}},{"$f":"INDEX($BV$26:$BV$35,MATCH(1,$CB$26:$CB$35,0))","v":{"$error":"#N/A"}},{"$error":"#N/A"},3,{"$f":"X23","v":{"$error":"#N/A"}},{"$f":"Y23","v":{"$error":"#N/A"}},{"$f":"Z23","v":{"$error":"#N/A"}},{"$f":"AA23","v":{"$error":"#N/A"}},{"$f":"AB23","v":{"$error":"#N/A"}},{"$f":"INDEX($BV$26:$BV$35,MATCH(1,$CE$26:$CE$35,0))","v":{"$error":"#N/A"}},{"$error":"#N/A"},null,null,null,null,null,null,null,null,null,null,null,null,null,null,null,3,{"$f":"DC4","v":"Four of a Kind"},{"$f":"DD4","v":{"$error":"#N/A"}},{"$f":"DE4","v":0},{"$f":"DF4","v":{"$error":"#N/A"}},{"$f":"DG4","v":{"$error":"#N/A"}},{"$f":"DH4","v":0},{"$f":"DI4","v":{"$error":"#N/A"}},{"$f":"DJ4","v":{"$error":"#N/A"}},{"$f":"DK4","v":0},{"$f":"DL4","v":{"$error":"#N/A"}},null,"Royal Flush",{"$error":"#N/A"},{"$error":"#N/A"},{"$error":"#N/A"},{"$error":"#N/A"},{"$error":"#N/A"},{"$error":"#N/A"},{"$error":"#N/A"},{"$error":"#N/A"},{"$error":"#N/A"},null,"Straight Flush",{"$error":"#N/A"},{"$error":"#N/A"},{"$error":"#N/A"},{"$error":"#N/A"},{"$error":"#N/A"},{"$error":"#N/A"},{"$error":"#N/A"},{"$error":"#N/A"},{"$error":"#N/A"},null,"Four of a Kind",{"$error":"#N/A"},null,{"$error":"#N/A"},{"$error":"#N/A"},null,{"$error":"#N/A"},{"$error":"#N/A"},null,{"$error":"#N/A"},null,"Full House",{"$error":"#N/A"},null,{"$error":"#N/A"},{"$error":"#N/A"},null,{"$error":"#N/A"},{"$error":"#N/A"},null,{"$error":"#N/A"},null,"Flush",{"$error":"#N/A"},null,{"$error":"#N/A"},{"$error":"#N/A"},null,{"$error":"#N/A"},{"$error":"#N/A"},null,{"$error":"#N/A"},null,"Straight",{"$error":"#N/A"},{"$error":"#N/A"},{"$error":"#N/A"},{"$error":"#N/A"},{"$error":"#N/A"},{"$error":"#N/A"},{"$error":"#N/A"},{"$error":"#N/A"},{"$error":"#N/A"},null,"Three of a Kind",{"$error":"#N/A"},null,{"$error":"#N/A"},{"$error":"#N/A"},null,{"$error":"#N/A"},{"$error":"#N/A"},null,{"$error":"#N/A"},null,"Two Pair",{"$error":"#N/A"},null,{"$error":"#N/A"},{"$error":"#N/A"},null,{"$error":"#N/A"},{"$error":"#N/A"},null,{"$error":"#N/A"},null,"One Pair",{"$error":"#N/A"},null,{"$error":"#N/A"},{"$error":"#N/A"},null,{"$error":"#N/A"},{"$error":"#N/A"},null,{"$error":"#N/A"},null,"High Card",{"$error":"#N/A"},null,{"$error":"#N/A"},{"$error":"#N/A"},null,{"$error":"#N/A"},{"$error":"#N/A"},null,{"$error":"#N/A"}]
[7,"♠7",0.96234399080276489,1,"S",7,null,"Three of a Kind",7,null,null,1,2,3,4,5,null,1,2,3,4,5,null,1,2,3,4,5,null,null,null,null,null,4,{"$f":"L32","v":{"$error":"#N/A"}},{"$f":"M32","v":{"$error":"#N/A"}},{"$f":"N32","v":{"$error":"#N/A"}},{"$f":"O32","v":{"$error":"#N/A"}},{"$f":"P32","v":{"$error":"#N/A"}},{"$f":"INDEX($BV$37:$BV$46,MATCH(1,$BY$37:$BY$46,0))","v":{"$error":"#N/A"}},{"$error":"#N/A"},4,{"$f":"R32","v":{"$error":"#N/A"}},{"$f":"S32","v":{"$error":"#N/A"}},{"$f":"T32","v":{"$error":"#N/A"}},{"$f":"U32","v":{"$error":"#N/A"}},{"$f":"V32","v":{"$error":"#N/A"}},{"$f":"INDEX($BV$37:$BV$46,MATCH(1,$CB$37:$CB$46,0))","v":{"$error":"#N/A"}},{"$error":"#N/A"},4,{"$f":"X32","v":{"$error":"#N/A"}},{"$f":"Y32","v":{"$error":"#N/A"}},{"$f":"Z32","v":{"$error":"#N/A"}},{"$f":"AA32","v":{"$error":"#N/A"}},{"$f":"AB32","v":{"$error":"#N/A"}},{"$f":"INDEX($BV$37:$BV$46,MATCH(1,$CE$37:$CE$46,0))","v":{"$error":"#N/A"}},{"$error":"#N/A"},null,null,null,null,null,null,null,null,null,null,null,null,null,null,null,4,{"$f":"DN4","v":"Full House"},{"$f":"DO4","v":{"$error":"#N/A"}},{"$f":"DP4","v":0},{"$f":"DQ4","v":{"$error":"#N/A"}},{"$f":"DR4","v":{"$error":"#N/A"}},{"$f":"DS4","v":0},{"$f":"DT4","v":{"$error":"#N/A"}},{"$f":"DU4","v":{"$error":"#N/A"}},{"$f":"DV4","v":0},{"$f":"DW4","v":{"$error":"#N/A"}},null,"Royal Flush",{"$error":"#N/A"},{"$error":"#N/A"},{"$error":"#N/A"},{"$error":"#N/A"},{"$error":"#N/A"},{"$error":"#N/A"},{"$error":"#N/A"},{"$error":"#N/A"},{"$error":"#N/A"},null,"Straight Flush",{"$error":"#N/A"},{"$error":"#N/A"},{"$error":"#N/A"},{"$error":"#N/A"},{"$error":"#N/A"},{"$error":"#N/A"},{"$error":"#N/A"},{"$error":"#N/A"},{"$error":"#N/A"},null,"Four of a Kind",{"$error":"#N/A"},null,{"$error":"#N/A"},{"$error":"#N/A"},null,{"$error":"#N/A"},{"$error":"#N/A"},null,{"$error":"#N/A"},null,"Full House",{"$error":"#N/A"},null,{"$error":"#N/A"},{"$error":"#N/A"},null,{"$error":"#N/A"},{"$error":"#N/A"},null,{"$error":"#N/A"},null,"Flush",{"$error":"#N/A"},null,{"$error":"#N/A"},{"$error":"#N/A"},null,{"$error":"#N/A"},{"$error":"#N/A"},null,{"$error":"#N/A"},null,"Straight",{"$error":"#N/A"},{"$error":"#N/A"},{"$error":"#N/A"},{"$error":"#N/A"},{"$error":"#N/A"},{"$error":"#N/A"},{"$error":"#N/A"},{"$error":"#N/A"},{"$error":"#N/A"},null,"Three of a Kind",{"$error":"#N/A"},null,{"$error":"#N/A"},{"$error":"#N/A"},null,{"$error":"#N/A"},{"$error":"#N/A"},null,{"$error":"#N/A"},null,"Two Pair",{"$error":"#N/A"},null,{"$error":"#N/A"},{"$error":"#N/A"},null,{"$error":"#N/A"},{"$error":"#N/A"},null,{"$error":"#N/A"},null,"One Pair",{"$error":"#N/A"},null,{"$error":"#N/A"},{"$error":"#N/A"},null,{"$error":"#N/A"},{"$error":"#N/A"},null,{"$error":"#N/A"},null,"High Card",{"$error":"#N/A"},null,{"$error":"#N/A"},{"$error":"#N/A"},null,{"$error":"#N/A"},{"$error":"#N/A"},null,{"$error":"#N/A"}]
[8,"♠8",9.0149819850921631E-2,44,"S",8,null,"Two Pair",8,null,null,{"$f":"L3+IF(L3=1,13+RAND()^3,RAND()^3)","v":{"$error":"#N/A"}},{"$f":"M3+IF(M3=1,13+RAND()^3,RAND()^3)","v":{"$error":"#N/A"}},{"$error":"#N/A"},{"$error":"#N/A"},{"$error":"#N/A"},2.217512568132908E-2,{"$error":"#N/A"},{"$error":"#N/A"},{"$error":"#N/A"},{"$error":"#N/A"},{"$error":"#N/A"},6.1513762484143104E-6,{"$error":"#N/A"},{"$error":"#N/A"},{"$error":"#N/A"},{"$error":"#N/A"},{"$error":"#N/A"},null,null,null,null,null,5,{"$f":"L41","v":{"$error":"#N/A"}},{"$f":"M41","v":{"$error":"#N/A"}},{"$f":"N41","v":{"$error":"#N/A"}},{"$f":"O41","v":{"$error":"#N/A"}},{"$f":"P41","v":{"$error":"#N/A"}},{"$f":"INDEX($BV$48:$BV$57,MATCH(1,$BY$48:$BY$57,0))","v":{"$error":"#N/A"}},{"$error":"#N/A"},5,{"$f":"R41","v":{"$error":"#N/A"}},{"$f":"S41","v":{"$error":"#N/A"}},{"$f":"T41","v":{"$error":"#N/A"}},{"$f":"U41","v":{"$error":"#N/A"}},{"$f":"V41","v":{"$error":"#N/A"}},{"$f":"INDEX($BV$48:$BV$57,MATCH(1,$CB$48:$CB$57,0))","v":{"$error":"#N/A"}},{"$error":"#N/A"},5,{"$f":"X41","v":{"$error":"#N/A"}},{"$f":"Y41","v":{"$error":"#N/A"}},{"$f":"Z41","v":{"$error":"#N/A"}},{"$f":"AA41","v":{"$error":"#N/A"}},{"$f":"AB41","v":{"$error":"#N/A"}},{"$f":"INDEX($BV$48:$BV$57,MATCH(1,$CE$48:$CE$57,0))","v":{"$error":"#N/A"}},{"$error":"#N/A"},null,null,null,null,null,null,null,null,null,null,null,null,null,null,null,5,{"$f":"DY4","v":"Flush"},{"$f":"DZ4","v":{"$error":"#N/A"}},{"$f":"EA4","v":0},{"$f":"EB4","v":{"$error":"#N/A"}},{"$f":"EC4","v":{"$error":"#N/A"}},{"$f":"ED4","v":0},{"$f":"EE4","v":{"$error":"#N/A"}},{"$f":"EF4","v":{"$error":"#N/A"}},{"$f":"EG4","v":0},{"$f":"EH4","v":{"$error":"#N/A"}},null,"Royal Flush",{"$error":"#N/A"},{"$error":"#N/A"},{"$error":"#N/A"},{"$error":"#N/A"},{"$error":"#N/A"},{"$error":"#N/A"},{"$error":"#N/A"},{"$error":"#N/A"},{"$error":"#N/A"},null,"Straight Flush",{"$error":"#N/A"},{"$error":"#N/A"},{"$error":"#N/A"},{"$error":"#N/A"},{"$error":"#N/A"},{"$error":"#N/A"},{"$error":"#N/A"},{"$error":"#N/A"},{"$error":"#N/A"},null,"Four of a Kind",{"$error":"#N/A"},null,{"$error":"#N/A"},{"$error":"#N/A"},null,{"$error":"#N/A"},{"$error":"#N/A"},null,{"$error":"#N/A"},null,"Full House",{"$error":"#N/A"},null,{"$error":"#N/A"},{"$error":"#N/A"},null,{"$error":"#N/A"},{"$error":"#N/A"},null,{"$error":"#N/A"},null,"Flush",{"$error":"#N/A"},null,{"$error":"#N/A"},{"$error":"#N/A"},null,{"$error":"#N/A"},{"$error":"#N/A"},null,{"$error":"#N/A"},null,"Straight",{"$error":"#N/A"},{"$error":"#N/A"},{"$error":"#N/A"},{"$error":"#N/A"},{"$error":"#N/A"},{"$error":"#N/A"},{"$error":"#N/A"},{"$error":"#N/A"},{"$error":"#N/A"},null,"Three of a Kind",{"$error":"#N/A"},null,{"$error":"#N/A"},{"$error":"#N/A"},null,{"$error":"#N/A"},{"$error":"#N/A"},null,{"$error":"#N/A"},null,"Two Pair",{"$error":"#N/A"},null,{"$error":"#N/A"},{"$error":"#N/A"},null,{"$error":"#N/A"},{"$error":"#N/A"},null,{"$error":"#N/A"},null,"One Pair",{"$error":"#N/A"},null,{"$error":"#N/A"},{"$error":"#N/A"},null,{"$error":"#N/A"},{"$error":"#N/A"},null,{"$error":"#N/A"},null,"High Card",{"$error":"#N/A"},null,{"$error":"#N/A"},{"$error":"#N/A"},null,{"$error":"#N/A"},{"$error":"#N/A"},null,{"$error":"#N/A"}]
[9,"♠9",0.19279485940933228,37,"S",9,null,"One Pair",9,null,null,null,null,null,null,null,null,null,null,null,null,null,null,null,null,null,null,null,null,null,null,null,null,6,{"$f":"L50","v":{"$error":"#N/A"}},{"$f":"M50","v":{"$error":"#N/A"}},{"$f":"N50","v":{"$error":"#N/A"}},{"$f":"O50","v":{"$error":"#N/A"}},{"$f":"P50","v":{"$error":"#N/A"}},{"$f":"INDEX($BV$59:$BV$68,MATCH(1,$BY$59:$BY$68,0))","v":{"$error":"#N/A"}},{"$error":"#N/A"},6,{"$f":"R50","v":{"$error":"#N/A"}},{"$f":"S50","v":{"$error":"#N/A"}},{"$f":"T50","v":{"$error":"#N/A"}},{"$f":"U50","v":{"$error":"#N/A"}},{"$f":"V50","v":{"$error":"#N/A"}},{"$f":"INDEX($BV$59:$BV$68,MATCH(1,$CB$59:$CB$68,0))","v":{"$error":"#N/A"}},{"$error":"#N/A"},6,{"$f":"X50","v":{"$error":"#N/A"}},{"$f":"Y50","v":{"$error":"#N/A"}},{"$f":"Z50","v":{"$error":"#N/A"}},{"$f":"AA50","v":{"$error":"#N/A"}},{"$f":"AB50","v":{"$error":"#N/A"}},{"$f":"INDEX($BV$59:$BV$68,MATCH(1,$CE$59:$CE$68,0))","v":{"$error":"#N/A"}},{"$error":"#N/A"},null,null,null,null,null,null,null,null,null,null,null,null,null,null,null,6,{"$f":"EJ4","v":"Straight"},{"$f":"EK4","v":{"$error":"#N/A"}},{"$f":"EL4","v":{"$error":"#N/A"}},{"$f":"EM4","v":{"$error":"#N/A"}},{"$f":"EN4","v":{"$error":"#N/A"}},{"$f":"EO4","v":{"$error":"#N/A"}},{"$f":"EP4","v":{"$error":"#N/A"}},{"$f":"EQ4","v":{"$error":"#N/A"}},{"$f":"ER4","v":{"$error":"#N/A"}},{"$f":"ES4","v":{"$error":"#N/A"}},null,"Royal Flush",{"$error":"#N/A"},{"$error":"#N/A"},{"$error":"#N/A"},{"$error":"#N/A"},{"$error":"#N/A"},{"$error":"#N/A"},{"$error":"#N/A"},{"$error":"#N/A"},{"$error":"#N/A"},null,"Straight Flush",{"$error":"#N/A"},{"$error":"#N/A"},{"$error":"#N/A"},{"$error":"#N/A"},{"$error":"#N/A"},{"$error":"#N/A"},{"$error":"#N/A"},{"$error":"#N/A"},{"$error":"#N/A"},null,"Four of a Kind",{"$error":"#N/A"},null,{"$error":"#N/A"},{"$error":"#N/A"},null,{"$error":"#N/A"},{"$error":"#N/A"},null,{"$error":"#N/A"},null,"Full House",{"$error":"#N/A"},null,{"$error":"#N/A"},{"$error":"#N/A"},null,{"$error":"#N/A"},{"$error":"#N/A"},null,{"$error":"#N/A"},null,"Flush",{"$error":"#N/A"},null,{"$error":"#N/A"},{"$error":"#N/A"},null,{"$error":"#N/A"},{"$error":"#N/A"},null,{"$error":"#N/A"},null,"Straight",{"$error":"#N/A"},{"$error":"#N/A"},{"$error":"#N/A"},{"$error":"#N/A"},{"$error":"#N/A"},{"$error":"#N/A"},{"$error":"#N/A"},{"$error":"#N/A"},{"$error":"#N/A"},null,"Three of a Kind",{"$error":"#N/A"},null,{"$error":"#N/A"},{"$error":"#N/A"},null,{"$error":"#N/A"},{"$error":"#N/A"},null,{"$error":"#N/A"},null,"Two Pair",{"$error":"#N/A"},null,{"$error":"#N/A"},{"$error":"#N/A"},null,{"$error":"#N/A"},{"$error":"#N/A"},null,{"$error":"#N/A"},null,"One Pair",{"$error":"#N/A"},null,{"$error":"#N/A"},{"$error":"#N/A"},null,{"$error":"#N/A"},{"$error":"#N/A"},null,{"$error":"#N/A"},null,"High Card",{"$error":"#N/A"},null,{"$error":"#N/A"},{"$error":"#N/A"},null,{"$error":"#N/A"},{"$error":"#N/A"},null,{"$error":"#N/A"}]
[10,"♠10",0.18813341856002808,39,"S",10,null,"High Card",10,null,null,{"$f":"RANK(L17,$L$17:$P$17,1)","v":{"$error":"#N/A"}},{"$f":"RANK(M17,$L$17:$P$17,1)","v":{"$error":"#N/A"}},{"$f":"RANK(N17,$L$17:$P$17,1)","v":{"$error":"#N/A"}},{"$f":"RANK(O17,$L$17:$P$17,1)","v":{"$error":"#N/A"}},{"$f":"RANK(P17,$L$17:$P$17,1)","v":{"$error":"#N/A"}},null,{"$f":"RANK(R17,$R$17:$V$17,1)","v":{"$error":"#N/A"}},{"$f":"RANK(S17,$R$17:$V$17,1)","v":{"$error":"#N/A"}},{"$f":"RANK(T17,$R$17:$V$17,1)","v":{"$error":"#N/A"}},{"$f":"RANK(U17,$R$17:$V$17,1)","v":{"$error":"#N/A"}},{"$f":"RANK(V17,$R$17:$V$17,1)","v":{"$error":"#N/A"}},null,{"$f":"RANK(X17,$X$17:$AB$17,1)","v":{"$error":"#N/A"}},{"$f":"RANK(Y17,$X$17:$AB$17,1)","v":{"$error":"#N/A"}},{"$error":"#N/A"},{"$error":"#N/A"},{"$error":"#N/A"},null,null,null,null,null,7,{"$f":"L59","v":{"$error":"#N/A"}},{"$f":"M59","v":{"$error":"#N/A"}},{"$f":"N59","v":{"$error":"#N/A"}},{"$f":"O59","v":{"$error":"#N/A"}},{"$f":"P59","v":{"$error":"#N/A"}},{"$f":"INDEX($BV$70:$BV$79,MATCH(1,$BY$70:$BY$79,0))","v":{"$error":"#N/A"}},{"$error":"#N/A"},7,{"$f":"R59","v":{"$error":"#N/A"}},{"$f":"S59","v":{"$error":"#N/A"}},{"$f":"T59","v":{"$error":"#N/A"}},{"$f":"U59","v":{"$error":"#N/A"}},{"$f":"V59","v":{"$error":"#N/A"}},{"$f":"INDEX($BV$70:$BV$79,MATCH(1,$CB$70:$CB$79,0))","v":{"$error":"#N/A"}},{"$error":"#N/A"},7,{"$f":"X59","v":{"$error":"#N/A"}},{"$f":"Y59","v":{"$error":"#N/A"}},{"$f":"Z59","v":{"$error":"#N/A"}},{"$f":"AA59","v":{"$error":"#N/A"}},{"$f":"AB59","v":{"$error":"#N/A"}},{"$f":"INDEX($BV$70:$BV$79,MATCH(1,$CE$70:$CE$79,0))","v":{"$error":"#N/A"}},{"$error":"#N/A"},null,null,null,null,null,null,null,null,null,null,null,null,null,null,null,7,{"$f":"EU4","v":"Three of a Kind"},{"$f":"EV4","v":{"$error":"#N/A"}},{"$f":"EW4","v":0},{"$f":"EX4","v":{"$error":"#N/A"}},{"$f":"EY4","v":{"$error":"#N/A"}},{"$f":"EZ4","v":0},{"$f":"FA4","v":{"$error":"#N/A"}},{"$f":"FB4","v":{"$error":"#N/A"}},{"$f":"FC4","v":0},{"$f":"FD4","v":{"$error":"#N/A"}},null,"Royal Flush",{"$error":"#N/A"},{"$error":"#N/A"},{"$error":"#N/A"},{"$error":"#N/A"},{"$error":"#N/A"},{"$error":"#N/A"},{"$error":"#N/A"},{"$error":"#N/A"},{"$error":"#N/A"},null,"Straight Flush",{"$error":"#N/A"},{"$error":"#N/A"},{"$error":"#N/A"},{"$error":"#N/A"},{"$error":"#N/A"},{"$error":"#N/A"},{"$error":"#N/A"},{"$error":"#N/A"},{"$error":"#N/A"},null,"Four of a Kind",{"$error":"#N/A"},null,{"$error":"#N/A"},{"$error":"#N/A"},null,{"$error":"#N/A"},{"$error":"#N/A"},null,{"$error":"#N/A"},null,"Full House",{"$error":"#N/A"},null,{"$error":"#N/A"},{"$error":"#N/A"},null,{"$error":"#N/A"},{"$error":"#N/A"},null,{"$error":"#N/A"},null,"Flush",{"$error":"#N/A"},null,{"$error":"#N/A"},{"$error":"#N/A"},null,{"$error":"#N/A"},{"$error":"#N/A"},null,{"$error":"#N/A"},null,"Straight",{"$error":"#N/A"},{"$error":"#N/A"},{"$error":"#N/A"},{"$error":"#N/A"},{"$error":"#N/A"},{"$error":"#N/A"},{"$error":"#N/A"},{"$error":"#N/A"},{"$error":"#N/A"},null,"Three of a Kind",{"$error":"#N/A"},null,{"$error":"#N/A"},{"$error":"#N/A"},null,{"$error":"#N/A"},{"$error":"#N/A"},null,{"$error":"#N/A"},null,"Two Pair",{"$error":"#N/A"},null,{"$error":"#N/A"},{"$error":"#N/A"},null,{"$error":"#N/A"},{"$error":"#N/A"},null,{"$error":"#N/A"},null,"One Pair",{"$error":"#N/A"},null,{"$error":"#N/A"},{"$error":"#N/A"},null,{"$error":"#N/A"},{"$error":"#N/A"},null,{"$error":"#N/A"},null,"High Card",{"$error":"#N/A"},null,{"$error":"#N/A"},{"$error":"#N/A"},null,{"$error":"#N/A"},{"$error":"#N/A"},null,{"$error":"#N/A"}]
[11,"♠J",0.28997927904129028,32,"S",11,null,null,null,2,null,{"$f":"[0]!Player11","v":0},{"$f":"[0]!Player12","v":0},{"$f":"[0]!House1","v":0},{"$f":"[0]!House2","v":0},{"$f":"[0]!House4","v":0},null,{"$f":"[0]!Player21","v":0},{"$f":"[0]!Player22","v":0},{"$f":"[0]!House1","v":0},{"$f":"[0]!House2","v":0},{"$f":"[0]!House4","v":0},null,{"$f":"[0]!Player31","v":0},{"$f":"[0]!Player32","v":0},{"$f":"[0]!House1","v":0},{"$f":"[0]!House2","v":0},{"$f":"[0]!House4","v":0},null,null,null,null,null,8,{"$f":"L68","v":{"$error":"#N/A"}},{"$f":"M68","v":{"$error":"#N/A"}},{"$f":"N68","v":{"$error":"#N/A"}},{"$f":"O68","v":{"$error":"#N/A"}},{"$f":"P68","v":{"$error":"#N/A"}},{"$f":"INDEX($BV$81:$BV$90,MATCH(1,$BY$81:$BY$90,0))","v":{"$error":"#N/A"}},{"$error":"#N/A"},8,{"$f":"R68","v":{"$error":"#N/A"}},{"$f":"S68","v":{"$error":"#N/A"}},{"$f":"T68","v":{"$error":"#N/A"}},{"$f":"U68","v":{"$error":"#N/A"}},{"$f":"V68","v":{"$error":"#N/A"}},{"$f":"INDEX($BV$81:$BV$90,MATCH(1,$CB$81:$CB$90,0))","v":{"$error":"#N/A"}},{"$error":"#N/A"},8,{"$f":"X68","v":{"$error":"#N/A"}},{"$f":"Y68","v":{"$error":"#N/A"}},{"$f":"Z68","v":{"$error":"#N/A"}},{"$f":"AA68","v":{"$error":"#N/A"}},{"$f":"AB68","v":{"$error":"#N/A"}},{"$f":"INDEX($BV$81:$BV$90,MATCH(1,$CE$81:$CE$90,0))","v":{"$error":"#N/A"}},{"$error":"#N/A"},null,null,null,null,null,null,null,null,null,null,null,null,null,null,null,8,{"$f":"FF4","v":"Two Pair"},{"$f":"FG4","v":{"$error":"#N/A"}},{"$f":"FH4","v":0},{"$f":"FI4","v":{"$error":"#N/A"}},{"$f":"FJ4","v":{"$error":"#N/A"}},{"$f":"FK4","v":0},{"$f":"FL4","v":{"$error":"#N/A"}},{"$f":"FM4","v":{"$error":"#N/A"}},{"$f":"FN4","v":0},{"$f":"FO4","v":{"$error":"#N/A"}},null,"Royal Flush",{"$error":"#N/A"},{"$error":"#N/A"},{"$error":"#N/A"},{"$error":"#N/A"},{"$error":"#N/A"},{"$error":"#N/A"},{"$error":"#N/A"},{"$error":"#N/A"},{"$error":"#N/A"},null,"Straight Flush",{"$error":"#N/A"},{"$error":"#N/A"},{"$error":"#N/A"},{"$error":"#N/A"},{"$error":"#N/A"},{"$error":"#N/A"},{"$error":"#N/A"},{"$error":"#N/A"},{"$error":"#N/A"},null,"Four of a Kind",{"$error":"#N/A"},null,{"$error":"#N/A"},{"$error":"#N/A"},null,{"$error":"#N/A"},{"$error":"#N/A"},null,{"$error":"#N/A"},null,"Full House",{"$error":"#N/A"},null,{"$error":"#N/A"},{"$error":"#N/A"},null,{"$error":"#N/A"},{"$error":"#N/A"},null,{"$error":"#N/A"},null,"Flush",{"$error":"#N/A"},null,{"$error":"#N/A"},{"$error":"#N/A"},null,{"$error":"#N/A"},{"$error":"#N/A"},null,{"$error":"#N/A"},null,"Straight",{"$error":"#N/A"},{"$error":"#N/A"},{"$error":"#N/A"},{"$error":"#N/A"},{"$error":"#N/A"},{"$error":"#N/A"},{"$error":"#N/A"},{"$error":"#N/A"},{"$error":"#N/A"},null,"Three of a Kind",{"$error":"#N/A"},null,{"$error":"#N/A"},{"$error":"#N/A"},null,{"$error":"#N/A"},{"$error":"#N/A"},null,{"$error":"#N/A"},null,"Two Pair",{"$error":"#N/A"},null,{"$error":"#N/A"},{"$error":"#N/A"},null,{"$error":"#N/A"},{"$error":"#N/A"},null,{"$error":"#N/A"},null,"One Pair",{"$error":"#N/A"},null,{"$error":"#N/A"},{"$error":"#N/A"},null,{"$error":"#N/A"},{"$error":"#N/A"},null,{"$error":"#N/A"},null,"High Card",{"$error":"#N/A"},null,{"$error":"#N/A"},{"$error":"#N/A"},null,{"$error":"#N/A"},{"$error":"#N/A"},null,{"$error":"#N/A"}]
[12,"♠Q",7.8147649765014648E-4,52,"S",12,null,null,null,null,null,{"$f":"VLOOKUP(L11,$B$1:$F$52,5,0)","v":{"$error":"#N/A"}},{"$f":"VLOOKUP(M11,$B$1:$F$52,5,0)","v":{"$error":"#N/A"}},{"$f":"VLOOKUP(N11,$B$1:$F$52,5,0)","v":{"$error":"#N/A"}},{"$f":"VLOOKUP(O11,$B$1:$F$52,5,0)","v":{"$error":"#N/A"}},{"$f":"VLOOKUP(P11,$B$1:$F$52,5,0)","v":{"$error":"#N/A"}},null,{"$f":"VLOOKUP(R11,$B$1:$F$52,5,0)","v":{"$error":"#N/A"}},{"$f":"VLOOKUP(S11,$B$1:$F$52,5,0)","v":{"$error":"#N/A"}},{"$f":"VLOOKUP(T11,$B$1:$F$52,5,0)","v":{"$error":"#N/A"}},{"$f":"VLOOKUP(U11,$B$1:$F$52,5,0)","v":{"$error":"#N/A"}},{"$f":"VLOOKUP(V11,$B$1:$F$52,5,0)","v":{"$error":"#N/A"}},null,{"$f":"VLOOKUP(X11,$B$1:$F$52,5,0)","v":{"$error":"#N/A"}},{"$f":"VLOOKUP(Y11,$B$1:$F$52,5,0)","v":{"$error":"#N/A"}},{"$f":"VLOOKUP(Z11,$B$1:$F$52,5,0)","v":{"$error":"#N/A"}},{"$f":"VLOOKUP(AA11,$B$1:$F$52,5,0)","v":{"$error":"#N/A"}},{"$f":"VLOOKUP(AB11,$B$1:$F$52,5,0)","v":{"$error":"#N/A"}},null,null,null,null,null,9,{"$f":"L77","v":{"$error":"#N/A"}},{"$f":"M77","v":{"$error":"#N/A"}},{"$f":"N77","v":{"$error":"#N/A"}},{"$f":"O77","v":{"$error":"#N/A"}},{"$f":"P77","v":{"$error":"#N/A"}},{"$f":"INDEX($BV$92:$BV$101,MATCH(1,$BY$92:$BY$101,0))","v":{"$error":"#N/A"}},{"$error":"#N/A"},9,{"$f":"R77","v":{"$error":"#N/A"}},{"$f":"S77","v":{"$error":"#N/A"}},{"$f":"T77","v":{"$error":"#N/A"}},{"$f":"U77","v":{"$error":"#N/A"}},{"$f":"V77","v":{"$error":"#N/A"}},{"$f":"INDEX($BV$92:$BV$101,MATCH(1,$CB$92:$CB$101,0))","v":{"$error":"#N/A"}},{"$error":"#N/A"},9,{"$f":"X77","v":{"$error":"#N/A"}},{"$f":"Y77","v":{"$error":"#N/A"}},{"$f":"Z77","v":{"$error":"#N/A"}},{"$f":"AA77","v":{"$error":"#N/A"}},{"$f":"AB77","v":{"$error":"#N/A"}},{"$f":"INDEX($BV$92:$BV$101,MATCH(1,$CE$92:$CE$101,0))","v":{"$error":"#N/A"}},{"$error":"#N/A"},null,null,null,null,null,null,null,null,null,null,null,null,null,null,null,9,{"$f":"FQ4","v":"One Pair"},{"$f":"FR4","v":{"$error":"#N/A"}},{"$f":"FS4","v":0},{"$f":"FT4","v":{"$error":"#N/A"}},{"$f":"FU4","v":{"$error":"#N/A"}},{"$f":"FV4","v":0},{"$f":"FW4","v":{"$error":"#N/A"}},{"$f":"FX4","v":{"$error":"#N/A"}},{"$f":"FY4","v":0},{"$f":"FZ4","v":{"$error":"#N/A"}},null,"Royal Flush",{"$error":"#N/A"},{"$error":"#N/A"},{"$error":"#N/A"},{"$error":"#N/A"},{"$error":"#N/A"},{"$error":"#N/A"},{"$error":"#N/A"},{"$error":"#N/A"},{"$error":"#N/A"},null,"Straight Flush",{"$error":"#N/A"},{"$error":"#N/A"},{"$error":"#N/A"},{"$error":"#N/A"},{"$error":"#N/A"},{"$error":"#N/A"},{"$error":"#N/A"},{"$error":"#N/A"},{"$error":"#N/A"},null,"Four of a Kind",{"$error":"#N/A"},null,{"$error":"#N/A"},{"$error":"#N/A"},null,{"$error":"#N/A"},{"$error":"#N/A"},null,{"$error":"#N/A"},null,"Full House",{"$error":"#N/A"},null,{"$error":"#N/A"},{"$error":"#N/A"},null,{"$error":"#N/A"},{"$error":"#N/A"},null,{"$error":"#N/A"},null,"Flush",{"$error":"#N/A"},null,{"$error":"#N/A"},{"$error":"#N/A"},null,{"$error":"#N/A"},{"$error":"#N/A"},null,{"$error":"#N/A"},null,"Straight",{"$error":"#N/A"},{"$error":"#N/A"},{"$error":"#N/A"},{"$error":"#N/A"},{"$error":"#N/A"},{"$error":"#N/A"},{"$error":"#N/A"},{"$error":"#N/A"},{"$error":"#N/A"},null,"Three of a Kind",{"$error":"#N/A"},null,{"$error":"#N/A"},{"$error":"#N/A"},null,{"$error":"#N/A"},{"$error":"#N/A"},null,{"$error":"#N/A"},null,"Two Pair",{"$error":"#N/A"},null,{"$error":"#N/A"},{"$error":"#N/A"},null,{"$error":"#N/A"},{"$error":"#N/A"},null,{"$error":"#N/A"},null,"One Pair",{"$error":"#N/A"},null,{"$error":"#N/A"},{"$error":"#N/A"},null,{"$error":"#N/A"},{"$error":"#N/A"},null,{"$error":"#N/A"},null,"High Card",{"$error":"#N/A"},null,{"$error":"#N/A"},{"$error":"#N/A"},null,{"$error":"#N/A"},{"$error":"#N/A"},null,{"$error":"#N/A"}]
[13,"♠K",4.5706331729888916E-2,48,"S",13,null,null,null,null,null,{"$f":"VLOOKUP(L11,$B$1:$F$52,4,0)","v":{"$error":"#N/A"}},{"$f":"VLOOKUP(M11,$B$1:$F$52,4,0)","v":{"$error":"#N/A"}},{"$f":"VLOOKUP(N11,$B$1:$F$52,4,0)","v":{"$error":"#N/A"}},{"$f":"VLOOKUP(O11,$B$1:$F$52,4,0)","v":{"$error":"#N/A"}},{"$f":"VLOOKUP(P11,$B$1:$F$52,4,0)","v":{"$error":"#N/A"}},null,{"$f":"VLOOKUP(R11,$B$1:$F$52,4,0)","v":{"$error":"#N/A"}},{"$f":"VLOOKUP(S11,$B$1:$F$52,4,0)","v":{"$error":"#N/A"}},{"$f":"VLOOKUP(T11,$B$1:$F$52,4,0)","v":{"$error":"#N/A"}},{"$f":"VLOOKUP(U11,$B$1:$F$52,4,0)","v":{"$error":"#N/A"}},{"$f":"VLOOKUP(V11,$B$1:$F$52,4,0)","v":{"$error":"#N/A"}},null,{"$f":"VLOOKUP(X11,$B$1:$F$52,4,0)","v":{"$error":"#N/A"}},{"$f":"VLOOKUP(Y11,$B$1:$F$52,4,0)","v":{"$error":"#N/A"}},{"$f":"VLOOKUP(Z11,$B$1:$F$52,4,0)","v":{"$error":"#N/A"}},{"$f":"VLOOKUP(AA11,$B$1:$F$52,4,0)","v":{"$error":"#N/A"}},{"$f":"VLOOKUP(AB11,$B$1:$F$52,4,0)","v":{"$error":"#N/A"}},null,null,null,null,null,10,{"$f":"L86","v":{"$error":"#N/A"}},{"$f":"M86","v":{"$error":"#N/A"}},{"$f":"N86","v":{"$error":"#N/A"}},{"$f":"O86","v":{"$error":"#N/A"}},{"$f":"P86","v":{"$error":"#N/A"}},{"$f":"INDEX($BV$103:$BV$112,MATCH(1,$BY$103:$BY$112,0))","v":{"$error":"#N/A"}},{"$error":"#N/A"},10,{"$f":"R86","v":{"$error":"#N/A"}},{"$f":"S86","v":{"$error":"#N/A"}},{"$f":"T86","v":{"$error":"#N/A"}},{"$f":"U86","v":{"$error":"#N/A"}},{"$f":"V86","v":{"$error":"#N/A"}},{"$f":"INDEX($BV$103:$BV$112,MATCH(1,$CB$103:$CB$112,0))","v":{"$error":"#N/A"}},{"$error":"#N/A"},10,{"$f":"X86","v":{"$error":"#N/A"}},{"$f":"Y86","v":{"$error":"#N/A"}},{"$f":"Z86","v":{"$error":"#N/A"}},{"$f":"AA86","v":{"$error":"#N/A"}},{"$f":"AB86","v":{"$error":"#N/A"}},{"$f":"INDEX($BV$103:$BV$112,MATCH(1,$CE$103:$CE$112,0))","v":{"$error":"#N/A"}},{"$error":"#N/A"},null,null,null,null,null,null,null,null,null,null,null,null,null,null,null,10,{"$f":"GB4","v":"High Card"},{"$f":"GC4","v":{"$error":"#N/A"}},{"$f":"GD4","v":0},{"$f":"GE4","v":{"$error":"#N/A"}},{"$f":"GF4","v":{"$error":"#N/A"}},{"$f":"GG4","v":0},{"$f":"GH4","v":{"$error":"#N/A"}},{"$f":"GI4","v":{"$error":"#N/A"}},{"$f":"GJ4","v":0},{"$f":"GK4","v":{"$error":"#N/A"}},null,"Royal Flush",{"$error":"#N/A"},{"$error":"#N/A"},{"$error":"#N/A"},{"$error":"#N/A"},{"$error":"#N/A"},{"$error":"#N/A"},{"$error":"#N/A"},{"$error":"#N/A"},{"$error":"#N/A"},null,"Straight Flush",{"$error":"#N/A"},{"$error":"#N/A"},{"$error":"#N/A"},{"$error":"#N/A"},{"$error":"#N/A"},{"$error":"#N/A"},{"$error":"#N/A"},{"$error":"#N/A"},{"$error":"#N/A"},null,"Four of a Kind",{"$error":"#N/A"},null,{"$error":"#N/A"},{"$error":"#N/A"},null,{"$error":"#N/A"},{"$error":"#N/A"},null,{"$error":"#N/A"},null,"Full House",{"$error":"#N/A"},null,{"$error":"#N/A"},{"$error":"#N/A"},null,{"$error":"#N/A"},{"$error":"#N/A"},null,{"$error":"#N/A"},null,"Flush",{"$error":"#N/A"},null,{"$error":"#N/A"},{"$error":"#N/A"},null,{"$error":"#N/A"},{"$error":"#N/A"},null,{"$error":"#N/A"},null,"Straight",{"$error":"#N/A"},{"$error":"#N/A"},{"$error":"#N/A"},{"$error":"#N/A"},{"$error":"#N/A"},{"$error":"#N/A"},{"$error":"#N/A"},{"$error":"#N/A"},{"$error":"#N/A"},null,"Three of a Kind",{"$error":"#N/A"},null,{"$error":"#N/A"},{"$error":"#N/A"},null,{"$error":"#N/A"},{"$error":"#N/A"},null,{"$error":"#N/A"},null,"Two Pair",{"$error":"#N/A"},null,{"$error":"#N/A"},{"$error":"#N/A"},null,{"$error":"#N/A"},{"$error":"#N/A"},null,{"$error":"#N/A"},null,"One Pair",{"$error":"#N/A"},null,{"$error":"#N/A"},{"$error":"#N/A"},null,{"$error":"#N/A"},{"$error":"#N/A"},null,{"$error":"#N/A"},null,"High Card",{"$error":"#N/A"},null,{"$error":"#N/A"},{"$error":"#N/A"},null,{"$error":"#N/A"},{"$error":"#N/A"},null,{"$error":"#N/A"}]
[14,"♣A",0.77937573194503784,9,"C",1,null,null,null,null,null,{"$f":"HLOOKUP(L16,$L$10:$P$13,3,0)","v":{"$error":"#N/A"}},{"$f":"HLOOKUP(M16,$L$10:$P$13,3,0)","v":{"$error":"#N/A"}},{"$f":"HLOOKUP(N16,$L$10:$P$13,3,0)","v":{"$error":"#N/A"}},{"$f":"HLOOKUP(O16,$L$10:$P$13,3,0)","v":{"$error":"#N/A"}},{"$f":"HLOOKUP(P16,$L$10:$P$13,3,0)","v":{"$error":"#N/A"}},null,{"$f":"HLOOKUP(R16,$R$10:$V$13,3,0)","v":{"$error":"#N/A"}},{"$f":"HLOOKUP(S16,$R$10:$V$13,3,0)","v":{"$error":"#N/A"}},{"$f":"HLOOKUP(T16,$R$10:$V$13,3,0)","v":{"$error":"#N/A"}},{"$f":"HLOOKUP(U16,$R$10:$V$13,3,0)","v":{"$error":"#N/A"}},{"$f":"HLOOKUP(V16,$R$10:$V$13,3,0)","v":{"$error":"#N/A"}},null,{"$f":"HLOOKUP(X16,$X$10:$AB$13,3,0)","v":{"$error":"#N/A"}},{"$f":"HLOOKUP(Y16,$X$10:$AB$13,3,0)","v":{"$error":"#N/A"}},{"$error":"#N/A"},{"$error":"#N/A"},{"$error":"#N/A"},null,null,null,null,null,11,{"$f":"L95","v":{"$error":"#N/A"}},{"$f":"M95","v":{"$error":"#N/A"}},{"$f":"N95","v":{"$error":"#N/A"}},{"$f":"O95","v":{"$error":"#N/A"}},{"$f":"P95","v":{"$error":"#N/A"}},{"$f":"INDEX($BV$114:$BV$123,MATCH(1,$BY$114:$BY$123,0))","v":{"$error":"#N/A"}},{"$error":"#N/A"},11,{"$f":"R95","v":{"$error":"#N/A"}},{"$f":"S95","v":{"$error":"#N/A"}},{"$f":"T95","v":{"$error":"#N/A"}},{"$f":"U95","v":{"$error":"#N/A"}},{"$f":"V95","v":{"$error":"#N/A"}},{"$f":"INDEX($BV$114:$BV$123,MATCH(1,$CB$114:$CB$123,0))","v":{"$error":"#N/A"}},{"$error":"#N/A"},11,{"$f":"X95","v":{"$error":"#N/A"}},{"$f":"Y95","v":{"$error":"#N/A"}},{"$f":"Z95","v":{"$error":"#N/A"}},{"$f":"AA95","v":{"$error":"#N/A"}},{"$f":"AB95","v":{"$error":"#N/A"}},{"$f":"INDEX($BV$114:$BV$123,MATCH(1,$CE$114:$CE$123,0))","v":{"$error":"#N/A"}},{"$error":"#N/A"},null,null,null,null,null,null,null,null,null,null,null,null,null,null,null,null,null,null,null,null,null,null,null,null,null,null,null,"Royal Flush",{"$error":"#N/A"},{"$error":"#N/A"},{"$error":"#N/A"},{"$error":"#N/A"},{"$error":"#N/A"},{"$error":"#N/A"},{"$error":"#N/A"},{"$error":"#N/A"},{"$error":"#N/A"},null,"Straight Flush",{"$error":"#N/A"},{"$error":"#N/A"},{"$error":"#N/A"},{"$error":"#N/A"},{"$error":"#N/A"},{"$error":"#N/A"},{"$error":"#N/A"},{"$error":"#N/A"},{"$error":"#N/A"},null,"Four of a Kind",{"$error":"#N/A"},null,{"$error":"#N/A"},{"$error":"#N/A"},null,{"$error":"#N/A"},{"$error":"#N/A"},null,{"$error":"#N/A"},null,"Full House",{"$error":"#N/A"},null,{"$error":"#N/A"},{"$error":"#N/A"},null,{"$error":"#N/A"},{"$error":"#N/A"},null,{"$error":"#N/A"},null,"Flush",{"$error":"#N/A"},null,{"$error":"#N/A"},{"$error":"#N/A"},null,{"$error":"#N/A"},{"$error":"#N/A"},null,{"$error":"#N/A"},null,"Straight",{"$error":"#N/A"},{"$error":"#N/A"},{"$error":"#N/A"},{"$error":"#N/A"},{"$error":"#N/A"},{"$error":"#N/A"},{"$error":"#N/A"},{"$error":"#N/A"},{"$error":"#N/A"},null,"Three of a Kind",{"$error":"#N/A"},null,{"$error":"#N/A"},{"$error":"#N/A"},null,{"$error":"#N/A"},{"$error":"#N/A"},null,{"$error":"#N/A"},null,"Two Pair",{"$error":"#N/A"},null,{"$error":"#N/A"},{"$error":"#N/A"},null,{"$error":"#N/A"},{"$error":"#N/A"},null,{"$error":"#N/A"},null,"One Pair",{"$error":"#N/A"},null,{"$error":"#N/A"},{"$error":"#N/A"},null,{"$error":"#N/A"},{"$error":"#N/A"},null,{"$error":"#N/A"},null,"High Card",{"$error":"#N/A"},null,{"$error":"#N/A"},{"$error":"#N/A"},null,{"$error":"#N/A"},{"$error":"#N/A"},null,{"$error":"#N/A"}]
[15,"♣2",0.84651166200637817,5,"C",2,null,null,null,null,null,{"$f":"HLOOKUP(L16,$L$10:$P$13,4,0)","v":{"$error":"#N/A"}},{"$f":"HLOOKUP(M16,$L$10:$P$13,4,0)","v":{"$error":"#N/A"}},{"$f":"HLOOKUP(N16,$L$10:$P$13,4,0)","v":{"$error":"#N/A"}},{"$f":"HLOOKUP(O16,$L$10:$P$13,4,0)","v":{"$error":"#N/A"}},{"$f":"HLOOKUP(P16,$L$10:$P$13,4,0)","v":{"$error":"#N/A"}},null,{"$f":"HLOOKUP(R16,$R$10:$V$13,4,0)","v":{"$error":"#N/A"}},{"$f":"HLOOKUP(S16,$R$10:$V$13,4,0)","v":{"$error":"#N/A"}},{"$f":"HLOOKUP(T16,$R$10:$V$13,4,0)","v":{"$error":"#N/A"}},{"$f":"HLOOKUP(U16,$R$10:$V$13,4,0)","v":{"$error":"#N/A"}},{"$f":"HLOOKUP(V16,$R$10:$V$13,4,0)","v":{"$error":"#N/A"}},null,{"$f":"HLOOKUP(X16,$X$10:$AB$13,4,0)","v":{"$error":"#N/A"}},{"$f":"HLOOKUP(Y16,$X$10:$AB$13,4,0)","v":{"$error":"#N/A"}},{"$error":"#N/A"},{"$error":"#N/A"},{"$error":"#N/A"},null,null,null,null,null,12,{"$f":"L104","v":{"$error":"#N/A"}},{"$f":"M104","v":{"$error":"#N/A"}},{"$f":"N104","v":{"$error":"#N/A"}},{"$f":"O104","v":{"$error":"#N/A"}},{"$f":"P104","v":{"$error":"#N/A"}},{"$f":"INDEX($BV$125:$BV$134,MATCH(1,$BY$125:$BY$134,0))","v":{"$error":"#N/A"}},{"$error":"#N/A"},12,{"$f":"R104","v":{"$error":"#N/A"}},{"$f":"S104","v":{"$error":"#N/A"}},{"$f":"T104","v":{"$error":"#N/A"}},{"$f":"U104","v":{"$error":"#N/A"}},{"$f":"V104","v":{"$error":"#N/A"}},{"$f":"INDEX($BV$125:$BV$134,MATCH(1,$CB$125:$CB$134,0))","v":{"$error":"#N/A"}},{"$error":"#N/A"},12,{"$f":"X104","v":{"$error":"#N/A"}},{"$f":"Y104","v":{"$error":"#N/A"}},{"$f":"Z104","v":{"$error":"#N/A"}},{"$f":"AA104","v":{"$error":"#N/A"}},{"$f":"AB104","v":{"$error":"#N/A"}},{"$f":"INDEX($BV$125:$BV$134,MATCH(1,$CE$125:$CE$134,0))","v":{"$error":"#N/A"}},{"$error":"#N/A"},null,null,null,null,null,null,null,null,null,null,null,null,null,null,null,2,{"$f":"CG5","v":"Royal Flush"},{"$f":"CH5","v":{"$error":"#N/A"}},{"$f":"CI5","v":{"$error":"#N/A"}},{"$f":"CJ5","v":{"$error":"#N/A"}},{"$f":"CK5","v":{"$error":"#N/A"}},{"$f":"CL5","v":{"$error":"#N/A"}},{"$f":"CM5","v":{"$error":"#N/A"}},{"$f":"CN5","v":{"$error":"#N/A"}},{"$f":"CO5","v":{"$error":"#N/A"}},{"$f":"CP5","v":{"$error":"#N/A"}},null,"Royal Flush",{"$error":"#N/A"},{"$error":"#N/A"},{"$error":"#N/A"},{"$error":"#N/A"},{"$error":"#N/A"},{"$error":"#N/A"},{"$error":"#N/A"},{"$error":"#N/A"},{"$error":"#N/A"},null,"Straight Flush",{"$error":"#N/A"},{"$error":"#N/A"},{"$error":"#N/A"},{"$error":"#N/A"},{"$error":"#N/A"},{"$error":"#N/A"},{"$error":"#N/A"},{"$error":"#N/A"},{"$error":"#N/A"},null,"Four of a Kind",{"$error":"#N/A"},null,{"$error":"#N/A"},{"$error":"#N/A"},null,{"$error":"#N/A"},{"$error":"#N/A"},null,{"$error":"#N/A"},null,"Full House",{"$error":"#N/A"},null,{"$error":"#N/A"},{"$error":"#N/A"},null,{"$error":"#N/A"},{"$error":"#N/A"},null,{"$error":"#N/A"},null,"Flush",{"$error":"#N/A"},null,{"$error":"#N/A"},{"$error":"#N/A"},null,{"$error":"#N/A"},{"$error":"#N/A"},null,{"$error":"#N/A"},null,"Straight",{"$error":"#N/A"},{"$error":"#N/A"},{"$error":"#N/A"},{"$error":"#N/A"},{"$error":"#N/A"},{"$error":"#N/A"},{"$error":"#N/A"},{"$error":"#N/A"},{"$error":"#N/A"},null,"Three of a Kind",{"$error":"#N/A"},null,{"$error":"#N/A"},{"$error":"#N/A"},null,{"$error":"#N/A"},{"$error":"#N/A"},null,{"$error":"#N/A"},null,"Two Pair",{"$error":"#N/A"},null,{"$error":"#N/A"},{"$error":"#N/A"},null,{"$error":"#N/A"},{"$error":"#N/A"},null,{"$error":"#N/A"},null,"One Pair",{"$error":"#N/A"},null,{"$error":"#N/A"},{"$error":"#N/A"},null,{"$error":"#N/A"},{"$error":"#N/A"},null,{"$error":"#N/A"},null,"High Card",{"$error":"#N/A"},null,{"$error":"#N/A"},{"$error":"#N/A"},null,{"$error":"#N/A"},{"$error":"#N/A"},null,{"$error":"#N/A"}]
[16,"♣3",0.12773698568344116,41,"C",3,null,null,null,null,null,1,2,3,4,5,null,1,2,3,4,5,null,1,2,3,4,5,null,null,null,null,null,13,{"$f":"L113","v":{"$error":"#N/A"}},{"$f":"M113","v":{"$error":"#N/A"}},{"$f":"N113","v":{"$error":"#N/A"}},{"$f":"O113","v":{"$error":"#N/A"}},{"$f":"P113","v":{"$error":"#N/A"}},{"$f":"INDEX($BV$136:$BV$145,MATCH(1,$BY$136:$BY$145,0))","v":{"$error":"#N/A"}},{"$error":"#N/A"},13,{"$f":"R113","v":{"$error":"#N/A"}},{"$f":"S113","v":{"$error":"#N/A"}},{"$f":"T113","v":{"$error":"#N/A"}},{"$f":"U113","v":{"$error":"#N/A"}},{"$f":"V113","v":{"$error":"#N/A"}},{"$f":"INDEX($BV$136:$BV$145,MATCH(1,$CB$136:$CB$145,0))","v":{"$error":"#N/A"}},{"$error":"#N/A"},13,{"$f":"X113","v":{"$error":"#N/A"}},{"$f":"Y113","v":{"$error":"#N/A"}},{"$f":"Z113","v":{"$error":"#N/A"}},{"$f":"AA113","v":{"$error":"#N/A"}},{"$f":"AB113","v":{"$error":"#N/A"}},{"$f":"INDEX($BV$136:$BV$145,MATCH(1,$CE$136:$CE$145,0))","v":{"$error":"#N/A"}},{"$error":"#N/A"},null,null,null,null,null,null,null,null,null,null,null,null,null,null,null,null,{"$f":"CR5","v":"Straight Flush"},{"$f":"CS5","v":{"$error":"#N/A"}},{"$f":"CT5","v":{"$error":"#N/A"}},{"$f":"CU5","v":{"$error":"#N/A"}},{"$f":"CV5","v":{"$error":"#N/A"}},{"$f":"CW5","v":{"$error":"#N/A"}},{"$f":"CX5","v":{"$error":"#N/A"}},{"$f":"CY5","v":{"$error":"#N/A"}},{"$f":"CZ5","v":{"$error":"#N/A"}},{"$f":"DA5","v":{"$error":"#N/A"}},null,"Royal Flush",{"$error":"#N/A"},{"$error":"#N/A"},{"$error":"#N/A"},{"$error":"#N/A"},{"$error":"#N/A"},{"$error":"#N/A"},{"$error":"#N/A"},{"$error":"#N/A"},{"$error":"#N/A"},null,"Straight Flush",{"$error":"#N/A"},{"$error":"#N/A"},{"$error":"#N/A"},{"$error":"#N/A"},{"$error":"#N/A"},{"$error":"#N/A"},{"$error":"#N/A"},{"$error":"#N/A"},{"$error":"#N/A"},null,"Four of a Kind",{"$error":"#N/A"},null,{"$error":"#N/A"},{"$error":"#N/A"},null,{"$error":"#N/A"},{"$error":"#N/A"},null,{"$error":"#N/A"},null,"Full House",{"$error":"#N/A"},null,{"$error":"#N/A"},{"$error":"#N/A"},null,{"$error":"#N/A"},{"$error":"#N/A"},null,{"$error":"#N/A"},null,"Flush",{"$error":"#N/A"},null,{"$error":"#N/A"},{"$error":"#N/A"},null,{"$error":"#N/A"},{"$error":"#N/A"},null,{"$error":"#N/A"},null,"Straight",{"$error":"#N/A"},{"$error":"#N/A"},{"$error":"#N/A"},{"$error":"#N/A"},{"$error":"#N/A"},{"$error":"#N/A"},{"$error":"#N/A"},{"$error":"#N/A"},{"$error":"#N/A"},null,"Three of a Kind",{"$error":"#N/A"},null,{"$error":"#N/A"},{"$error":"#N/A"},null,{"$error":"#N/A"},{"$error":"#N/A"},null,{"$error":"#N/A"},null,"Two Pair",{"$error":"#N/A"},null,{"$error":"#N/A"},{"$error":"#N/A"},null,{"$error":"#N/A"},{"$error":"#N/A"},null,{"$error":"#N/A"},null,"One Pair",{"$error":"#N/A"},null,{"$error":"#N/A"},{"$error":"#N/A"},null,{"$error":"#N/A"},{"$error":"#N/A"},null,{"$error":"#N/A"},null,"High Card",{"$error":"#N/A"},null,{"$error":"#N/A"},{"$error":"#N/A"},null,{"$error":"#N/A"},{"$error":"#N/A"},null,{"$error":"#N/A"}]
[17,"♣4",0.25178247690200806,34,"C",4,null,null,null,null,null,{"$f":"L12+IF(L12=1,13+RAND()^3,RAND()^3)","v":{"$error":"#N/A"}},{"$f":"M12+IF(M12=1,13+RAND()^3,RAND()^3)","v":{"$error":"#N/A"}},{"$error":"#N/A"},{"$error":"#N/A"},{"$error":"#N/A"},4.6557699137755571E-5,{"$error":"#N/A"},{"$error":"#N/A"},{"$error":"#N/A"},{"$error":"#N/A"},{"$error":"#N/A"},7.9438058700864334E-3,{"$error":"#N/A"},{"$error":"#N/A"},{"$error":"#N/A"},{"$error":"#N/A"},{"$error":"#N/A"},null,null,null,null,null,14,{"$f":"L122","v":{"$error":"#N/A"}},{"$f":"M122","v":{"$error":"#N/A"}},{"$f":"N122","v":{"$error":"#N/A"}},{"$f":"O122","v":{"$error":"#N/A"}},{"$f":"P122","v":{"$error":"#N/A"}},{"$f":"INDEX($BV$147:$BV$156,MATCH(1,$BY$147:$BY$156,0))","v":{"$error":"#N/A"}},{"$error":"#N/A"},14,{"$f":"R122","v":{"$error":"#N/A"}},{"$f":"S122","v":{"$error":"#N/A"}},{"$f":"T122","v":{"$error":"#N/A"}},{"$f":"U122","v":{"$error":"#N/A"}},{"$f":"V122","v":{"$error":"#N/A"}},{"$f":"INDEX($BV$147:$BV$156,MATCH(1,$CB$147:$CB$156,0))","v":{"$error":"#N/A"}},{"$error":"#N/A"},14,{"$f":"X122","v":{"$error":"#N/A"}},{"$f":"Y122","v":{"$error":"#N/A"}},{"$f":"Z122","v":{"$error":"#N/A"}},{"$f":"AA122","v":{"$error":"#N/A"}},{"$f":"AB122","v":{"$error":"#N/A"}},{"$f":"INDEX($BV$147:$BV$156,MATCH(1,$CE$147:$CE$156,0))","v":{"$error":"#N/A"}},{"$error":"#N/A"},null,null,null,null,null,null,null,null,null,null,null,null,null,null,null,null,{"$f":"DC5","v":"Four of a Kind"},{"$f":"DD5","v":{"$error":"#N/A"}},{"$f":"DE5","v":0},{"$f":"DF5","v":{"$error":"#N/A"}},{"$f":"DG5","v":{"$error":"#N/A"}},{"$f":"DH5","v":0},{"$f":"DI5","v":{"$error":"#N/A"}},{"$f":"DJ5","v":{"$error":"#N/A"}},{"$f":"DK5","v":0},{"$f":"DL5","v":{"$error":"#N/A"}},null,"Royal Flush",{"$error":"#N/A"},{"$error":"#N/A"},{"$error":"#N/A"},{"$error":"#N/A"},{"$error":"#N/A"},{"$error":"#N/A"},{"$error":"#N/A"},{"$error":"#N/A"},{"$error":"#N/A"},null,"Straight Flush",{"$error":"#N/A"},{"$error":"#N/A"},{"$error":"#N/A"},{"$error":"#N/A"},{"$error":"#N/A"},{"$error":"#N/A"},{"$error":"#N/A"},{"$error":"#N/A"},{"$error":"#N/A"},null,"Four of a Kind",{"$error":"#N/A"},null,{"$error":"#N/A"},{"$error":"#N/A"},null,{"$error":"#N/A"},{"$error":"#N/A"},null,{"$error":"#N/A"},null,"Full House",{"$error":"#N/A"},null,{"$error":"#N/A"},{"$error":"#N/A"},null,{"$error":"#N/A"},{"$error":"#N/A"},null,{"$error":"#N/A"},null,"Flush",{"$error":"#N/A"},null,{"$error":"#N/A"},{"$error":"#N/A"},null,{"$error":"#N/A"},{"$error":"#N/A"},null,{"$error":"#N/A"},null,"Straight",{"$error":"#N/A"},{"$error":"#N/A"},{"$error":"#N/A"},{"$error":"#N/A"},{"$error":"#N/A"},{"$error":"#N/A"},{"$error":"#N/A"},{"$error":"#N/A"},{"$error":"#N/A"},null,"Three of a Kind",{"$error":"#N/A"},null,{"$error":"#N/A"},{"$error":"#N/A"},null,{"$error":"#N/A"},{"$error":"#N/A"},null,{"$error":"#N/A"},null,"Two Pair",{"$error":"#N/A"},null,{"$error":"#N/A"},{"$error":"#N/A"},null,{"$error":"#N/A"},{"$error":"#N/A"},null,{"$error":"#N/A"},null,"One Pair",{"$error":"#N/A"},null,{"$error":"#N/A"},{"$error":"#N/A"},null,{"$error":"#N/A"},{"$error":"#N/A"},null,{"$error":"#N/A"},null,"High Card",{"$error":"#N/A"},null,{"$error":"#N/A"},{"$error":"#N/A"},null,{"$error":"#N/A"},{"$error":"#N/A"},null,{"$error":"#N/A"}]
[18,"♣5",0.20535010099411011,35,"C",5,null,null,null,null,null,null,null,null,null,null,null,null,null,null,null,null,null,null,null,null,null,null,null,null,null,null,null,15,{"$f":"L131","v":{"$error":"#N/A"}},{"$f":"M131","v":{"$error":"#N/A"}},{"$f":"N131","v":{"$error":"#N/A"}},{"$f":"O131","v":{"$error":"#N/A"}},{"$f":"P131","v":{"$error":"#N/A"}},{"$f":"INDEX($BV$158:$BV$167,MATCH(1,$BY$158:$BY$167,0))","v":{"$error":"#N/A"}},{"$error":"#N/A"},15,{"$f":"R131","v":{"$error":"#N/A"}},{"$f":"S131","v":{"$error":"#N/A"}},{"$f":"T131","v":{"$error":"#N/A"}},{"$f":"U131","v":{"$error":"#N/A"}},{"$f":"V131","v":{"$error":"#N/A"}},{"$f":"INDEX($BV$158:$BV$167,MATCH(1,$CB$158:$CB$167,0))","v":{"$error":"#N/A"}},{"$error":"#N/A"},15,{"$f":"X131","v":{"$error":"#N/A"}},{"$f":"Y131","v":{"$error":"#N/A"}},{"$f":"Z131","v":{"$error":"#N/A"}},{"$f":"AA131","v":{"$error":"#N/A"}},{"$f":"AB131","v":{"$error":"#N/A"}},{"$f":"INDEX($BV$158:$BV$167,MATCH(1,$CE$158:$CE$167,0))","v":{"$error":"#N/A"}},{"$error":"#N/A"},null,null,null,null,null,null,null,null,null,null,null,null,null,null,null,null,{"$f":"DN5","v":"Full House"},{"$f":"DO5","v":{"$error":"#N/A"}},{"$f":"DP5","v":0},{"$f":"DQ5","v":{"$error":"#N/A"}},{"$f":"DR5","v":{"$error":"#N/A"}},{"$f":"DS5","v":0},{"$f":"DT5","v":{"$error":"#N/A"}},{"$f":"DU5","v":{"$error":"#N/A"}},{"$f":"DV5","v":0},{"$f":"DW5","v":{"$error":"#N/A"}},null,"Royal Flush",{"$error":"#N/A"},{"$error":"#N/A"},{"$error":"#N/A"},{"$error":"#N/A"},{"$error":"#N/A"},{"$error":"#N/A"},{"$error":"#N/A"},{"$error":"#N/A"},{"$error":"#N/A"},null,"Straight Flush",{"$error":"#N/A"},{"$error":"#N/A"},{"$error":"#N/A"},{"$error":"#N/A"},{"$error":"#N/A"},{"$error":"#N/A"},{"$error":"#N/A"},{"$error":"#N/A"},{"$error":"#N/A"},null,"Four of a Kind",{"$error":"#N/A"},null,{"$error":"#N/A"},{"$error":"#N/A"},null,{"$error":"#N/A"},{"$error":"#N/A"},null,{"$error":"#N/A"},null,"Full House",{"$error":"#N/A"},null,{"$error":"#N/A"},{"$error":"#N/A"},null,{"$error":"#N/A"},{"$error":"#N/A"},null,{"$error":"#N/A"},null,"Flush",{"$error":"#N/A"},null,{"$error":"#N/A"},{"$error":"#N/A"},null,{"$error":"#N/A"},{"$error":"#N/A"},null,{"$error":"#N/A"},null,"Straight",{"$error":"#N/A"},{"$error":"#N/A"},{"$error":"#N/A"},{"$error":"#N/A"},{"$error":"#N/A"},{"$error":"#N/A"},{"$error":"#N/A"},{"$error":"#N/A"},{"$error":"#N/A"},null,"Three of a Kind",{"$error":"#N/A"},null,{"$error":"#N/A"},{"$error":"#N/A"},null,{"$error":"#N/A"},{"$error":"#N/A"},null,{"$error":"#N/A"},null,"Two Pair",{"$error":"#N/A"},null,{"$error":"#N/A"},{"$error":"#N/A"},null,{"$error":"#N/A"},{"$error":"#N/A"},null,{"$error":"#N/A"},null,"One Pair",{"$error":"#N/A"},null,{"$error":"#N/A"},{"$error":"#N/A"},null,{"$error":"#N/A"},{"$error":"#N/A"},null,{"$error":"#N/A"},null,"High Card",{"$error":"#N/A"},null,{"$error":"#N/A"},{"$error":"#N/A"},null,{"$error":"#N/A"},{"$error":"#N/A"},null,{"$error":"#N/A"}]
[19,"♣6",0.82188254594802856,6,"C",6,null,null,null,null,null,{"$f":"RANK(L26,$L$26:$P$26,1)","v":{"$error":"#N/A"}},{"$f":"RANK(M26,$L$26:$P$26,1)","v":{"$error":"#N/A"}},{"$f":"RANK(N26,$L$26:$P$26,1)","v":{"$error":"#N/A"}},{"$f":"RANK(O26,$L$26:$P$26,1)","v":{"$error":"#N/A"}},{"$f":"RANK(P26,$L$26:$P$26,1)","v":{"$error":"#N/A"}},null,{"$f":"RANK(R26,$R$26:$V$26,1)","v":{"$error":"#N/A"}},{"$f":"RANK(S26,$R$26:$V$26,1)","v":{"$error":"#N/A"}},{"$f":"RANK(T26,$R$26:$V$26,1)","v":{"$error":"#N/A"}},{"$f":"RANK(U26,$R$26:$V$26,1)","v":{"$error":"#N/A"}},{"$f":"RANK(V26,$R$26:$V$26,1)","v":{"$error":"#N/A"}},null,{"$f":"RANK(X26,$X$26:$AB$26,1)","v":{"$error":"#N/A"}},{"$f":"RANK(Y26,$X$26:$AB$26,1)","v":{"$error":"#N/A"}},{"$error":"#N/A"},{"$error":"#N/A"},{"$error":"#N/A"},null,null,null,null,null,16,{"$f":"L140","v":{"$error":"#N/A"}},{"$f":"M140","v":{"$error":"#N/A"}},{"$f":"N140","v":{"$error":"#N/A"}},{"$f":"O140","v":{"$error":"#N/A"}},{"$f":"P140","v":{"$error":"#N/A"}},{"$f":"INDEX($BV$169:$BV$178,MATCH(1,$BY$169:$BY$178,0))","v":{"$error":"#N/A"}},{"$error":"#N/A"},16,{"$f":"R140","v":{"$error":"#N/A"}},{"$f":"S140","v":{"$error":"#N/A"}},{"$f":"T140","v":{"$error":"#N/A"}},{"$f":"U140","v":{"$error":"#N/A"}},{"$f":"V140","v":{"$error":"#N/A"}},{"$f":"INDEX($BV$169:$BV$178,MATCH(1,$CB$169:$CB$178,0))","v":{"$error":"#N/A"}},{"$error":"#N/A"},16,{"$f":"X140","v":{"$error":"#N/A"}},{"$f":"Y140","v":{"$error":"#N/A"}},{"$f":"Z140","v":{"$error":"#N/A"}},{"$f":"AA140","v":{"$error":"#N/A"}},{"$f":"AB140","v":{"$error":"#N/A"}},{"$f":"INDEX($BV$169:$BV$178,MATCH(1,$CE$169:$CE$178,0))","v":{"$error":"#N/A"}},{"$error":"#N/A"},null,null,null,null,null,null,null,null,null,null,null,null,null,null,null,null,{"$f":"DY5","v":"Flush"},{"$f":"DZ5","v":{"$error":"#N/A"}},{"$f":"EA5","v":0},{"$f":"EB5","v":{"$error":"#N/A"}},{"$f":"EC5","v":{"$error":"#N/A"}},{"$f":"ED5","v":0},{"$f":"EE5","v":{"$error":"#N/A"}},{"$f":"EF5","v":{"$error":"#N/A"}},{"$f":"EG5","v":0},{"$f":"EH5","v":{"$error":"#N/A"}},null,"Royal Flush",{"$error":"#N/A"},{"$error":"#N/A"},{"$error":"#N/A"},{"$error":"#N/A"},{"$error":"#N/A"},{"$error":"#N/A"},{"$error":"#N/A"},{"$error":"#N/A"},{"$error":"#N/A"},null,"Straight Flush",{"$error":"#N/A"},{"$error":"#N/A"},{"$error":"#N/A"},{"$error":"#N/A"},{"$error":"#N/A"},{"$error":"#N/A"},{"$error":"#N/A"},{"$error":"#N/A"},{"$error":"#N/A"},null,"Four of a Kind",{"$error":"#N/A"},null,{"$error":"#N/A"},{"$error":"#N/A"},null,{"$error":"#N/A"},{"$error":"#N/A"},null,{"$error":"#N/A"},null,"Full House",{"$error":"#N/A"},null,{"$error":"#N/A"},{"$error":"#N/A"},null,{"$error":"#N/A"},{"$error":"#N/A"},null,{"$error":"#N/A"},null,"Flush",{"$error":"#N/A"},null,{"$error":"#N/A"},{"$error":"#N/A"},null,{"$error":"#N/A"},{"$error":"#N/A"},null,{"$error":"#N/A"},null,"Straight",{"$error":"#N/A"},{"$error":"#N/A"},{"$error":"#N/A"},{"$error":"#N/A"},{"$error":"#N/A"},{"$error":"#N/A"},{"$error":"#N/A"},{"$error":"#N/A"},{"$error":"#N/A"},null,"Three of a Kind",{"$error":"#N/A"},null,{"$error":"#N/A"},{"$error":"#N/A"},null,{"$error":"#N/A"},{"$error":"#N/A"},null,{"$error":"#N/A"},null,"Two Pair",{"$error":"#N/A"},null,{"$error":"#N/A"},{"$error":"#N/A"},null,{"$error":"#N/A"},{"$error":"#N/A"},null,{"$error":"#N/A"},null,"One Pair",{"$error":"#N/A"},null,{"$error":"#N/A"},{"$error":"#N/A"},null,{"$error":"#N/A"},{"$error":"#N/A"},null,{"$error":"#N/A"},null,"High Card",{"$error":"#N/A"},null,{"$error":"#N/A"},{"$error":"#N/A"},null,{"$error":"#N/A"},{"$error":"#N/A"},null,{"$error":"#N/A"}]
[20,"♣7",0.18048900365829468,40,"C",7,null,null,null,3,null,{"$f":"[0]!Player11","v":0},{"$f":"[0]!Player12","v":0},{"$f":"[0]!House1","v":0},{"$f":"[0]!House2","v":0},{"$f":"[0]!House5","v":0},null,{"$f":"[0]!Player21","v":0},{"$f":"[0]!Player22","v":0},{"$f":"[0]!House1","v":0},{"$f":"[0]!House2","v":0},{"$f":"[0]!House5","v":0},null,{"$f":"[0]!Player31","v":0},{"$f":"[0]!Player32","v":0},{"$f":"[0]!House1","v":0},{"$f":"[0]!House2","v":0},{"$f":"[0]!House5","v":0},null,null,null,null,null,17,{"$f":"L149","v":{"$error":"#N/A"}},{"$f":"M149","v":{"$error":"#N/A"}},{"$f":"N149","v":{"$error":"#N/A"}},{"$f":"O149","v":{"$error":"#N/A"}},{"$f":"P149","v":{"$error":"#N/A"}},{"$f":"INDEX($BV$180:$BV$189,MATCH(1,$BY$180:$BY$189,0))","v":{"$error":"#N/A"}},{"$error":"#N/A"},17,{"$f":"R149","v":{"$error":"#N/A"}},{"$f":"S149","v":{"$error":"#N/A"}},{"$f":"T149","v":{"$error":"#N/A"}},{"$f":"U149","v":{"$error":"#N/A"}},{"$f":"V149","v":{"$error":"#N/A"}},{"$f":"INDEX($BV$180:$BV$189,MATCH(1,$CB$180:$CB$189,0))","v":{"$error":"#N/A"}},{"$error":"#N/A"},17,{"$f":"X149","v":{"$error":"#N/A"}},{"$f":"Y149","v":{"$error":"#N/A"}},{"$f":"Z149","v":{"$error":"#N/A"}},{"$f":"AA149","v":{"$error":"#N/A"}},{"$f":"AB149","v":{"$error":"#N/A"}},{"$f":"INDEX($BV$180:$BV$189,MATCH(1,$CE$180:$CE$189,0))","v":{"$error":"#N/A"}},{"$error":"#N/A"},null,null,null,null,null,null,null,null,null,null,null,null,null,null,null,null,{"$f":"EJ5","v":"Straight"},{"$f":"EK5","v":{"$error":"#N/A"}},{"$f":"EL5","v":{"$error":"#N/A"}},{"$f":"EM5","v":{"$error":"#N/A"}},{"$f":"EN5","v":{"$error":"#N/A"}},{"$f":"EO5","v":{"$error":"#N/A"}},{"$f":"EP5","v":{"$error":"#N/A"}},{"$f":"EQ5","v":{"$error":"#N/A"}},{"$f":"ER5","v":{"$error":"#N/A"}},{"$f":"ES5","v":{"$error":"#N/A"}},null,"Royal Flush",{"$error":"#N/A"},{"$error":"#N/A"},{"$error":"#N/A"},{"$error":"#N/A"},{"$error":"#N/A"},{"$error":"#N/A"},{"$error":"#N/A"},{"$error":"#N/A"},{"$error":"#N/A"},null,"Straight Flush",{"$error":"#N/A"},{"$error":"#N/A"},{"$error":"#N/A"},{"$error":"#N/A"},{"$error":"#N/A"},{"$error":"#N/A"},{"$error":"#N/A"},{"$error":"#N/A"},{"$error":"#N/A"},null,"Four of a Kind",{"$error":"#N/A"},null,{"$error":"#N/A"},{"$error":"#N/A"},null,{"$error":"#N/A"},{"$error":"#N/A"},null,{"$error":"#N/A"},null,"Full House",{"$error":"#N/A"},null,{"$error":"#N/A"},{"$error":"#N/A"},null,{"$error":"#N/A"},{"$error":"#N/A"},null,{"$error":"#N/A"},null,"Flush",{"$error":"#N/A"},null,{"$error":"#N/A"},{"$error":"#N/A"},null,{"$error":"#N/A"},{"$error":"#N/A"},null,{"$error":"#N/A"},null,"Straight",{"$error":"#N/A"},{"$error":"#N/A"},{"$error":"#N/A"},{"$error":"#N/A"},{"$error":"#N/A"},{"$error":"#N/A"},{"$error":"#N/A"},{"$error":"#N/A"},{"$error":"#N/A"},null,"Three of a Kind",{"$error":"#N/A"},null,{"$error":"#N/A"},{"$error":"#N/A"},null,{"$error":"#N/A"},{"$error":"#N/A"},null,{"$error":"#N/A"},null,"Two Pair",{"$error":"#N/A"},null,{"$error":"#N/A"},{"$error":"#N/A"},null,{"$error":"#N/A"},{"$error":"#N/A"},null,{"$error":"#N/A"},null,"One Pair",{"$error":"#N/A"},null,{"$error":"#N/A"},{"$error":"#N/A"},null,{"$error":"#N/A"},{"$error":"#N/A"},null,{"$error":"#N/A"},null,"High Card",{"$error":"#N/A"},null,{"$error":"#N/A"},{"$error":"#N/A"},null,{"$error":"#N/A"},{"$error":"#N/A"},null,{"$error":"#N/A"}]
[21,"♣8",0.1962772011756897,36,"C",8,null,null,null,null,null,{"$f":"VLOOKUP(L20,$B$1:$F$52,5,0)","v":{"$error":"#N/A"}},{"$f":"VLOOKUP(M20,$B$1:$F$52,5,0)","v":{"$error":"#N/A"}},{"$f":"VLOOKUP(N20,$B$1:$F$52,5,0)","v":{"$error":"#N/A"}},{"$f":"VLOOKUP(O20,$B$1:$F$52,5,0)","v":{"$error":"#N/A"}},{"$f":"VLOOKUP(P20,$B$1:$F$52,5,0)","v":{"$error":"#N/A"}},null,{"$f":"VLOOKUP(R20,$B$1:$F$52,5,0)","v":{"$error":"#N/A"}},{"$f":"VLOOKUP(S20,$B$1:$F$52,5,0)","v":{"$error":"#N/A"}},{"$f":"VLOOKUP(T20,$B$1:$F$52,5,0)","v":{"$error":"#N/A"}},{"$f":"VLOOKUP(U20,$B$1:$F$52,5,0)","v":{"$error":"#N/A"}},{"$f":"VLOOKUP(V20,$B$1:$F$52,5,0)","v":{"$error":"#N/A"}},null,{"$f":"VLOOKUP(X20,$B$1:$F$52,5,0)","v":{"$error":"#N/A"}},{"$f":"VLOOKUP(Y20,$B$1:$F$52,5,0)","v":{"$error":"#N/A"}},{"$f":"VLOOKUP(Z20,$B$1:$F$52,5,0)","v":{"$error":"#N/A"}},{"$f":"VLOOKUP(AA20,$B$1:$F$52,5,0)","v":{"$error":"#N/A"}},{"$f":"VLOOKUP(AB20,$B$1:$F$52,5,0)","v":{"$error":"#N/A"}},null,null,null,null,null,18,{"$f":"L158","v":{"$error":"#N/A"}},{"$f":"M158","v":{"$error":"#N/A"}},{"$f":"N158","v":{"$error":"#N/A"}},{"$f":"O158","v":{"$error":"#N/A"}},{"$f":"P158","v":{"$error":"#N/A"}},{"$f":"INDEX($BV$191:$BV$200,MATCH(1,$BY$191:$BY$200,0))","v":{"$error":"#N/A"}},{"$error":"#N/A"},18,{"$f":"R158","v":{"$error":"#N/A"}},{"$f":"S158","v":{"$error":"#N/A"}},{"$f":"T158","v":{"$error":"#N/A"}},{"$f":"U158","v":{"$error":"#N/A"}},{"$f":"V158","v":{"$error":"#N/A"}},{"$f":"INDEX($BV$191:$BV$200,MATCH(1,$CB$191:$CB$200,0))","v":{"$error":"#N/A"}},{"$error":"#N/A"},18,{"$f":"X158","v":{"$error":"#N/A"}},{"$f":"Y158","v":{"$error":"#N/A"}},{"$f":"Z158","v":{"$error":"#N/A"}},{"$f":"AA158","v":{"$error":"#N/A"}},{"$f":"AB158","v":{"$error":"#N/A"}},{"$f":"INDEX($BV$191:$BV$200,MATCH(1,$CE$191:$CE$200,0))","v":{"$error":"#N/A"}},{"$error":"#N/A"},null,null,null,null,null,null,null,null,null,null,null,null,null,null,null,null,{"$f":"EU5","v":"Three of a Kind"},{"$f":"EV5","v":{"$error":"#N/A"}},{"$f":"EW5","v":0},{"$f":"EX5","v":{"$error":"#N/A"}},{"$f":"EY5","v":{"$error":"#N/A"}},{"$f":"EZ5","v":0},{"$f":"FA5","v":{"$error":"#N/A"}},{"$f":"FB5","v":{"$error":"#N/A"}},{"$f":"FC5","v":0},{"$f":"FD5","v":{"$error":"#N/A"}},null,"Royal Flush",{"$error":"#N/A"},{"$error":"#N/A"},{"$error":"#N/A"},{"$error":"#N/A"},{"$error":"#N/A"},{"$error":"#N/A"},{"$error":"#N/A"},{"$error":"#N/A"},{"$error":"#N/A"},null,"Straight Flush",{"$error":"#N/A"},{"$error":"#N/A"},{"$error":"#N/A"},{"$error":"#N/A"},{"$error":"#N/A"},{"$error":"#N/A"},{"$error":"#N/A"},{"$error":"#N/A"},{"$error":"#N/A"},null,"Four of a Kind",{"$error":"#N/A"},null,{"$error":"#N/A"},{"$error":"#N/A"},null,{"$error":"#N/A"},{"$error":"#N/A"},null,{"$error":"#N/A"},null,"Full House",{"$error":"#N/A"},null,{"$error":"#N/A"},{"$error":"#N/A"},null,{"$error":"#N/A"},{"$error":"#N/A"},null,{"$error":"#N/A"},null,"Flush",{"$error":"#N/A"},null,{"$error":"#N/A"},{"$error":"#N/A"},null,{"$error":"#N/A"},{"$error":"#N/A"},null,{"$error":"#N/A"},null,"Straight",{"$error":"#N/A"},{"$error":"#N/A"},{"$error":"#N/A"},{"$error":"#N/A"},{"$error":"#N/A"},{"$error":"#N/A"},{"$error":"#N/A"},{"$error":"#N/A"},{"$error":"#N/A"},null,"Three of a Kind",{"$error":"#N/A"},null,{"$error":"#N/A"},{"$error":"#N/A"},null,{"$error":"#N/A"},{"$error":"#N/A"},null,{"$error":"#N/A"},null,"Two Pair",{"$error":"#N/A"},null,{"$error":"#N/A"},{"$error":"#N/A"},null,{"$error":"#N/A"},{"$error":"#N/A"},null,{"$error":"#N/A"},null,"One Pair",{"$error":"#N/A"},null,{"$error":"#N/A"},{"$error":"#N/A"},null,{"$error":"#N/A"},{"$error":"#N/A"},null,{"$error":"#N/A"},null,"High Card",{"$error":"#N/A"},null,{"$error":"#N/A"},{"$error":"#N/A"},null,{"$error":"#N/A"},{"$error":"#N/A"},null,{"$error":"#N/A"}]
[22,"♣9",0.93334168195724487,2,"C",9,null,null,null,null,null,{"$f":"VLOOKUP(L20,$B$1:$F$52,4,0)","v":{"$error":"#N/A"}},{"$f":"VLOOKUP(M20,$B$1:$F$52,4,0)","v":{"$error":"#N/A"}},{"$f":"VLOOKUP(N20,$B$1:$F$52,4,0)","v":{"$error":"#N/A"}},{"$f":"VLOOKUP(O20,$B$1:$F$52,4,0)","v":{"$error":"#N/A"}},{"$f":"VLOOKUP(P20,$B$1:$F$52,4,0)","v":{"$error":"#N/A"}},null,{"$f":"VLOOKUP(R20,$B$1:$F$52,4,0)","v":{"$error":"#N/A"}},{"$f":"VLOOKUP(S20,$B$1:$F$52,4,0)","v":{"$error":"#N/A"}},{"$f":"VLOOKUP(T20,$B$1:$F$52,4,0)","v":{"$error":"#N/A"}},{"$f":"VLOOKUP(U20,$B$1:$F$52,4,0)","v":{"$error":"#N/A"}},{"$f":"VLOOKUP(V20,$B$1:$F$52,4,0)","v":{"$error":"#N/A"}},null,{"$f":"VLOOKUP(X20,$B$1:$F$52,4,0)","v":{"$error":"#N/A"}},{"$f":"VLOOKUP(Y20,$B$1:$F$52,4,0)","v":{"$error":"#N/A"}},{"$f":"VLOOKUP(Z20,$B$1:$F$52,4,0)","v":{"$error":"#N/A"}},{"$f":"VLOOKUP(AA20,$B$1:$F$52,4,0)","v":{"$error":"#N/A"}},{"$f":"VLOOKUP(AB20,$B$1:$F$52,4,0)","v":{"$error":"#N/A"}},null,null,null,null,null,19,{"$f":"L167","v":{"$error":"#N/A"}},{"$f":"M167","v":{"$error":"#N/A"}},{"$f":"N167","v":{"$error":"#N/A"}},{"$f":"O167","v":{"$error":"#N/A"}},{"$f":"P167","v":{"$error":"#N/A"}},{"$f":"INDEX($BV$202:$BV$211,MATCH(1,$BY$202:$BY$211,0))","v":{"$error":"#N/A"}},{"$error":"#N/A"},19,{"$f":"R167","v":{"$error":"#N/A"}},{"$f":"S167","v":{"$error":"#N/A"}},{"$f":"T167","v":{"$error":"#N/A"}},{"$f":"U167","v":{"$error":"#N/A"}},{"$f":"V167","v":{"$error":"#N/A"}},{"$f":"INDEX($BV$202:$BV$211,MATCH(1,$CB$202:$CB$211,0))","v":{"$error":"#N/A"}},{"$error":"#N/A"},19,{"$f":"X167","v":{"$error":"#N/A"}},{"$f":"Y167","v":{"$error":"#N/A"}},{"$f":"Z167","v":{"$error":"#N/A"}},{"$f":"AA167","v":{"$error":"#N/A"}},{"$f":"AB167","v":{"$error":"#N/A"}},{"$f":"INDEX($BV$202:$BV$211,MATCH(1,$CE$202:$CE$211,0))","v":{"$error":"#N/A"}},{"$error":"#N/A"},null,null,null,null,null,null,null,null,null,null,null,null,null,null,null,null,{"$f":"FF5","v":"Two Pair"},{"$f":"FG5","v":{"$error":"#N/A"}},{"$f":"FH5","v":0},{"$f":"FI5","v":{"$error":"#N/A"}},{"$f":"FJ5","v":{"$error":"#N/A"}},{"$f":"FK5","v":0},{"$f":"FL5","v":{"$error":"#N/A"}},{"$f":"FM5","v":{"$error":"#N/A"}},{"$f":"FN5","v":0},{"$f":"FO5","v":{"$error":"#N/A"}},null,"Royal Flush",{"$error":"#N/A"},{"$error":"#N/A"},{"$error":"#N/A"},{"$error":"#N/A"},{"$error":"#N/A"},{"$error":"#N/A"},{"$error":"#N/A"},{"$error":"#N/A"},{"$error":"#N/A"},null,"Straight Flush",{"$error":"#N/A"},{"$error":"#N/A"},{"$error":"#N/A"},{"$error":"#N/A"},{"$error":"#N/A"},{"$error":"#N/A"},{"$error":"#N/A"},{"$error":"#N/A"},{"$error":"#N/A"},null,"Four of a Kind",{"$error":"#N/A"},null,{"$error":"#N/A"},{"$error":"#N/A"},null,{"$error":"#N/A"},{"$error":"#N/A"},null,{"$error":"#N/A"},null,"Full House",{"$error":"#N/A"},null,{"$error":"#N/A"},{"$error":"#N/A"},null,{"$error":"#N/A"},{"$error":"#N/A"},null,{"$error":"#N/A"},null,"Flush",{"$error":"#N/A"},null,{"$error":"#N/A"},{"$error":"#N/A"},null,{"$error":"#N/A"},{"$error":"#N/A"},null,{"$error":"#N/A"},null,"Straight",{"$error":"#N/A"},{"$error":"#N/A"},{"$error":"#N/A"},{"$error":"#N/A"},{"$error":"#N/A"},{"$error":"#N/A"},{"$error":"#N/A"},{"$error":"#N/A"},{"$error":"#N/A"},null,"Three of a Kind",{"$error":"#N/A"},null,{"$error":"#N/A"},{"$error":"#N/A"},null,{"$error":"#N/A"},{"$error":"#N/A"},null,{"$error":"#N/A"},null,"Two Pair",{"$error":"#N/A"},null,{"$error":"#N/A"},{"$error":"#N/A"},null,{"$error":"#N/A"},{"$error":"#N/A"},null,{"$error":"#N/A"},null,"One Pair",{"$error":"#N/A"},null,{"$error":"#N/A"},{"$error":"#N/A"},null,{"$error":"#N/A"},{"$error":"#N/A"},null,{"$error":"#N/A"},null,"High Card",{"$error":"#N/A"},null,{"$error":"#N/A"},{"$error":"#N/A"},null,{"$error":"#N/A"},{"$error":"#N/A"},null,{"$error":"#N/A"}]
[23,"♣10",0.42165833711624146,23,"C",10,null,null,null,null,null,{"$f":"HLOOKUP(L25,$L$19:$P$22,3,0)","v":{"$error":"#N/A"}},{"$f":"HLOOKUP(M25,$L$19:$P$22,3,0)","v":{"$error":"#N/A"}},{"$f":"HLOOKUP(N25,$L$19:$P$22,3,0)","v":{"$error":"#N/A"}},{"$f":"HLOOKUP(O25,$L$19:$P$22,3,0)","v":{"$error":"#N/A"}},{"$f":"HLOOKUP(P25,$L$19:$P$22,3,0)","v":{"$error":"#N/A"}},null,{"$f":"HLOOKUP(R25,$R$19:$V$22,3,0)","v":{"$error":"#N/A"}},{"$f":"HLOOKUP(S25,$R$19:$V$22,3,0)","v":{"$error":"#N/A"}},{"$f":"HLOOKUP(T25,$R$19:$V$22,3,0)","v":{"$error":"#N/A"}},{"$f":"HLOOKUP(U25,$R$19:$V$22,3,0)","v":{"$error":"#N/A"}},{"$f":"HLOOKUP(V25,$R$19:$V$22,3,0)","v":{"$error":"#N/A"}},null,{"$f":"HLOOKUP(X25,$X$19:$AB$22,3,0)","v":{"$error":"#N/A"}},{"$f":"HLOOKUP(Y25,$X$19:$AB$22,3,0)","v":{"$error":"#N/A"}},{"$error":"#N/A"},{"$error":"#N/A"},{"$error":"#N/A"},null,null,null,null,null,20,{"$f":"L176","v":{"$error":"#N/A"}},{"$f":"M176","v":{"$error":"#N/A"}},{"$f":"N176","v":{"$error":"#N/A"}},{"$f":"O176","v":{"$error":"#N/A"}},{"$f":"P176","v":{"$error":"#N/A"}},{"$f":"INDEX($BV$213:$BV$222,MATCH(1,$BY$213:$BY$222,0))","v":{"$error":"#N/A"}},{"$error":"#N/A"},20,{"$f":"R176","v":{"$error":"#N/A"}},{"$f":"S176","v":{"$error":"#N/A"}},{"$f":"T176","v":{"$error":"#N/A"}},{"$f":"U176","v":{"$error":"#N/A"}},{"$f":"V176","v":{"$error":"#N/A"}},{"$f":"INDEX($BV$213:$BV$222,MATCH(1,$CB$213:$CB$222,0))","v":{"$error":"#N/A"}},{"$error":"#N/A"},20,{"$f":"X176","v":{"$error":"#N/A"}},{"$f":"Y176","v":{"$error":"#N/A"}},{"$f":"Z176","v":{"$error":"#N/A"}},{"$f":"AA176","v":{"$error":"#N/A"}},{"$f":"AB176","v":{"$error":"#N/A"}},{"$f":"INDEX($BV$213:$BV$222,MATCH(1,$CE$213:$CE$222,0))","v":{"$error":"#N/A"}},{"$error":"#N/A"},null,null,null,null,null,null,null,null,null,null,null,null,null,null,null,null,{"$f":"FQ5","v":"One Pair"},{"$f":"FR5","v":{"$error":"#N/A"}},{"$f":"FS5","v":0},{"$f":"FT5","v":{"$error":"#N/A"}},{"$f":"FU5","v":{"$error":"#N/A"}},{"$f":"FV5","v":0},{"$f":"FW5","v":{"$error":"#N/A"}},{"$f":"FX5","v":{"$error":"#N/A"}},{"$f":"FY5","v":0},{"$f":"FZ5","v":{"$error":"#N/A"}},null,"Royal Flush",{"$error":"#N/A"},{"$error":"#N/A"},{"$error":"#N/A"},{"$error":"#N/A"},{"$error":"#N/A"},{"$error":"#N/A"},{"$error":"#N/A"},{"$error":"#N/A"},{"$error":"#N/A"},null,"Straight Flush",{"$error":"#N/A"},{"$error":"#N/A"},{"$error":"#N/A"},{"$error":"#N/A"},{"$error":"#N/A"},{"$error":"#N/A"},{"$error":"#N/A"},{"$error":"#N/A"},{"$error":"#N/A"},null,"Four of a Kind",{"$error":"#N/A"},null,{"$error":"#N/A"},{"$error":"#N/A"},null,{"$error":"#N/A"},{"$error":"#N/A"},null,{"$error":"#N/A"},null,"Full House",{"$error":"#N/A"},null,{"$error":"#N/A"},{"$error":"#N/A"},null,{"$error":"#N/A"},{"$error":"#N/A"},null,{"$error":"#N/A"},null,"Flush",{"$error":"#N/A"},null,{"$error":"#N/A"},{"$error":"#N/A"},null,{"$error":"#N/A"},{"$error":"#N/A"},null,{"$error":"#N/A"},null,"Straight",{"$error":"#N/A"},{"$error":"#N/A"},{"$error":"#N/A"},{"$error":"#N/A"},{"$error":"#N/A"},{"$error":"#N/A"},{"$error":"#N/A"},{"$error":"#N/A"},{"$error":"#N/A"},null,"Three of a Kind",{"$error":"#N/A"},null,{"$error":"#N/A"},{"$error":"#N/A"},null,{"$error":"#N/A"},{"$error":"#N/A"},null,{"$error":"#N/A"},null,"Two Pair",{"$error":"#N/A"},null,{"$error":"#N/A"},{"$error":"#N/A"},null,{"$error":"#N/A"},{"$error":"#N/A"},null,{"$error":"#N/A"},null,"One Pair",{"$error":"#N/A"},null,{"$error":"#N/A"},{"$error":"#N/A"},null,{"$error":"#N/A"},{"$error":"#N/A"},null,{"$error":"#N/A"},null,"High Card",{"$error":"#N/A"},null,{"$error":"#N/A"},{"$error":"#N/A"},null,{"$error":"#N/A"},{"$error":"#N/A"},null,{"$error":"#N/A"}]
[24,"♣J",9.1351866722106934E-3,50,"C",11,null,null,null,null,null,{"$f":"HLOOKUP(L25,$L$19:$P$22,4,0)","v":{"$error":"#N/A"}},{"$f":"HLOOKUP(M25,$L$19:$P$22,4,0)","v":{"$error":"#N/A"}},{"$f":"HLOOKUP(N25,$L$19:$P$22,4,0)","v":{"$error":"#N/A"}},{"$f":"HLOOKUP(O25,$L$19:$P$22,4,0)","v":{"$error":"#N/A"}},{"$f":"HLOOKUP(P25,$L$19:$P$22,4,0)","v":{"$error":"#N/A"}},null,{"$f":"HLOOKUP(R25,$R$19:$V$22,4,0)","v":{"$error":"#N/A"}},{"$f":"HLOOKUP(S25,$R$19:$V$22,4,0)","v":{"$error":"#N/A"}},{"$f":"HLOOKUP(T25,$R$19:$V$22,4,0)","v":{"$error":"#N/A"}},{"$f":"HLOOKUP(U25,$R$19:$V$22,4,0)","v":{"$error":"#N/A"}},{"$f":"HLOOKUP(V25,$R$19:$V$22,4,0)","v":{"$error":"#N/A"}},null,{"$f":"HLOOKUP(X25,$X$19:$AB$22,4,0)","v":{"$error":"#N/A"}},{"$f":"HLOOKUP(Y25,$X$19:$AB$22,4,0)","v":{"$error":"#N/A"}},{"$error":"#N/A"},{"$error":"#N/A"},{"$error":"#N/A"},null,null,null,null,null,21,{"$f":"L185","v":{"$error":"#N/A"}},{"$f":"M185","v":{"$error":"#N/A"}},{"$f":"N185","v":{"$error":"#N/A"}},{"$f":"O185","v":{"$error":"#N/A"}},{"$f":"P185","v":{"$error":"#N/A"}},{"$f":"INDEX($BV$224:$BV$233,MATCH(1,$BY$224:$BY$233,0))","v":{"$error":"#N/A"}},{"$error":"#N/A"},21,{"$f":"R185","v":{"$error":"#N/A"}},{"$f":"S185","v":{"$error":"#N/A"}},{"$f":"T185","v":{"$error":"#N/A"}},{"$f":"U185","v":{"$error":"#N/A"}},{"$f":"V185","v":{"$error":"#N/A"}},{"$f":"INDEX($BV$224:$BV$233,MATCH(1,$CB$224:$CB$233,0))","v":{"$error":"#N/A"}},{"$error":"#N/A"},21,{"$f":"X185","v":{"$error":"#N/A"}},{"$f":"Y185","v":{"$error":"#N/A"}},{"$f":"Z185","v":{"$error":"#N/A"}},{"$f":"AA185","v":{"$error":"#N/A"}},{"$f":"AB185","v":{"$error":"#N/A"}},{"$f":"INDEX($BV$224:$BV$233,MATCH(1,$CE$224:$CE$233,0))","v":{"$error":"#N/A"}},{"$error":"#N/A"},null,null,null,null,null,null,null,null,null,null,null,null,null,null,null,null,{"$f":"GB5","v":"High Card"},{"$f":"GC5","v":{"$error":"#N/A"}},{"$f":"GD5","v":0},{"$f":"GE5","v":{"$error":"#N/A"}},{"$f":"GF5","v":{"$error":"#N/A"}},{"$f":"GG5","v":0},{"$f":"GH5","v":{"$error":"#N/A"}},{"$f":"GI5","v":{"$error":"#N/A"}},{"$f":"GJ5","v":0},{"$f":"GK5","v":{"$error":"#N/A"}},null,"Royal Flush",{"$error":"#N/A"},{"$error":"#N/A"},{"$error":"#N/A"},{"$error":"#N/A"},{"$error":"#N/A"},{"$error":"#N/A"},{"$error":"#N/A"},{"$error":"#N/A"},{"$error":"#N/A"},null,"Straight Flush",{"$error":"#N/A"},{"$error":"#N/A"},{"$error":"#N/A"},{"$error":"#N/A"},{"$error":"#N/A"},{"$error":"#N/A"},{"$error":"#N/A"},{"$error":"#N/A"},{"$error":"#N/A"},null,"Four of a Kind",{"$error":"#N/A"},null,{"$error":"#N/A"},{"$error":"#N/A"},null,{"$error":"#N/A"},{"$error":"#N/A"},null,{"$error":"#N/A"},null,"Full House",{"$error":"#N/A"},null,{"$error":"#N/A"},{"$error":"#N/A"},null,{"$error":"#N/A"},{"$error":"#N/A"},null,{"$error":"#N/A"},null,"Flush",{"$error":"#N/A"},null,{"$error":"#N/A"},{"$error":"#N/A"},null,{"$error":"#N/A"},{"$error":"#N/A"},null,{"$error":"#N/A"},null,"Straight",{"$error":"#N/A"},{"$error":"#N/A"},{"$error":"#N/A"},{"$error":"#N/A"},{"$error":"#N/A"},{"$error":"#N/A"},{"$error":"#N/A"},{"$error":"#N/A"},{"$error":"#N/A"},null,"Three of a Kind",{"$error":"#N/A"},null,{"$error":"#N/A"},{"$error":"#N/A"},null,{"$error":"#N/A"},{"$error":"#N/A"},null,{"$error":"#N/A"},null,"Two Pair",{"$error":"#N/A"},null,{"$error":"#N/A"},{"$error":"#N/A"},null,{"$error":"#N/A"},{"$error":"#N/A"},null,{"$error":"#N/A"},null,"One Pair",{"$error":"#N/A"},null,{"$error":"#N/A"},{"$error":"#N/A"},null,{"$error":"#N/A"},{"$error":"#N/A"},null,{"$error":"#N/A"},null,"High Card",{"$error":"#N/A"},null,{"$error":"#N/A"},{"$error":"#N/A"},null,{"$error":"#N/A"},{"$error":"#N/A"},null,{"$error":"#N/A"}]
[25,"♣Q",0.53006941080093384,20,"C",12,null,null,null,null,null,1,2,3,4,5,null,1,2,3,4,5,null,1,2,3,4,5,null,null,null,null,null,1,{"$f":"L6","v":{"$error":"#N/A"}},{"$f":"M6","v":{"$error":"#N/A"}},{"$f":"N6","v":{"$error":"#N/A"}},{"$f":"O6","v":{"$error":"#N/A"}},{"$f":"P6","v":{"$error":"#N/A"}},null,null,1,{"$f":"R6","v":{"$error":"#N/A"}},{"$f":"S6","v":{"$error":"#N/A"}},{"$f":"T6","v":{"$error":"#N/A"}},{"$f":"U6","v":{"$error":"#N/A"}},{"$f":"V6","v":{"$error":"#N/A"}},null,null,1,{"$f":"X6","v":{"$error":"#N/A"}},{"$f":"Y6","v":{"$error":"#N/A"}},{"$f":"Z6","v":{"$error":"#N/A"}},{"$f":"AA6","v":{"$error":"#N/A"}},{"$f":"AB6","v":{"$error":"#N/A"}}]
[26,"♣K",0.82126063108444214,7,"C",13,null,null,null,null,null,{"$f":"L21+IF(L21=1,13+RAND()^3,RAND()^3)","v":{"$error":"#N/A"}},{"$f":"M21+IF(M21=1,13+RAND()^3,RAND()^3)","v":{"$error":"#N/A"}},{"$error":"#N/A"},{"$error":"#N/A"},{"$error":"#N/A"},6.1737973875923923E-5,{"$error":"#N/A"},{"$error":"#N/A"},{"$error":"#N/A"},{"$error":"#N/A"},{"$error":"#N/A"},4.2030490210690656E-2,{"$error":"#N/A"},{"$error":"#N/A"},{"$error":"#N/A"},{"$error":"#N/A"},{"$error":"#N/A"},null,null,null,null,null,2,{"$f":"L15","v":{"$error":"#N/A"}},{"$f":"M15","v":{"$error":"#N/A"}},{"$f":"N15","v":{"$error":"#N/A"}},{"$f":"O15","v":{"$error":"#N/A"}},{"$f":"P15","v":{"$error":"#N/A"}},null,null,2,{"$f":"R15","v":{"$error":"#N/A"}},{"$f":"S15","v":{"$error":"#N/A"}},{"$f":"T15","v":{"$error":"#N/A"}},{"$f":"U15","v":{"$error":"#N/A"}},{"$f":"V15","v":{"$error":"#N/A"}},null,null,2,{"$f":"X15","v":{"$error":"#N/A"}},{"$f":"Y15","v":{"$error":"#N/A"}},{"$f":"Z15","v":{"$error":"#N/A"}},{"$f":"AA15","v":{"$error":"#N/A"}},{"$f":"AB15","v":{"$error":"#N/A"}},null,null,null,null,null,null,null,null,null,null,null,null,null,null,null,null,null,3,{"$f":"CG6","v":"Royal Flush"},{"$f":"CH6","v":{"$error":"#N/A"}},{"$f":"CI6","v":{"$error":"#N/A"}},{"$f":"CJ6","v":{"$error":"#N/A"}},{"$f":"CK6","v":{"$error":"#N/A"}},{"$f":"CL6","v":{"$error":"#N/A"}},{"$f":"CM6","v":{"$error":"#N/A"}},{"$f":"CN6","v":{"$error":"#N/A"}},{"$f":"CO6","v":{"$error":"#N/A"}},{"$f":"CP6","v":{"$error":"#N/A"}}]
[27,"♦A",0.36703044176101685,28,"D",1,null,null,null,null,null,null,null,null,null,null,null,null,null,null,null,null,null,null,null,null,null,null,null,null,null,null,null,3,{"$f":"L24","v":{"$error":"#N/A"}},{"$f":"M24","v":{"$error":"#N/A"}},{"$f":"N24","v":{"$error":"#N/A"}},{"$f":"O24","v":{"$error":"#N/A"}},{"$f":"P24","v":{"$error":"#N/A"}},null,null,3,{"$f":"R24","v":{"$error":"#N/A"}},{"$f":"S24","v":{"$error":"#N/A"}},{"$f":"T24","v":{"$error":"#N/A"}},{"$f":"U24","v":{"$error":"#N/A"}},{"$f":"V24","v":{"$error":"#N/A"}},null,null,3,{"$f":"X24","v":{"$error":"#N/A"}},{"$f":"Y24","v":{"$error":"#N/A"}},{"$f":"Z24","v":{"$error":"#N/A"}},{"$f":"AA24","v":{"$error":"#N/A"}},{"$f":"AB24","v":{"$error":"#N/A"}},null,null,null,null,null,null,null,null,null,null,null,null,null,null,null,null,null,null,{"$f":"CR6","v":"Straight Flush"},{"$f":"CS6","v":{"$error":"#N/A"}},{"$f":"CT6","v":{"$error":"#N/A"}},{"$f":"CU6","v":{"$error":"#N/A"}},{"$f":"CV6","v":{"$error":"#N/A"}},{"$f":"CW6","v":{"$error":"#N/A"}},{"$f":"CX6","v":{"$error":"#N/A"}},{"$f":"CY6","v":{"$error":"#N/A"}},{"$f":"CZ6","v":{"$error":"#N/A"}},{"$f":"DA6","v":{"$error":"#N/A"}}]
[28,"♦2",0.10439819097518921,42,"D",2,null,null,null,null,null,{"$f":"RANK(L35,$L$35:$P$35,1)","v":{"$error":"#N/A"}},{"$f":"RANK(M35,$L$35:$P$35,1)","v":{"$error":"#N/A"}},{"$f":"RANK(N35,$L$35:$P$35,1)","v":{"$error":"#N/A"}},{"$f":"RANK(O35,$L$35:$P$35,1)","v":{"$error":"#N/A"}},{"$f":"RANK(P35,$L$35:$P$35,1)","v":{"$error":"#N/A"}},null,{"$f":"RANK(R35,$R$35:$V$35,1)","v":{"$error":"#N/A"}},{"$f":"RANK(S35,$R$35:$V$35,1)","v":{"$error":"#N/A"}},{"$f":"RANK(T35,$R$35:$V$35,1)","v":{"$error":"#N/A"}},{"$f":"RANK(U35,$R$35:$V$35,1)","v":{"$error":"#N/A"}},{"$f":"RANK(V35,$R$35:$V$35,1)","v":{"$error":"#N/A"}},null,{"$f":"RANK(X35,$X$35:$AB$35,1)","v":{"$error":"#N/A"}},{"$f":"RANK(Y35,$X$35:$AB$35,1)","v":{"$error":"#N/A"}},{"$error":"#N/A"},{"$error":"#N/A"},{"$error":"#N/A"},null,null,null,null,null,4,{"$f":"L33","v":{"$error":"#N/A"}},{"$f":"M33","v":{"$error":"#N/A"}},{"$f":"N33","v":{"$error":"#N/A"}},{"$f":"O33","v":{"$error":"#N/A"}},{"$f":"P33","v":{"$error":"#N/A"}},null,null,4,{"$f":"R33","v":{"$error":"#N/A"}},{"$f":"S33","v":{"$error":"#N/A"}},{"$f":"T33","v":{"$error":"#N/A"}},{"$f":"U33","v":{"$error":"#N/A"}},{"$f":"V33","v":{"$error":"#N/A"}},null,null,4,{"$f":"X33","v":{"$error":"#N/A"}},{"$f":"Y33","v":{"$error":"#N/A"}},{"$f":"Z33","v":{"$error":"#N/A"}},{"$f":"AA33","v":{"$error":"#N/A"}},{"$f":"AB33","v":{"$error":"#N/A"}},null,null,null,null,null,null,null,null,null,null,null,null,null,null,null,null,null,null,{"$f":"DC6","v":"Four of a Kind"},{"$f":"DD6","v":{"$error":"#N/A"}},{"$f":"DE6","v":0},{"$f":"DF6","v":{"$error":"#N/A"}},{"$f":"DG6","v":{"$error":"#N/A"}},{"$f":"DH6","v":0},{"$f":"DI6","v":{"$error":"#N/A"}},{"$f":"DJ6","v":{"$error":"#N/A"}},{"$f":"DK6","v":0},{"$f":"DL6","v":{"$error":"#N/A"}}]
[29,"♦3",0.66966301202774048,13,"D",3,null,null,null,4,null,{"$f":"[0]!Player11","v":0},{"$f":"[0]!Player12","v":0},{"$f":"[0]!House1","v":0},{"$f":"[0]!House3","v":0},{"$f":"[0]!House4","v":0},null,{"$f":"[0]!Player21","v":0},{"$f":"[0]!Player22","v":0},{"$f":"[0]!House1","v":0},{"$f":"[0]!House3","v":0},{"$f":"[0]!House4","v":0},null,{"$f":"[0]!Player31","v":0},{"$f":"[0]!Player32","v":0},{"$f":"[0]!House1","v":0},{"$f":"[0]!House3","v":0},{"$f":"[0]!House4","v":0},null,null,null,null,null,5,{"$f":"L42","v":{"$error":"#N/A"}},{"$f":"M42","v":{"$error":"#N/A"}},{"$f":"N42","v":{"$error":"#N/A"}},{"$f":"O42","v":{"$error":"#N/A"}},{"$f":"P42","v":{"$error":"#N/A"}},null,null,5,{"$f":"R42","v":{"$error":"#N/A"}},{"$f":"S42","v":{"$error":"#N/A"}},{"$f":"T42","v":{"$error":"#N/A"}},{"$f":"U42","v":{"$error":"#N/A"}},{"$f":"V42","v":{"$error":"#N/A"}},null,null,5,{"$f":"X42","v":{"$error":"#N/A"}},{"$f":"Y42","v":{"$error":"#N/A"}},{"$f":"Z42","v":{"$error":"#N/A"}},{"$f":"AA42","v":{"$error":"#N/A"}},{"$f":"AB42","v":{"$error":"#N/A"}},null,null,null,null,null,null,null,null,null,null,null,null,null,null,null,null,null,null,{"$f":"DN6","v":"Full House"},{"$f":"DO6","v":{"$error":"#N/A"}},{"$f":"DP6","v":0},{"$f":"DQ6","v":{"$error":"#N/A"}},{"$f":"DR6","v":{"$error":"#N/A"}},{"$f":"DS6","v":0},{"$f":"DT6","v":{"$error":"#N/A"}},{"$f":"DU6","v":{"$error":"#N/A"}},{"$f":"DV6","v":0},{"$f":"DW6","v":{"$error":"#N/A"}}]
[30,"♦4",0.6176421046257019,16,"D",4,null,null,null,null,null,{"$f":"VLOOKUP(L29,$B$1:$F$52,5,0)","v":{"$error":"#N/A"}},{"$f":"VLOOKUP(M29,$B$1:$F$52,5,0)","v":{"$error":"#N/A"}},{"$f":"VLOOKUP(N29,$B$1:$F$52,5,0)","v":{"$error":"#N/A"}},{"$f":"VLOOKUP(O29,$B$1:$F$52,5,0)","v":{"$error":"#N/A"}},{"$f":"VLOOKUP(P29,$B$1:$F$52,5,0)","v":{"$error":"#N/A"}},null,{"$f":"VLOOKUP(R29,$B$1:$F$52,5,0)","v":{"$error":"#N/A"}},{"$f":"VLOOKUP(S29,$B$1:$F$52,5,0)","v":{"$error":"#N/A"}},{"$f":"VLOOKUP(T29,$B$1:$F$52,5,0)","v":{"$error":"#N/A"}},{"$f":"VLOOKUP(U29,$B$1:$F$52,5,0)","v":{"$error":"#N/A"}},{"$f":"VLOOKUP(V29,$B$1:$F$52,5,0)","v":{"$error":"#N/A"}},null,{"$f":"VLOOKUP(X29,$B$1:$F$52,5,0)","v":{"$error":"#N/A"}},{"$f":"VLOOKUP(Y29,$B$1:$F$52,5,0)","v":{"$error":"#N/A"}},{"$f":"VLOOKUP(Z29,$B$1:$F$52,5,0)","v":{"$error":"#N/A"}},{"$f":"VLOOKUP(AA29,$B$1:$F$52,5,0)","v":{"$error":"#N/A"}},{"$f":"VLOOKUP(AB29,$B$1:$F$52,5,0)","v":{"$error":"#N/A"}},null,null,null,null,null,6,{"$f":"L51","v":{"$error":"#N/A"}},{"$f":"M51","v":{"$error":"#N/A"}},{"$f":"N51","v":{"$error":"#N/A"}},{"$f":"O51","v":{"$error":"#N/A"}},{"$f":"P51","v":{"$error":"#N/A"}},null,null,6,{"$f":"R51","v":{"$error":"#N/A"}},{"$f":"S51","v":{"$error":"#N/A"}},{"$f":"T51","v":{"$error":"#N/A"}},{"$f":"U51","v":{"$error":"#N/A"}},{"$f":"V51","v":{"$error":"#N/A"}},null,null,6,{"$f":"X51","v":{"$error":"#N/A"}},{"$f":"Y51","v":{"$error":"#N/A"}},{"$f":"Z51","v":{"$error":"#N/A"}},{"$f":"AA51","v":{"$error":"#N/A"}},{"$f":"AB51","v":{"$error":"#N/A"}},null,null,null,null,null,null,null,null,null,null,null,null,null,null,null,null,null,null,{"$f":"DY6","v":"Flush"},{"$f":"DZ6","v":{"$error":"#N/A"}},{"$f":"EA6","v":0},{"$f":"EB6","v":{"$error":"#N/A"}},{"$f":"EC6","v":{"$error":"#N/A"}},{"$f":"ED6","v":0},{"$f":"EE6","v":{"$error":"#N/A"}},{"$f":"EF6","v":{"$error":"#N/A"}},{"$f":"EG6","v":0},{"$f":"EH6","v":{"$error":"#N/A"}}]
[31,"♦5",0.39481526613235474,25,"D",5,null,null,null,null,null,{"$f":"VLOOKUP(L29,$B$1:$F$52,4,0)","v":{"$error":"#N/A"}},{"$f":"VLOOKUP(M29,$B$1:$F$52,4,0)","v":{"$error":"#N/A"}},{"$f":"VLOOKUP(N29,$B$1:$F$52,4,0)","v":{"$error":"#N/A"}},{"$f":"VLOOKUP(O29,$B$1:$F$52,4,0)","v":{"$error":"#N/A"}},{"$f":"VLOOKUP(P29,$B$1:$F$52,4,0)","v":{"$error":"#N/A"}},null,{"$f":"VLOOKUP(R29,$B$1:$F$52,4,0)","v":{"$error":"#N/A"}},{"$f":"VLOOKUP(S29,$B$1:$F$52,4,0)","v":{"$error":"#N/A"}},{"$f":"VLOOKUP(T29,$B$1:$F$52,4,0)","v":{"$error":"#N/A"}},{"$f":"VLOOKUP(U29,$B$1:$F$52,4,0)","v":{"$error":"#N/A"}},{"$f":"VLOOKUP(V29,$B$1:$F$52,4,0)","v":{"$error":"#N/A"}},null,{"$f":"VLOOKUP(X29,$B$1:$F$52,4,0)","v":{"$error":"#N/A"}},{"$f":"VLOOKUP(Y29,$B$1:$F$52,4,0)","v":{"$error":"#N/A"}},{"$f":"VLOOKUP(Z29,$B$1:$F$52,4,0)","v":{"$error":"#N/A"}},{"$f":"VLOOKUP(AA29,$B$1:$F$52,4,0)","v":{"$error":"#N/A"}},{"$f":"VLOOKUP(AB29,$B$1:$F$52,4,0)","v":{"$error":"#N/A"}},null,null,null,null,null,7,{"$f":"L60","v":{"$error":"#N/A"}},{"$f":"M60","v":{"$error":"#N/A"}},{"$f":"N60","v":{"$error":"#N/A"}},{"$f":"O60","v":{"$error":"#N/A"}},{"$f":"P60","v":{"$error":"#N/A"}},null,null,7,{"$f":"R60","v":{"$error":"#N/A"}},{"$f":"S60","v":{"$error":"#N/A"}},{"$f":"T60","v":{"$error":"#N/A"}},{"$f":"U60","v":{"$error":"#N/A"}},{"$f":"V60","v":{"$error":"#N/A"}},null,null,7,{"$f":"X60","v":{"$error":"#N/A"}},{"$f":"Y60","v":{"$error":"#N/A"}},{"$f":"Z60","v":{"$error":"#N/A"}},{"$f":"AA60","v":{"$error":"#N/A"}},{"$f":"AB60","v":{"$error":"#N/A"}},null,null,null,null,null,null,null,null,null,null,null,null,null,null,null,null,null,null,{"$f":"EJ6","v":"Straight"},{"$f":"EK6","v":{"$error":"#N/A"}},{"$f":"EL6","v":{"$error":"#N/A"}},{"$f":"EM6","v":{"$error":"#N/A"}},{"$f":"EN6","v":{"$error":"#N/A"}},{"$f":"EO6","v":{"$error":"#N/A"}},{"$f":"EP6","v":{"$error":"#N/A"}},{"$f":"EQ6","v":{"$error":"#N/A"}},{"$f":"ER6","v":{"$error":"#N/A"}},{"$f":"ES6","v":{"$error":"#N/A"}}]
[32,"♦6",9.7625672817230225E-2,43,"D",6,null,null,null,null,null,{"$f":"HLOOKUP(L34,$L$28:$P$31,3,0)","v":{"$error":"#N/A"}},{"$f":"HLOOKUP(M34,$L$28:$P$31,3,0)","v":{"$error":"#N/A"}},{"$f":"HLOOKUP(N34,$L$28:$P$31,3,0)","v":{"$error":"#N/A"}},{"$f":"HLOOKUP(O34,$L$28:$P$31,3,0)","v":{"$error":"#N/A"}},{"$f":"HLOOKUP(P34,$L$28:$P$31,3,0)","v":{"$error":"#N/A"}},null,{"$f":"HLOOKUP(R34,$R$28:$V$31,3,0)","v":{"$error":"#N/A"}},{"$f":"HLOOKUP(S34,$R$28:$V$31,3,0)","v":{"$error":"#N/A"}},{"$f":"HLOOKUP(T34,$R$28:$V$31,3,0)","v":{"$error":"#N/A"}},{"$f":"HLOOKUP(U34,$R$28:$V$31,3,0)","v":{"$error":"#N/A"}},{"$f":"HLOOKUP(V34,$R$28:$V$31,3,0)","v":{"$error":"#N/A"}},null,{"$f":"HLOOKUP(X34,$X$28:$AB$31,3,0)","v":{"$error":"#N/A"}},{"$f":"HLOOKUP(Y34,$X$28:$AB$31,3,0)","v":{"$error":"#N/A"}},{"$error":"#N/A"},{"$error":"#N/A"},{"$error":"#N/A"},null,null,null,null,null,8,{"$f":"L69","v":{"$error":"#N/A"}},{"$f":"M69","v":{"$error":"#N/A"}},{"$f":"N69","v":{"$error":"#N/A"}},{"$f":"O69","v":{"$error":"#N/A"}},{"$f":"P69","v":{"$error":"#N/A"}},null,null,8,{"$f":"R69","v":{"$error":"#N/A"}},{"$f":"S69","v":{"$error":"#N/A"}},{"$f":"T69","v":{"$error":"#N/A"}},{"$f":"U69","v":{"$error":"#N/A"}},{"$f":"V69","v":{"$error":"#N/A"}},null,null,8,{"$f":"X69","v":{"$error":"#N/A"}},{"$f":"Y69","v":{"$error":"#N/A"}},{"$f":"Z69","v":{"$error":"#N/A"}},{"$f":"AA69","v":{"$error":"#N/A"}},{"$f":"AB69","v":{"$error":"#N/A"}},null,null,null,null,null,null,null,null,null,null,null,null,null,null,null,null,null,null,{"$f":"EU6","v":"Three of a Kind"},{"$f":"EV6","v":{"$error":"#N/A"}},{"$f":"EW6","v":0},{"$f":"EX6","v":{"$error":"#N/A"}},{"$f":"EY6","v":{"$error":"#N/A"}},{"$f":"EZ6","v":0},{"$f":"FA6","v":{"$error":"#N/A"}},{"$f":"FB6","v":{"$error":"#N/A"}},{"$f":"FC6","v":0},{"$f":"FD6","v":{"$error":"#N/A"}}]
[33,"♦7",0.29718691110610962,{"$f":"RANK(C33,$C$1:$C$52)","v":31},"D",7,null,null,null,null,null,{"$f":"HLOOKUP(L34,$L$28:$P$31,4,0)","v":{"$error":"#N/A"}},{"$f":"HLOOKUP(M34,$L$28:$P$31,4,0)","v":{"$error":"#N/A"}},{"$f":"HLOOKUP(N34,$L$28:$P$31,4,0)","v":{"$error":"#N/A"}},{"$f":"HLOOKUP(O34,$L$28:$P$31,4,0)","v":{"$error":"#N/A"}},{"$f":"HLOOKUP(P34,$L$28:$P$31,4,0)","v":{"$error":"#N/A"}},null,{"$f":"HLOOKUP(R34,$R$28:$V$31,4,0)","v":{"$error":"#N/A"}},{"$f":"HLOOKUP(S34,$R$28:$V$31,4,0)","v":{"$error":"#N/A"}},{"$f":"HLOOKUP(T34,$R$28:$V$31,4,0)","v":{"$error":"#N/A"}},{"$f":"HLOOKUP(U34,$R$28:$V$31,4,0)","v":{"$error":"#N/A"}},{"$f":"HLOOKUP(V34,$R$28:$V$31,4,0)","v":{"$error":"#N/A"}},null,{"$f":"HLOOKUP(X34,$X$28:$AB$31,4,0)","v":{"$error":"#N/A"}},{"$f":"HLOOKUP(Y34,$X$28:$AB$31,4,0)","v":{"$error":"#N/A"}},{"$error":"#N/A"},{"$error":"#N/A"},{"$error":"#N/A"},null,null,null,null,null,9,{"$f":"L78","v":{"$error":"#N/A"}},{"$f":"M78","v":{"$error":"#N/A"}},{"$f":"N78","v":{"$error":"#N/A"}},{"$f":"O78","v":{"$error":"#N/A"}},{"$f":"P78","v":{"$error":"#N/A"}},null,null,9,{"$f":"R78","v":{"$error":"#N/A"}},{"$f":"S78","v":{"$error":"#N/A"}},{"$f":"T78","v":{"$error":"#N/A"}},{"$f":"U78","v":{"$error":"#N/A"}},{"$f":"V78","v":{"$error":"#N/A"}},null,null,9,{"$f":"X78","v":{"$error":"#N/A"}},{"$f":"Y78","v":{"$error":"#N/A"}},{"$f":"Z78","v":{"$error":"#N/A"}},{"$f":"AA78","v":{"$error":"#N/A"}},{"$f":"AB78","v":{"$error":"#N/A"}},null,null,null,null,null,null,null,null,null,null,null,null,null,null,null,null,null,null,{"$f":"FF6","v":"Two Pair"},{"$f":"FG6","v":{"$error":"#N/A"}},{"$f":"FH6","v":0},{"$f":"FI6","v":{"$error":"#N/A"}},{"$f":"FJ6","v":{"$error":"#N/A"}},{"$f":"FK6","v":0},{"$f":"FL6","v":{"$error":"#N/A"}},{"$f":"FM6","v":{"$error":"#N/A"}},{"$f":"FN6","v":0},{"$f":"FO6","v":{"$error":"#N/A"}}]
[34,"♦8",0.46164625883102417,22,"D",8,null,null,null,null,null,1,2,3,4,5,null,1,2,3,4,5,null,1,2,3,4,5,null,null,null,null,null,10,{"$f":"L87","v":{"$error":"#N/A"}},{"$f":"M87","v":{"$error":"#N/A"}},{"$f":"N87","v":{"$error":"#N/A"}},{"$f":"O87","v":{"$error":"#N/A"}},{"$f":"P87","v":{"$error":"#N/A"}},null,null,10,{"$f":"R87","v":{"$error":"#N/A"}},{"$f":"S87","v":{"$error":"#N/A"}},{"$f":"T87","v":{"$error":"#N/A"}},{"$f":"U87","v":{"$error":"#N/A"}},{"$f":"V87","v":{"$error":"#N/A"}},null,null,10,{"$f":"X87","v":{"$error":"#N/A"}},{"$f":"Y87","v":{"$error":"#N/A"}},{"$f":"Z87","v":{"$error":"#N/A"}},{"$f":"AA87","v":{"$error":"#N/A"}},{"$f":"AB87","v":{"$error":"#N/A"}},null,null,null,null,null,null,null,null,null,null,null,null,null,null,null,null,null,null,{"$f":"FQ6","v":"One Pair"},{"$f":"FR6","v":{"$error":"#N/A"}},{"$f":"FS6","v":0},{"$f":"FT6","v":{"$error":"#N/A"}},{"$f":"FU6","v":{"$error":"#N/A"}},{"$f":"FV6","v":0},{"$f":"FW6","v":{"$error":"#N/A"}},{"$f":"FX6","v":{"$error":"#N/A"}},{"$f":"FY6","v":0},{"$f":"FZ6","v":{"$error":"#N/A"}}]
[35,"♦9",0.75745421648025513,11,"D",9,null,null,null,null,null,{"$f":"L30+IF(L30=1,13+RAND()^3,RAND()^3)","v":{"$error":"#N/A"}},{"$f":"M30+IF(M30=1,13+RAND()^3,RAND()^3)","v":{"$error":"#N/A"}},{"$error":"#N/A"},{"$error":"#N/A"},{"$error":"#N/A"},0.86691334422449262,{"$error":"#N/A"},{"$error":"#N/A"},{"$error":"#N/A"},{"$error":"#N/A"},{"$error":"#N/A"},0.21106556291406467,{"$error":"#N/A"},{"$error":"#N/A"},{"$error":"#N/A"},{"$error":"#N/A"},{"$error":"#N/A"},null,null,null,null,null,11,{"$f":"L96","v":{"$error":"#N/A"}},{"$f":"M96","v":{"$error":"#N/A"}},{"$f":"N96","v":{"$error":"#N/A"}},{"$f":"O96","v":{"$error":"#N/A"}},{"$f":"P96","v":{"$error":"#N/A"}},null,null,11,{"$f":"R96","v":{"$error":"#N/A"}},{"$f":"S96","v":{"$error":"#N/A"}},{"$f":"T96","v":{"$error":"#N/A"}},{"$f":"U96","v":{"$error":"#N/A"}},{"$f":"V96","v":{"$error":"#N/A"}},null,null,11,{"$f":"X96","v":{"$error":"#N/A"}},{"$f":"Y96","v":{"$error":"#N/A"}},{"$f":"Z96","v":{"$error":"#N/A"}},{"$f":"AA96","v":{"$error":"#N/A"}},{"$f":"AB96","v":{"$error":"#N/A"}},null,null,null,null,null,null,null,null,null,null,null,null,null,null,null,null,null,null,{"$f":"GB6","v":"High Card"},{"$f":"GC6","v":{"$error":"#N/A"}},{"$f":"GD6","v":0},{"$f":"GE6","v":{"$error":"#N/A"}},{"$f":"GF6","v":{"$error":"#N/A"}},{"$f":"GG6","v":0},{"$f":"GH6","v":{"$error":"#N/A"}},{"$f":"GI6","v":{"$error":"#N/A"}},{"$f":"GJ6","v":0},{"$f":"GK6","v":{"$error":"#N/A"}}]
[36,"♦10",0.26079028844833374,33,"D",10,null,null,null,null,null,null,null,null,null,null,null,null,null,null,null,null,null,null,null,null,null,null,null,null,null,null,null,12,{"$f":"L105","v":{"$error":"#N/A"}},{"$f":"M105","v":{"$error":"#N/A"}},{"$f":"N105","v":{"$error":"#N/A"}},{"$f":"O105","v":{"$error":"#N/A"}},{"$f":"P105","v":{"$error":"#N/A"}},null,null,12,{"$f":"R105","v":{"$error":"#N/A"}},{"$f":"S105","v":{"$error":"#N/A"}},{"$f":"T105","v":{"$error":"#N/A"}},{"$f":"U105","v":{"$error":"#N/A"}},{"$f":"V105","v":{"$error":"#N/A"}},null,null,12,{"$f":"X105","v":{"$error":"#N/A"}},{"$f":"Y105","v":{"$error":"#N/A"}},{"$f":"Z105","v":{"$error":"#N/A"}},{"$f":"AA105","v":{"$error":"#N/A"}},{"$f":"AB105","v":{"$error":"#N/A"}}]
[37,"♦J",0.86039501428604126,3,"D",11,null,null,null,null,null,{"$f":"RANK(L44,$L$44:$P$44,1)","v":{"$error":"#N/A"}},{"$f":"RANK(M44,$L$44:$P$44,1)","v":{"$error":"#N/A"}},{"$f":"RANK(N44,$L$44:$P$44,1)","v":{"$error":"#N/A"}},{"$f":"RANK(O44,$L$44:$P$44,1)","v":{"$error":"#N/A"}},{"$f":"RANK(P44,$L$44:$P$44,1)","v":{"$error":"#N/A"}},null,{"$f":"RANK(R44,$R$44:$V$44,1)","v":{"$error":"#N/A"}},{"$f":"RANK(S44,$R$44:$V$44,1)","v":{"$error":"#N/A"}},{"$f":"RANK(T44,$R$44:$V$44,1)","v":{"$error":"#N/A"}},{"$f":"RANK(U44,$R$44:$V$44,1)","v":{"$error":"#N/A"}},{"$f":"RANK(V44,$R$44:$V$44,1)","v":{"$error":"#N/A"}},null,{"$f":"RANK(X44,$X$44:$AB$44,1)","v":{"$error":"#N/A"}},{"$f":"RANK(Y44,$X$44:$AB$44,1)","v":{"$error":"#N/A"}},{"$error":"#N/A"},{"$error":"#N/A"},{"$error":"#N/A"},null,null,null,null,null,13,{"$f":"L114","v":{"$error":"#N/A"}},{"$f":"M114","v":{"$error":"#N/A"}},{"$f":"N114","v":{"$error":"#N/A"}},{"$f":"O114","v":{"$error":"#N/A"}},{"$f":"P114","v":{"$error":"#N/A"}},null,null,13,{"$f":"R114","v":{"$error":"#N/A"}},{"$f":"S114","v":{"$error":"#N/A"}},{"$f":"T114","v":{"$error":"#N/A"}},{"$f":"U114","v":{"$error":"#N/A"}},{"$f":"V114","v":{"$error":"#N/A"}},null,null,13,{"$f":"X114","v":{"$error":"#N/A"}},{"$f":"Y114","v":{"$error":"#N/A"}},{"$f":"Z114","v":{"$error":"#N/A"}},{"$f":"AA114","v":{"$error":"#N/A"}},{"$f":"AB114","v":{"$error":"#N/A"}},null,null,null,null,null,null,null,null,null,null,null,null,null,null,null,null,null,4,{"$f":"CG7","v":"Royal Flush"},{"$f":"CH7","v":{"$error":"#N/A"}},{"$f":"CI7","v":{"$error":"#N/A"}},{"$f":"CJ7","v":{"$error":"#N/A"}},{"$f":"CK7","v":{"$error":"#N/A"}},{"$f":"CL7","v":{"$error":"#N/A"}},{"$f":"CM7","v":{"$error":"#N/A"}},{"$f":"CN7","v":{"$error":"#N/A"}},{"$f":"CO7","v":{"$error":"#N/A"}},{"$f":"CP7","v":{"$error":"#N/A"}}]
[38,"♦Q",0.38305824995040894,27,"D",12,null,null,null,5,null,{"$f":"[0]!Player11","v":0},{"$f":"[0]!Player12","v":0},{"$f":"[0]!House1","v":0},{"$f":"[0]!House3","v":0},{"$f":"[0]!House5","v":0},null,{"$f":"[0]!Player21","v":0},{"$f":"[0]!Player22","v":0},{"$f":"[0]!House1","v":0},{"$f":"[0]!House3","v":0},{"$f":"[0]!House5","v":0},null,{"$f":"[0]!Player31","v":0},{"$f":"[0]!Player32","v":0},{"$f":"[0]!House1","v":0},{"$f":"[0]!House3","v":0},{"$f":"[0]!House5","v":0},null,null,null,null,null,14,{"$f":"L123","v":{"$error":"#N/A"}},{"$f":"M123","v":{"$error":"#N/A"}},{"$f":"N123","v":{"$error":"#N/A"}},{"$f":"O123","v":{"$error":"#N/A"}},{"$f":"P123","v":{"$error":"#N/A"}},null,null,14,{"$f":"R123","v":{"$error":"#N/A"}},{"$f":"S123","v":{"$error":"#N/A"}},{"$f":"T123","v":{"$error":"#N/A"}},{"$f":"U123","v":{"$error":"#N/A"}},{"$f":"V123","v":{"$error":"#N/A"}},null,null,14,{"$f":"X123","v":{"$error":"#N/A"}},{"$f":"Y123","v":{"$error":"#N/A"}},{"$f":"Z123","v":{"$error":"#N/A"}},{"$f":"AA123","v":{"$error":"#N/A"}},{"$f":"AB123","v":{"$error":"#N/A"}},null,null,null,null,null,null,null,null,null,null,null,null,null,null,null,null,null,null,{"$f":"CR7","v":"Straight Flush"},{"$f":"CS7","v":{"$error":"#N/A"}},{"$f":"CT7","v":{"$error":"#N/A"}},{"$f":"CU7","v":{"$error":"#N/A"}},{"$f":"CV7","v":{"$error":"#N/A"}},{"$f":"CW7","v":{"$error":"#N/A"}},{"$f":"CX7","v":{"$error":"#N/A"}},{"$f":"CY7","v":{"$error":"#N/A"}},{"$f":"CZ7","v":{"$error":"#N/A"}},{"$f":"DA7","v":{"$error":"#N/A"}}]
[39,"♦K",0.72301369905471802,12,"D",13,null,null,null,null,null,{"$f":"VLOOKUP(L38,$B$1:$F$52,5,0)","v":{"$error":"#N/A"}},{"$f":"VLOOKUP(M38,$B$1:$F$52,5,0)","v":{"$error":"#N/A"}},{"$f":"VLOOKUP(N38,$B$1:$F$52,5,0)","v":{"$error":"#N/A"}},{"$f":"VLOOKUP(O38,$B$1:$F$52,5,0)","v":{"$error":"#N/A"}},{"$f":"VLOOKUP(P38,$B$1:$F$52,5,0)","v":{"$error":"#N/A"}},null,{"$f":"VLOOKUP(R38,$B$1:$F$52,5,0)","v":{"$error":"#N/A"}},{"$f":"VLOOKUP(S38,$B$1:$F$52,5,0)","v":{"$error":"#N/A"}},{"$f":"VLOOKUP(T38,$B$1:$F$52,5,0)","v":{"$error":"#N/A"}},{"$f":"VLOOKUP(U38,$B$1:$F$52,5,0)","v":{"$error":"#N/A"}},{"$f":"VLOOKUP(V38,$B$1:$F$52,5,0)","v":{"$error":"#N/A"}},null,{"$f":"VLOOKUP(X38,$B$1:$F$52,5,0)","v":{"$error":"#N/A"}},{"$f":"VLOOKUP(Y38,$B$1:$F$52,5,0)","v":{"$error":"#N/A"}},{"$f":"VLOOKUP(Z38,$B$1:$F$52,5,0)","v":{"$error":"#N/A"}},{"$f":"VLOOKUP(AA38,$B$1:$F$52,5,0)","v":{"$error":"#N/A"}},{"$f":"VLOOKUP(AB38,$B$1:$F$52,5,0)","v":{"$error":"#N/A"}},null,null,null,null,null,15,{"$f":"L132","v":{"$error":"#N/A"}},{"$f":"M132","v":{"$error":"#N/A"}},{"$f":"N132","v":{"$error":"#N/A"}},{"$f":"O132","v":{"$error":"#N/A"}},{"$f":"P132","v":{"$error":"#N/A"}},null,null,15,{"$f":"R132","v":{"$error":"#N/A"}},{"$f":"S132","v":{"$error":"#N/A"}},{"$f":"T132","v":{"$error":"#N/A"}},{"$f":"U132","v":{"$error":"#N/A"}},{"$f":"V132","v":{"$error":"#N/A"}},null,null,15,{"$f":"X132","v":{"$error":"#N/A"}},{"$f":"Y132","v":{"$error":"#N/A"}},{"$f":"Z132","v":{"$error":"#N/A"}},{"$f":"AA132","v":{"$error":"#N/A"}},{"$f":"AB132","v":{"$error":"#N/A"}},null,null,null,null,null,null,null,null,null,null,null,null,null,null,null,null,null,null,{"$f":"DC7","v":"Four of a Kind"},{"$f":"DD7","v":{"$error":"#N/A"}},{"$f":"DE7","v":0},{"$f":"DF7","v":{"$error":"#N/A"}},{"$f":"DG7","v":{"$error":"#N/A"}},{"$f":"DH7","v":0},{"$f":"DI7","v":{"$error":"#N/A"}},{"$f":"DJ7","v":{"$error":"#N/A"}},{"$f":"DK7","v":0},{"$f":"DL7","v":{"$error":"#N/A"}}]
[40,"♥A",6.4896941184997559E-3,51,"H",1,null,null,null,null,null,{"$f":"VLOOKUP(L38,$B$1:$F$52,4,0)","v":{"$error":"#N/A"}},{"$f":"VLOOKUP(M38,$B$1:$F$52,4,0)","v":{"$error":"#N/A"}},{"$f":"VLOOKUP(N38,$B$1:$F$52,4,0)","v":{"$error":"#N/A"}},{"$f":"VLOOKUP(O38,$B$1:$F$52,4,0)","v":{"$error":"#N/A"}},{"$f":"VLOOKUP(P38,$B$1:$F$52,4,0)","v":{"$error":"#N/A"}},null,{"$f":"VLOOKUP(R38,$B$1:$F$52,4,0)","v":{"$error":"#N/A"}},{"$f":"VLOOKUP(S38,$B$1:$F$52,4,0)","v":{"$error":"#N/A"}},{"$f":"VLOOKUP(T38,$B$1:$F$52,4,0)","v":{"$error":"#N/A"}},{"$f":"VLOOKUP(U38,$B$1:$F$52,4,0)","v":{"$error":"#N/A"}},{"$f":"VLOOKUP(V38,$B$1:$F$52,4,0)","v":{"$error":"#N/A"}},null,{"$f":"VLOOKUP(X38,$B$1:$F$52,4,0)","v":{"$error":"#N/A"}},{"$f":"VLOOKUP(Y38,$B$1:$F$52,4,0)","v":{"$error":"#N/A"}},{"$f":"VLOOKUP(Z38,$B$1:$F$52,4,0)","v":{"$error":"#N/A"}},{"$f":"VLOOKUP(AA38,$B$1:$F$52,4,0)","v":{"$error":"#N/A"}},{"$f":"VLOOKUP(AB38,$B$1:$F$52,4,0)","v":{"$error":"#N/A"}},null,null,null,null,null,16,{"$f":"L141","v":{"$error":"#N/A"}},{"$f":"M141","v":{"$error":"#N/A"}},{"$f":"N141","v":{"$error":"#N/A"}},{"$f":"O141","v":{"$error":"#N/A"}},{"$f":"P141","v":{"$error":"#N/A"}},null,null,16,{"$f":"R141","v":{"$error":"#N/A"}},{"$f":"S141","v":{"$error":"#N/A"}},{"$f":"T141","v":{"$error":"#N/A"}},{"$f":"U141","v":{"$error":"#N/A"}},{"$f":"V141","v":{"$error":"#N/A"}},null,null,16,{"$f":"X141","v":{"$error":"#N/A"}},{"$f":"Y141","v":{"$error":"#N/A"}},{"$f":"Z141","v":{"$error":"#N/A"}},{"$f":"AA141","v":{"$error":"#N/A"}},{"$f":"AB141","v":{"$error":"#N/A"}},null,null,null,null,null,null,null,null,null,null,null,null,null,null,null,null,null,null,{"$f":"DN7","v":"Full House"},{"$f":"DO7","v":{"$error":"#N/A"}},{"$f":"DP7","v":0},{"$f":"DQ7","v":{"$error":"#N/A"}},{"$f":"DR7","v":{"$error":"#N/A"}},{"$f":"DS7","v":0},{"$f":"DT7","v":{"$error":"#N/A"}},{"$f":"DU7","v":{"$error":"#N/A"}},{"$f":"DV7","v":0},{"$f":"DW7","v":{"$error":"#N/A"}}]
[41,"♥2",7.26662278175354E-2,47,"H",2,null,null,null,null,null,{"$f":"HLOOKUP(L43,$L$37:$P$40,3,0)","v":{"$error":"#N/A"}},{"$f":"HLOOKUP(M43,$L$37:$P$40,3,0)","v":{"$error":"#N/A"}},{"$f":"HLOOKUP(N43,$L$37:$P$40,3,0)","v":{"$error":"#N/A"}},{"$f":"HLOOKUP(O43,$L$37:$P$40,3,0)","v":{"$error":"#N/A"}},{"$f":"HLOOKUP(P43,$L$37:$P$40,3,0)","v":{"$error":"#N/A"}},null,{"$f":"HLOOKUP(R43,$R$37:$V$40,3,0)","v":{"$error":"#N/A"}},{"$f":"HLOOKUP(S43,$R$37:$V$40,3,0)","v":{"$error":"#N/A"}},{"$f":"HLOOKUP(T43,$R$37:$V$40,3,0)","v":{"$error":"#N/A"}},{"$f":"HLOOKUP(U43,$R$37:$V$40,3,0)","v":{"$error":"#N/A"}},{"$f":"HLOOKUP(V43,$R$37:$V$40,3,0)","v":{"$error":"#N/A"}},null,{"$f":"HLOOKUP(X43,$X$37:$AB$40,3,0)","v":{"$error":"#N/A"}},{"$f":"HLOOKUP(Y43,$X$37:$AB$40,3,0)","v":{"$error":"#N/A"}},{"$error":"#N/A"},{"$error":"#N/A"},{"$error":"#N/A"},null,null,null,null,null,17,{"$f":"L150","v":{"$error":"#N/A"}},{"$f":"M150","v":{"$error":"#N/A"}},{"$f":"N150","v":{"$error":"#N/A"}},{"$f":"O150","v":{"$error":"#N/A"}},{"$f":"P150","v":{"$error":"#N/A"}},null,null,17,{"$f":"R150","v":{"$error":"#N/A"}},{"$f":"S150","v":{"$error":"#N/A"}},{"$f":"T150","v":{"$error":"#N/A"}},{"$f":"U150","v":{"$error":"#N/A"}},{"$f":"V150","v":{"$error":"#N/A"}},null,null,17,{"$f":"X150","v":{"$error":"#N/A"}},{"$f":"Y150","v":{"$error":"#N/A"}},{"$f":"Z150","v":{"$error":"#N/A"}},{"$f":"AA150","v":{"$error":"#N/A"}},{"$f":"AB150","v":{"$error":"#N/A"}},null,null,null,null,null,null,null,null,null,null,null,null,null,null,null,null,null,null,{"$f":"DY7","v":"Flush"},{"$f":"DZ7","v":{"$error":"#N/A"}},{"$f":"EA7","v":0},{"$f":"EB7","v":{"$error":"#N/A"}},{"$f":"EC7","v":{"$error":"#N/A"}},{"$f":"ED7","v":0},{"$f":"EE7","v":{"$error":"#N/A"}},{"$f":"EF7","v":{"$error":"#N/A"}},{"$f":"EG7","v":0},{"$f":"EH7","v":{"$error":"#N/A"}}]
[42,"♥3",0.8022882342338562,8,"H",3,null,null,null,null,null,{"$f":"HLOOKUP(L43,$L$37:$P$40,4,0)","v":{"$error":"#N/A"}},{"$f":"HLOOKUP(M43,$L$37:$P$40,4,0)","v":{"$error":"#N/A"}},{"$f":"HLOOKUP(N43,$L$37:$P$40,4,0)","v":{"$error":"#N/A"}},{"$f":"HLOOKUP(O43,$L$37:$P$40,4,0)","v":{"$error":"#N/A"}},{"$f":"HLOOKUP(P43,$L$37:$P$40,4,0)","v":{"$error":"#N/A"}},null,{"$f":"HLOOKUP(R43,$R$37:$V$40,4,0)","v":{"$error":"#N/A"}},{"$f":"HLOOKUP(S43,$R$37:$V$40,4,0)","v":{"$error":"#N/A"}},{"$f":"HLOOKUP(T43,$R$37:$V$40,4,0)","v":{"$error":"#N/A"}},{"$f":"HLOOKUP(U43,$R$37:$V$40,4,0)","v":{"$error":"#N/A"}},{"$f":"HLOOKUP(V43,$R$37:$V$40,4,0)","v":{"$error":"#N/A"}},null,{"$f":"HLOOKUP(X43,$X$37:$AB$40,4,0)","v":{"$error":"#N/A"}},{"$f":"HLOOKUP(Y43,$X$37:$AB$40,4,0)","v":{"$error":"#N/A"}},{"$error":"#N/A"},{"$error":"#N/A"},{"$error":"#N/A"},null,null,null,null,null,18,{"$f":"L159","v":{"$error":"#N/A"}},{"$f":"M159","v":{"$error":"#N/A"}},{"$f":"N159","v":{"$error":"#N/A"}},{"$f":"O159","v":{"$error":"#N/A"}},{"$f":"P159","v":{"$error":"#N/A"}},null,null,18,{"$f":"R159","v":{"$error":"#N/A"}},{"$f":"S159","v":{"$error":"#N/A"}},{"$f":"T159","v":{"$error":"#N/A"}},{"$f":"U159","v":{"$error":"#N/A"}},{"$f":"V159","v":{"$error":"#N/A"}},null,null,18,{"$f":"X159","v":{"$error":"#N/A"}},{"$f":"Y159","v":{"$error":"#N/A"}},{"$f":"Z159","v":{"$error":"#N/A"}},{"$f":"AA159","v":{"$error":"#N/A"}},{"$f":"AB159","v":{"$error":"#N/A"}},null,null,null,null,null,null,null,null,null,null,null,null,null,null,null,null,null,null,{"$f":"EJ7","v":"Straight"},{"$f":"EK7","v":{"$error":"#N/A"}},{"$f":"EL7","v":{"$error":"#N/A"}},{"$f":"EM7","v":{"$error":"#N/A"}},{"$f":"EN7","v":{"$error":"#N/A"}},{"$f":"EO7","v":{"$error":"#N/A"}},{"$f":"EP7","v":{"$error":"#N/A"}},{"$f":"EQ7","v":{"$error":"#N/A"}},{"$f":"ER7","v":{"$error":"#N/A"}},{"$f":"ES7","v":{"$error":"#N/A"}}]
[43,"♥4",7.5185120105743408E-2,45,"H",4,null,null,null,null,null,1,2,3,4,5,null,1,2,3,4,5,null,1,2,3,4,5,null,null,null,null,null,19,{"$f":"L168","v":{"$error":"#N/A"}},{"$f":"M168","v":{"$error":"#N/A"}},{"$f":"N168","v":{"$error":"#N/A"}},{"$f":"O168","v":{"$error":"#N/A"}},{"$f":"P168","v":{"$error":"#N/A"}},null,null,19,{"$f":"R168","v":{"$error":"#N/A"}},{"$f":"S168","v":{"$error":"#N/A"}},{"$f":"T168","v":{"$error":"#N/A"}},{"$f":"U168","v":{"$error":"#N/A"}},{"$f":"V168","v":{"$error":"#N/A"}},null,null,19,{"$f":"X168","v":{"$error":"#N/A"}},{"$f":"Y168","v":{"$error":"#N/A"}},{"$f":"Z168","v":{"$error":"#N/A"}},{"$f":"AA168","v":{"$error":"#N/A"}},{"$f":"AB168","v":{"$error":"#N/A"}},null,null,null,null,null,null,null,null,null,null,null,null,null,null,null,null,null,null,{"$f":"EU7","v":"Three of a Kind"},{"$f":"EV7","v":{"$error":"#N/A"}},{"$f":"EW7","v":0},{"$f":"EX7","v":{"$error":"#N/A"}},{"$f":"EY7","v":{"$error":"#N/A"}},{"$f":"EZ7","v":0},{"$f":"FA7","v":{"$error":"#N/A"}},{"$f":"FB7","v":{"$error":"#N/A"}},{"$f":"FC7","v":0},{"$f":"FD7","v":{"$error":"#N/A"}}]
[44,"♥5",0.38794654607772827,26,"H",5,null,null,null,null,null,{"$f":"L39+IF(L39=1,13+RAND()^3,RAND()^3)","v":{"$error":"#N/A"}},{"$f":"M39+IF(M39=1,13+RAND()^3,RAND()^3)","v":{"$error":"#N/A"}},{"$error":"#N/A"},{"$error":"#N/A"},{"$error":"#N/A"},1.7363418038878788E-3,{"$error":"#N/A"},{"$error":"#N/A"},{"$error":"#N/A"},{"$error":"#N/A"},{"$error":"#N/A"},0.83750087205796664,{"$error":"#N/A"},{"$error":"#N/A"},{"$error":"#N/A"},{"$error":"#N/A"},{"$error":"#N/A"},null,null,null,null,null,20,{"$f":"L177","v":{"$error":"#N/A"}},{"$f":"M177","v":{"$error":"#N/A"}},{"$f":"N177","v":{"$error":"#N/A"}},{"$f":"O177","v":{"$error":"#N/A"}},{"$f":"P177","v":{"$error":"#N/A"}},null,null,20,{"$f":"R177","v":{"$error":"#N/A"}},{"$f":"S177","v":{"$error":"#N/A"}},{"$f":"T177","v":{"$error":"#N/A"}},{"$f":"U177","v":{"$error":"#N/A"}},{"$f":"V177","v":{"$error":"#N/A"}},null,null,20,{"$f":"X177","v":{"$error":"#N/A"}},{"$f":"Y177","v":{"$error":"#N/A"}},{"$f":"Z177","v":{"$error":"#N/A"}},{"$f":"AA177","v":{"$error":"#N/A"}},{"$f":"AB177","v":{"$error":"#N/A"}},null,null,null,null,null,null,null,null,null,null,null,null,null,null,null,null,null,null,{"$f":"FF7","v":"Two Pair"},{"$f":"FG7","v":{"$error":"#N/A"}},{"$f":"FH7","v":0},{"$f":"FI7","v":{"$error":"#N/A"}},{"$f":"FJ7","v":{"$error":"#N/A"}},{"$f":"FK7","v":0},{"$f":"FL7","v":{"$error":"#N/A"}},{"$f":"FM7","v":{"$error":"#N/A"}},{"$f":"FN7","v":0},{"$f":"FO7","v":{"$error":"#N/A"}}]
[45,"♥6",0.41300445795059204,24,"H",6,null,null,null,null,null,null,null,null,null,null,null,null,null,null,null,null,null,null,null,null,null,null,null,null,null,null,null,21,{"$f":"L186","v":{"$error":"#N/A"}},{"$f":"M186","v":{"$error":"#N/A"}},{"$f":"N186","v":{"$error":"#N/A"}},{"$f":"O186","v":{"$error":"#N/A"}},{"$f":"P186","v":{"$error":"#N/A"}},null,null,21,{"$f":"R186","v":{"$error":"#N/A"}},{"$f":"S186","v":{"$error":"#N/A"}},{"$f":"T186","v":{"$error":"#N/A"}},{"$f":"U186","v":{"$error":"#N/A"}},{"$f":"V186","v":{"$error":"#N/A"}},null,null,21,{"$f":"X186","v":{"$error":"#N/A"}},{"$f":"Y186","v":{"$error":"#N/A"}},{"$f":"Z186","v":{"$error":"#N/A"}},{"$f":"AA186","v":{"$error":"#N/A"}},{"$f":"AB186","v":{"$error":"#N/A"}},null,null,null,null,null,null,null,null,null,null,null,null,null,null,null,null,null,null,{"$f":"FQ7","v":"One Pair"},{"$f":"FR7","v":{"$error":"#N/A"}},{"$f":"FS7","v":0},{"$f":"FT7","v":{"$error":"#N/A"}},{"$f":"FU7","v":{"$error":"#N/A"}},{"$f":"FV7","v":0},{"$f":"FW7","v":{"$error":"#N/A"}},{"$f":"FX7","v":{"$error":"#N/A"}},{"$f":"FY7","v":0},{"$f":"FZ7","v":{"$error":"#N/A"}}]
[46,"♥7",3.0371367931365967E-2,49,"H",7,null,null,null,null,null,{"$f":"RANK(L53,$L$53:$P$53,1)","v":{"$error":"#N/A"}},{"$f":"RANK(M53,$L$53:$P$53,1)","v":{"$error":"#N/A"}},{"$f":"RANK(N53,$L$53:$P$53,1)","v":{"$error":"#N/A"}},{"$f":"RANK(O53,$L$53:$P$53,1)","v":{"$error":"#N/A"}},{"$f":"RANK(P53,$L$53:$P$53,1)","v":{"$error":"#N/A"}},null,{"$f":"RANK(R53,$R$53:$V$53,1)","v":{"$error":"#N/A"}},{"$f":"RANK(S53,$R$53:$V$53,1)","v":{"$error":"#N/A"}},{"$f":"RANK(T53,$R$53:$V$53,1)","v":{"$error":"#N/A"}},{"$f":"RANK(U53,$R$53:$V$53,1)","v":{"$error":"#N/A"}},{"$f":"RANK(V53,$R$53:$V$53,1)","v":{"$error":"#N/A"}},null,{"$f":"RANK(X53,$X$53:$AB$53,1)","v":{"$error":"#N/A"}},{"$f":"RANK(Y53,$X$53:$AB$53,1)","v":{"$error":"#N/A"}},{"$error":"#N/A"},{"$error":"#N/A"},{"$error":"#N/A"},null,null,null,null,null,null,null,null,null,null,null,null,null,null,null,null,null,null,null,null,null,null,null,null,null,null,null,null,null,null,null,null,null,null,null,null,null,null,null,null,null,null,null,null,null,{"$f":"GB7","v":"High Card"},{"$f":"GC7","v":{"$error":"#N/A"}},{"$f":"GD7","v":0},{"$f":"GE7","v":{"$error":"#N/A"}},{"$f":"GF7","v":{"$error":"#N/A"}},{"$f":"GG7","v":0},{"$f":"GH7","v":{"$error":"#N/A"}},{"$f":"GI7","v":{"$error":"#N/A"}},{"$f":"GJ7","v":0},{"$f":"GK7","v":{"$error":"#N/A"}}]
[47,"♥8",0.6132848858833313,17,"H",8,null,null,null,6,null,{"$f":"[0]!Player11","v":0},{"$f":"[0]!Player12","v":0},{"$f":"[0]!House1","v":0},{"$f":"[0]!House4","v":0},{"$f":"[0]!House5","v":0},null,{"$f":"[0]!Player21","v":0},{"$f":"[0]!Player22","v":0},{"$f":"[0]!House1","v":0},{"$f":"[0]!House4","v":0},{"$f":"[0]!House5","v":0},null,{"$f":"[0]!Player31","v":0},{"$f":"[0]!Player32","v":0},{"$f":"[0]!House1","v":0},{"$f":"[0]!House4","v":0},{"$f":"[0]!House5","v":0},null,null,null,null,null,"Seq","1st","2nd","3rd","4th","5th","Hand","Rank","Seq","1st","2nd","3rd","4th","5th","Hand","Rank","Seq","1st","2nd","3rd","4th","5th","Hand","Rank"]
[48,"♥9",0.59900850057601929,18,"H",9,null,null,null,null,null,{"$f":"VLOOKUP(L47,$B$1:$F$52,5,0)","v":{"$error":"#N/A"}},{"$f":"VLOOKUP(M47,$B$1:$F$52,5,0)","v":{"$error":"#N/A"}},{"$f":"VLOOKUP(N47,$B$1:$F$52,5,0)","v":{"$error":"#N/A"}},{"$f":"VLOOKUP(O47,$B$1:$F$52,5,0)","v":{"$error":"#N/A"}},{"$f":"VLOOKUP(P47,$B$1:$F$52,5,0)","v":{"$error":"#N/A"}},null,{"$f":"VLOOKUP(R47,$B$1:$F$52,5,0)","v":{"$error":"#N/A"}},{"$f":"VLOOKUP(S47,$B$1:$F$52,5,0)","v":{"$error":"#N/A"}},{"$f":"VLOOKUP(T47,$B$1:$F$52,5,0)","v":{"$error":"#N/A"}},{"$f":"VLOOKUP(U47,$B$1:$F$52,5,0)","v":{"$error":"#N/A"}},{"$f":"VLOOKUP(V47,$B$1:$F$52,5,0)","v":{"$error":"#N/A"}},null,{"$f":"VLOOKUP(X47,$B$1:$F$52,5,0)","v":{"$error":"#N/A"}},{"$f":"VLOOKUP(Y47,$B$1:$F$52,5,0)","v":{"$error":"#N/A"}},{"$f":"VLOOKUP(Z47,$B$1:$F$52,5,0)","v":{"$error":"#N/A"}},{"$f":"VLOOKUP(AA47,$B$1:$F$52,5,0)","v":{"$error":"#N/A"}},{"$f":"VLOOKUP(AB47,$B$1:$F$52,5,0)","v":{"$error":"#N/A"}},null,null,null,null,null,18,7,8,9,11,1,"High Card",10,2,7,7,9,11,1,"One Pair",9,10,5,5,8,8,1,"Two Pair",11,null,null,null,null,null,null,null,null,null,null,null,null,null,null,null,5,{"$f":"CG8","v":"Royal Flush"},{"$f":"CH8","v":{"$error":"#N/A"}},{"$f":"CI8","v":{"$error":"#N/A"}},{"$f":"CJ8","v":{"$error":"#N/A"}},{"$f":"CK8","v":{"$error":"#N/A"}},{"$f":"CL8","v":{"$error":"#N/A"}},{"$f":"CM8","v":{"$error":"#N/A"}},{"$f":"CN8","v":{"$error":"#N/A"}},{"$f":"CO8","v":{"$error":"#N/A"}},{"$f":"CP8","v":{"$error":"#N/A"}}]
[49,"♥10",0.62603861093521118,15,"H",10,null,null,null,null,null,{"$f":"VLOOKUP(L47,$B$1:$F$52,4,0)","v":{"$error":"#N/A"}},{"$f":"VLOOKUP(M47,$B$1:$F$52,4,0)","v":{"$error":"#N/A"}},{"$f":"VLOOKUP(N47,$B$1:$F$52,4,0)","v":{"$error":"#N/A"}},{"$f":"VLOOKUP(O47,$B$1:$F$52,4,0)","v":{"$error":"#N/A"}},{"$f":"VLOOKUP(P47,$B$1:$F$52,4,0)","v":{"$error":"#N/A"}},null,{"$f":"VLOOKUP(R47,$B$1:$F$52,4,0)","v":{"$error":"#N/A"}},{"$f":"VLOOKUP(S47,$B$1:$F$52,4,0)","v":{"$error":"#N/A"}},{"$f":"VLOOKUP(T47,$B$1:$F$52,4,0)","v":{"$error":"#N/A"}},{"$f":"VLOOKUP(U47,$B$1:$F$52,4,0)","v":{"$error":"#N/A"}},{"$f":"VLOOKUP(V47,$B$1:$F$52,4,0)","v":{"$error":"#N/A"}},null,{"$f":"VLOOKUP(X47,$B$1:$F$52,4,0)","v":{"$error":"#N/A"}},{"$f":"VLOOKUP(Y47,$B$1:$F$52,4,0)","v":{"$error":"#N/A"}},{"$f":"VLOOKUP(Z47,$B$1:$F$52,4,0)","v":{"$error":"#N/A"}},{"$f":"VLOOKUP(AA47,$B$1:$F$52,4,0)","v":{"$error":"#N/A"}},{"$f":"VLOOKUP(AB47,$B$1:$F$52,4,0)","v":{"$error":"#N/A"}},null,null,null,null,null,20,5,8,9,11,1,"High Card",10,18,7,7,8,11,1,"One Pair",9,8,5,5,8,8,11,"Two Pair",11,null,null,null,null,null,null,null,null,null,null,null,null,null,null,null,null,{"$f":"CR8","v":"Straight Flush"},{"$f":"CS8","v":{"$error":"#N/A"}},{"$f":"CT8","v":{"$error":"#N/A"}},{"$f":"CU8","v":{"$error":"#N/A"}},{"$f":"CV8","v":{"$error":"#N/A"}},{"$f":"CW8","v":{"$error":"#N/A"}},{"$f":"CX8","v":{"$error":"#N/A"}},{"$f":"CY8","v":{"$error":"#N/A"}},{"$f":"CZ8","v":{"$error":"#N/A"}},{"$f":"DA8","v":{"$error":"#N/A"}}]
[50,"♥J",0.76896780729293823,10,"H",11,null,null,null,null,null,{"$f":"HLOOKUP(L52,$L$46:$P$49,3,0)","v":{"$error":"#N/A"}},{"$f":"HLOOKUP(M52,$L$46:$P$49,3,0)","v":{"$error":"#N/A"}},{"$f":"HLOOKUP(N52,$L$46:$P$49,3,0)","v":{"$error":"#N/A"}},{"$f":"HLOOKUP(O52,$L$46:$P$49,3,0)","v":{"$error":"#N/A"}},{"$f":"HLOOKUP(P52,$L$46:$P$49,3,0)","v":{"$error":"#N/A"}},null,{"$f":"HLOOKUP(R52,$R$46:$V$49,3,0)","v":{"$error":"#N/A"}},{"$f":"HLOOKUP(S52,$R$46:$V$49,3,0)","v":{"$error":"#N/A"}},{"$f":"HLOOKUP(T52,$R$46:$V$49,3,0)","v":{"$error":"#N/A"}},{"$f":"HLOOKUP(U52,$R$46:$V$49,3,0)","v":{"$error":"#N/A"}},{"$f":"HLOOKUP(V52,$R$46:$V$49,3,0)","v":{"$error":"#N/A"}},null,{"$f":"HLOOKUP(X52,$X$46:$AB$49,3,0)","v":{"$error":"#N/A"}},{"$f":"HLOOKUP(Y52,$X$46:$AB$49,3,0)","v":{"$error":"#N/A"}},{"$error":"#N/A"},{"$error":"#N/A"},{"$error":"#N/A"},null,null,null,null,null,9,3,8,9,11,1,"High Card",10,16,5,7,7,11,1,"One Pair",9,5,5,5,7,8,8,"Two Pair",11,null,null,null,null,null,null,null,null,null,null,null,null,null,null,null,null,{"$f":"DC8","v":"Four of a Kind"},{"$f":"DD8","v":{"$error":"#N/A"}},{"$f":"DE8","v":0},{"$f":"DF8","v":{"$error":"#N/A"}},{"$f":"DG8","v":{"$error":"#N/A"}},{"$f":"DH8","v":0},{"$f":"DI8","v":{"$error":"#N/A"}},{"$f":"DJ8","v":{"$error":"#N/A"}},{"$f":"DK8","v":0},{"$f":"DL8","v":{"$error":"#N/A"}}]
[51,"♥Q",0.65225440263748169,14,"H",12,null,null,null,null,null,{"$f":"HLOOKUP(L52,$L$46:$P$49,4,0)","v":{"$error":"#N/A"}},{"$f":"HLOOKUP(M52,$L$46:$P$49,4,0)","v":{"$error":"#N/A"}},{"$f":"HLOOKUP(N52,$L$46:$P$49,4,0)","v":{"$error":"#N/A"}},{"$f":"HLOOKUP(O52,$L$46:$P$49,4,0)","v":{"$error":"#N/A"}},{"$f":"HLOOKUP(P52,$L$46:$P$49,4,0)","v":{"$error":"#N/A"}},null,{"$f":"HLOOKUP(R52,$R$46:$V$49,4,0)","v":{"$error":"#N/A"}},{"$f":"HLOOKUP(S52,$R$46:$V$49,4,0)","v":{"$error":"#N/A"}},{"$f":"HLOOKUP(T52,$R$46:$V$49,4,0)","v":{"$error":"#N/A"}},{"$f":"HLOOKUP(U52,$R$46:$V$49,4,0)","v":{"$error":"#N/A"}},{"$f":"HLOOKUP(V52,$R$46:$V$49,4,0)","v":{"$error":"#N/A"}},null,{"$f":"HLOOKUP(X52,$X$46:$AB$49,4,0)","v":{"$error":"#N/A"}},{"$f":"HLOOKUP(Y52,$X$46:$AB$49,4,0)","v":{"$error":"#N/A"}},{"$error":"#N/A"},{"$error":"#N/A"},{"$error":"#N/A"},null,null,null,null,null,16,5,7,9,11,1,"High Card",10,6,7,7,8,9,1,"One Pair",9,18,7,8,8,11,1,"One Pair",11,null,null,null,null,null,null,null,null,null,null,null,null,null,null,null,null,{"$f":"DN8","v":"Full House"},{"$f":"DO8","v":{"$error":"#N/A"}},{"$f":"DP8","v":0},{"$f":"DQ8","v":{"$error":"#N/A"}},{"$f":"DR8","v":{"$error":"#N/A"}},{"$f":"DS8","v":0},{"$f":"DT8","v":{"$error":"#N/A"}},{"$f":"DU8","v":{"$error":"#N/A"}},{"$f":"DV8","v":0},{"$f":"DW8","v":{"$error":"#N/A"}}]
[52,"♥K",0.4741482138633728,21,"H",13,null,null,null,null,null,1,2,3,4,5,null,1,2,3,4,5,null,1,2,3,4,5,null,null,null,null,null,2,3,7,9,11,1,"High Card",10,4,5,7,7,9,1,"One Pair",9,9,5,8,8,11,1,"One Pair",11,null,null,null,null,null,null,null,null,null,null,null,null,null,null,null,null,{"$f":"DY8","v":"Flush"},{"$f":"DZ8","v":{"$error":"#N/A"}},{"$f":"EA8","v":0},{"$f":"EB8","v":{"$error":"#N/A"}},{"$f":"EC8","v":{"$error":"#N/A"}},{"$f":"ED8","v":0},{"$f":"EE8","v":{"$error":"#N/A"}},{"$f":"EF8","v":{"$error":"#N/A"}},{"$f":"EG8","v":0},{"$f":"EH8","v":{"$error":"#N/A"}}]
[null,null,null,null,null,null,null,null,null,null,null,{"$f":"L48+IF(L48=1,13+RAND()^3,RAND()^3)","v":{"$error":"#N/A"}},{"$f":"M48+IF(M48=1,13+RAND()^3,RAND()^3)","v":{"$error":"#N/A"}},{"$error":"#N/A"},{"$error":"#N/A"},{"$error":"#N/A"},0.12423126524081214,{"$error":"#N/A"},{"$error":"#N/A"},{"$error":"#N/A"},{"$error":"#N/A"},{"$error":"#N/A"},0.62096661151353527,{"$error":"#N/A"},{"$error":"#N/A"},{"$error":"#N/A"},{"$error":"#N/A"},{"$error":"#N/A"},null,null,null,null,null,7,3,5,9,11,1,"High Card",10,19,5,7,7,8,1,"One Pair",9,20,5,8,8,11,1,"One Pair",11,null,null,null,null,null,null,null,null,null,null,null,null,null,null,null,null,{"$f":"EJ8","v":"Straight"},{"$f":"EK8","v":{"$error":"#N/A"}},{"$f":"EL8","v":{"$error":"#N/A"}},{"$f":"EM8","v":{"$error":"#N/A"}},{"$f":"EN8","v":{"$error":"#N/A"}},{"$f":"EO8","v":{"$error":"#N/A"}},{"$f":"EP8","v":{"$error":"#N/A"}},{"$f":"EQ8","v":{"$error":"#N/A"}},{"$f":"ER8","v":{"$error":"#N/A"}},{"$f":"ES8","v":{"$error":"#N/A"}}]
[null,null,null,null,null,null,null,null,null,null,null,null,null,null,null,null,null,null,null,null,null,null,null,null,null,null,null,null,null,null,null,null,null,21,5,7,8,11,1,"High Card",10,3,7,7,8,9,11,"One Pair",9,7,5,5,8,11,1,"One Pair",11,null,null,null,null,null,null,null,null,null,null,null,null,null,null,null,null,{"$f":"EU8","v":"Three of a Kind"},{"$f":"EV8","v":{"$error":"#N/A"}},{"$f":"EW8","v":0},{"$f":"EX8","v":{"$error":"#N/A"}},{"$f":"EY8","v":{"$error":"#N/A"}},{"$f":"EZ8","v":0},{"$f":"FA8","v":{"$error":"#N/A"}},{"$f":"FB8","v":{"$error":"#N/A"}},{"$f":"FC8","v":0},{"$f":"FD8","v":{"$error":"#N/A"}}]
[null,null,null,null,null,null,null,null,null,null,null,{"$f":"RANK(L62,$L$62:$P$62,1)","v":{"$error":"#N/A"}},{"$f":"RANK(M62,$L$62:$P$62,1)","v":{"$error":"#N/A"}},{"$f":"RANK(N62,$L$62:$P$62,1)","v":{"$error":"#N/A"}},{"$f":"RANK(O62,$L$62:$P$62,1)","v":{"$error":"#N/A"}},{"$f":"RANK(P62,$L$62:$P$62,1)","v":{"$error":"#N/A"}},null,{"$f":"RANK(R62,$R$62:$V$62,1)","v":{"$error":"#N/A"}},{"$f":"RANK(S62,$R$62:$V$62,1)","v":{"$error":"#N/A"}},{"$f":"RANK(T62,$R$62:$V$62,1)","v":{"$error":"#N/A"}},{"$f":"RANK(U62,$R$62:$V$62,1)","v":{"$error":"#N/A"}},{"$f":"RANK(V62,$R$62:$V$62,1)","v":{"$error":"#N/A"}},null,{"$f":"RANK(X62,$X$62:$AB$62,1)","v":{"$error":"#N/A"}},{"$f":"RANK(Y62,$X$62:$AB$62,1)","v":{"$error":"#N/A"}},{"$error":"#N/A"},{"$error":"#N/A"},{"$error":"#N/A"},null,null,null,null,null,13,3,7,8,11,1,"High Card",10,1,5,7,7,9,11,"One Pair",9,15,5,5,8,11,1,"One Pair",11,null,null,null,null,null,null,null,null,null,null,null,null,null,null,null,null,{"$f":"FF8","v":"Two Pair"},{"$f":"FG8","v":{"$error":"#N/A"}},{"$f":"FH8","v":0},{"$f":"FI8","v":{"$error":"#N/A"}},{"$f":"FJ8","v":{"$error":"#N/A"}},{"$f":"FK8","v":0},{"$f":"FL8","v":{"$error":"#N/A"}},{"$f":"FM8","v":{"$error":"#N/A"}},{"$f":"FN8","v":0},{"$f":"FO8","v":{"$error":"#N/A"}}]
[null,null,null,null,null,null,null,null,null,7,null,{"$f":"[0]!Player11","v":0},{"$f":"[0]!Player12","v":0},{"$f":"[0]!House2","v":0},{"$f":"[0]!House3","v":0},{"$f":"[0]!House4","v":0},null,{"$f":"[0]!Player21","v":0},{"$f":"[0]!Player22","v":0},{"$f":"[0]!House2","v":0},{"$f":"[0]!House3","v":0},{"$f":"[0]!House4","v":0},null,{"$f":"[0]!Player31","v":0},{"$f":"[0]!Player32","v":0},{"$f":"[0]!House2","v":0},{"$f":"[0]!House3","v":0},{"$f":"[0]!House4","v":0},null,null,null,null,null,15,3,5,8,11,1,"High Card",10,17,5,7,7,8,11,"One Pair",9,11,5,5,7,11,1,"One Pair",11,null,null,null,null,null,null,null,null,null,null,null,null,null,null,null,null,{"$f":"FQ8","v":"One Pair"},{"$f":"FR8","v":{"$error":"#N/A"}},{"$f":"FS8","v":0},{"$f":"FT8","v":{"$error":"#N/A"}},{"$f":"FU8","v":{"$error":"#N/A"}},{"$f":"FV8","v":0},{"$f":"FW8","v":{"$error":"#N/A"}},{"$f":"FX8","v":{"$error":"#N/A"}},{"$f":"FY8","v":0},{"$f":"FZ8","v":{"$error":"#N/A"}}]
[null,null,null,null,null,null,null,null,null,null,null,{"$f":"VLOOKUP(L56,$B$1:$F$52,5,0)","v":{"$error":"#N/A"}},{"$f":"VLOOKUP(M56,$B$1:$F$52,5,0)","v":{"$error":"#N/A"}},{"$f":"VLOOKUP(N56,$B$1:$F$52,5,0)","v":{"$error":"#N/A"}},{"$f":"VLOOKUP(O56,$B$1:$F$52,5,0)","v":{"$error":"#N/A"}},{"$f":"VLOOKUP(P56,$B$1:$F$52,5,0)","v":{"$error":"#N/A"}},null,{"$f":"VLOOKUP(R56,$B$1:$F$52,5,0)","v":{"$error":"#N/A"}},{"$f":"VLOOKUP(S56,$B$1:$F$52,5,0)","v":{"$error":"#N/A"}},{"$f":"VLOOKUP(T56,$B$1:$F$52,5,0)","v":{"$error":"#N/A"}},{"$f":"VLOOKUP(U56,$B$1:$F$52,5,0)","v":{"$error":"#N/A"}},{"$f":"VLOOKUP(V56,$B$1:$F$52,5,0)","v":{"$error":"#N/A"}},null,{"$f":"VLOOKUP(X56,$B$1:$F$52,5,0)","v":{"$error":"#N/A"}},{"$f":"VLOOKUP(Y56,$B$1:$F$52,5,0)","v":{"$error":"#N/A"}},{"$f":"VLOOKUP(Z56,$B$1:$F$52,5,0)","v":{"$error":"#N/A"}},{"$f":"VLOOKUP(AA56,$B$1:$F$52,5,0)","v":{"$error":"#N/A"}},{"$f":"VLOOKUP(AB56,$B$1:$F$52,5,0)","v":{"$error":"#N/A"}},null,null,null,null,null,11,3,5,7,11,1,"High Card",10,5,5,7,7,8,9,"One Pair",9,6,5,7,8,8,1,"One Pair",11,null,null,null,null,null,null,null,null,null,null,null,null,null,null,null,null,{"$f":"GB8","v":"High Card"},{"$f":"GC8","v":{"$error":"#N/A"}},{"$f":"GD8","v":0},{"$f":"GE8","v":{"$error":"#N/A"}},{"$f":"GF8","v":{"$error":"#N/A"}},{"$f":"GG8","v":0},{"$f":"GH8","v":{"$error":"#N/A"}},{"$f":"GI8","v":{"$error":"#N/A"}},{"$f":"GJ8","v":0},{"$f":"GK8","v":{"$error":"#N/A"}}]
[null,null,null,null,null,null,null,null,null,null,null,{"$f":"VLOOKUP(L56,$B$1:$F$52,4,0)","v":{"$error":"#N/A"}},{"$f":"VLOOKUP(M56,$B$1:$F$52,4,0)","v":{"$error":"#N/A"}},{"$f":"VLOOKUP(N56,$B$1:$F$52,4,0)","v":{"$error":"#N/A"}},{"$f":"VLOOKUP(O56,$B$1:$F$52,4,0)","v":{"$error":"#N/A"}},{"$f":"VLOOKUP(P56,$B$1:$F$52,4,0)","v":{"$error":"#N/A"}},null,{"$f":"VLOOKUP(R56,$B$1:$F$52,4,0)","v":{"$error":"#N/A"}},{"$f":"VLOOKUP(S56,$B$1:$F$52,4,0)","v":{"$error":"#N/A"}},{"$f":"VLOOKUP(T56,$B$1:$F$52,4,0)","v":{"$error":"#N/A"}},{"$f":"VLOOKUP(U56,$B$1:$F$52,4,0)","v":{"$error":"#N/A"}},{"$f":"VLOOKUP(V56,$B$1:$F$52,4,0)","v":{"$error":"#N/A"}},null,{"$f":"VLOOKUP(X56,$B$1:$F$52,4,0)","v":{"$error":"#N/A"}},{"$f":"VLOOKUP(Y56,$B$1:$F$52,4,0)","v":{"$error":"#N/A"}},{"$f":"VLOOKUP(Z56,$B$1:$F$52,4,0)","v":{"$error":"#N/A"}},{"$f":"VLOOKUP(AA56,$B$1:$F$52,4,0)","v":{"$error":"#N/A"}},{"$f":"VLOOKUP(AB56,$B$1:$F$52,4,0)","v":{"$error":"#N/A"}},null,null,null,null,null,19,5,7,8,9,1,"High Card",10,9,7,8,9,11,1,"High Card",10,19,5,7,8,8,1,"One Pair",11]
[null,null,null,null,null,null,null,null,null,null,null,{"$f":"HLOOKUP(L61,$L$55:$P$58,3,0)","v":{"$error":"#N/A"}},{"$f":"HLOOKUP(M61,$L$55:$P$58,3,0)","v":{"$error":"#N/A"}},{"$f":"HLOOKUP(N61,$L$55:$P$58,3,0)","v":{"$error":"#N/A"}},{"$f":"HLOOKUP(O61,$L$55:$P$58,3,0)","v":{"$error":"#N/A"}},{"$f":"HLOOKUP(P61,$L$55:$P$58,3,0)","v":{"$error":"#N/A"}},null,{"$f":"HLOOKUP(R61,$R$55:$V$58,3,0)","v":{"$error":"#N/A"}},{"$f":"HLOOKUP(S61,$R$55:$V$58,3,0)","v":{"$error":"#N/A"}},{"$f":"HLOOKUP(T61,$R$55:$V$58,3,0)","v":{"$error":"#N/A"}},{"$f":"HLOOKUP(U61,$R$55:$V$58,3,0)","v":{"$error":"#N/A"}},{"$f":"HLOOKUP(V61,$R$55:$V$58,3,0)","v":{"$error":"#N/A"}},null,{"$f":"HLOOKUP(X61,$X$55:$AB$58,3,0)","v":{"$error":"#N/A"}},{"$f":"HLOOKUP(Y61,$X$55:$AB$58,3,0)","v":{"$error":"#N/A"}},{"$error":"#N/A"},{"$error":"#N/A"},{"$error":"#N/A"},null,null,null,null,null,6,3,7,8,9,1,"High Card",10,13,7,8,9,11,1,"High Card",10,4,5,5,7,8,1,"One Pair",11,null,null,null,null,null,null,null,null,null,null,null,null,null,null,null,6,{"$f":"CG9","v":"Royal Flush"},{"$f":"CH9","v":{"$error":"#N/A"}},{"$f":"CI9","v":{"$error":"#N/A"}},{"$f":"CJ9","v":{"$error":"#N/A"}},{"$f":"CK9","v":{"$error":"#N/A"}},{"$f":"CL9","v":{"$error":"#N/A"}},{"$f":"CM9","v":{"$error":"#N/A"}},{"$f":"CN9","v":{"$error":"#N/A"}},{"$f":"CO9","v":{"$error":"#N/A"}},{"$f":"CP9","v":{"$error":"#N/A"}}]
[null,null,null,null,null,null,null,null,null,null,null,{"$f":"HLOOKUP(L61,$L$55:$P$58,4,0)","v":{"$error":"#N/A"}},{"$f":"HLOOKUP(M61,$L$55:$P$58,4,0)","v":{"$error":"#N/A"}},{"$f":"HLOOKUP(N61,$L$55:$P$58,4,0)","v":{"$error":"#N/A"}},{"$f":"HLOOKUP(O61,$L$55:$P$58,4,0)","v":{"$error":"#N/A"}},{"$f":"HLOOKUP(P61,$L$55:$P$58,4,0)","v":{"$error":"#N/A"}},null,{"$f":"HLOOKUP(R61,$R$55:$V$58,4,0)","v":{"$error":"#N/A"}},{"$f":"HLOOKUP(S61,$R$55:$V$58,4,0)","v":{"$error":"#N/A"}},{"$f":"HLOOKUP(T61,$R$55:$V$58,4,0)","v":{"$error":"#N/A"}},{"$f":"HLOOKUP(U61,$R$55:$V$58,4,0)","v":{"$error":"#N/A"}},{"$f":"HLOOKUP(V61,$R$55:$V$58,4,0)","v":{"$error":"#N/A"}},null,{"$f":"HLOOKUP(X61,$X$55:$AB$58,4,0)","v":{"$error":"#N/A"}},{"$f":"HLOOKUP(Y61,$X$55:$AB$58,4,0)","v":{"$error":"#N/A"}},{"$error":"#N/A"},{"$error":"#N/A"},{"$error":"#N/A"},null,null,null,null,null,10,3,5,8,9,1,"High Card",10,15,5,8,9,11,1,"High Card",10,14,5,5,7,8,1,"One Pair",11,null,null,null,null,null,null,null,null,null,null,null,null,null,null,null,null,{"$f":"CR9","v":"Straight Flush"},{"$f":"CS9","v":{"$error":"#N/A"}},{"$f":"CT9","v":{"$error":"#N/A"}},{"$f":"CU9","v":{"$error":"#N/A"}},{"$f":"CV9","v":{"$error":"#N/A"}},{"$f":"CW9","v":{"$error":"#N/A"}},{"$f":"CX9","v":{"$error":"#N/A"}},{"$f":"CY9","v":{"$error":"#N/A"}},{"$f":"CZ9","v":{"$error":"#N/A"}},{"$f":"DA9","v":{"$error":"#N/A"}}]
[null,null,null,null,null,null,null,null,null,null,null,1,2,3,4,5,null,1,2,3,4,5,null,1,2,3,4,5,null,null,null,null,null,4,3,5,7,9,1,"High Card",10,7,5,7,9,11,1,"High Card",10,3,5,7,8,8,11,"One Pair",11,null,null,null,null,null,null,null,null,null,null,null,null,null,null,null,null,{"$f":"DC9","v":"Four of a Kind"},{"$f":"DD9","v":{"$error":"#N/A"}},{"$f":"DE9","v":0},{"$f":"DF9","v":{"$error":"#N/A"}},{"$f":"DG9","v":{"$error":"#N/A"}},{"$f":"DH9","v":0},{"$f":"DI9","v":{"$error":"#N/A"}},{"$f":"DJ9","v":{"$error":"#N/A"}},{"$f":"DK9","v":0},{"$f":"DL9","v":{"$error":"#N/A"}}]
[null,null,null,null,null,null,null,null,null,null,null,{"$f":"L57+IF(L57=1,13+RAND()^3,RAND()^3)","v":{"$error":"#N/A"}},{"$f":"M57+IF(M57=1,13+RAND()^3,RAND()^3)","v":{"$error":"#N/A"}},{"$error":"#N/A"},{"$error":"#N/A"},{"$error":"#N/A"},4.9686807659967952E-8,{"$error":"#N/A"},{"$error":"#N/A"},{"$error":"#N/A"},{"$error":"#N/A"},{"$error":"#N/A"},4.0549312316675915E-7,{"$error":"#N/A"},{"$error":"#N/A"},{"$error":"#N/A"},{"$error":"#N/A"},{"$error":"#N/A"},null,null,null,null,null,14,3,5,7,8,1,"High Card",10,11,5,7,9,11,1,"High Card",10,17,5,7,8,8,11,"One Pair",11,null,null,null,null,null,null,null,null,null,null,null,null,null,null,null,null,{"$f":"DN9","v":"Full House"},{"$f":"DO9","v":{"$error":"#N/A"}},{"$f":"DP9","v":0},{"$f":"DQ9","v":{"$error":"#N/A"}},{"$f":"DR9","v":{"$error":"#N/A"}},{"$f":"DS9","v":0},{"$f":"DT9","v":{"$error":"#N/A"}},{"$f":"DU9","v":{"$error":"#N/A"}},{"$f":"DV9","v":0},{"$f":"DW9","v":{"$error":"#N/A"}}]
[null,null,null,null,null,null,null,null,null,null,null,null,null,null,null,null,null,null,null,null,null,null,null,null,null,null,null,null,null,null,null,null,null,17,5,7,8,9,11,"High Card",10,20,5,7,8,11,1,"High Card",10,1,5,5,7,8,11,"One Pair",11,null,null,null,null,null,null,null,null,null,null,null,null,null,null,null,null,{"$f":"DY9","v":"Flush"},{"$f":"DZ9","v":{"$error":"#N/A"}},{"$f":"EA9","v":0},{"$f":"EB9","v":{"$error":"#N/A"}},{"$f":"EC9","v":{"$error":"#N/A"}},{"$f":"ED9","v":0},{"$f":"EE9","v":{"$error":"#N/A"}},{"$f":"EF9","v":{"$error":"#N/A"}},{"$f":"EG9","v":0},{"$f":"EH9","v":{"$error":"#N/A"}}]
[null,null,null,null,null,null,null,null,null,null,null,{"$f":"RANK(L71,$L$71:$P$71,1)","v":{"$error":"#N/A"}},{"$f":"RANK(M71,$L$71:$P$71,1)","v":{"$error":"#N/A"}},{"$f":"RANK(N71,$L$71:$P$71,1)","v":{"$error":"#N/A"}},{"$f":"RANK(O71,$L$71:$P$71,1)","v":{"$error":"#N/A"}},{"$f":"RANK(P71,$L$71:$P$71,1)","v":{"$error":"#N/A"}},null,{"$f":"RANK(R71,$R$71:$V$71,1)","v":{"$error":"#N/A"}},{"$f":"RANK(S71,$R$71:$V$71,1)","v":{"$error":"#N/A"}},{"$f":"RANK(T71,$R$71:$V$71,1)","v":{"$error":"#N/A"}},{"$f":"RANK(U71,$R$71:$V$71,1)","v":{"$error":"#N/A"}},{"$f":"RANK(V71,$R$71:$V$71,1)","v":{"$error":"#N/A"}},null,{"$f":"RANK(X71,$X$71:$AB$71,1)","v":{"$error":"#N/A"}},{"$f":"RANK(Y71,$X$71:$AB$71,1)","v":{"$error":"#N/A"}},{"$error":"#N/A"},{"$error":"#N/A"},{"$error":"#N/A"},null,null,null,null,null,3,3,7,8,9,11,"High Card",10,21,5,7,8,11,1,"High Card",10,12,5,5,7,8,11,"One Pair",11,null,null,null,null,null,null,null,null,null,null,null,null,null,null,null,null,{"$f":"EJ9","v":"Straight"},{"$f":"EK9","v":{"$error":"#N/A"}},{"$f":"EL9","v":{"$error":"#N/A"}},{"$f":"EM9","v":{"$error":"#N/A"}},{"$f":"EN9","v":{"$error":"#N/A"}},{"$f":"EO9","v":{"$error":"#N/A"}},{"$f":"EP9","v":{"$error":"#N/A"}},{"$f":"EQ9","v":{"$error":"#N/A"}},{"$f":"ER9","v":{"$error":"#N/A"}},{"$f":"ES9","v":{"$error":"#N/A"}}]
[null,null,null,null,null,null,null,null,null,8,null,{"$f":"[0]!Player11","v":0},{"$f":"[0]!Player12","v":0},{"$f":"[0]!House2","v":0},{"$f":"[0]!House3","v":0},{"$f":"[0]!House5","v":0},null,{"$f":"[0]!Player21","v":0},{"$f":"[0]!Player22","v":0},{"$f":"[0]!House2","v":0},{"$f":"[0]!House3","v":0},{"$f":"[0]!House5","v":0},null,{"$f":"[0]!Player31","v":0},{"$f":"[0]!Player32","v":0},{"$f":"[0]!House2","v":0},{"$f":"[0]!House3","v":0},{"$f":"[0]!House5","v":0},null,null,null,null,null,8,3,5,8,9,11,"High Card",10,10,5,7,8,9,1,"High Card",10,2,5,7,8,11,1,"High Card",11,null,null,null,null,null,null,null,null,null,null,null,null,null,null,null,null,{"$f":"EU9","v":"Three of a Kind"},{"$f":"EV9","v":{"$error":"#N/A"}},{"$f":"EW9","v":0},{"$f":"EX9","v":{"$error":"#N/A"}},{"$f":"EY9","v":{"$error":"#N/A"}},{"$f":"EZ9","v":0},{"$f":"FA9","v":{"$error":"#N/A"}},{"$f":"FB9","v":{"$error":"#N/A"}},{"$f":"FC9","v":0},{"$f":"FD9","v":{"$error":"#N/A"}}]
[null,null,null,null,null,null,null,null,null,null,null,{"$f":"VLOOKUP(L65,$B$1:$F$52,5,0)","v":{"$error":"#N/A"}},{"$f":"VLOOKUP(M65,$B$1:$F$52,5,0)","v":{"$error":"#N/A"}},{"$f":"VLOOKUP(N65,$B$1:$F$52,5,0)","v":{"$error":"#N/A"}},{"$f":"VLOOKUP(O65,$B$1:$F$52,5,0)","v":{"$error":"#N/A"}},{"$f":"VLOOKUP(P65,$B$1:$F$52,5,0)","v":{"$error":"#N/A"}},null,{"$f":"VLOOKUP(R65,$B$1:$F$52,5,0)","v":{"$error":"#N/A"}},{"$f":"VLOOKUP(S65,$B$1:$F$52,5,0)","v":{"$error":"#N/A"}},{"$f":"VLOOKUP(T65,$B$1:$F$52,5,0)","v":{"$error":"#N/A"}},{"$f":"VLOOKUP(U65,$B$1:$F$52,5,0)","v":{"$error":"#N/A"}},{"$f":"VLOOKUP(V65,$B$1:$F$52,5,0)","v":{"$error":"#N/A"}},null,{"$f":"VLOOKUP(X65,$B$1:$F$52,5,0)","v":{"$error":"#N/A"}},{"$f":"VLOOKUP(Y65,$B$1:$F$52,5,0)","v":{"$error":"#N/A"}},{"$f":"VLOOKUP(Z65,$B$1:$F$52,5,0)","v":{"$error":"#N/A"}},{"$f":"VLOOKUP(AA65,$B$1:$F$52,5,0)","v":{"$error":"#N/A"}},{"$f":"VLOOKUP(AB65,$B$1:$F$52,5,0)","v":{"$error":"#N/A"}},null,null,null,null,null,1,3,5,7,9,11,"High Card",10,14,5,7,8,9,1,"High Card",10,13,5,7,8,11,1,"High Card",11,null,null,null,null,null,null,null,null,null,null,null,null,null,null,null,null,{"$f":"FF9","v":"Two Pair"},{"$f":"FG9","v":{"$error":"#N/A"}},{"$f":"FH9","v":0},{"$f":"FI9","v":{"$error":"#N/A"}},{"$f":"FJ9","v":{"$error":"#N/A"}},{"$f":"FK9","v":0},{"$f":"FL9","v":{"$error":"#N/A"}},{"$f":"FM9","v":{"$error":"#N/A"}},{"$f":"FN9","v":0},{"$f":"FO9","v":{"$error":"#N/A"}}]
[null,null,null,null,null,null,null,null,null,null,null,{"$f":"VLOOKUP(L65,$B$1:$F$52,4,0)","v":{"$error":"#N/A"}},{"$f":"VLOOKUP(M65,$B$1:$F$52,4,0)","v":{"$error":"#N/A"}},{"$f":"VLOOKUP(N65,$B$1:$F$52,4,0)","v":{"$error":"#N/A"}},{"$f":"VLOOKUP(O65,$B$1:$F$52,4,0)","v":{"$error":"#N/A"}},{"$f":"VLOOKUP(P65,$B$1:$F$52,4,0)","v":{"$error":"#N/A"}},null,{"$f":"VLOOKUP(R65,$B$1:$F$52,4,0)","v":{"$error":"#N/A"}},{"$f":"VLOOKUP(S65,$B$1:$F$52,4,0)","v":{"$error":"#N/A"}},{"$f":"VLOOKUP(T65,$B$1:$F$52,4,0)","v":{"$error":"#N/A"}},{"$f":"VLOOKUP(U65,$B$1:$F$52,4,0)","v":{"$error":"#N/A"}},{"$f":"VLOOKUP(V65,$B$1:$F$52,4,0)","v":{"$error":"#N/A"}},null,{"$f":"VLOOKUP(X65,$B$1:$F$52,4,0)","v":{"$error":"#N/A"}},{"$f":"VLOOKUP(Y65,$B$1:$F$52,4,0)","v":{"$error":"#N/A"}},{"$f":"VLOOKUP(Z65,$B$1:$F$52,4,0)","v":{"$error":"#N/A"}},{"$f":"VLOOKUP(AA65,$B$1:$F$52,4,0)","v":{"$error":"#N/A"}},{"$f":"VLOOKUP(AB65,$B$1:$F$52,4,0)","v":{"$error":"#N/A"}},null,null,null,null,null,12,3,5,7,8,11,"High Card",10,8,5,7,8,9,11,"High Card",10,16,5,7,8,11,1,"High Card",11,null,null,null,null,null,null,null,null,null,null,null,null,null,null,null,null,{"$f":"FQ9","v":"One Pair"},{"$f":"FR9","v":{"$error":"#N/A"}},{"$f":"FS9","v":0},{"$f":"FT9","v":{"$error":"#N/A"}},{"$f":"FU9","v":{"$error":"#N/A"}},{"$f":"FV9","v":0},{"$f":"FW9","v":{"$error":"#N/A"}},{"$f":"FX9","v":{"$error":"#N/A"}},{"$f":"FY9","v":0},{"$f":"FZ9","v":{"$error":"#N/A"}}]
[null,null,null,null,null,null,null,null,null,null,null,{"$f":"HLOOKUP(L70,$L$64:$P$67,3,0)","v":{"$error":"#N/A"}},{"$f":"HLOOKUP(M70,$L$64:$P$67,3,0)","v":{"$error":"#N/A"}},{"$f":"HLOOKUP(N70,$L$64:$P$67,3,0)","v":{"$error":"#N/A"}},{"$f":"HLOOKUP(O70,$L$64:$P$67,3,0)","v":{"$error":"#N/A"}},{"$f":"HLOOKUP(P70,$L$64:$P$67,3,0)","v":{"$error":"#N/A"}},null,{"$f":"HLOOKUP(R70,$R$64:$V$67,3,0)","v":{"$error":"#N/A"}},{"$f":"HLOOKUP(S70,$R$64:$V$67,3,0)","v":{"$error":"#N/A"}},{"$f":"HLOOKUP(T70,$R$64:$V$67,3,0)","v":{"$error":"#N/A"}},{"$f":"HLOOKUP(U70,$R$64:$V$67,3,0)","v":{"$error":"#N/A"}},{"$f":"HLOOKUP(V70,$R$64:$V$67,3,0)","v":{"$error":"#N/A"}},null,{"$f":"HLOOKUP(X70,$X$64:$AB$67,3,0)","v":{"$error":"#N/A"}},{"$f":"HLOOKUP(Y70,$X$64:$AB$67,3,0)","v":{"$error":"#N/A"}},{"$error":"#N/A"},{"$error":"#N/A"},{"$error":"#N/A"},null,null,null,null,null,5,3,5,7,8,9,"High Card",10,12,5,7,8,9,11,"High Card",10,21,5,7,8,11,1,"High Card",11,null,null,null,null,null,null,null,null,null,null,null,null,null,null,null,null,{"$f":"GB9","v":"High Card"},{"$f":"GC9","v":{"$error":"#N/A"}},{"$f":"GD9","v":0},{"$f":"GE9","v":{"$error":"#N/A"}},{"$f":"GF9","v":{"$error":"#N/A"}},{"$f":"GG9","v":0},{"$f":"GH9","v":{"$error":"#N/A"}},{"$f":"GI9","v":{"$error":"#N/A"}},{"$f":"GJ9","v":0},{"$f":"GK9","v":{"$error":"#N/A"}}]
[null,null,null,null,null,null,null,null,null,null,null,{"$f":"HLOOKUP(L70,$L$64:$P$67,4,0)","v":{"$error":"#N/A"}},{"$f":"HLOOKUP(M70,$L$64:$P$67,4,0)","v":{"$error":"#N/A"}},{"$f":"HLOOKUP(N70,$L$64:$P$67,4,0)","v":{"$error":"#N/A"}},{"$f":"HLOOKUP(O70,$L$64:$P$67,4,0)","v":{"$error":"#N/A"}},{"$f":"HLOOKUP(P70,$L$64:$P$67,4,0)","v":{"$error":"#N/A"}},null,{"$f":"HLOOKUP(R70,$R$64:$V$67,4,0)","v":{"$error":"#N/A"}},{"$f":"HLOOKUP(S70,$R$64:$V$67,4,0)","v":{"$error":"#N/A"}},{"$f":"HLOOKUP(T70,$R$64:$V$67,4,0)","v":{"$error":"#N/A"}},{"$f":"HLOOKUP(U70,$R$64:$V$67,4,0)","v":{"$error":"#N/A"}},{"$f":"HLOOKUP(V70,$R$64:$V$67,4,0)","v":{"$error":"#N/A"}},null,{"$f":"HLOOKUP(X70,$X$64:$AB$67,4,0)","v":{"$error":"#N/A"}},{"$f":"HLOOKUP(Y70,$X$64:$AB$67,4,0)","v":{"$error":"#N/A"}},{"$error":"#N/A"},{"$error":"#N/A"},{"$error":"#N/A"},null,null,null,"straight flush/flush",null,null,{"$f":"IF(AND($AI$79=$AJ$79,$AJ$79=$AK$79,$AK$79=$AL$79,$AL$79=$AM$79),IF(MIN(AI78:AM78)=1,14,LARGE($AI$78:$AM$78,1)),0)*IF(OR(AO80=2,AO80=5),1,0)","v":{"$error":"#N/A"}},{"$f":"IF(AND($AI$79=$AJ$79,$AJ$79=$AK$79,$AK$79=$AL$79,$AL$79=$AM$79),IF(AI69=14,LARGE($AI$78:$AM$78,1),LARGE($AI$78:$AM$78,2)),0)*IF(OR(AO80=2,AO80=5),1,0)","v":{"$error":"#N/A"}},{"$f":"IF(AND($AI$79=$AJ$79,$AJ$79=$AK$79,$AK$79=$AL$79,$AL$79=$AM$79),IF(AI69=14,LARGE($AI$78:$AM$78,2),LARGE($AI$78:$AM$78,3)),0)*IF(OR(AO80=2,AO80=5),1,0)","v":{"$error":"#N/A"}},{"$f":"IF(AND($AI$79=$AJ$79,$AJ$79=$AK$79,$AK$79=$AL$79,$AL$79=$AM$79),IF(AI69=14,LARGE($AI$78:$AM$78,3),LARGE($AI$78:$AM$78,4)),0)*IF(OR(AO80=2,AO80=5),1,0)","v":{"$error":"#N/A"}},{"$f":"IF(AND($AI$79=$AJ$79,$AJ$79=$AK$79,$AK$79=$AL$79,$AL$79=$AM$79),IF(AI69=14,LARGE($AI$78:$AM$78,4),LARGE($AI$78:$AM$78,5)),0)*IF(OR(AO80=2,AO80=5),1,0)","v":{"$error":"#N/A"}},null,null,null,{"$f":"IF(AND($AQ$79=$AR$79,$AR$79=$AS$79,$AS$79=$AT$79,$AT$79=$AU$79),IF(MIN(AQ78:AU78)=1,14,LARGE($AQ$78:$AU$78,1)),0)*IF(OR(AW80=2,AW80=5),1,0)","v":{"$error":"#N/A"}},{"$f":"IF(AND($AQ$79=$AR$79,$AR$79=$AS$79,$AS$79=$AT$79,$AT$79=$AU$79),IF($AQ$69=14,LARGE($AQ$78:$AU$78,1),LARGE($AQ$78:$AU$78,2)),0)*IF(OR(AW80=2,AW80=5),1,0)","v":{"$error":"#N/A"}},{"$f":"IF(AND($AQ$79=$AR$79,$AR$79=$AS$79,$AS$79=$AT$79,$AT$79=$AU$79),IF(AQ69=14,LARGE($AQ$78:$AU$78,2),LARGE($AQ$78:$AU$78,3)),0)*IF(OR(AW80=2,AW80=5),1,0)","v":{"$error":"#N/A"}},{"$f":"IF(AND($AQ$79=$AR$79,$AR$79=$AS$79,$AS$79=$AT$79,$AT$79=$AU$79),IF(AQ69=14,LARGE($AQ$78:$AU$78,3),LARGE($AQ$78:$AU$78,4)),0)*IF(OR(AW80=2,AW80=5),1,0)","v":{"$error":"#N/A"}},{"$f":"IF(AND($AQ$79=$AR$79,$AR$79=$AS$79,$AS$79=$AT$79,$AT$79=$AU$79),IF(AQ69=14,LARGE($AQ$78:$AU$78,4),LARGE($AQ$78:$AU$78,5)),0)*IF(OR(AW80=2,AW80=5),1,0)","v":{"$error":"#N/A"}},null,null,null,{"$f":"IF(AND($AY$79=$AZ$79,$AZ$79=$BA$79,$BA$79=$BB$79,$BB$79=$BC$79),IF(MIN(AY78:BC78)=1,14,LARGE($AY$78:$BC$78,1)),0)*IF(OR(BE80=2,BE80=5),1,0)","v":{"$error":"#N/A"}},{"$f":"IF(AND($AY$79=$AZ$79,$AZ$79=$BA$79,$BA$79=$BB$79,$BB$79=$BC$79),IF($AY$69=14,LARGE($AY$78:$BC$78,1),LARGE($AY$78:$BC$78,2)),0)*IF(OR(BE80=2,BE80=5),1,0)","v":{"$error":"#N/A"}},{"$f":"IF(AND($AY$79=$AZ$79,$AZ$79=$BA$79,$BA$79=$BB$79,$BB$79=$BC$79),IF($AY$69=14,LARGE($AY$78:$BC$78,2),LARGE($AY$78:$BC$78,3)),0)*IF(OR(BE80=2,BE80=5),1,0)","v":{"$error":"#N/A"}},{"$f":"IF(AND($AY$79=$AZ$79,$AZ$79=$BA$79,$BA$79=$BB$79,$BB$79=$BC$79),IF($AY$69=14,LARGE($AY$78:$BC$78,3),LARGE($AY$78:$BC$78,4)),0)*IF(OR(BE80=2,BE80=5),1,0)","v":{"$error":"#N/A"}},{"$f":"IF(AND($AY$79=$AZ$79,$AZ$79=$BA$79,$BA$79=$BB$79,$BB$79=$BC$79),IF($AY$69=14,LARGE($AY$78:$BC$78,4),LARGE($AY$78:$BC$78,5)),0)*IF(OR(BE80=2,BE80=5),1,0)","v":{"$error":"#N/A"}}]
[null,null,null,null,null,null,null,null,null,null,null,1,2,3,4,5,null,1,2,3,4,5,null,1,2,3,4,5,null,null,null,"high card/straight",null,null,{"$f":"IF(MIN(AI78:AM78)=1,14,LARGE($AI$78:$AM$78,1))*IF(OR($AO$80=10,$AO$80=6),1,0)","v":14},{"$f":"IF(AI70=14,LARGE($AI$78:$AM$78,1),LARGE($AI$78:$AM$78,2))*IF(OR($AO$80=10,$AO$80=6),1,0)","v":11},{"$f":"IF(AI70=14,LARGE($AI$78:$AM$78,2),LARGE($AI$78:$AM$78,3))*IF(OR($AO$80=10,$AO$80=6),1,0)","v":9},{"$f":"IF(AI70=14,LARGE($AI$78:$AM$78,3),LARGE($AI$78:$AM$78,4))*IF(OR($AO$80=10,$AO$80=6),1,0)","v":8},{"$f":"IF(AI70=14,LARGE($AI$78:$AM$78,4),LARGE($AI$78:$AM$78,5))*IF(OR($AO$80=10,$AO$80=6),1,0)","v":7},null,null,null,{"$f":"IF(MIN(AQ78:AU78)=1,14,LARGE($AQ$78:$AU$78,1))*IF(OR($AW$80=10,$AW$80=6),1,0)","v":0},{"$f":"IF($AQ$70=14,LARGE($AQ$78:$AU$78,1),LARGE($AQ$78:$AU$78,2))*IF(OR($AW$80=10,$AW$80=6),1,0)","v":0},{"$f":"IF(AQ70=14,LARGE($AQ$78:$AU$78,2),LARGE($AQ$78:$AU$78,3))*IF(OR($AW$80=10,$AW$80=6),1,0)","v":0},{"$f":"IF(AQ70=14,LARGE($AQ$78:$AU$78,3),LARGE($AQ$78:$AU$78,4))*IF(OR($AW$80=10,$AW$80=6),1,0)","v":0},{"$f":"IF(AQ70=14,LARGE($AQ$78:$AU$78,4),LARGE($AQ$78:$AU$78,5))*IF(OR($AW$80=10,$AW$80=6),1,0)","v":0},null,null,null,{"$f":"IF(MIN(AY78:BC78)=1,14,LARGE($AY$78:$BC$78,1))*IF(OR($BE$80=10,$BE$80=6),1,0)","v":0},{"$f":"IF($AY$70=14,LARGE($AY$78:$BC$78,1),LARGE($AY$78:$BC$78,2))*IF(OR($BE$80=10,$BE$80=6),1,0)","v":0},{"$f":"IF($AY$70=14,LARGE($AY$78:$BC$78,2),LARGE($AY$78:$BC$78,3))*IF(OR($BE$80=10,$BE$80=6),1,0)","v":0},{"$f":"IF($AY$70=14,LARGE($AY$78:$BC$78,3),LARGE($AY$78:$BC$78,4))*IF(OR($BE$80=10,$BE$80=6),1,0)","v":0},{"$f":"IF($AY$70=14,LARGE($AY$78:$BC$78,4),LARGE($AY$78:$BC$78,5))*IF(OR($BE$80=10,$BE$80=6),1,0)","v":0},null,null,null,null,null,null,null,null,null,null,null,null,null,null,null,null,null,7,{"$f":"CG10","v":"Royal Flush"},{"$f":"CH10","v":{"$error":"#N/A"}},{"$f":"CI10","v":{"$error":"#N/A"}},{"$f":"CJ10","v":{"$error":"#N/A"}},{"$f":"CK10","v":{"$error":"#N/A"}},{"$f":"CL10","v":{"$error":"#N/A"}},{"$f":"CM10","v":{"$error":"#N/A"}},{"$f":"CN10","v":{"$error":"#N/A"}},{"$f":"CO10","v":{"$error":"#N/A"}},{"$f":"CP10","v":{"$error":"#N/A"}}]
[null,null,null,null,null,null,null,null,null,null,null,{"$f":"L66+IF(L66=1,13+RAND()^3,RAND()^3)","v":{"$error":"#N/A"}},{"$f":"M66+IF(M66=1,13+RAND()^3,RAND()^3)","v":{"$error":"#N/A"}},{"$error":"#N/A"},{"$error":"#N/A"},{"$error":"#N/A"},0.66983210029283258,{"$error":"#N/A"},{"$error":"#N/A"},{"$error":"#N/A"},{"$error":"#N/A"},{"$error":"#N/A"},0.56636844556943455,{"$error":"#N/A"},{"$error":"#N/A"},{"$error":"#N/A"},{"$error":"#N/A"},{"$error":"#N/A"},null,null,null,"one pair",null,null,{"$f":"IF(ISNUMBER(MAX($AO$77:$AO$78)),MAX($AO$77:$AO$78),SMALL($AI$78:$AM$78,1))*IF(AO80=9,1,0)","v":0},null,{"$f":"IF(LARGE($AI$77:$AM$77,3)=1,14,LARGE($AI$77:$AM$77,1))*IF(AO80=9,1,0)","v":0},{"$f":"IF(AK71=14,LARGE($AI$77:$AM$77,1),LARGE($AI$77:$AM$77,2))*IF(AO80=9,1,0)","v":0},{"$f":"IF(AK71=14,LARGE($AI$77:$AM$77,2),LARGE($AI$77:$AM$77,3))*IF(AO80=9,1,0)","v":0},null,null,null,{"$f":"IF(ISNUMBER(MAX($AW$77:$AW$78)),MAX($AW$77:$AW$78),SMALL($AQ$78:$AU$78,1))*IF(AW80=9,1,0)","v":7},null,{"$f":"IF(LARGE($AQ$77:$AU$77,3)=1,14,LARGE($AQ$77:$AU$77,1))*IF(AW80=9,1,0)","v":14},{"$f":"IF(AS71=14,LARGE($AQ$77:$AU$77,1),LARGE($AQ$77:$AU$77,2))*IF(AW80=9,1,0)","v":11},{"$f":"IF(AS71=14,LARGE($AQ$77:$AU$77,2),LARGE($AQ$77:$AU$77,3))*IF(AW80=9,1,0)","v":9},null,null,null,{"$f":"IF(ISNUMBER(MAX($BE$77:$BE$78)),MAX($BE$77:$BE$78),SMALL($AY$78:$BC$78,1))*IF(BE80=9,1,0)","v":0},null,{"$f":"IF(LARGE($AY$77:$BC$77,3)=1,14,LARGE($AY$77:$BC$77,1))*IF(BE80=9,1,0)","v":0},{"$f":"IF(BA71=14,LARGE($AY$77:$BC$77,1),LARGE($AY$77:$BC$77,2))*IF(BE80=9,1,0)","v":0},{"$f":"IF(BA71=14,LARGE($AY$77:$BC$77,2),LARGE($AY$77:$BC$77,3))*IF(BE80=9,1,0)","v":0},null,null,null,null,null,null,null,null,null,null,null,null,null,null,null,null,null,null,{"$f":"CR10","v":"Straight Flush"},{"$f":"CS10","v":{"$error":"#N/A"}},{"$f":"CT10","v":{"$error":"#N/A"}},{"$f":"CU10","v":{"$error":"#N/A"}},{"$f":"CV10","v":{"$error":"#N/A"}},{"$f":"CW10","v":{"$error":"#N/A"}},{"$f":"CX10","v":{"$error":"#N/A"}},{"$f":"CY10","v":{"$error":"#N/A"}},{"$f":"CZ10","v":{"$error":"#N/A"}},{"$f":"DA10","v":{"$error":"#N/A"}}]
[null,null,null,null,null,null,null,null,null,null,null,null,null,null,null,null,null,null,null,null,null,null,null,null,null,null,null,null,null,null,null,"three of a kind",null,null,{"$f":"IF(ISNUMBER(MAX($AO$77:$AO$78)),MAX($AO$77:$AO$78),SMALL($AI$78:$AM$78,1))*IF(AO80=7,1,0)","v":0},null,{"$f":"IF(LARGE(AI77:AM77,2)=1,14,LARGE(AI77:AM77,1))*IF(AO80=7,1,0)","v":0},{"$f":"IF(AK72=14,LARGE(AI77:AM77,1),LARGE(AI77:AM77,2))*IF(AO80=7,1,0)","v":0},null,null,null,null,{"$f":"IF(ISNUMBER(MAX($AW$77:$AW$78)),MAX($AW$77:$AW$78),SMALL($AQ$78:$AU$78,1))*IF(AW80=7,1,0)","v":0},null,{"$f":"IF(LARGE(AQ77:AU77,2)=1,14,LARGE(AQ77:AU77,1))*IF(AW80=7,1,0)","v":0},{"$f":"IF(AS72=14,LARGE(AQ77:AU77,1),LARGE(AQ77:AU77,2))*IF(AW80=7,1,0)","v":0},null,null,null,null,{"$f":"IF(ISNUMBER(MAX($BE$77:$BE$78)),MAX($BE$77:$BE$78),SMALL($AY$78:$BC$78,1))*IF(BE80=7,1,0)","v":0},null,{"$f":"IF(LARGE(AY77:BC77,2)=1,14,LARGE(AY77:BC77,1))*IF(BE80=7,1,0)","v":0},{"$f":"IF(BA72=14,LARGE(AY77:BC77,1),LARGE(AY77:BC77,2))*IF(BE80=7,1,0)","v":0},null,null,null,null,null,null,null,null,null,null,null,null,null,null,null,null,null,null,null,{"$f":"DC10","v":"Four of a Kind"},{"$f":"DD10","v":{"$error":"#N/A"}},{"$f":"DE10","v":0},{"$f":"DF10","v":{"$error":"#N/A"}},{"$f":"DG10","v":{"$error":"#N/A"}},{"$f":"DH10","v":0},{"$f":"DI10","v":{"$error":"#N/A"}},{"$f":"DJ10","v":{"$error":"#N/A"}},{"$f":"DK10","v":0},{"$f":"DL10","v":{"$error":"#N/A"}}]
[null,null,null,null,null,null,null,null,null,null,null,{"$f":"RANK(L80,$L$80:$P$80,1)","v":{"$error":"#N/A"}},{"$f":"RANK(M80,$L$80:$P$80,1)","v":{"$error":"#N/A"}},{"$f":"RANK(N80,$L$80:$P$80,1)","v":{"$error":"#N/A"}},{"$f":"RANK(O80,$L$80:$P$80,1)","v":{"$error":"#N/A"}},{"$f":"RANK(P80,$L$80:$P$80,1)","v":{"$error":"#N/A"}},null,{"$f":"RANK(R80,$R$80:$V$80,1)","v":{"$error":"#N/A"}},{"$f":"RANK(S80,$R$80:$V$80,1)","v":{"$error":"#N/A"}},{"$f":"RANK(T80,$R$80:$V$80,1)","v":{"$error":"#N/A"}},{"$f":"RANK(U80,$R$80:$V$80,1)","v":{"$error":"#N/A"}},{"$f":"RANK(V80,$R$80:$V$80,1)","v":{"$error":"#N/A"}},null,{"$f":"RANK(X80,$X$80:$AB$80,1)","v":{"$error":"#N/A"}},{"$f":"RANK(Y80,$X$80:$AB$80,1)","v":{"$error":"#N/A"}},{"$error":"#N/A"},{"$error":"#N/A"},{"$error":"#N/A"},null,null,null,"two pairs",null,null,{"$f":"IF(ISNUMBER(MAX($AO$77:$AO$78)),MAX($AO$77:$AO$78),SMALL($AI$78:$AM$78,1))*IF(AO80=8,1,0)","v":0},{"$f":"IF(ISNUMBER(MIN($AO$77:$AO$78)),MIN($AO$77:$AO$78),SMALL($AI$78:$AM$78,2))*IF(AO80=8,1,0)","v":0},{"$f":"IF(OR($AI$77=1,$AJ$77=1,$AK$77=1,$AL$77=1,$AM$77=1),14,MAX($AI$77:$AM$77))*IF(AO80=8,1,0)","v":0},null,null,null,null,null,{"$f":"IF(ISNUMBER(MAX($AW$77:$AW$78)),MAX($AW$77:$AW$78),SMALL($AQ$78:$AU$78,1))*IF(AW80=8,1,0)","v":0},{"$f":"IF(ISNUMBER(MIN($AW$77:$AW$78)),MIN($AW$77:$AW$78),SMALL($AQ$78:$AU$78,2))*IF(AW80=8,1,0)","v":0},{"$f":"IF(OR($AQ$77=1,$AR$77=1,$AS$77=1,$AT$77=1,$AU$77=1),14,MAX($AQ$77:$AU$77))*IF(AW80=8,1,0)","v":0},null,null,null,null,null,{"$f":"IF(ISNUMBER(MAX($BE$77:$BE$78)),MAX($BE$77:$BE$78),SMALL($AY$78:$BC$78,1))*IF(BE80=8,1,0)","v":0},{"$f":"IF(ISNUMBER(MIN($BE$77:$BE$78)),MIN($BE$77:$BE$78),SMALL($AY$78:$BC$78,2))*IF(BE80=8,1,0)","v":0},{"$f":"IF(OR($AY$77=1,$AZ$77=1,$BA$77=1,$BB$77=1,$BC$77=1),14,MAX($AY$77:$BC$77))*IF(BE80=8,1,0)","v":0},null,null,null,null,null,null,null,null,null,null,null,null,null,null,null,null,null,null,null,null,{"$f":"DN10","v":"Full House"},{"$f":"DO10","v":{"$error":"#N/A"}},{"$f":"DP10","v":0},{"$f":"DQ10","v":{"$error":"#N/A"}},{"$f":"DR10","v":{"$error":"#N/A"}},{"$f":"DS10","v":0},{"$f":"DT10","v":{"$error":"#N/A"}},{"$f":"DU10","v":{"$error":"#N/A"}},{"$f":"DV10","v":0},{"$f":"DW10","v":{"$error":"#N/A"}}]
[null,null,null,null,null,null,null,null,null,9,null,{"$f":"[0]!Player11","v":0},{"$f":"[0]!Player12","v":0},{"$f":"[0]!House2","v":0},{"$f":"[0]!House4","v":0},{"$f":"[0]!House5","v":0},null,{"$f":"[0]!Player21","v":0},{"$f":"[0]!Player22","v":0},{"$f":"[0]!House2","v":0},{"$f":"[0]!House4","v":0},{"$f":"[0]!House5","v":0},null,{"$f":"[0]!Player31","v":0},{"$f":"[0]!Player32","v":0},{"$f":"[0]!House2","v":0},{"$f":"[0]!House4","v":0},{"$f":"[0]!House5","v":0},null,null,null,"full house",null,null,{"$f":"IF(OR(AND($AN$79=2,$AO$79=3),AND($AN$79=3,$AO$79=2)),LARGE($AI$78:$AM$78,1),0)*IF($AO$80=4,1,0)","v":0},{"$f":"IF(OR(AND($AN$79=2,$AO$79=3),AND($AN$79=3,$AO$79=2)),SMALL($AI$78:$AM$78,1),0)*IF($AO$80=4,1,0)","v":0},null,null,null,null,null,null,{"$f":"IF(OR(AND($AV$79=2,$AW$79=3),AND($AV$79=3,$AW$79=2)),LARGE($AQ$78:$AU$78,1),0)*IF($AW$80=4,1,0)","v":0},{"$f":"IF(OR(AND($AV$79=2,$AW$79=3),AND($AV$79=3,$AW$79=2)),SMALL($AQ$78:$AU$78,1),0)*IF($AW$80=4,1,0)","v":0},null,null,null,null,null,null,{"$f":"IF(OR(AND($BD$79=2,$BE$79=3),AND($BD$79=3,$BE$79=2)),LARGE($AY$78:$BC$78,1),0)*IF($BE$80=4,1,0)","v":0},{"$f":"IF(OR(AND($BD$79=2,$BE$79=3),AND($BD$79=3,$BE$79=2)),SMALL($AY$78:$BC$78,1),0)*IF($BE$80=4,1,0)","v":0},null,null,null,null,null,null,null,null,null,null,null,null,null,null,null,null,null,null,null,null,null,{"$f":"DY10","v":"Flush"},{"$f":"DZ10","v":{"$error":"#N/A"}},{"$f":"EA10","v":0},{"$f":"EB10","v":{"$error":"#N/A"}},{"$f":"EC10","v":{"$error":"#N/A"}},{"$f":"ED10","v":0},{"$f":"EE10","v":{"$error":"#N/A"}},{"$f":"EF10","v":{"$error":"#N/A"}},{"$f":"EG10","v":0},{"$f":"EH10","v":{"$error":"#N/A"}}]
[null,null,null,null,null,null,null,null,null,null,null,{"$f":"VLOOKUP(L74,$B$1:$F$52,5,0)","v":{"$error":"#N/A"}},{"$f":"VLOOKUP(M74,$B$1:$F$52,5,0)","v":{"$error":"#N/A"}},{"$f":"VLOOKUP(N74,$B$1:$F$52,5,0)","v":{"$error":"#N/A"}},{"$f":"VLOOKUP(O74,$B$1:$F$52,5,0)","v":{"$error":"#N/A"}},{"$f":"VLOOKUP(P74,$B$1:$F$52,5,0)","v":{"$error":"#N/A"}},null,{"$f":"VLOOKUP(R74,$B$1:$F$52,5,0)","v":{"$error":"#N/A"}},{"$f":"VLOOKUP(S74,$B$1:$F$52,5,0)","v":{"$error":"#N/A"}},{"$f":"VLOOKUP(T74,$B$1:$F$52,5,0)","v":{"$error":"#N/A"}},{"$f":"VLOOKUP(U74,$B$1:$F$52,5,0)","v":{"$error":"#N/A"}},{"$f":"VLOOKUP(V74,$B$1:$F$52,5,0)","v":{"$error":"#N/A"}},null,{"$f":"VLOOKUP(X74,$B$1:$F$52,5,0)","v":{"$error":"#N/A"}},{"$f":"VLOOKUP(Y74,$B$1:$F$52,5,0)","v":{"$error":"#N/A"}},{"$f":"VLOOKUP(Z74,$B$1:$F$52,5,0)","v":{"$error":"#N/A"}},{"$f":"VLOOKUP(AA74,$B$1:$F$52,5,0)","v":{"$error":"#N/A"}},{"$f":"VLOOKUP(AB74,$B$1:$F$52,5,0)","v":{"$error":"#N/A"}},null,null,null,"four of a kind",null,null,{"$f":"IF(ISNUMBER(MAX($AO$77:$AO$78)),MAX($AO$77:$AO$78),SMALL($AI$78:$AM$78,1))*IF(AO80=3,1,0)","v":0},null,{"$f":"IF(OR($AI$77=1,$AJ$77=1,$AK$77=1,$AL$77=1,$AM$77=1),14,MAX($AI$77:$AM$77))*IF(AO80=3,1,0)","v":0},null,null,null,null,null,{"$f":"IF(ISNUMBER(MAX($AW$77:$AW$78)),MAX($AW$77:$AW$78),SMALL($AQ$78:$AU$78,1))*IF(AW80=3,1,0)","v":0},null,{"$f":"IF(OR($AQ$77=1,$AR$77=1,$AS$77=1,$AT$77=1,$AU$77=1),14,MAX($AQ$77:$AU$77))*IF(AW80=3,1,0)","v":0},null,null,null,null,null,{"$f":"IF(ISNUMBER(MAX($BE$77:$BE$78)),MAX($BE$77:$BE$78),SMALL($AY$78:$BC$78,1))*IF(BE80=3,1,0)","v":0},null,{"$f":"IF(OR($AY$77=1,$AZ$77=1,$BA$77=1,$BB$77=1,$BC$77=1),14,MAX($AY$77:$BC$77))*IF(BE80=3,1,0)","v":0},null,null,null,null,null,null,null,null,null,null,null,null,null,null,null,null,null,null,null,null,{"$f":"EJ10","v":"Straight"},{"$f":"EK10","v":{"$error":"#N/A"}},{"$f":"EL10","v":{"$error":"#N/A"}},{"$f":"EM10","v":{"$error":"#N/A"}},{"$f":"EN10","v":{"$error":"#N/A"}},{"$f":"EO10","v":{"$error":"#N/A"}},{"$f":"EP10","v":{"$error":"#N/A"}},{"$f":"EQ10","v":{"$error":"#N/A"}},{"$f":"ER10","v":{"$error":"#N/A"}},{"$f":"ES10","v":{"$error":"#N/A"}}]
[null,null,null,null,null,null,null,null,null,null,null,{"$f":"VLOOKUP(L74,$B$1:$F$52,4,0)","v":{"$error":"#N/A"}},{"$f":"VLOOKUP(M74,$B$1:$F$52,4,0)","v":{"$error":"#N/A"}},{"$f":"VLOOKUP(N74,$B$1:$F$52,4,0)","v":{"$error":"#N/A"}},{"$f":"VLOOKUP(O74,$B$1:$F$52,4,0)","v":{"$error":"#N/A"}},{"$f":"VLOOKUP(P74,$B$1:$F$52,4,0)","v":{"$error":"#N/A"}},null,{"$f":"VLOOKUP(R74,$B$1:$F$52,4,0)","v":{"$error":"#N/A"}},{"$f":"VLOOKUP(S74,$B$1:$F$52,4,0)","v":{"$error":"#N/A"}},{"$f":"VLOOKUP(T74,$B$1:$F$52,4,0)","v":{"$error":"#N/A"}},{"$f":"VLOOKUP(U74,$B$1:$F$52,4,0)","v":{"$error":"#N/A"}},{"$f":"VLOOKUP(V74,$B$1:$F$52,4,0)","v":{"$error":"#N/A"}},null,{"$f":"VLOOKUP(X74,$B$1:$F$52,4,0)","v":{"$error":"#N/A"}},{"$f":"VLOOKUP(Y74,$B$1:$F$52,4,0)","v":{"$error":"#N/A"}},{"$f":"VLOOKUP(Z74,$B$1:$F$52,4,0)","v":{"$error":"#N/A"}},{"$f":"VLOOKUP(AA74,$B$1:$F$52,4,0)","v":{"$error":"#N/A"}},{"$f":"VLOOKUP(AB74,$B$1:$F$52,4,0)","v":{"$error":"#N/A"}},null,null,null,null,null,null,{"$f":"AO77","v":0},{"$f":"AO78","v":{"$error":"#N/A"}},null,null,null,null,null,null,{"$f":"AW77","v":7},{"$f":"AW78","v":0},null,null,null,null,null,null,{"$f":"BE77","v":5},{"$f":"BE78","v":8},null,null,null,null,null,null,null,null,null,null,null,null,null,null,null,null,null,null,null,null,null,{"$f":"EU10","v":"Three of a Kind"},{"$f":"EV10","v":{"$error":"#N/A"}},{"$f":"EW10","v":0},{"$f":"EX10","v":{"$error":"#N/A"}},{"$f":"EY10","v":{"$error":"#N/A"}},{"$f":"EZ10","v":0},{"$f":"FA10","v":{"$error":"#N/A"}},{"$f":"FB10","v":{"$error":"#N/A"}},{"$f":"FC10","v":0},{"$f":"FD10","v":{"$error":"#N/A"}}]
[null,null,null,null,null,null,null,null,null,null,null,{"$f":"HLOOKUP(L79,$L$73:$P$76,3,0)","v":{"$error":"#N/A"}},{"$f":"HLOOKUP(M79,$L$73:$P$76,3,0)","v":{"$error":"#N/A"}},{"$f":"HLOOKUP(N79,$L$73:$P$76,3,0)","v":{"$error":"#N/A"}},{"$f":"HLOOKUP(O79,$L$73:$P$76,3,0)","v":{"$error":"#N/A"}},{"$f":"HLOOKUP(P79,$L$73:$P$76,3,0)","v":{"$error":"#N/A"}},null,{"$f":"HLOOKUP(R79,$R$73:$V$76,3,0)","v":{"$error":"#N/A"}},{"$f":"HLOOKUP(S79,$R$73:$V$76,3,0)","v":{"$error":"#N/A"}},{"$f":"HLOOKUP(T79,$R$73:$V$76,3,0)","v":{"$error":"#N/A"}},{"$f":"HLOOKUP(U79,$R$73:$V$76,3,0)","v":{"$error":"#N/A"}},{"$f":"HLOOKUP(V79,$R$73:$V$76,3,0)","v":{"$error":"#N/A"}},null,{"$f":"HLOOKUP(X79,$X$73:$AB$76,3,0)","v":{"$error":"#N/A"}},{"$f":"HLOOKUP(Y79,$X$73:$AB$76,3,0)","v":{"$error":"#N/A"}},{"$error":"#N/A"},{"$error":"#N/A"},{"$error":"#N/A"},null,null,null,null,null,null,{"$f":"IF(AND($AI$78<>$AJ$78,$AJ$78<>$AK$78,$AK$78<>$AL$78,$AL$78<>$AM$78),AI78,IF(OR(AI78=$AN$77,AI78=$AN$78),0,AI78))","v":7},{"$f":"IF(AND($AI$78<>$AJ$78,$AJ$78<>$AK$78,$AK$78<>$AL$78,$AL$78<>$AM$78),AJ78,IF(OR(AJ78=$AN$77,AJ78=$AN$78),0,AJ78))","v":8},{"$f":"IF(AND($AI$78<>$AJ$78,$AJ$78<>$AK$78,$AK$78<>$AL$78,$AL$78<>$AM$78),AK78,IF(OR(AK78=$AN$77,AK78=$AN$78),0,AK78))","v":9},{"$f":"IF(AND($AI$78<>$AJ$78,$AJ$78<>$AK$78,$AK$78<>$AL$78,$AL$78<>$AM$78),AL78,IF(OR(AL78=$AN$77,AL78=$AN$78),0,AL78))","v":11},{"$f":"IF(AND($AI$78<>$AJ$78,$AJ$78<>$AK$78,$AK$78<>$AL$78,$AL$78<>$AM$78),AM78,IF(OR(AM78=$AN$77,AM78=$AN$78),0,AM78))","v":1},{"$f":"_xlfn.MODE.MULT(AI78:AM78)","v":{"$error":"#N/A"}},{"$f":"IF(ISNUMBER(AN77),IF(AN77=1,14,AN77),0)","v":0},null,{"$f":"IF(AND($AQ$78<>$AR$78,$AR$78<>$AS$78,$AS$78<>$AT$78,$AT$78<>$AU$78),AQ78,IF(OR(AQ78=$AV$77,AQ78=$AV$78),0,AQ78))","v":0},{"$f":"IF(AND($AQ$78<>$AR$78,$AR$78<>$AS$78,$AS$78<>$AT$78,$AT$78<>$AU$78),AR78,IF(OR(AR78=$AV$77,AR78=$AV$78),0,AR78))","v":0},{"$f":"IF(AND($AQ$78<>$AR$78,$AR$78<>$AS$78,$AS$78<>$AT$78,$AT$78<>$AU$78),AS78,IF(OR(AS78=$AV$77,AS78=$AV$78),0,AS78))","v":9},{"$f":"IF(AND($AQ$78<>$AR$78,$AR$78<>$AS$78,$AS$78<>$AT$78,$AT$78<>$AU$78),AT78,IF(OR(AT78=$AV$77,AT78=$AV$78),0,AT78))","v":11},{"$f":"IF(AND($AQ$78<>$AR$78,$AR$78<>$AS$78,$AS$78<>$AT$78,$AT$78<>$AU$78),AU78,IF(OR(AU78=$AV$77,AU78=$AV$78),0,AU78))","v":1},{"$f":"_xlfn.MODE.MULT(AQ78:AU78)","v":7},{"$f":"IF(ISNUMBER(AV77),IF(AV77=1,14,AV77),0)","v":7},null,{"$f":"IF(AND($AY$78<>$AZ$78,$AZ$78<>$BA$78,$BA$78<>$BB$78,$BB$78<>$BC$78),AY78,IF(OR(AY78=$BD$77,AY78=$BD$78),0,AY78))","v":0},{"$f":"IF(AND($AY$78<>$AZ$78,$AZ$78<>$BA$78,$BA$78<>$BB$78,$BB$78<>$BC$78),AZ78,IF(OR(AZ78=$BD$77,AZ78=$BD$78),0,AZ78))","v":0},{"$f":"IF(AND($AY$78<>$AZ$78,$AZ$78<>$BA$78,$BA$78<>$BB$78,$BB$78<>$BC$78),BA78,IF(OR(BA78=$BD$77,BA78=$BD$78),0,BA78))","v":0},{"$f":"IF(AND($AY$78<>$AZ$78,$AZ$78<>$BA$78,$BA$78<>$BB$78,$BB$78<>$BC$78),BB78,IF(OR(BB78=$BD$77,BB78=$BD$78),0,BB78))","v":0},{"$f":"IF(AND($AY$78<>$AZ$78,$AZ$78<>$BA$78,$BA$78<>$BB$78,$BB$78<>$BC$78),BC78,IF(OR(BC78=$BD$77,BC78=$BD$78),0,BC78))","v":1},{"$f":"_xlfn.MODE.MULT(AY78:BC78)","v":5},{"$f":"IF(ISNUMBER(BD77),IF(BD77=1,14,BD77),0)","v":5},null,null,null,null,null,null,null,null,null,null,null,null,null,null,null,null,{"$f":"FF10","v":"Two Pair"},{"$f":"FG10","v":{"$error":"#N/A"}},{"$f":"FH10","v":0},{"$f":"FI10","v":{"$error":"#N/A"}},{"$f":"FJ10","v":{"$error":"#N/A"}},{"$f":"FK10","v":0},{"$f":"FL10","v":{"$error":"#N/A"}},{"$f":"FM10","v":{"$error":"#N/A"}},{"$f":"FN10","v":0},{"$f":"FO10","v":{"$error":"#N/A"}}]
[null,null,null,null,null,null,null,null,null,null,null,{"$f":"HLOOKUP(L79,$L$73:$P$76,4,0)","v":{"$error":"#N/A"}},{"$f":"HLOOKUP(M79,$L$73:$P$76,4,0)","v":{"$error":"#N/A"}},{"$f":"HLOOKUP(N79,$L$73:$P$76,4,0)","v":{"$error":"#N/A"}},{"$f":"HLOOKUP(O79,$L$73:$P$76,4,0)","v":{"$error":"#N/A"}},{"$f":"HLOOKUP(P79,$L$73:$P$76,4,0)","v":{"$error":"#N/A"}},null,{"$f":"HLOOKUP(R79,$R$73:$V$76,4,0)","v":{"$error":"#N/A"}},{"$f":"HLOOKUP(S79,$R$73:$V$76,4,0)","v":{"$error":"#N/A"}},{"$f":"HLOOKUP(T79,$R$73:$V$76,4,0)","v":{"$error":"#N/A"}},{"$f":"HLOOKUP(U79,$R$73:$V$76,4,0)","v":{"$error":"#N/A"}},{"$f":"HLOOKUP(V79,$R$73:$V$76,4,0)","v":{"$error":"#N/A"}},null,{"$f":"HLOOKUP(X79,$X$73:$AB$76,4,0)","v":{"$error":"#N/A"}},{"$f":"HLOOKUP(Y79,$X$73:$AB$76,4,0)","v":{"$error":"#N/A"}},{"$error":"#N/A"},{"$error":"#N/A"},{"$error":"#N/A"},null,null,null,null,null,{"$f":"AH48","v":18},7,8,9,11,1,{"$error":"#N/A"},{"$f":"IF(AN78=AN77,0,IF(ISNUMBER(AN78),IF(AN78=1,14,AN78),0))","v":{"$error":"#N/A"}},{"$f":"AP48","v":2},7,7,9,11,1,7,{"$f":"IF(AV78=AV77,0,IF(ISNUMBER(AV78),IF(AV78=1,14,AV78),0))","v":0},{"$f":"AX48","v":10},5,5,8,8,1,8,{"$f":"IF(BD78=BD77,0,IF(ISNUMBER(BD78),IF(BD78=1,14,BD78),0))","v":8},null,null,null,null,null,null,null,null,null,null,null,null,null,null,null,null,{"$f":"FQ10:FQ10","v":"One Pair"},{"$f":"FR10:FR10","v":{"$error":"#N/A"}},{"$f":"FS10:FS10","v":0},{"$f":"FT10:FT10","v":{"$error":"#N/A"}},{"$f":"FU10:FU10","v":{"$error":"#N/A"}},{"$f":"FV10:FV10","v":0},{"$f":"FW10:FW10","v":{"$error":"#N/A"}},{"$f":"FX10:FX10","v":{"$error":"#N/A"}},{"$f":"FY10:FY10","v":0},{"$f":"FZ10:FZ10","v":{"$error":"#N/A"}}]
[null,null,null,null,null,null,null,null,null,null,null,1,2,3,4,5,null,1,2,3,4,5,null,1,2,3,4,5,null,null,null,null,null,{"$f":"AH78","v":18},{"$f":"VLOOKUP($AH$79,$AH$25:$AM$45,2,0)","v":{"$error":"#N/A"}},{"$f":"VLOOKUP($AH$79,$AH$25:$AM$45,3,0)","v":{"$error":"#N/A"}},{"$f":"VLOOKUP($AH$79,$AH$25:$AM$45,4,0)","v":{"$error":"#N/A"}},{"$f":"VLOOKUP($AH$79,$AH$25:$AM$45,5,0)","v":{"$error":"#N/A"}},{"$f":"VLOOKUP($AH$79,$AH$25:$AM$45,6,0)","v":{"$error":"#N/A"}},{"$f":"COUNTIF($AI$78:$AM$78,AI78)","v":1},{"$f":"COUNTIF($AI$78:$AM$78,AM78)","v":1},{"$f":"AP78","v":2},{"$f":"VLOOKUP($AP$79,$AP$25:$AU$45,2,0)","v":{"$error":"#N/A"}},{"$f":"VLOOKUP($AP$79,$AP$25:$AU$45,3,0)","v":{"$error":"#N/A"}},{"$f":"VLOOKUP($AP$79,$AP$25:$AU$45,4,0)","v":{"$error":"#N/A"}},{"$f":"VLOOKUP($AP$79,$AP$25:$AU$45,5,0)","v":{"$error":"#N/A"}},{"$f":"VLOOKUP($AP$79,$AP$25:$AU$45,6,0)","v":{"$error":"#N/A"}},{"$f":"COUNTIF($AQ$78:$AU$78,AQ78)","v":2},{"$f":"COUNTIF($AQ$78:$AU$78,AU78)","v":1},{"$f":"AX78","v":10},{"$f":"VLOOKUP($AX$79,$AX$25:$BC$45,2,0)","v":{"$error":"#N/A"}},{"$f":"VLOOKUP($AX$79,$AX$25:$BC$45,3,0)","v":{"$error":"#N/A"}},{"$f":"VLOOKUP($AX$79,$AX$25:$BC$45,4,0)","v":{"$error":"#N/A"}},{"$f":"VLOOKUP($AX$79,$AX$25:$BC$45,5,0)","v":{"$error":"#N/A"}},{"$f":"VLOOKUP($AX$79,$AX$25:$BC$45,6,0)","v":{"$error":"#N/A"}},{"$f":"COUNTIF($AY$78:$BC$78,AY78)","v":2},{"$f":"COUNTIF($AY$78:$BC$78,BC78)","v":1},null,null,null,null,null,null,null,null,null,null,null,null,null,null,null,null,{"$f":"GB10","v":"High Card"},{"$f":"GC10","v":{"$error":"#N/A"}},{"$f":"GD10","v":0},{"$f":"GE10","v":{"$error":"#N/A"}},{"$f":"GF10","v":{"$error":"#N/A"}},{"$f":"GG10","v":0},{"$f":"GH10","v":{"$error":"#N/A"}},{"$f":"GI10","v":{"$error":"#N/A"}},{"$f":"GJ10","v":0},{"$f":"GK10","v":{"$error":"#N/A"}}]
[null,null,null,null,null,null,null,null,null,null,null,{"$f":"L75+IF(L75=1,13+RAND()^3,RAND()^3)","v":{"$error":"#N/A"}},{"$f":"M75+IF(M75=1,13+RAND()^3,RAND()^3)","v":{"$error":"#N/A"}},{"$error":"#N/A"},{"$error":"#N/A"},{"$error":"#N/A"},8.342038803584606E-2,{"$error":"#N/A"},{"$error":"#N/A"},{"$error":"#N/A"},{"$error":"#N/A"},{"$error":"#N/A"},8.8735711455660983E-5,{"$error":"#N/A"},{"$error":"#N/A"},{"$error":"#N/A"},{"$error":"#N/A"},{"$error":"#N/A"},null,null,null,null,null,{"$f":"AH79","v":18},{"$f":"VLOOKUP($AH$78,$J$2:$AB$182,3,0)","v":0},{"$f":"VLOOKUP($AH$78,$J$2:$AB$182,4,0)","v":0},{"$f":"VLOOKUP($AH$78,$J$2:$AB$182,5,0)","v":0},{"$f":"VLOOKUP($AH$78,$J$2:$AB$182,6,0)","v":0},{"$f":"VLOOKUP($AH$78,$J$2:$AB$182,7,0)","v":0},{"$f":"INDEX($AN$48:$AN$68,MATCH($AO$80,$AO$48:$AO$68,0))","v":"High Card"},{"$f":"SMALL($AO$48:$AO$68,1)","v":10},{"$f":"AP79","v":2},{"$f":"VLOOKUP($AP$78,$J$2:$AB$182,9,0)","v":0},{"$f":"VLOOKUP($AP$78,$J$2:$AB$182,10,0)","v":0},{"$f":"VLOOKUP($AP$78,$J$2:$AB$182,11,0)","v":0},{"$f":"VLOOKUP($AP$78,$J$2:$AB$182,12,0)","v":0},{"$f":"VLOOKUP($AP$78,$J$2:$AB$182,13,0)","v":0},{"$f":"INDEX($AV$48:$AV$68,MATCH($AW$80,$AW$48:$AW$68,0))","v":"One Pair"},{"$f":"SMALL($AW$48:$AW$68,1)","v":9},{"$f":"AX79","v":10},{"$f":"VLOOKUP($AX$78,$J$2:$AB$182,15,0)","v":0},{"$f":"VLOOKUP($AX$78,$J$2:$AB$182,16,0)","v":0},{"$f":"VLOOKUP($AX$78,$J$2:$AB$182,17,0)","v":0},{"$f":"VLOOKUP($AX$78,$J$2:$AB$182,18,0)","v":0},{"$f":"VLOOKUP($AX$78,$J$2:$AB$182,19,0)","v":0},{"$f":"INDEX($BD$48:$BD$68,MATCH($BE$80,$BE$48:$BE$68,0))","v":"Two Pair"},{"$f":"SMALL($BE$48:$BE$68,1)","v":11}]
[null,null,null,null,null,null,null,null,null,null,null,null,null,null,null,null,null,null,null,null,null,null,null,null,null,null,null,null,null,null,null,null,null,null,{"$f":"INDEX($A$1:$A$52,MATCH(AI80,$B$1:$B$52,0))","v":{"$error":"#N/A"}},{"$f":"INDEX($A$1:$A$52,MATCH(AJ80,$B$1:$B$52,0))","v":{"$error":"#N/A"}},{"$error":"#N/A"},{"$error":"#N/A"},{"$error":"#N/A"},null,null,null,{"$f":"INDEX($A$1:$A$52,MATCH(AQ80,$B$1:$B$52,0))","v":{"$error":"#N/A"}},{"$f":"INDEX($A$1:$A$52,MATCH(AR80,$B$1:$B$52,0))","v":{"$error":"#N/A"}},{"$error":"#N/A"},{"$error":"#N/A"},{"$error":"#N/A"},null,null,null,{"$f":"INDEX($A$1:$A$52,MATCH(AY80,$B$1:$B$52,0))","v":{"$error":"#N/A"}},{"$f":"INDEX($A$1:$A$52,MATCH(AZ80,$B$1:$B$52,0))","v":{"$error":"#N/A"}},{"$error":"#N/A"},{"$error":"#N/A"},{"$error":"#N/A"},null,null,null,null,null,null,null,null,null,null,null,null,null,null,null,null,null,8,{"$f":"CG11","v":"Royal Flush"},{"$f":"CH11","v":{"$error":"#N/A"}},{"$f":"CI11","v":{"$error":"#N/A"}},{"$f":"CJ11","v":{"$error":"#N/A"}},{"$f":"CK11","v":{"$error":"#N/A"}},{"$f":"CL11","v":{"$error":"#N/A"}},{"$f":"CM11","v":{"$error":"#N/A"}},{"$f":"CN11","v":{"$error":"#N/A"}},{"$f":"CO11","v":{"$error":"#N/A"}},{"$f":"CP11","v":{"$error":"#N/A"}}]
[null,null,null,null,null,null,null,null,null,null,null,{"$f":"RANK(L89,$L$89:$P$89,1)","v":{"$error":"#N/A"}},{"$f":"RANK(M89,$L$89:$P$89,1)","v":{"$error":"#N/A"}},{"$f":"RANK(N89,$L$89:$P$89,1)","v":{"$error":"#N/A"}},{"$f":"RANK(O89,$L$89:$P$89,1)","v":{"$error":"#N/A"}},{"$f":"RANK(P89,$L$89:$P$89,1)","v":{"$error":"#N/A"}},null,{"$f":"RANK(R89,$R$89:$V$89,1)","v":{"$error":"#N/A"}},{"$f":"RANK(S89,$R$89:$V$89,1)","v":{"$error":"#N/A"}},{"$f":"RANK(T89,$R$89:$V$89,1)","v":{"$error":"#N/A"}},{"$f":"RANK(U89,$R$89:$V$89,1)","v":{"$error":"#N/A"}},{"$f":"RANK(V89,$R$89:$V$89,1)","v":{"$error":"#N/A"}},null,{"$f":"RANK(X89,$X$89:$AB$89,1)","v":{"$error":"#N/A"}},{"$f":"RANK(Y89,$X$89:$AB$89,1)","v":{"$error":"#N/A"}},{"$error":"#N/A"},{"$error":"#N/A"},{"$error":"#N/A"},null,null,null,null,null,null,null,null,null,null,null,null,null,null,null,null,null,null,null,null,null,null,null,null,null,null,null,null,null,null,null,null,null,null,null,null,null,null,null,null,null,null,null,null,null,{"$f":"CR11","v":"Straight Flush"},{"$f":"CS11","v":{"$error":"#N/A"}},{"$f":"CT11","v":{"$error":"#N/A"}},{"$f":"CU11","v":{"$error":"#N/A"}},{"$f":"CV11","v":{"$error":"#N/A"}},{"$f":"CW11","v":{"$error":"#N/A"}},{"$f":"CX11","v":{"$error":"#N/A"}},{"$f":"CY11","v":{"$error":"#N/A"}},{"$f":"CZ11","v":{"$error":"#N/A"}},{"$f":"DA11","v":{"$error":"#N/A"}}]
[null,null,null,null,null,null,null,null,null,10,null,{"$f":"[0]!Player11","v":0},{"$f":"[0]!Player12","v":0},{"$f":"[0]!House3","v":0},{"$f":"[0]!House4","v":0},{"$f":"[0]!House5","v":0},null,{"$f":"[0]!Player21","v":0},{"$f":"[0]!Player22","v":0},{"$f":"[0]!House3","v":0},{"$f":"[0]!House4","v":0},{"$f":"[0]!House5","v":0},null,{"$f":"[0]!Player31","v":0},{"$f":"[0]!Player32","v":0},{"$f":"[0]!House3","v":0},{"$f":"[0]!House4","v":0},{"$f":"[0]!House5","v":0},null,null,null,"All equal hands",{"$f":"IF(AND(AI78=AQ78,AJ78=AR78,AK78=AS78,AL78=AT78,AM78=AU78,AQ78=AY78,AR78=AZ78,AS78=BA78,AT78=BB78,AU78=BC78,AO80<>11,AW80<>11,BE80<>11),1,0)","v":0},1,1,1,{"$f":"$AG83*AH83","v":0},{"$f":"$AG83*AI83","v":0},{"$f":"$AG83*AJ83","v":0},null,null,null,null,null,null,null,null,null,null,null,null,null,null,null,null,null,null,null,null,null,null,null,null,null,null,null,null,null,null,null,null,null,null,{"$f":"DC11","v":"Four of a Kind"},{"$f":"DD11","v":{"$error":"#N/A"}},{"$f":"DE11","v":0},{"$f":"DF11","v":{"$error":"#N/A"}},{"$f":"DG11","v":{"$error":"#N/A"}},{"$f":"DH11","v":0},{"$f":"DI11","v":{"$error":"#N/A"}},{"$f":"DJ11","v":{"$error":"#N/A"}},{"$f":"DK11","v":0},{"$f":"DL11","v":{"$error":"#N/A"}}]
[null,null,null,null,null,null,null,null,null,null,null,{"$f":"VLOOKUP(L83,$B$1:$F$52,5,0)","v":{"$error":"#N/A"}},{"$f":"VLOOKUP(M83,$B$1:$F$52,5,0)","v":{"$error":"#N/A"}},{"$f":"VLOOKUP(N83,$B$1:$F$52,5,0)","v":{"$error":"#N/A"}},{"$f":"VLOOKUP(O83,$B$1:$F$52,5,0)","v":{"$error":"#N/A"}},{"$f":"VLOOKUP(P83,$B$1:$F$52,5,0)","v":{"$error":"#N/A"}},null,{"$f":"VLOOKUP(R83,$B$1:$F$52,5,0)","v":{"$error":"#N/A"}},{"$f":"VLOOKUP(S83,$B$1:$F$52,5,0)","v":{"$error":"#N/A"}},{"$f":"VLOOKUP(T83,$B$1:$F$52,5,0)","v":{"$error":"#N/A"}},{"$f":"VLOOKUP(U83,$B$1:$F$52,5,0)","v":{"$error":"#N/A"}},{"$f":"VLOOKUP(V83,$B$1:$F$52,5,0)","v":{"$error":"#N/A"}},null,{"$f":"VLOOKUP(X83,$B$1:$F$52,5,0)","v":{"$error":"#N/A"}},{"$f":"VLOOKUP(Y83,$B$1:$F$52,5,0)","v":{"$error":"#N/A"}},{"$f":"VLOOKUP(Z83,$B$1:$F$52,5,0)","v":{"$error":"#N/A"}},{"$f":"VLOOKUP(AA83,$B$1:$F$52,5,0)","v":{"$error":"#N/A"}},{"$f":"VLOOKUP(AB83,$B$1:$F$52,5,0)","v":{"$error":"#N/A"}},null,null,null,"first win",{"$f":"IF(AND(AX84<0,BF84<0),1,0)","v":0},1,0,0,{"$f":"$AG84*AH84","v":0},0,0,null,{"$f":"AO80","v":10},null,null,null,null,null,null,null,{"$f":"AW80","v":9},{"$f":"AO84-AW84","v":1},null,null,null,null,null,null,{"$f":"BE80","v":11},{"$f":"AO84-BE84","v":-1},null,null,null,null,null,null,null,null,null,null,null,null,null,null,null,{"$f":"DN11","v":"Full House"},{"$f":"DO11","v":{"$error":"#N/A"}},{"$f":"DP11","v":0},{"$f":"DQ11","v":{"$error":"#N/A"}},{"$f":"DR11","v":{"$error":"#N/A"}},{"$f":"DS11","v":0},{"$f":"DT11","v":{"$error":"#N/A"}},{"$f":"DU11","v":{"$error":"#N/A"}},{"$f":"DV11","v":0},{"$f":"DW11","v":{"$error":"#N/A"}}]
[null,null,null,null,null,null,null,null,null,null,null,{"$f":"VLOOKUP(L83,$B$1:$F$52,4,0)","v":{"$error":"#N/A"}},{"$f":"VLOOKUP(M83,$B$1:$F$52,4,0)","v":{"$error":"#N/A"}},{"$f":"VLOOKUP(N83,$B$1:$F$52,4,0)","v":{"$error":"#N/A"}},{"$f":"VLOOKUP(O83,$B$1:$F$52,4,0)","v":{"$error":"#N/A"}},{"$f":"VLOOKUP(P83,$B$1:$F$52,4,0)","v":{"$error":"#N/A"}},null,{"$f":"VLOOKUP(R83,$B$1:$F$52,4,0)","v":{"$error":"#N/A"}},{"$f":"VLOOKUP(S83,$B$1:$F$52,4,0)","v":{"$error":"#N/A"}},{"$f":"VLOOKUP(T83,$B$1:$F$52,4,0)","v":{"$error":"#N/A"}},{"$f":"VLOOKUP(U83,$B$1:$F$52,4,0)","v":{"$error":"#N/A"}},{"$f":"VLOOKUP(V83,$B$1:$F$52,4,0)","v":{"$error":"#N/A"}},null,{"$f":"VLOOKUP(X83,$B$1:$F$52,4,0)","v":{"$error":"#N/A"}},{"$f":"VLOOKUP(Y83,$B$1:$F$52,4,0)","v":{"$error":"#N/A"}},{"$f":"VLOOKUP(Z83,$B$1:$F$52,4,0)","v":{"$error":"#N/A"}},{"$f":"VLOOKUP(AA83,$B$1:$F$52,4,0)","v":{"$error":"#N/A"}},{"$f":"VLOOKUP(AB83,$B$1:$F$52,4,0)","v":{"$error":"#N/A"}},null,null,null,"second win",{"$f":"IF(AND(AP85<0,BF85<0),1,0)","v":1},0,1,0,0,1,0,null,{"$f":"AO84","v":10},{"$f":"AW85-AO85","v":-1},null,null,null,null,null,null,{"$f":"AW84","v":9},null,null,null,null,null,null,null,{"$f":"BE84","v":11},{"$f":"AW85-BE85","v":-2},null,null,null,null,null,null,null,null,null,null,null,null,null,null,null,{"$f":"DY11","v":"Flush"},{"$f":"DZ11","v":{"$error":"#N/A"}},{"$f":"EA11","v":0},{"$f":"EB11","v":{"$error":"#N/A"}},{"$f":"EC11","v":{"$error":"#N/A"}},{"$f":"ED11","v":0},{"$f":"EE11","v":{"$error":"#N/A"}},{"$f":"EF11","v":{"$error":"#N/A"}},{"$f":"EG11","v":0},{"$f":"EH11","v":{"$error":"#N/A"}}]
[null,null,null,null,null,null,null,null,null,null,null,{"$f":"HLOOKUP(L88,$L$82:$P$85,3,0)","v":{"$error":"#N/A"}},{"$f":"HLOOKUP(M88,$L$82:$P$85,3,0)","v":{"$error":"#N/A"}},{"$f":"HLOOKUP(N88,$L$82:$P$85,3,0)","v":{"$error":"#N/A"}},{"$f":"HLOOKUP(O88,$L$82:$P$85,3,0)","v":{"$error":"#N/A"}},{"$f":"HLOOKUP(P88,$L$82:$P$85,3,0)","v":{"$error":"#N/A"}},null,{"$f":"HLOOKUP(R88,$R$82:$V$85,3,0)","v":{"$error":"#N/A"}},{"$f":"HLOOKUP(S88,$R$82:$V$85,3,0)","v":{"$error":"#N/A"}},{"$f":"HLOOKUP(T88,$R$82:$V$85,3,0)","v":{"$error":"#N/A"}},{"$f":"HLOOKUP(U88,$R$82:$V$85,3,0)","v":{"$error":"#N/A"}},{"$f":"HLOOKUP(V88,$R$82:$V$85,3,0)","v":{"$error":"#N/A"}},null,{"$f":"HLOOKUP(X88,$X$82:$AB$85,3,0)","v":{"$error":"#N/A"}},{"$f":"HLOOKUP(Y88,$X$82:$AB$85,3,0)","v":{"$error":"#N/A"}},{"$error":"#N/A"},{"$error":"#N/A"},{"$error":"#N/A"},null,null,null,"third win",{"$f":"IF(AND(AP86<0,AX86<0),1,0)","v":0},0,0,1,0,0,0,null,{"$f":"AO85","v":10},{"$f":"BE86-AO86","v":1},null,null,null,null,null,null,{"$f":"AW85","v":9},{"$f":"BE86-AW86","v":2},null,null,null,null,null,null,{"$f":"BE85","v":11},null,null,null,null,null,null,null,null,null,null,null,null,null,null,null,null,{"$f":"EJ11","v":"Straight"},{"$f":"EK11","v":{"$error":"#N/A"}},{"$f":"EL11","v":{"$error":"#N/A"}},{"$f":"EM11","v":{"$error":"#N/A"}},{"$f":"EN11","v":{"$error":"#N/A"}},{"$f":"EO11","v":{"$error":"#N/A"}},{"$f":"EP11","v":{"$error":"#N/A"}},{"$f":"EQ11","v":{"$error":"#N/A"}},{"$f":"ER11","v":{"$error":"#N/A"}},{"$f":"ES11","v":{"$error":"#N/A"}}]
[null,null,null,null,null,null,null,null,null,null,null,{"$f":"HLOOKUP(L88,$L$82:$P$85,4,0)","v":{"$error":"#N/A"}},{"$f":"HLOOKUP(M88,$L$82:$P$85,4,0)","v":{"$error":"#N/A"}},{"$f":"HLOOKUP(N88,$L$82:$P$85,4,0)","v":{"$error":"#N/A"}},{"$f":"HLOOKUP(O88,$L$82:$P$85,4,0)","v":{"$error":"#N/A"}},{"$f":"HLOOKUP(P88,$L$82:$P$85,4,0)","v":{"$error":"#N/A"}},null,{"$f":"HLOOKUP(R88,$R$82:$V$85,4,0)","v":{"$error":"#N/A"}},{"$f":"HLOOKUP(S88,$R$82:$V$85,4,0)","v":{"$error":"#N/A"}},{"$f":"HLOOKUP(T88,$R$82:$V$85,4,0)","v":{"$error":"#N/A"}},{"$f":"HLOOKUP(U88,$R$82:$V$85,4,0)","v":{"$error":"#N/A"}},{"$f":"HLOOKUP(V88,$R$82:$V$85,4,0)","v":{"$error":"#N/A"}},null,{"$f":"HLOOKUP(X88,$X$82:$AB$85,4,0)","v":{"$error":"#N/A"}},{"$f":"HLOOKUP(Y88,$X$82:$AB$85,4,0)","v":{"$error":"#N/A"}},{"$error":"#N/A"},{"$error":"#N/A"},{"$error":"#N/A"},null,null,null,null,null,null,null,null,null,null,null,null,null,null,null,null,null,null,null,null,null,null,null,null,null,null,null,null,null,null,null,null,null,null,null,null,null,null,null,null,null,null,null,null,null,{"$f":"EU11","v":"Three of a Kind"},{"$f":"EV11","v":{"$error":"#N/A"}},{"$f":"EW11","v":0},{"$f":"EX11","v":{"$error":"#N/A"}},{"$f":"EY11","v":{"$error":"#N/A"}},{"$f":"EZ11","v":0},{"$f":"FA11","v":{"$error":"#N/A"}},{"$f":"FB11","v":{"$error":"#N/A"}},{"$f":"FC11","v":0},{"$f":"FD11","v":{"$error":"#N/A"}}]
[null,null,null,null,null,null,null,null,null,null,null,1,2,3,4,5,null,1,2,3,4,5,null,1,2,3,4,5,null,null,null,"Royal Flush",1,"1 win","2 win","3 win",null,null,null,null,null,null,null,null,null,null,null,null,null,null,null,null,null,null,null,null,null,null,null,null,null,null,null,null,null,null,null,null,null,null,null,null,null,{"$f":"FF11","v":"Two Pair"},{"$f":"FG11","v":{"$error":"#N/A"}},{"$f":"FH11","v":0},{"$f":"FI11","v":{"$error":"#N/A"}},{"$f":"FJ11","v":{"$error":"#N/A"}},{"$f":"FK11","v":0},{"$f":"FL11","v":{"$error":"#N/A"}},{"$f":"FM11","v":{"$error":"#N/A"}},{"$f":"FN11","v":0},{"$f":"FO11","v":{"$error":"#N/A"}}]
[null,null,null,null,null,null,null,null,null,null,null,{"$f":"L84+IF(L84=1,13+RAND()^3,RAND()^3)","v":{"$error":"#N/A"}},{"$f":"M84+IF(M84=1,13+RAND()^3,RAND()^3)","v":{"$error":"#N/A"}},{"$error":"#N/A"},{"$error":"#N/A"},{"$error":"#N/A"},6.7201555935119863E-6,{"$error":"#N/A"},{"$error":"#N/A"},{"$error":"#N/A"},{"$error":"#N/A"},{"$error":"#N/A"},4.7510275577109184E-2,{"$error":"#N/A"},{"$error":"#N/A"},{"$error":"#N/A"},{"$error":"#N/A"},{"$error":"#N/A"},null,null,null,"All equal hands",{"$f":"IF(AND($AG$83=0,$AO$80=AG88,$AO$80=$AW$80,$AW$80=$BE$80),1,0)","v":0},1,1,1,{"$f":"$AG89*AH89","v":0},{"$f":"$AG89*AI89","v":0},0,null,null,null,null,null,null,null,null,null,null,null,null,null,null,null,null,null,null,null,null,null,null,null,null,null,null,null,null,null,null,null,null,null,null,{"$f":"FQ11","v":"One Pair"},{"$f":"FR11","v":{"$error":"#N/A"}},{"$f":"FS11","v":0},{"$f":"FT11","v":{"$error":"#N/A"}},{"$f":"FU11","v":{"$error":"#N/A"}},{"$f":"FV11","v":0},{"$f":"FW11","v":{"$error":"#N/A"}},{"$f":"FX11","v":{"$error":"#N/A"}},{"$f":"FY11","v":0},{"$f":"FZ11","v":{"$error":"#N/A"}}]
[null,null,null,null,null,null,null,null,null,null,null,null,null,null,null,null,null,null,null,null,null,null,null,null,null,null,null,null,null,null,null,"third lose",{"$f":"IF(AND($AO$80=AG88,$AO$80=$AW$80,$AW$80<$BE$80),1,0)","v":0},1,1,0,{"$f":"$AG90*AH90","v":0},{"$f":"$AG90*AI90","v":0},{"$f":"$AG90*AJ90","v":0},null,null,null,null,null,null,null,null,null,null,null,null,null,null,null,null,null,null,null,null,null,null,null,null,null,null,null,null,null,null,null,null,null,null,{"$f":"GB11","v":"High Card"},{"$f":"GC11","v":{"$error":"#N/A"}},{"$f":"GD11","v":0},{"$f":"GE11","v":{"$error":"#N/A"}},{"$f":"GF11","v":{"$error":"#N/A"}},{"$f":"GG11","v":0},{"$f":"GH11","v":{"$error":"#N/A"}},{"$f":"GI11","v":{"$error":"#N/A"}},{"$f":"GJ11","v":0},{"$f":"GK11","v":{"$error":"#N/A"}}]
[null,null,null,null,null,null,null,null,null,null,null,{"$f":"RANK(L98,$L$98:$P$98,1)","v":{"$error":"#N/A"}},{"$f":"RANK(M98,$L$98:$P$98,1)","v":{"$error":"#N/A"}},{"$error":"#N/A"},{"$error":"#N/A"},{"$error":"#N/A"},null,{"$f":"RANK(R98,$R$98:$V$98,1)","v":{"$error":"#N/A"}},{"$f":"RANK(S98,$R$98:$V$98,1)","v":{"$error":"#N/A"}},{"$error":"#N/A"},{"$error":"#N/A"},{"$error":"#N/A"},null,{"$f":"RANK(X98,$X$98:$AB$98,1)","v":{"$error":"#N/A"}},{"$f":"RANK(Y98,$X$98:$AB$98,1)","v":{"$error":"#N/A"}},{"$error":"#N/A"},{"$error":"#N/A"},{"$error":"#N/A"},null,null,null,"first lose",{"$f":"IF(AND($AW$80=AG88,$AO$80>$AW$80,$AW$80=$BE$80),1,0)","v":0},0,1,1,0,0,0]
[null,null,null,null,null,null,null,null,null,11,null,{"$f":"[0]!Player11","v":0},{"$f":"[0]!House1","v":0},{"$f":"[0]!House2","v":0},{"$f":"[0]!House3","v":0},{"$f":"[0]!House4","v":0},null,{"$f":"[0]!Player21","v":0},{"$f":"[0]!House1","v":0},{"$f":"[0]!House2","v":0},{"$f":"[0]!House3","v":0},{"$f":"[0]!House4","v":0},null,{"$f":"[0]!Player31","v":0},{"$f":"[0]!House1","v":0},{"$f":"[0]!House2","v":0},{"$f":"[0]!House3","v":0},{"$f":"[0]!House4","v":0},null,null,null,"second lose",{"$f":"IF(AND($AO$80=AG88,$AO$80=$BE$80,$AO$80<$AW$80),1,0)","v":0},1,0,1,0,0,0,null,null,null,null,null,null,null,null,null,null,null,null,null,null,null,null,null,null,null,null,null,null,null,null,null,null,null,null,null,null,null,null,null,9,{"$f":"CG12","v":"Royal Flush"},{"$f":"CH12","v":{"$error":"#N/A"}},{"$f":"CI12","v":{"$error":"#N/A"}},{"$f":"CJ12","v":{"$error":"#N/A"}},{"$f":"CK12","v":{"$error":"#N/A"}},{"$f":"CL12","v":{"$error":"#N/A"}},{"$f":"CM12","v":{"$error":"#N/A"}},{"$f":"CN12","v":{"$error":"#N/A"}},{"$f":"CO12","v":{"$error":"#N/A"}},{"$f":"CP12","v":{"$error":"#N/A"}}]
[null,null,null,null,null,null,null,null,null,null,null,{"$f":"VLOOKUP(L92,$B$1:$F$52,5,0)","v":{"$error":"#N/A"}},{"$f":"VLOOKUP(M92,$B$1:$F$52,5,0)","v":{"$error":"#N/A"}},{"$f":"VLOOKUP(N92,$B$1:$F$52,5,0)","v":{"$error":"#N/A"}},{"$f":"VLOOKUP(O92,$B$1:$F$52,5,0)","v":{"$error":"#N/A"}},{"$f":"VLOOKUP(P92,$B$1:$F$52,5,0)","v":{"$error":"#N/A"}},null,{"$f":"VLOOKUP(R92,$B$1:$F$52,5,0)","v":{"$error":"#N/A"}},{"$f":"VLOOKUP(S92,$B$1:$F$52,5,0)","v":{"$error":"#N/A"}},{"$f":"VLOOKUP(T92,$B$1:$F$52,5,0)","v":{"$error":"#N/A"}},{"$f":"VLOOKUP(U92,$B$1:$F$52,5,0)","v":{"$error":"#N/A"}},{"$f":"VLOOKUP(V92,$B$1:$F$52,5,0)","v":{"$error":"#N/A"}},null,{"$f":"VLOOKUP(X92,$B$1:$F$52,5,0)","v":{"$error":"#N/A"}},{"$f":"VLOOKUP(Y92,$B$1:$F$52,5,0)","v":{"$error":"#N/A"}},{"$f":"VLOOKUP(Z92,$B$1:$F$52,5,0)","v":{"$error":"#N/A"}},{"$f":"VLOOKUP(AA92,$B$1:$F$52,5,0)","v":{"$error":"#N/A"}},{"$f":"VLOOKUP(AB92,$B$1:$F$52,5,0)","v":{"$error":"#N/A"}},null,null,null,"Straight Flush",2,null,null,null,null,null,null,null,null,null,null,null,null,null,null,null,null,"STRAIGHT FLUSH",null,null,null,null,null,null,null,null,null,null,null,null,null,null,null,null,null,null,null,null,null,null,null,{"$f":"CR12","v":"Straight Flush"},{"$f":"CS12","v":{"$error":"#N/A"}},{"$f":"CT12","v":{"$error":"#N/A"}},{"$f":"CU12","v":{"$error":"#N/A"}},{"$f":"CV12","v":{"$error":"#N/A"}},{"$f":"CW12","v":{"$error":"#N/A"}},{"$f":"CX12","v":{"$error":"#N/A"}},{"$f":"CY12","v":{"$error":"#N/A"}},{"$f":"CZ12","v":{"$error":"#N/A"}},{"$f":"DA12","v":{"$error":"#N/A"}}]
[null,null,null,null,null,null,null,null,null,null,null,{"$f":"VLOOKUP(L92,$B$1:$F$52,4,0)","v":{"$error":"#N/A"}},{"$f":"VLOOKUP(M92,$B$1:$F$52,4,0)","v":{"$error":"#N/A"}},{"$f":"VLOOKUP(N92,$B$1:$F$52,4,0)","v":{"$error":"#N/A"}},{"$f":"VLOOKUP(O92,$B$1:$F$52,4,0)","v":{"$error":"#N/A"}},{"$f":"VLOOKUP(P92,$B$1:$F$52,4,0)","v":{"$error":"#N/A"}},null,{"$f":"VLOOKUP(R92,$B$1:$F$52,4,0)","v":{"$error":"#N/A"}},{"$f":"VLOOKUP(S92,$B$1:$F$52,4,0)","v":{"$error":"#N/A"}},{"$f":"VLOOKUP(T92,$B$1:$F$52,4,0)","v":{"$error":"#N/A"}},{"$f":"VLOOKUP(U92,$B$1:$F$52,4,0)","v":{"$error":"#N/A"}},{"$f":"VLOOKUP(V92,$B$1:$F$52,4,0)","v":{"$error":"#N/A"}},null,{"$f":"VLOOKUP(X92,$B$1:$F$52,4,0)","v":{"$error":"#N/A"}},{"$f":"VLOOKUP(Y92,$B$1:$F$52,4,0)","v":{"$error":"#N/A"}},{"$f":"VLOOKUP(Z92,$B$1:$F$52,4,0)","v":{"$error":"#N/A"}},{"$f":"VLOOKUP(AA92,$B$1:$F$52,4,0)","v":{"$error":"#N/A"}},{"$f":"VLOOKUP(AB92,$B$1:$F$52,4,0)","v":{"$error":"#N/A"}},null,null,null,"All equal hands",{"$f":"IF(AND($AO$80=AG93,$AO$80=$AW$80,$AW$80=$BE$80,AM78=AU78,AU78=BC78),1,0)","v":0},1,1,1,{"$f":"$AG94*AH94","v":0},{"$f":"$AG94*AI94","v":0},{"$f":"$AG94*AJ94","v":0},null,null,null,null,null,null,null,null,null,null,"first win",null,{"$f":"AI69","v":{"$error":"#N/A"}},null,{"$f":"AQ69","v":{"$error":"#N/A"}},{"$f":"AZ94-BB94","v":{"$error":"#N/A"}},{"$f":"AY69","v":{"$error":"#N/A"}},{"$f":"AZ94-BD94","v":{"$error":"#N/A"}},null,null,null,null,null,null,null,null,null,null,null,null,null,null,null,null,{"$f":"DC12","v":"Four of a Kind"},{"$f":"DD12","v":{"$error":"#N/A"}},{"$f":"DE12","v":0},{"$f":"DF12","v":{"$error":"#N/A"}},{"$f":"DG12","v":{"$error":"#N/A"}},{"$f":"DH12","v":0},{"$f":"DI12","v":{"$error":"#N/A"}},{"$f":"DJ12","v":{"$error":"#N/A"}},{"$f":"DK12","v":0},{"$f":"DL12","v":{"$error":"#N/A"}}]
[null,null,null,null,null,null,null,null,null,null,null,{"$f":"HLOOKUP(L97,$L$91:$P$94,3,0)","v":{"$error":"#N/A"}},{"$f":"HLOOKUP(M97,$L$91:$P$94,3,0)","v":{"$error":"#N/A"}},{"$error":"#N/A"},{"$error":"#N/A"},{"$error":"#N/A"},null,{"$f":"HLOOKUP(R97,$R$91:$V$94,3,0)","v":{"$error":"#N/A"}},{"$f":"HLOOKUP(S97,$R$91:$V$94,3,0)","v":{"$error":"#N/A"}},{"$error":"#N/A"},{"$error":"#N/A"},{"$error":"#N/A"},null,{"$f":"HLOOKUP(X97,$X$91:$AB$94,3,0)","v":{"$error":"#N/A"}},{"$f":"HLOOKUP(Y97,$X$91:$AB$94,3,0)","v":{"$error":"#N/A"}},{"$error":"#N/A"},{"$error":"#N/A"},{"$error":"#N/A"},null,null,null,"third lose",{"$f":"IF(\nOR(\nAND($AO$80=$AG$93,$AO$80=$AW$80,$AW$80<$BE$80,$AI$69=$AQ$69,$AJ$69=$AR$69,$AK$69=$AS$69,$AL$69=$AT$69,$AM$69=$AU$69),\nOR(\nAND($AO$80=$AG$93,$AO$80=$AW$80,$AW$80=$BE$80,$AI$69=$AQ$69,$AJ$69=$AR$69,$AK$69=$AS$69,$AL$69=$AT$69,$AM$69=$AU$69,$AQ$69>$AY$69),\nAND($AO$80=$AG$93,$AO$80=$AW$80,$AW$80=$BE$80,$AI$69=$AQ$69,$AJ$69=$AR$69,$AK$69=$AS$69,$AL$69=$AT$69,$AM$69=$AU$69,$AQ$69=$AY$69,$AR$69>$AZ$69),\nAND($AO$80=$AG$93,$AO$80=$AW$80,$AW$80=$BE$80,$AI$69=$AQ$69,$AJ$69=$AR$69,$AK$69=$AS$69,$AL$69=$AT$69,$AM$69=$AU$69,$AQ$69=$AY$69,$AR$69=$AZ$69,$AS$69>$BA$69),\nAND($AO$80=$AG$93,$AO$80=$AW$80,$AW$80=$BE$80,$AI$69=$AQ$69,$AJ$69=$AR$69,$AK$69=$AS$69,$AL$69=$AT$69,$AM$69=$AU$69,$AQ$69=$AY$69,$AR$69=$AZ$69,$AS$69=$BA$69,$AT$69>$BB$69),\nAND($AO$80=$AG$93,$AO$80=$AW$80,$AW$80=$BE$80,$AI$69=$AQ$69,$AJ$69=$AR$69,$AK$69=$AS$69,$AL$69=$AT$69,$AM$69=$AU$69,$AQ$69=$AY$69,$AR$69=$AZ$69,$AS$69=$BA$69,$AT$69=$BB$69,$AU$69>$BC$69)\n)),1,0)","v":{"$error":"#N/A"}},1,1,0,{"$f":"$AG95*AH95","v":{"$error":"#N/A"}},{"$error":"#N/A"},{"$error":"#N/A"},null,null,null,null,null,null,null,null,null,null,null,null,{"$f":"AJ69","v":{"$error":"#N/A"}},null,{"$f":"AR69","v":{"$error":"#N/A"}},{"$f":"AZ95-BB95","v":{"$error":"#N/A"}},{"$f":"AZ69","v":{"$error":"#N/A"}},{"$f":"AZ95-BD95","v":{"$error":"#N/A"}},null,null,null,null,null,null,null,null,null,null,null,null,null,null,null,null,{"$f":"DN12","v":"Full House"},{"$f":"DO12","v":{"$error":"#N/A"}},{"$f":"DP12","v":0},{"$f":"DQ12","v":{"$error":"#N/A"}},{"$f":"DR12","v":{"$error":"#N/A"}},{"$f":"DS12","v":0},{"$f":"DT12","v":{"$error":"#N/A"}},{"$f":"DU12","v":{"$error":"#N/A"}},{"$f":"DV12","v":0},{"$f":"DW12","v":{"$error":"#N/A"}}]
[null,null,null,null,null,null,null,null,null,null,null,{"$f":"HLOOKUP(L97,$L$91:$P$94,4,0)","v":{"$error":"#N/A"}},{"$f":"HLOOKUP(M97,$L$91:$P$94,4,0)","v":{"$error":"#N/A"}},{"$error":"#N/A"},{"$error":"#N/A"},{"$error":"#N/A"},null,{"$f":"HLOOKUP(R97,$R$91:$V$94,4,0)","v":{"$error":"#N/A"}},{"$f":"HLOOKUP(S97,$R$91:$V$94,4,0)","v":{"$error":"#N/A"}},{"$error":"#N/A"},{"$error":"#N/A"},{"$error":"#N/A"},null,{"$f":"HLOOKUP(X97,$X$91:$AB$94,4,0)","v":{"$error":"#N/A"}},{"$f":"HLOOKUP(Y97,$X$91:$AB$94,4,0)","v":{"$error":"#N/A"}},{"$error":"#N/A"},{"$error":"#N/A"},{"$error":"#N/A"},null,null,null,"first lose",{"$f":"IF(\nOR(\nAND($BE$80=$AG$93,$AO$80>$AW$80,$AW$80=$BE$80,$AQ$69=$AY$69,$AR$69=$AZ$69,$AS$69=$BA$69,$AT$69=$BB$69,$AU$69=$BC$69),\nOR(\nAND($BE$80=$AG$93,$AO$80=$AW$80,$AW$80=$BE$80,$AQ$69=$AY$69,$AR$69=$AZ$69,$AS$69=$BA$69,$AT$69=$BB$69,$AU$69=$BC$69,$AI$69<$AQ$69),\nAND($BE$80=$AG$93,$AO$80=$AW$80,$AW$80=$BE$80,$AQ$69=$AY$69,$AR$69=$AZ$69,$AS$69=$BA$69,$AT$69=$BB$69,$AU$69=$BC$69,$AI$69=$AQ$69,$AJ$69<$AR$69),\nAND($BE$80=$AG$93,$AO$80=$AW$80,$AW$80=$BE$80,$AQ$69=$AY$69,$AR$69=$AZ$69,$AS$69=$BA$69,$AT$69=$BB$69,$AU$69=$BC$69,$AI$69=$AQ$69,$AJ$69=$AR$69,$AK$69<$AS$69),\nAND($BE$80=$AG$93,$AO$80=$AW$80,$AW$80=$BE$80,$AQ$69=$AY$69,$AR$69=$AZ$69,$AS$69=$BA$69,$AT$69=$BB$69,$AU$69=$BC$69,$AI$69=$AQ$69,$AJ$69=$AR$69,$AK$69=$AS$69,$AL$69<$AT$69),\nAND($BE$80=$AG$93,$AO$80=$AW$80,$AW$80=$BE$80,$AQ$69=$AY$69,$AR$69=$AZ$69,$AS$69=$BA$69,$AT$69=$BB$69,$AU$69=$BC$69,$AI$69=$AQ$69,$AJ$69=$AR$69,$AK$69=$AS$69,$AL$69=$AT$69,$AM$69<$AU$69)\n)),1,0)","v":{"$error":"#N/A"}},0,1,1,{"$error":"#N/A"},{"$error":"#N/A"},{"$error":"#N/A"},null,null,null,null,null,null,null,null,null,null,null,null,{"$f":"AK69","v":{"$error":"#N/A"}},null,{"$f":"AS69","v":{"$error":"#N/A"}},{"$error":"#N/A"},{"$f":"BA69","v":{"$error":"#N/A"}},{"$error":"#N/A"},null,null,null,null,null,null,null,null,null,null,null,null,null,null,null,null,{"$f":"DY12","v":"Flush"},{"$f":"DZ12","v":{"$error":"#N/A"}},{"$f":"EA12","v":0},{"$f":"EB12","v":{"$error":"#N/A"}},{"$f":"EC12","v":{"$error":"#N/A"}},{"$f":"ED12","v":0},{"$f":"EE12","v":{"$error":"#N/A"}},{"$f":"EF12","v":{"$error":"#N/A"}},{"$f":"EG12","v":0},{"$f":"EH12","v":{"$error":"#N/A"}}]
[null,null,null,null,null,null,null,null,null,null,null,1,2,3,4,5,null,1,2,3,4,5,null,1,2,3,4,5,null,null,null,"second lose",{"$f":"IF(\nOR(\nAND($BE$80=$AG$93,$AO$80<$AW$80,$AO$80=$BE$80,$AI$69=$AY$69,$AJ$69=$AZ$69,$AK$69=$BA$69,$AL$69=$BB$69,$AM$69=$BC$69),\nOR(\nAND($BE$80=$AG$93,$AO$80=$AW$80,$AW$80=$BE$80,$AI$69=$AY$69,$AJ$69=$AZ$69,$AK$69=$BA$69,$AL$69=$BB$69,$AM$69=$BC$69,$AI$69>$AQ$69),\nAND($BE$80=$AG$93,$AO$80=$AW$80,$AW$80=$BE$80,$AI$69=$AY$69,$AJ$69=$AZ$69,$AK$69=$BA$69,$AL$69=$BB$69,$AM$69=$BC$69,$AI$69=$AQ$69,$AJ$69>$AR$69),\nAND($BE$80=$AG$93,$AO$80=$AW$80,$AW$80=$BE$80,$AI$69=$AY$69,$AJ$69=$AZ$69,$AK$69=$BA$69,$AL$69=$BB$69,$AM$69=$BC$69,$AI$69=$AQ$69,$AJ$69=$AR$69,$AK$69>$AS$69),\nAND($BE$80=$AG$93,$AO$80=$AW$80,$AW$80=$BE$80,$AI$69=$AY$69,$AJ$69=$AZ$69,$AK$69=$BA$69,$AL$69=$BB$69,$AM$69=$BC$69,$AI$69=$AQ$69,$AJ$69=$AR$69,$AK$69=$AS$69,$AL$69>$AT$69),\nAND($BE$80=$AG$93,$AO$80=$AW$80,$AW$80=$BE$80,$AI$69=$AY$69,$AJ$69=$AZ$69,$AK$69=$BA$69,$AL$69=$BB$69,$AM$69=$BC$69,$AI$69=$AQ$69,$AJ$69=$AR$69,$AK$69=$AS$69,$AL$69=$AT$69,$AM$69>$AU$69)\n)),1,0)","v":{"$error":"#N/A"}},1,0,1,{"$error":"#N/A"},{"$error":"#N/A"},{"$error":"#N/A"},null,null,null,null,null,null,null,null,null,null,null,null,{"$f":"AL69","v":{"$error":"#N/A"}},null,{"$f":"AT69","v":{"$error":"#N/A"}},{"$error":"#N/A"},{"$f":"BB69","v":{"$error":"#N/A"}},{"$error":"#N/A"},null,null,null,null,null,null,null,null,null,null,null,null,null,null,null,null,{"$f":"EJ12","v":"Straight"},{"$f":"EK12","v":{"$error":"#N/A"}},{"$f":"EL12","v":{"$error":"#N/A"}},{"$f":"EM12","v":{"$error":"#N/A"}},{"$f":"EN12","v":{"$error":"#N/A"}},{"$f":"EO12","v":{"$error":"#N/A"}},{"$f":"EP12","v":{"$error":"#N/A"}},{"$f":"EQ12","v":{"$error":"#N/A"}},{"$f":"ER12","v":{"$error":"#N/A"}},{"$f":"ES12","v":{"$error":"#N/A"}}]
[null,null,null,null,null,null,null,null,null,null,null,{"$f":"L93+IF(L93=1,13+RAND()^3,RAND()^3)","v":{"$error":"#N/A"}},{"$f":"M93+IF(M93=1,13+RAND()^3,RAND()^3)","v":{"$error":"#N/A"}},{"$error":"#N/A"},{"$error":"#N/A"},{"$error":"#N/A"},0.7704199850886998,{"$error":"#N/A"},{"$error":"#N/A"},{"$error":"#N/A"},{"$error":"#N/A"},{"$error":"#N/A"},7.1054865306771273E-4,{"$error":"#N/A"},{"$error":"#N/A"},{"$error":"#N/A"},{"$error":"#N/A"},{"$error":"#N/A"},null,null,null,"first win",{"$f":"IF(AND($AO$80=$AG$93,$AO$80=MIN($AO$80,$AW$80,$BE$80),$AG$84=0,$BC$100>0,$BE$100>0),1,0)","v":0},1,0,0,0,0,0,null,null,null,null,null,null,null,null,null,null,null,null,{"$f":"AM69","v":{"$error":"#N/A"}},null,{"$f":"AU69","v":{"$error":"#N/A"}},{"$error":"#N/A"},{"$f":"BC69","v":{"$error":"#N/A"}},{"$error":"#N/A"},null,null,null,null,null,null,null,null,null,null,null,null,null,null,null,null,{"$f":"EU12","v":"Three of a Kind"},{"$f":"EV12","v":{"$error":"#N/A"}},{"$f":"EW12","v":0},{"$f":"EX12","v":{"$error":"#N/A"}},{"$f":"EY12","v":{"$error":"#N/A"}},{"$f":"EZ12","v":0},{"$f":"FA12","v":{"$error":"#N/A"}},{"$f":"FB12","v":{"$error":"#N/A"}},{"$f":"FC12","v":0},{"$f":"FD12","v":{"$error":"#N/A"}}]
[null,null,null,null,null,null,null,null,null,null,null,null,null,null,null,null,null,null,null,null,null,null,null,null,null,null,null,null,null,null,null,"second win",{"$f":"IF(AND($AW$80=$AG$93,$AW$80=MIN($AO$80,$AW$80,$BE$80),$AG$85=0,$BA$107>0,$BE$107>0),1,0)","v":0},0,1,0,0,0,0,null,null,null,null,null,null,null,null,null,null,null,null,null,null,null,{"$f":"INDEX(BC94:BC98,MATCH(TRUE,INDEX(BC94:BC98<>0,),0))","v":{"$error":"#N/A"}},null,{"$f":"INDEX(BE94:BE98,MATCH(TRUE,INDEX(BE94:BE98<>0,),0))","v":{"$error":"#N/A"}},null,null,null,null,null,null,null,null,null,null,null,null,null,null,null,null,{"$f":"FF12","v":"Two Pair"},{"$f":"FG12","v":{"$error":"#N/A"}},{"$f":"FH12","v":0},{"$f":"FI12","v":{"$error":"#N/A"}},{"$f":"FJ12","v":{"$error":"#N/A"}},{"$f":"FK12","v":0},{"$f":"FL12","v":{"$error":"#N/A"}},{"$f":"FM12","v":{"$error":"#N/A"}},{"$f":"FN12","v":0},{"$f":"FO12","v":{"$error":"#N/A"}}]
[null,null,null,null,null,null,null,null,null,null,null,{"$f":"RANK(L107,$L$107:$P$107,1)","v":{"$error":"#N/A"}},{"$f":"RANK(M107,$L$107:$P$107,1)","v":{"$error":"#N/A"}},{"$error":"#N/A"},{"$error":"#N/A"},{"$error":"#N/A"},null,{"$f":"RANK(R107,$R$107:$V$107,1)","v":{"$error":"#N/A"}},{"$f":"RANK(S107,$R$107:$V$107,1)","v":{"$error":"#N/A"}},{"$error":"#N/A"},{"$error":"#N/A"},{"$error":"#N/A"},null,{"$f":"RANK(X107,$X$107:$AB$107,1)","v":{"$error":"#N/A"}},{"$f":"RANK(Y107,$X$107:$AB$107,1)","v":{"$error":"#N/A"}},{"$error":"#N/A"},{"$error":"#N/A"},{"$error":"#N/A"},null,null,null,"third win",{"$f":"IF(AND($BE$80=$AG$93,$BE$80=MIN($AO$80,$AW$80,$BE$80),$AG$86=0,$BA$114>0,$BC$114>0),1,0)","v":0},0,0,1,0,0,0,null,null,null,null,null,null,null,null,null,null,null,null,null,null,null,{"$f":"IF(ISNUMBER(BC99),BC99,0)","v":0},null,{"$f":"IF(ISNUMBER(BE99),BE99,0)","v":0},null,null,null,null,null,null,null,null,null,null,null,null,null,null,null,null,{"$f":"FQ12","v":"One Pair"},{"$f":"FR12","v":{"$error":"#N/A"}},{"$f":"FS12","v":0},{"$f":"FT12","v":{"$error":"#N/A"}},{"$f":"FU12","v":{"$error":"#N/A"}},{"$f":"FV12","v":0},{"$f":"FW12","v":{"$error":"#N/A"}},{"$f":"FX12","v":{"$error":"#N/A"}},{"$f":"FY12","v":0},{"$f":"FZ12","v":{"$error":"#N/A"}}]
[null,null,null,null,null,null,null,null,null,12,null,{"$f":"[0]!Player11","v":0},{"$f":"[0]!House1","v":0},{"$f":"[0]!House2","v":0},{"$f":"[0]!House3","v":0},{"$f":"[0]!House5","v":0},null,{"$f":"[0]!Player21","v":0},{"$f":"[0]!House1","v":0},{"$f":"[0]!House2","v":0},{"$f":"[0]!House3","v":0},{"$f":"[0]!House5","v":0},null,{"$f":"[0]!Player31","v":0},{"$f":"[0]!House1","v":0},{"$f":"[0]!House2","v":0},{"$f":"[0]!House3","v":0},{"$f":"[0]!House5","v":0},null,null,null,"Four of a Kind",3,null,null,null,null,null,null,null,"FOUR OF A KIND",null,null,null,null,null,null,null,null,"second win",null,{"$f":"AZ94","v":{"$error":"#N/A"}},{"$f":"BB101-AZ101","v":{"$error":"#N/A"}},{"$f":"BB94","v":{"$error":"#N/A"}},null,{"$f":"BD94","v":{"$error":"#N/A"}},{"$f":"BB101-BD101","v":{"$error":"#N/A"}},null,null,null,null,null,null,null,null,null,null,null,null,null,null,null,null,{"$f":"GB12","v":"High Card"},{"$f":"GC12","v":{"$error":"#N/A"}},{"$f":"GD12","v":0},{"$f":"GE12","v":{"$error":"#N/A"}},{"$f":"GF12","v":{"$error":"#N/A"}},{"$f":"GG12","v":0},{"$f":"GH12","v":{"$error":"#N/A"}},{"$f":"GI12","v":{"$error":"#N/A"}},{"$f":"GJ12","v":0},{"$f":"GK12","v":{"$error":"#N/A"}}]
[null,null,null,null,null,null,null,null,null,null,null,{"$f":"VLOOKUP(L101,$B$1:$F$52,5,0)","v":{"$error":"#N/A"}},{"$f":"VLOOKUP(M101,$B$1:$F$52,5,0)","v":{"$error":"#N/A"}},{"$f":"VLOOKUP(N101,$B$1:$F$52,5,0)","v":{"$error":"#N/A"}},{"$f":"VLOOKUP(O101,$B$1:$F$52,5,0)","v":{"$error":"#N/A"}},{"$f":"VLOOKUP(P101,$B$1:$F$52,5,0)","v":{"$error":"#N/A"}},null,{"$f":"VLOOKUP(R101,$B$1:$F$52,5,0)","v":{"$error":"#N/A"}},{"$f":"VLOOKUP(S101,$B$1:$F$52,5,0)","v":{"$error":"#N/A"}},{"$f":"VLOOKUP(T101,$B$1:$F$52,5,0)","v":{"$error":"#N/A"}},{"$f":"VLOOKUP(U101,$B$1:$F$52,5,0)","v":{"$error":"#N/A"}},{"$f":"VLOOKUP(V101,$B$1:$F$52,5,0)","v":{"$error":"#N/A"}},null,{"$f":"VLOOKUP(X101,$B$1:$F$52,5,0)","v":{"$error":"#N/A"}},{"$f":"VLOOKUP(Y101,$B$1:$F$52,5,0)","v":{"$error":"#N/A"}},{"$f":"VLOOKUP(Z101,$B$1:$F$52,5,0)","v":{"$error":"#N/A"}},{"$f":"VLOOKUP(AA101,$B$1:$F$52,5,0)","v":{"$error":"#N/A"}},{"$f":"VLOOKUP(AB101,$B$1:$F$52,5,0)","v":{"$error":"#N/A"}},null,null,null,"All equal hands",{"$f":"IF(AND($AO$80=AG101,$AO$80=$AW$80,$AW$80=$BE$80,AI75=AQ75,AQ75=AY75),1,0)","v":0},1,1,1,{"$f":"$AG102*AH102","v":0},{"$f":"$AG102*AI102","v":0},{"$f":"$AG102*AJ102","v":0},null,"first win",null,{"$f":"AI75","v":0},null,{"$f":"AQ75","v":0},{"$f":"AQ102-AS102","v":0},{"$f":"AY75","v":0},{"$f":"AQ102-AU102","v":0},null,null,null,{"$f":"AZ95","v":{"$error":"#N/A"}},{"$f":"BB102-AZ102","v":{"$error":"#N/A"}},{"$f":"BB95","v":{"$error":"#N/A"}},null,{"$error":"#N/A"},{"$f":"BB102-BD102","v":{"$error":"#N/A"}}]
[null,null,null,null,null,null,null,null,null,null,null,{"$f":"VLOOKUP(L101,$B$1:$F$52,4,0)","v":{"$error":"#N/A"}},{"$f":"VLOOKUP(M101,$B$1:$F$52,4,0)","v":{"$error":"#N/A"}},{"$f":"VLOOKUP(N101,$B$1:$F$52,4,0)","v":{"$error":"#N/A"}},{"$f":"VLOOKUP(O101,$B$1:$F$52,4,0)","v":{"$error":"#N/A"}},{"$f":"VLOOKUP(P101,$B$1:$F$52,4,0)","v":{"$error":"#N/A"}},null,{"$f":"VLOOKUP(R101,$B$1:$F$52,4,0)","v":{"$error":"#N/A"}},{"$f":"VLOOKUP(S101,$B$1:$F$52,4,0)","v":{"$error":"#N/A"}},{"$f":"VLOOKUP(T101,$B$1:$F$52,4,0)","v":{"$error":"#N/A"}},{"$f":"VLOOKUP(U101,$B$1:$F$52,4,0)","v":{"$error":"#N/A"}},{"$f":"VLOOKUP(V101,$B$1:$F$52,4,0)","v":{"$error":"#N/A"}},null,{"$f":"VLOOKUP(X101,$B$1:$F$52,4,0)","v":{"$error":"#N/A"}},{"$f":"VLOOKUP(Y101,$B$1:$F$52,4,0)","v":{"$error":"#N/A"}},{"$f":"VLOOKUP(Z101,$B$1:$F$52,4,0)","v":{"$error":"#N/A"}},{"$f":"VLOOKUP(AA101,$B$1:$F$52,4,0)","v":{"$error":"#N/A"}},{"$f":"VLOOKUP(AB101,$B$1:$F$52,4,0)","v":{"$error":"#N/A"}},null,null,null,"third lose",{"$f":"IF(OR(AND($AO$80=AG101,$AO$80=$AW$80,MAX(AO80,AW80)<$BE$80,$AI$75=$AQ$75,$AQ$75>$AY$75),AND($AO$80=AG101,$AO$80=$AW$80,MAX(AO80,AW80)<$BE$80,$AI$75=$AQ$75,$AQ$75=$AY$75,$AK$75=$AS$75,$AS$75>$BA$75)),1,0)","v":0},1,1,0,{"$f":"$AG103*AH103","v":0},0,0,null,null,null,{"$f":"AK75","v":0},null,{"$f":"AS75","v":0},{"$f":"AQ103-AS103","v":0},{"$f":"BA75","v":0},{"$f":"AQ103-AU103","v":0},null,null,null,{"$error":"#N/A"},{"$error":"#N/A"},{"$f":"BB96","v":{"$error":"#N/A"}},null,{"$error":"#N/A"},{"$error":"#N/A"},null,null,null,null,null,null,null,null,null,null,null,null,null,null,null,10,{"$f":"CG13","v":"Royal Flush"},{"$f":"CH13","v":{"$error":"#N/A"}},{"$f":"CI13","v":{"$error":"#N/A"}},{"$f":"CJ13","v":{"$error":"#N/A"}},{"$f":"CK13","v":{"$error":"#N/A"}},{"$f":"CL13","v":{"$error":"#N/A"}},{"$f":"CM13","v":{"$error":"#N/A"}},{"$f":"CN13","v":{"$error":"#N/A"}},{"$f":"CO13","v":{"$error":"#N/A"}},{"$f":"CP13","v":{"$error":"#N/A"}}]
[null,null,null,null,null,null,null,null,null,null,null,{"$f":"HLOOKUP(L106,$L$100:$P$103,3,0)","v":{"$error":"#N/A"}},{"$f":"HLOOKUP(M106,$L$100:$P$103,3,0)","v":{"$error":"#N/A"}},{"$error":"#N/A"},{"$error":"#N/A"},{"$error":"#N/A"},null,{"$f":"HLOOKUP(R106,$R$100:$V$103,3,0)","v":{"$error":"#N/A"}},{"$f":"HLOOKUP(S106,$R$100:$V$103,3,0)","v":{"$error":"#N/A"}},{"$error":"#N/A"},{"$error":"#N/A"},{"$error":"#N/A"},null,{"$f":"HLOOKUP(X106,$X$100:$AB$103,3,0)","v":{"$error":"#N/A"}},{"$f":"HLOOKUP(Y106,$X$100:$AB$103,3,0)","v":{"$error":"#N/A"}},{"$error":"#N/A"},{"$error":"#N/A"},{"$error":"#N/A"},null,null,null,"first lose",{"$f":"IF(OR(AND($AW$80=$AG$101,$BE$80=$AW$80,MAX($AW$80,$BE$80)<$AO$80,$AY$75=$AQ$75,$AQ$75>$AI$75),AND($AW$80=$AG$101,$BE$80=$AW$80,MAX($AW$80,$BE$80)<$AO$80,$AY$75=$AQ$75,$AQ$75=$AI$75,$BA$75=$AS$75,$AS$75>$AK$75)),1,0)","v":0},0,1,1,0,0,0,null,null,null,null,null,null,{"$f":"INDEX(AT102:AT103,MATCH(TRUE,INDEX(AT102:AT103<>0,),0))","v":{"$error":"#N/A"}},null,{"$f":"INDEX(AV102:AV103,MATCH(TRUE,INDEX(AV102:AV103<>0,),0))","v":{"$error":"#N/A"}},null,null,null,{"$error":"#N/A"},{"$error":"#N/A"},{"$f":"BB97","v":{"$error":"#N/A"}},null,{"$error":"#N/A"},{"$error":"#N/A"},null,null,null,null,null,null,null,null,null,null,null,null,null,null,null,null,{"$f":"CR13","v":"Straight Flush"},{"$f":"CS13","v":{"$error":"#N/A"}},{"$f":"CT13","v":{"$error":"#N/A"}},{"$f":"CU13","v":{"$error":"#N/A"}},{"$f":"CV13","v":{"$error":"#N/A"}},{"$f":"CW13","v":{"$error":"#N/A"}},{"$f":"CX13","v":{"$error":"#N/A"}},{"$f":"CY13","v":{"$error":"#N/A"}},{"$f":"CZ13","v":{"$error":"#N/A"}},{"$f":"DA13","v":{"$error":"#N/A"}}]
[null,null,null,null,null,null,null,null,null,null,null,{"$f":"HLOOKUP(L106,$L$100:$P$103,4,0)","v":{"$error":"#N/A"}},{"$f":"HLOOKUP(M106,$L$100:$P$103,4,0)","v":{"$error":"#N/A"}},{"$error":"#N/A"},{"$error":"#N/A"},{"$error":"#N/A"},null,{"$f":"HLOOKUP(R106,$R$100:$V$103,4,0)","v":{"$error":"#N/A"}},{"$f":"HLOOKUP(S106,$R$100:$V$103,4,0)","v":{"$error":"#N/A"}},{"$error":"#N/A"},{"$error":"#N/A"},{"$error":"#N/A"},null,{"$f":"HLOOKUP(X106,$X$100:$AB$103,4,0)","v":{"$error":"#N/A"}},{"$f":"HLOOKUP(Y106,$X$100:$AB$103,4,0)","v":{"$error":"#N/A"}},{"$error":"#N/A"},{"$error":"#N/A"},{"$error":"#N/A"},null,null,null,"second lose",{"$f":"IF(OR(AND($AO$80=$AG$101,$AO$80=$BE$80,MAX($AO$80,$BE$80)<$AW$80,$AI$75=$AY$75,$AI$75>$AQ$75),AND($AO$80=$AG$101,$AO$80=$BE$80,MAX($AO$80,$BE$80)<$AW$80,$AI$75=$AY$75,$AI$75=$AQ$75,$AK$75=$BA$75,$AK$75>$AS$75)),1,0)","v":0},1,0,1,0,0,0,null,null,null,null,null,null,{"$f":"IF(ISNUMBER(AT104),AT104,0)","v":0},null,{"$f":"IF(ISNUMBER(AV104),AV104,0)","v":0},null,null,null,{"$error":"#N/A"},{"$error":"#N/A"},{"$f":"BB98","v":{"$error":"#N/A"}},null,{"$error":"#N/A"},{"$error":"#N/A"},null,null,null,null,null,null,null,null,null,null,null,null,null,null,null,null,{"$f":"DC13","v":"Four of a Kind"},{"$f":"DD13","v":{"$error":"#N/A"}},{"$f":"DE13","v":0},{"$f":"DF13","v":{"$error":"#N/A"}},{"$f":"DG13","v":{"$error":"#N/A"}},{"$f":"DH13","v":0},{"$f":"DI13","v":{"$error":"#N/A"}},{"$f":"DJ13","v":{"$error":"#N/A"}},{"$f":"DK13","v":0},{"$f":"DL13","v":{"$error":"#N/A"}}]
[null,null,null,null,null,null,null,null,null,null,null,1,2,3,4,5,null,1,2,3,4,5,null,1,2,3,4,5,null,null,null,"first win",{"$f":"IF(AND($AO$80=$AG$101,$AO$80=MIN($AO$80,$AW$80,$BE$80),$AG$84=0,$AT$105>0,$AV$105>0),1,0)","v":0},1,0,0,{"$f":"$AG106*AH106","v":0},0,0,null,"second win",null,{"$f":"AQ102","v":0},{"$f":"AS106-AQ106","v":0},{"$f":"AS102","v":0},null,{"$f":"AU102","v":0},{"$f":"AS106-AU106","v":0},null,null,null,null,{"$f":"INDEX(BA101:BA105,MATCH(TRUE,INDEX(BA101:BA105<>0,),0))","v":{"$error":"#N/A"}},null,null,null,{"$f":"INDEX(BE101:BE105,MATCH(TRUE,INDEX(BE101:BE105<>0,),0))","v":{"$error":"#N/A"}},null,null,null,null,null,null,null,null,null,null,null,null,null,null,null,null,{"$f":"DN13","v":"Full House"},{"$f":"DO13","v":{"$error":"#N/A"}},{"$f":"DP13","v":0},{"$f":"DQ13","v":{"$error":"#N/A"}},{"$f":"DR13","v":{"$error":"#N/A"}},{"$f":"DS13","v":0},{"$f":"DT13","v":{"$error":"#N/A"}},{"$f":"DU13","v":{"$error":"#N/A"}},{"$f":"DV13","v":0},{"$f":"DW13","v":{"$error":"#N/A"}}]
[null,null,null,null,null,null,null,null,null,null,null,{"$f":"L102+IF(L102=1,13+RAND()^3,RAND()^3)","v":{"$error":"#N/A"}},{"$f":"M102+IF(M102=1,13+RAND()^3,RAND()^3)","v":{"$error":"#N/A"}},{"$error":"#N/A"},{"$error":"#N/A"},{"$error":"#N/A"},0.82085039457109976,{"$error":"#N/A"},{"$error":"#N/A"},{"$error":"#N/A"},{"$error":"#N/A"},{"$error":"#N/A"},0.5579190575120333,{"$error":"#N/A"},{"$error":"#N/A"},{"$error":"#N/A"},{"$error":"#N/A"},{"$error":"#N/A"},null,null,null,"second win",{"$f":"IF(AND($AW$80=$AG$101,$AW$80=MIN($AO$80,$AW$80,$BE$80),$AG$85=0,$AR$109>0,$AV$109>0),1,0)","v":0},0,1,0,0,0,0,null,null,null,{"$f":"AQ103","v":0},{"$f":"AS107-AQ107","v":0},{"$f":"AS103","v":0},null,{"$f":"AU103","v":0},{"$f":"AS107-AU107","v":0},null,null,null,null,{"$f":"IF(ISNUMBER(BA106),BA106,0)","v":0},null,null,null,{"$f":"IF(ISNUMBER(BE106),BE106,0)","v":0},null,null,null,null,null,null,null,null,null,null,null,null,null,null,null,null,{"$f":"DY13","v":"Flush"},{"$f":"DZ13","v":{"$error":"#N/A"}},{"$f":"EA13","v":0},{"$f":"EB13","v":{"$error":"#N/A"}},{"$f":"EC13","v":{"$error":"#N/A"}},{"$f":"ED13","v":0},{"$f":"EE13","v":{"$error":"#N/A"}},{"$f":"EF13","v":{"$error":"#N/A"}},{"$f":"EG13","v":0},{"$f":"EH13","v":{"$error":"#N/A"}}]
[null,null,null,null,null,null,null,null,null,null,null,null,null,null,null,null,null,null,null,null,null,null,null,null,null,null,null,null,null,null,null,"third win",{"$f":"IF(AND($BE$80=$AG$101,$BE$80=MIN($AO$80,$AW$80,$BE$80),$AG$86=0,$AR$113>0,$AT$113>0),1,0)","v":0},0,0,1,0,0,0,null,null,null,null,{"$f":"INDEX(AR106:AR107,MATCH(TRUE,INDEX(AR106:AR107<>0,),0))","v":{"$error":"#N/A"}},null,null,null,{"$f":"INDEX(AV106:AV107,MATCH(TRUE,INDEX(AV106:AV107<>0,),0))","v":{"$error":"#N/A"}},null,"third win",null,{"$f":"AZ101","v":{"$error":"#N/A"}},{"$f":"BD108-AZ108","v":{"$error":"#N/A"}},{"$f":"BB101","v":{"$error":"#N/A"}},{"$f":"BD108-BB108","v":{"$error":"#N/A"}},{"$f":"BD101","v":{"$error":"#N/A"}},null,null,null,null,null,null,null,null,null,null,null,null,null,null,null,null,null,{"$f":"EJ13","v":"Straight"},{"$f":"EK13","v":{"$error":"#N/A"}},{"$f":"EL13","v":{"$error":"#N/A"}},{"$f":"EM13","v":{"$error":"#N/A"}},{"$f":"EN13","v":{"$error":"#N/A"}},{"$f":"EO13","v":{"$error":"#N/A"}},{"$f":"EP13","v":{"$error":"#N/A"}},{"$f":"EQ13","v":{"$error":"#N/A"}},{"$f":"ER13","v":{"$error":"#N/A"}},{"$f":"ES13","v":{"$error":"#N/A"}}]
[null,null,null,null,null,null,null,null,null,null,null,{"$f":"RANK(L116,$L$116:$P$116,1)","v":{"$error":"#N/A"}},{"$f":"RANK(M116,$L$116:$P$116,1)","v":{"$error":"#N/A"}},{"$error":"#N/A"},{"$error":"#N/A"},{"$error":"#N/A"},null,{"$f":"RANK(R116,$R$116:$V$116,1)","v":{"$error":"#N/A"}},{"$f":"RANK(S116,$R$116:$V$116,1)","v":{"$error":"#N/A"}},{"$error":"#N/A"},{"$error":"#N/A"},{"$error":"#N/A"},null,{"$f":"RANK(X116,$X$116:$AB$116,1)","v":{"$error":"#N/A"}},{"$f":"RANK(Y116,$X$116:$AB$116,1)","v":{"$error":"#N/A"}},{"$error":"#N/A"},{"$error":"#N/A"},{"$error":"#N/A"},null,null,null,"Full House",4,null,null,null,null,null,null,null,null,null,null,{"$f":"IF(ISNUMBER(AR108),AR108,0)","v":0},null,null,null,{"$f":"IF(ISNUMBER(AV108),AV108,0)","v":0},null,null,null,{"$f":"AZ102","v":{"$error":"#N/A"}},{"$f":"BD109-AZ109","v":{"$error":"#N/A"}},{"$error":"#N/A"},{"$f":"BD109-BB109","v":{"$error":"#N/A"}},{"$f":"BD102","v":{"$error":"#N/A"}},null,null,null,null,null,null,null,null,null,null,null,null,null,null,null,null,null,{"$f":"EU13","v":"Three of a Kind"},{"$f":"EV13","v":{"$error":"#N/A"}},{"$f":"EW13","v":0},{"$f":"EX13","v":{"$error":"#N/A"}},{"$f":"EY13","v":{"$error":"#N/A"}},{"$f":"EZ13","v":0},{"$f":"FA13","v":{"$error":"#N/A"}},{"$f":"FB13","v":{"$error":"#N/A"}},{"$f":"FC13","v":0},{"$f":"FD13","v":{"$error":"#N/A"}}]
[null,null,null,null,null,null,null,null,null,13,null,{"$f":"[0]!Player11","v":0},{"$f":"[0]!House1","v":0},{"$f":"[0]!House2","v":0},{"$f":"[0]!House4","v":0},{"$f":"[0]!House5","v":0},null,{"$f":"[0]!Player21","v":0},{"$f":"[0]!House1","v":0},{"$f":"[0]!House2","v":0},{"$f":"[0]!House4","v":0},{"$f":"[0]!House5","v":0},null,{"$f":"[0]!Player31","v":0},{"$f":"[0]!House1","v":0},{"$f":"[0]!House2","v":0},{"$f":"[0]!House4","v":0},{"$f":"[0]!House5","v":0},null,null,null,"All equal hands",{"$f":"IF(AND($AO$80=AG109,$AO$80=$AW$80,$AW$80=$BE$80,AI83=AQ83,AQ83=AY83),1,0)","v":0},1,1,1,{"$f":"$AG110*AH110","v":0},{"$f":"$AG110*AI110","v":0},{"$f":"$AG110*AJ110","v":0},null,"third win",null,{"$f":"AQ106","v":0},{"$f":"AU110-AQ110","v":0},{"$f":"AS106","v":0},{"$f":"AU110-AS110","v":0},{"$f":"AU106","v":0},null,null,null,null,{"$f":"AZ103","v":{"$error":"#N/A"}},{"$error":"#N/A"},{"$error":"#N/A"},{"$error":"#N/A"},{"$f":"BD103","v":{"$error":"#N/A"}},null,null,null,null,null,null,null,null,null,null,null,null,null,null,null,null,null,{"$f":"FF13","v":"Two Pair"},{"$f":"FG13","v":{"$error":"#N/A"}},{"$f":"FH13","v":0},{"$f":"FI13","v":{"$error":"#N/A"}},{"$f":"FJ13","v":{"$error":"#N/A"}},{"$f":"FK13","v":0},{"$f":"FL13","v":{"$error":"#N/A"}},{"$f":"FM13","v":{"$error":"#N/A"}},{"$f":"FN13","v":0},{"$f":"FO13","v":{"$error":"#N/A"}}]
[null,null,null,null,null,null,null,null,null,null,null,{"$f":"VLOOKUP(L110,$B$1:$F$52,5,0)","v":{"$error":"#N/A"}},{"$f":"VLOOKUP(M110,$B$1:$F$52,5,0)","v":{"$error":"#N/A"}},{"$f":"VLOOKUP(N110,$B$1:$F$52,5,0)","v":{"$error":"#N/A"}},{"$f":"VLOOKUP(O110,$B$1:$F$52,5,0)","v":{"$error":"#N/A"}},{"$f":"VLOOKUP(P110,$B$1:$F$52,5,0)","v":{"$error":"#N/A"}},null,{"$f":"VLOOKUP(R110,$B$1:$F$52,5,0)","v":{"$error":"#N/A"}},{"$f":"VLOOKUP(S110,$B$1:$F$52,5,0)","v":{"$error":"#N/A"}},{"$f":"VLOOKUP(T110,$B$1:$F$52,5,0)","v":{"$error":"#N/A"}},{"$f":"VLOOKUP(U110,$B$1:$F$52,5,0)","v":{"$error":"#N/A"}},{"$f":"VLOOKUP(V110,$B$1:$F$52,5,0)","v":{"$error":"#N/A"}},null,{"$f":"VLOOKUP(X110,$B$1:$F$52,5,0)","v":{"$error":"#N/A"}},{"$f":"VLOOKUP(Y110,$B$1:$F$52,5,0)","v":{"$error":"#N/A"}},{"$f":"VLOOKUP(Z110,$B$1:$F$52,5,0)","v":{"$error":"#N/A"}},{"$f":"VLOOKUP(AA110,$B$1:$F$52,5,0)","v":{"$error":"#N/A"}},{"$f":"VLOOKUP(AB110,$B$1:$F$52,5,0)","v":{"$error":"#N/A"}},null,null,null,"third lose",{"$f":"IF(OR(\nAND($AO$80=$AG$109,$AO$80=$AW$80,$AO$80<$BE$80,$AI$74=$AQ$74,$AJ$74=$AR$74),\nAND($AO$80=$AG$109,$AO$80=$AW$80,$AO$80=$BE$80,$AI$74=$AQ$74,$AJ$74=$AR$74,$AQ$74>$AY$74),\nAND($AO$80=$AG$109,$AO$80=$AW$80,$AO$80=$BE$80,$AI$74=$AQ$74,$AJ$74=$AR$74,$AQ$74=$AY$74,$AR$74>$AZ$74)\n),1,0)","v":0},1,1,0,{"$f":"$AG111*AH111","v":0},{"$f":"$AG111*AI111","v":0},{"$f":"$AG111*AJ111","v":0},null,null,null,{"$f":"AQ107","v":0},{"$f":"AU111-AQ111","v":0},{"$f":"AS107","v":0},{"$f":"AU111-AS111","v":0},{"$f":"AU107","v":0},null,null,null,null,{"$f":"AZ104","v":{"$error":"#N/A"}},{"$error":"#N/A"},{"$error":"#N/A"},{"$error":"#N/A"},{"$f":"BD104","v":{"$error":"#N/A"}},null,null,null,null,null,null,null,null,null,null,null,null,null,null,null,null,null,{"$f":"FQ13","v":"One Pair"},{"$f":"FR13","v":{"$error":"#N/A"}},{"$f":"FS13","v":0},{"$f":"FT13","v":{"$error":"#N/A"}},{"$f":"FU13","v":{"$error":"#N/A"}},{"$f":"FV13","v":0},{"$f":"FW13","v":{"$error":"#N/A"}},{"$f":"FX13","v":{"$error":"#N/A"}},{"$f":"FY13","v":0},{"$f":"FZ13","v":{"$error":"#N/A"}}]
[null,null,null,null,null,null,null,null,null,null,null,{"$f":"VLOOKUP(L110,$B$1:$F$52,4,0)","v":{"$error":"#N/A"}},{"$f":"VLOOKUP(M110,$B$1:$F$52,4,0)","v":{"$error":"#N/A"}},{"$f":"VLOOKUP(N110,$B$1:$F$52,4,0)","v":{"$error":"#N/A"}},{"$f":"VLOOKUP(O110,$B$1:$F$52,4,0)","v":{"$error":"#N/A"}},{"$f":"VLOOKUP(P110,$B$1:$F$52,4,0)","v":{"$error":"#N/A"}},null,{"$f":"VLOOKUP(R110,$B$1:$F$52,4,0)","v":{"$error":"#N/A"}},{"$f":"VLOOKUP(S110,$B$1:$F$52,4,0)","v":{"$error":"#N/A"}},{"$f":"VLOOKUP(T110,$B$1:$F$52,4,0)","v":{"$error":"#N/A"}},{"$f":"VLOOKUP(U110,$B$1:$F$52,4,0)","v":{"$error":"#N/A"}},{"$f":"VLOOKUP(V110,$B$1:$F$52,4,0)","v":{"$error":"#N/A"}},null,{"$f":"VLOOKUP(X110,$B$1:$F$52,4,0)","v":{"$error":"#N/A"}},{"$f":"VLOOKUP(Y110,$B$1:$F$52,4,0)","v":{"$error":"#N/A"}},{"$f":"VLOOKUP(Z110,$B$1:$F$52,4,0)","v":{"$error":"#N/A"}},{"$f":"VLOOKUP(AA110,$B$1:$F$52,4,0)","v":{"$error":"#N/A"}},{"$f":"VLOOKUP(AB110,$B$1:$F$52,4,0)","v":{"$error":"#N/A"}},null,null,null,"first lose",{"$f":"IF(\nOR(\nAND($AW$80=$AG$109,$BE$80=$AW$80,$AO$80>$AW$80,$AQ$74=$AY$74,$AR$74=$AZ$74),\nAND($AW$80=$AG$109,$BE$80=$AW$80,$AO$80=$AW$80,$AQ$74=$AY$74,$AR$74=$AZ$74,$AI$74<$AQ$74),\nAND($AW$80=$AG$109,$BE$80=$AW$80,$AO$80=$AW$80,$AQ$74=$AY$74,$AR$74=$AZ$74,$AI$74=$AQ$74,$AJ$74<$AR$74)\n),1,0)","v":0},0,1,1,0,0,0,null,null,null,null,{"$f":"INDEX(AR110:AR111,MATCH(TRUE,INDEX(AR110:AR111<>0,),0))","v":{"$error":"#N/A"}},null,{"$f":"INDEX(AT110:AT111,MATCH(TRUE,INDEX(AT110:AT111<>0,),0))","v":{"$error":"#N/A"}},null,null,null,null,null,{"$f":"AZ105","v":{"$error":"#N/A"}},{"$error":"#N/A"},{"$error":"#N/A"},{"$error":"#N/A"},{"$f":"BD105","v":{"$error":"#N/A"}},null,null,null,null,null,null,null,null,null,null,null,null,null,null,null,null,null,{"$f":"GB13","v":"High Card"},{"$f":"GC13","v":{"$error":"#N/A"}},{"$f":"GD13","v":0},{"$f":"GE13","v":{"$error":"#N/A"}},{"$f":"GF13","v":{"$error":"#N/A"}},{"$f":"GG13","v":0},{"$f":"GH13","v":{"$error":"#N/A"}},{"$f":"GI13","v":{"$error":"#N/A"}},{"$f":"GJ13","v":0},{"$f":"GK13","v":{"$error":"#N/A"}}]
[null,null,null,null,null,null,null,null,null,null,null,{"$f":"HLOOKUP(L115,$L$109:$P$112,3,0)","v":{"$error":"#N/A"}},{"$f":"HLOOKUP(M115,$L$109:$P$112,3,0)","v":{"$error":"#N/A"}},{"$error":"#N/A"},{"$error":"#N/A"},{"$error":"#N/A"},null,{"$f":"HLOOKUP(R115,$R$109:$V$112,3,0)","v":{"$error":"#N/A"}},{"$f":"HLOOKUP(S115,$R$109:$V$112,3,0)","v":{"$error":"#N/A"}},{"$error":"#N/A"},{"$error":"#N/A"},{"$error":"#N/A"},null,{"$f":"HLOOKUP(X115,$X$109:$AB$112,3,0)","v":{"$error":"#N/A"}},{"$f":"HLOOKUP(Y115,$X$109:$AB$112,3,0)","v":{"$error":"#N/A"}},{"$error":"#N/A"},{"$error":"#N/A"},{"$error":"#N/A"},null,null,null,"second lose",{"$f":"IF(OR(\nAND($AO$80=$AG$109,$AO$80<$AW$80,$AO$80=$BE$80,$AI$74=$AY$74,$AJ$74=$AZ$74),\nAND($AO$80=$AG$109,$AO$80=$AW$80,$AO$80=$BE$80,$AI$74=$AY$74,$AJ$74=$AZ$74,$AI$74>$AQ$74),\nAND($AO$80=$AG$109,$AO$80=$AW$80,$AO$80=$BE$80,$AI$74=$AY$74,$AJ$74=$AZ$74,$AI$74=$AQ$74,$AJ$74>$AR$74)\n),1,0)","v":0},1,0,1,0,0,0,null,null,null,null,{"$f":"IF(ISNUMBER(AR112),AR112,0)","v":0},null,{"$f":"IF(ISNUMBER(AT112),AT112,0)","v":0},null,null,null,null,null,null,{"$f":"INDEX(BA108:BA112,MATCH(TRUE,INDEX(BA108:BA112<>0,),0))","v":{"$error":"#N/A"}},null,{"$f":"INDEX(BC108:BC112,MATCH(TRUE,INDEX(BC108:BC112<>0,),0))","v":{"$error":"#N/A"}}]
[null,null,null,null,null,null,null,null,null,null,null,{"$f":"HLOOKUP(L115,$L$109:$P$112,4,0)","v":{"$error":"#N/A"}},{"$f":"HLOOKUP(M115,$L$109:$P$112,4,0)","v":{"$error":"#N/A"}},{"$error":"#N/A"},{"$error":"#N/A"},{"$error":"#N/A"},null,{"$f":"HLOOKUP(R115,$R$109:$V$112,4,0)","v":{"$error":"#N/A"}},{"$f":"HLOOKUP(S115,$R$109:$V$112,4,0)","v":{"$error":"#N/A"}},{"$error":"#N/A"},{"$error":"#N/A"},{"$error":"#N/A"},null,{"$f":"HLOOKUP(X115,$X$109:$AB$112,4,0)","v":{"$error":"#N/A"}},{"$f":"HLOOKUP(Y115,$X$109:$AB$112,4,0)","v":{"$error":"#N/A"}},{"$error":"#N/A"},{"$error":"#N/A"},{"$error":"#N/A"},null,null,null,"first win",{"$f":"IF(AND($AO$80=$AG$109,$AO$80=MIN($AO$80,$AW$80,$BE$80),$AG$84=0,$AT$119>0,$AV$119>0),1,0)","v":0},1,1,0,{"$f":"$AG114*AH114","v":0},{"$f":"$AG114*AI114","v":0},{"$f":"$AG114*AJ114","v":0},null,null,null,null,null,null,null,null,null,null,null,null,null,{"$f":"IF(ISNUMBER(BA113),BA113,0)","v":0},null,{"$f":"IF(ISNUMBER(BC113),BC113,0)","v":0},null,null,null,null,null,null,null,null,null,null,null,null,null,null,null,null,null,11,{"$f":"CG14","v":"Royal Flush"},{"$f":"CH14","v":{"$error":"#N/A"}},{"$f":"CI14","v":{"$error":"#N/A"}},{"$f":"CJ14","v":{"$error":"#N/A"}},{"$f":"CK14","v":{"$error":"#N/A"}},{"$f":"CL14","v":{"$error":"#N/A"}},{"$f":"CM14","v":{"$error":"#N/A"}},{"$f":"CN14","v":{"$error":"#N/A"}},{"$f":"CO14","v":{"$error":"#N/A"}},{"$f":"CP14","v":{"$error":"#N/A"}}]
[null,null,null,null,null,null,null,null,null,null,null,1,2,3,4,5,null,1,2,3,4,5,null,1,2,3,4,5,null,null,null,"second win",{"$f":"IF(AND($AW$80=$AG$109,$AW$80=MIN($AO$80,$AW$80,$BE$80),$AG$85=0,$AR$123>0,$AV$123>0),1,0)","v":0},0,1,1,0,0,0,null,"FULL HOUSE",null,null,null,null,null,null,null,null,null,null,null,null,null,null,null,null,null,null,null,null,null,null,null,null,null,null,null,null,null,null,null,null,{"$f":"CR14","v":"Straight Flush"},{"$f":"CS14","v":{"$error":"#N/A"}},{"$f":"CT14","v":{"$error":"#N/A"}},{"$f":"CU14","v":{"$error":"#N/A"}},{"$f":"CV14","v":{"$error":"#N/A"}},{"$f":"CW14","v":{"$error":"#N/A"}},{"$f":"CX14","v":{"$error":"#N/A"}},{"$f":"CY14","v":{"$error":"#N/A"}},{"$f":"CZ14","v":{"$error":"#N/A"}},{"$f":"DA14","v":{"$error":"#N/A"}}]
[null,null,null,null,null,null,null,null,null,null,null,{"$f":"L111+IF(L111=1,13+RAND()^3,RAND()^3)","v":{"$error":"#N/A"}},{"$f":"M111+IF(M111=1,13+RAND()^3,RAND()^3)","v":{"$error":"#N/A"}},{"$error":"#N/A"},{"$error":"#N/A"},{"$error":"#N/A"},5.4135452821334963E-5,{"$error":"#N/A"},{"$error":"#N/A"},{"$error":"#N/A"},{"$error":"#N/A"},{"$error":"#N/A"},0.18419593364503364,{"$error":"#N/A"},{"$error":"#N/A"},{"$error":"#N/A"},{"$error":"#N/A"},{"$error":"#N/A"},null,null,null,"third win",{"$f":"IF(AND($BE$80=$AG$109,$BE$80=MIN($AO$80,$AW$80,$BE$80),$AG$86=0,$AR$127>0,$AT$127>0),1,0)","v":0},1,0,1,0,0,0,null,"first win",null,{"$f":"AI74","v":0},null,{"$f":"AQ74","v":0},{"$f":"AQ116-AS116","v":0},{"$f":"AY74","v":0},{"$f":"AQ116-AU116","v":0},null,null,null,null,null,null,null,null,null,null,null,null,null,null,null,null,null,null,null,null,null,null,null,null,null,{"$f":"DC14","v":"Four of a Kind"},{"$f":"DD14","v":{"$error":"#N/A"}},{"$f":"DE14","v":0},{"$f":"DF14","v":{"$error":"#N/A"}},{"$f":"DG14","v":{"$error":"#N/A"}},{"$f":"DH14","v":0},{"$f":"DI14","v":{"$error":"#N/A"}},{"$f":"DJ14","v":{"$error":"#N/A"}},{"$f":"DK14","v":0},{"$f":"DL14","v":{"$error":"#N/A"}}]
[null,null,null,null,null,null,null,null,null,null,null,null,null,null,null,null,null,null,null,null,null,null,null,null,null,null,null,null,null,null,null,"Flush",5,null,null,null,null,null,null,null,null,null,{"$f":"AJ74","v":0},null,{"$f":"AR74","v":0},{"$f":"AQ117-AS117","v":0},{"$f":"AZ74","v":0},{"$f":"AQ117-AU117","v":0},null,null,null,null,null,null,null,null,null,null,null,null,null,null,null,null,null,null,null,null,null,null,null,null,null,{"$f":"DN14","v":"Full House"},{"$f":"DO14","v":{"$error":"#N/A"}},{"$f":"DP14","v":0},{"$f":"DQ14","v":{"$error":"#N/A"}},{"$f":"DR14","v":{"$error":"#N/A"}},{"$f":"DS14","v":0},{"$f":"DT14","v":{"$error":"#N/A"}},{"$f":"DU14","v":{"$error":"#N/A"}},{"$f":"DV14","v":0},{"$f":"DW14","v":{"$error":"#N/A"}}]
[null,null,null,null,null,null,null,null,null,null,null,{"$f":"RANK(L125,$L$125:$P$125,1)","v":{"$error":"#N/A"}},{"$f":"RANK(M125,$L$125:$P$125,1)","v":{"$error":"#N/A"}},{"$error":"#N/A"},{"$error":"#N/A"},{"$error":"#N/A"},null,{"$f":"RANK(R125,$R$125:$V$125,1)","v":{"$error":"#N/A"}},{"$f":"RANK(S125,$R$125:$V$125,1)","v":{"$error":"#N/A"}},{"$error":"#N/A"},{"$error":"#N/A"},{"$error":"#N/A"},null,{"$f":"RANK(X125,$X$125:$AB$125,1)","v":{"$error":"#N/A"}},{"$f":"RANK(Y125,$X$125:$AB$125,1)","v":{"$error":"#N/A"}},{"$error":"#N/A"},{"$error":"#N/A"},{"$error":"#N/A"},null,null,null,"All equal hands",{"$f":"IF(AND($AO$80=$AG$117,$AO$80=$AW$80,$AW$80=$BE$80,$AG$119=0,$AG$120=0,$AG$121=0,$AG$122=0,$AG$123=0,$AG$124=0),1,0)","v":{"$error":"#N/A"}},1,1,1,{"$f":"$AG118*AH118","v":{"$error":"#N/A"}},{"$f":"$AG118*AI118","v":{"$error":"#N/A"}},{"$f":"$AG118*AJ118","v":{"$error":"#N/A"}},null,null,null,null,null,null,{"$f":"INDEX(AT116:AT117,MATCH(TRUE,INDEX(AT116:AT117<>0,),0))","v":{"$error":"#N/A"}},null,{"$f":"INDEX(AV116:AV117,MATCH(TRUE,INDEX(AV116:AV117<>0,),0))","v":{"$error":"#N/A"}},null,null,null,null,null,null,null,null,null,null,null,null,null,null,null,null,null,null,null,null,null,null,null,null,null,{"$f":"DY14","v":"Flush"},{"$f":"DZ14","v":{"$error":"#N/A"}},{"$f":"EA14","v":0},{"$f":"EB14","v":{"$error":"#N/A"}},{"$f":"EC14","v":{"$error":"#N/A"}},{"$f":"ED14","v":0},{"$f":"EE14","v":{"$error":"#N/A"}},{"$f":"EF14","v":{"$error":"#N/A"}},{"$f":"EG14","v":0},{"$f":"EH14","v":{"$error":"#N/A"}}]
[null,null,null,null,null,null,null,null,null,14,null,{"$f":"[0]!Player11","v":0},{"$f":"[0]!House1","v":0},{"$f":"[0]!House3","v":0},{"$f":"[0]!House4","v":0},{"$f":"[0]!House5","v":0},null,{"$f":"[0]!Player21","v":0},{"$f":"[0]!House1","v":0},{"$f":"[0]!House3","v":0},{"$f":"[0]!House4","v":0},{"$f":"[0]!House5","v":0},null,{"$f":"[0]!Player31","v":0},{"$f":"[0]!House1","v":0},{"$f":"[0]!House3","v":0},{"$f":"[0]!House4","v":0},{"$f":"[0]!House5","v":0},null,null,null,"third lose",{"$f":"IF(\nOR(\nAND($AO$80=$AG$117,$AO$80=$AW$80,$AW$80<$BE$80,$AI$69=$AQ$69,$AJ$69=$AR$69,$AK$69=$AS$69,$AL$69=$AT$70,$AM$69=$AU$69),\nOR(\nAND($AO$80=$AG$117,$AO$80=$AW$80,$AW$80=$BE$80,$AI$69=$AQ$69,$AJ$69=$AR$69,$AK$69=$AS$69,$AL$69=$AT$70,$AM$69=$AU$70,$AQ$69>$AY$69),\nAND($AO$80=$AG$117,$AO$80=$AW$80,$AW$80=$BE$80,$AI$69=$AQ$69,$AJ$69=$AR$69,$AK$69=$AS$69,$AL$69=$AT$70,$AM$69=$AU$70,$AQ$69=$AY$69,$AR$69>$AZ$69),\nAND($AO$80=$AG$117,$AO$80=$AW$80,$AW$80=$BE$80,$AI$69=$AQ$69,$AJ$69=$AR$69,$AK$69=$AS$69,$AL$69=$AT$70,$AM$69=$AU$70,$AQ$69=$AY$69,$AR$69=$AZ$69,$AS$69>$BA$69),\nAND($AO$80=$AG$117,$AO$80=$AW$80,$AW$80=$BE$80,$AI$69=$AQ$69,$AJ$69=$AR$69,$AK$69=$AS$69,$AL$69=$AT$70,$AM$69=$AU$70,$AQ$69=$AY$69,$AR$69=$AZ$69,$AS$69=$BA$69,$AT$69>$BB$69),\nAND($AO$80=$AG$117,$AO$80=$AW$80,$AW$80=$BE$80,$AI$69=$AQ$69,$AJ$69=$AR$69,$AK$69=$AS$69,$AL$69=$AT$70,$AM$69=$AU$70,$AQ$69=$AY$69,$AR$69=$AZ$69,$AS$69=$BA$69,$AT$69=$BB$69,$AU$69>$BC$69)\n)),1,0)","v":{"$error":"#N/A"}},1,1,0,{"$f":"$AG119*AH119","v":{"$error":"#N/A"}},{"$error":"#N/A"},{"$error":"#N/A"},null,null,null,null,null,null,{"$f":"IF(ISNUMBER(AT118),AT118,0)","v":0},null,{"$f":"IF(ISNUMBER(AV118),AV118,0)","v":0},null,null,null,null,null,null,null,null,null,null,null,null,null,null,null,null,null,null,null,null,null,null,null,null,null,{"$f":"EJ14","v":"Straight"},{"$f":"EK14","v":{"$error":"#N/A"}},{"$f":"EL14","v":{"$error":"#N/A"}},{"$f":"EM14","v":{"$error":"#N/A"}},{"$f":"EN14","v":{"$error":"#N/A"}},{"$f":"EO14","v":{"$error":"#N/A"}},{"$f":"EP14","v":{"$error":"#N/A"}},{"$f":"EQ14","v":{"$error":"#N/A"}},{"$f":"ER14","v":{"$error":"#N/A"}},{"$f":"ES14","v":{"$error":"#N/A"}}]
[null,null,null,null,null,null,null,null,null,null,null,{"$f":"VLOOKUP(L119,$B$1:$F$52,5,0)","v":{"$error":"#N/A"}},{"$f":"VLOOKUP(M119,$B$1:$F$52,5,0)","v":{"$error":"#N/A"}},{"$f":"VLOOKUP(N119,$B$1:$F$52,5,0)","v":{"$error":"#N/A"}},{"$f":"VLOOKUP(O119,$B$1:$F$52,5,0)","v":{"$error":"#N/A"}},{"$f":"VLOOKUP(P119,$B$1:$F$52,5,0)","v":{"$error":"#N/A"}},null,{"$f":"VLOOKUP(R119,$B$1:$F$52,5,0)","v":{"$error":"#N/A"}},{"$f":"VLOOKUP(S119,$B$1:$F$52,5,0)","v":{"$error":"#N/A"}},{"$f":"VLOOKUP(T119,$B$1:$F$52,5,0)","v":{"$error":"#N/A"}},{"$f":"VLOOKUP(U119,$B$1:$F$52,5,0)","v":{"$error":"#N/A"}},{"$f":"VLOOKUP(V119,$B$1:$F$52,5,0)","v":{"$error":"#N/A"}},null,{"$f":"VLOOKUP(X119,$B$1:$F$52,5,0)","v":{"$error":"#N/A"}},{"$f":"VLOOKUP(Y119,$B$1:$F$52,5,0)","v":{"$error":"#N/A"}},{"$f":"VLOOKUP(Z119,$B$1:$F$52,5,0)","v":{"$error":"#N/A"}},{"$f":"VLOOKUP(AA119,$B$1:$F$52,5,0)","v":{"$error":"#N/A"}},{"$f":"VLOOKUP(AB119,$B$1:$F$52,5,0)","v":{"$error":"#N/A"}},null,null,null,"first lose",{"$f":"IF(\nOR(\nAND($BE$80=$AG$117,$AO$80>$AW$80,$AW$80=$BE$80,$AQ$69=$AY$69,$AR$69=$AZ$69,$AS$69=$BA$69,$AT$69=$BB$69,$AU$69=$BC$69),\nOR(\nAND($BE$80=$AG$117,$AO$80=$AW$80,$AW$80=$BE$80,$AQ$69=$AY$69,$AR$69=$AZ$69,$AS$69=$BA$69,$AT$69=$BB$69,$AU$69=$BC$69,$AI$69<$AQ$69),\nAND($BE$80=$AG$117,$AO$80=$AW$80,$AW$80=$BE$80,$AQ$69=$AY$69,$AR$69=$AZ$69,$AS$69=$BA$69,$AT$69=$BB$69,$AU$69=$BC$69,$AI$69=$AQ$69,$AJ$69<$AR$69),\nAND($BE$80=$AG$117,$AO$80=$AW$80,$AW$80=$BE$80,$AQ$69=$AY$69,$AR$69=$AZ$69,$AS$69=$BA$69,$AT$69=$BB$69,$AU$69=$BC$69,$AI$69=$AQ$69,$AJ$69=$AR$69,$AK$69<$AS$69),\nAND($BE$80=$AG$117,$AO$80=$AW$80,$AW$80=$BE$80,$AQ$69=$AY$69,$AR$69=$AZ$69,$AS$69=$BA$69,$AT$69=$BB$69,$AU$69=$BC$69,$AI$69=$AQ$69,$AJ$69=$AR$69,$AK$69=$AS$69,$AL$69<$AT$69),\nAND($BE$80=$AG$117,$AO$80=$AW$80,$AW$80=$BE$80,$AQ$69=$AY$69,$AR$69=$AZ$69,$AS$69=$BA$69,$AT$69=$BB$69,$AU$69=$BC$69,$AI$69=$AQ$69,$AJ$69=$AR$69,$AK$69=$AS$69,$AL$69=$AT$69,$AM$69<$AU$69)\n)),1,0)","v":{"$error":"#N/A"}},0,1,1,{"$error":"#N/A"},{"$error":"#N/A"},{"$error":"#N/A"},null,"second win",null,{"$f":"AQ116","v":0},{"$f":"AS120-AQ120","v":0},{"$f":"AS116","v":0},null,{"$f":"AU116","v":0},{"$f":"AS120-AU120","v":0},null,null,null,null,null,null,null,null,null,null,null,null,null,null,null,null,null,null,null,null,null,null,null,null,null,{"$f":"EU14","v":"Three of a Kind"},{"$f":"EV14","v":{"$error":"#N/A"}},{"$f":"EW14","v":0},{"$f":"EX14","v":{"$error":"#N/A"}},{"$f":"EY14","v":{"$error":"#N/A"}},{"$f":"EZ14","v":0},{"$f":"FA14","v":{"$error":"#N/A"}},{"$f":"FB14","v":{"$error":"#N/A"}},{"$f":"FC14","v":0},{"$f":"FD14","v":{"$error":"#N/A"}}]
[null,null,null,null,null,null,null,null,null,null,null,{"$f":"VLOOKUP(L119,$B$1:$F$52,4,0)","v":{"$error":"#N/A"}},{"$f":"VLOOKUP(M119,$B$1:$F$52,4,0)","v":{"$error":"#N/A"}},{"$f":"VLOOKUP(N119,$B$1:$F$52,4,0)","v":{"$error":"#N/A"}},{"$f":"VLOOKUP(O119,$B$1:$F$52,4,0)","v":{"$error":"#N/A"}},{"$f":"VLOOKUP(P119,$B$1:$F$52,4,0)","v":{"$error":"#N/A"}},null,{"$f":"VLOOKUP(R119,$B$1:$F$52,4,0)","v":{"$error":"#N/A"}},{"$f":"VLOOKUP(S119,$B$1:$F$52,4,0)","v":{"$error":"#N/A"}},{"$f":"VLOOKUP(T119,$B$1:$F$52,4,0)","v":{"$error":"#N/A"}},{"$f":"VLOOKUP(U119,$B$1:$F$52,4,0)","v":{"$error":"#N/A"}},{"$f":"VLOOKUP(V119,$B$1:$F$52,4,0)","v":{"$error":"#N/A"}},null,{"$f":"VLOOKUP(X119,$B$1:$F$52,4,0)","v":{"$error":"#N/A"}},{"$f":"VLOOKUP(Y119,$B$1:$F$52,4,0)","v":{"$error":"#N/A"}},{"$f":"VLOOKUP(Z119,$B$1:$F$52,4,0)","v":{"$error":"#N/A"}},{"$f":"VLOOKUP(AA119,$B$1:$F$52,4,0)","v":{"$error":"#N/A"}},{"$f":"VLOOKUP(AB119,$B$1:$F$52,4,0)","v":{"$error":"#N/A"}},null,null,null,"second lose",{"$f":"IF(\nOR(\nAND($BE$80=$AG$117,$AO$80<$AW$80,$AO$80=$BE$80,$AI$70=$AY$70,$AJ$70=$AZ$70,$AK$70=$BA$70,$AL$70=$BB$70,$AM$70=$BC$70),\nOR(\nAND($BE$80=$AG$117,$AO$80=$AW$80,$AW$80=$BE$80,$AI$70=$AY$70,$AJ$70=$AZ$70,$AK$70=$BA$70,$AL$70=$BB$70,$AM$70=$BC$70,$AI$70>$AQ$70),\nAND($BE$80=$AG$117,$AO$80=$AW$80,$AW$80=$BE$80,$AI$70=$AY$70,$AJ$70=$AZ$70,$AK$70=$BA$70,$AL$70=$BB$70,$AM$70=$BC$70,$AI$70=$AQ$70,$AJ$70>$AR$70),\nAND($BE$80=$AG$117,$AO$80=$AW$80,$AW$80=$BE$80,$AI$70=$AY$70,$AJ$70=$AZ$70,$AK$70=$BA$70,$AL$70=$BB$70,$AM$70=$BC$70,$AI$70=$AQ$70,$AJ$70=$AR$70,$AK$70>$AS$70),\nAND($BE$80=$AG$117,$AO$80=$AW$80,$AW$80=$BE$80,$AI$70=$AY$70,$AJ$70=$AZ$70,$AK$70=$BA$70,$AL$70=$BB$70,$AM$70=$BC$70,$AI$70=$AQ$70,$AJ$70=$AR$70,$AK$70=$AS$70,$AL$70>$AT$70),\nAND($BE$80=$AG$117,$AO$80=$AW$80,$AW$80=$BE$80,$AI$70=$AY$70,$AJ$70=$AZ$70,$AK$70=$BA$70,$AL$70=$BB$70,$AM$70=$BC$70,$AI$70=$AQ$70,$AJ$70=$AR$70,$AK$70=$AS$70,$AL$70=$AT$70,$AM$70>$AU$70)\n)),1,0)","v":0},1,0,1,0,0,0,null,null,null,{"$f":"AQ117","v":0},{"$f":"AS121-AQ121","v":0},{"$f":"AS117","v":0},null,{"$f":"AU117","v":0},{"$f":"AS121-AU121","v":0},null,null,null,null,null,null,null,null,null,null,null,null,null,null,null,null,null,null,null,null,null,null,null,null,null,{"$f":"FF14","v":"Two Pair"},{"$f":"FG14","v":{"$error":"#N/A"}},{"$f":"FH14","v":0},{"$f":"FI14","v":{"$error":"#N/A"}},{"$f":"FJ14","v":{"$error":"#N/A"}},{"$f":"FK14","v":0},{"$f":"FL14","v":{"$error":"#N/A"}},{"$f":"FM14","v":{"$error":"#N/A"}},{"$f":"FN14","v":0},{"$f":"FO14","v":{"$error":"#N/A"}}]
[null,null,null,null,null,null,null,null,null,null,null,{"$f":"HLOOKUP(L124,$L$118:$P$121,3,0)","v":{"$error":"#N/A"}},{"$f":"HLOOKUP(M124,$L$118:$P$121,3,0)","v":{"$error":"#N/A"}},{"$error":"#N/A"},{"$error":"#N/A"},{"$error":"#N/A"},null,{"$f":"HLOOKUP(R124,$R$118:$V$121,3,0)","v":{"$error":"#N/A"}},{"$f":"HLOOKUP(S124,$R$118:$V$121,3,0)","v":{"$error":"#N/A"}},{"$error":"#N/A"},{"$error":"#N/A"},{"$error":"#N/A"},null,{"$f":"HLOOKUP(X124,$X$118:$AB$121,3,0)","v":{"$error":"#N/A"}},{"$f":"HLOOKUP(Y124,$X$118:$AB$121,3,0)","v":{"$error":"#N/A"}},{"$error":"#N/A"},{"$error":"#N/A"},{"$error":"#N/A"},null,null,null,"first win",{"$f":"IF(AND($AO$80=$AG$117,$AO$80=MIN($AO$80,$AW$80,$BE$80),$AG$84=0,$BC$100>0,$BE$100>0),1,0)","v":0},1,0,0,{"$f":"$AG122*AH122","v":0},0,0,null,null,null,null,{"$f":"INDEX(AR120:AR121,MATCH(TRUE,INDEX(AR120:AR121<>0,),0))","v":{"$error":"#N/A"}},null,null,null,{"$f":"INDEX(AV120:AV121,MATCH(TRUE,INDEX(AV120:AV121<>0,),0))","v":{"$error":"#N/A"}},null,null,null,null,null,null,null,null,null,null,null,null,null,null,null,null,null,null,null,null,null,null,null,null,null,{"$f":"FQ14","v":"One Pair"},{"$f":"FR14","v":{"$error":"#N/A"}},{"$f":"FS14","v":0},{"$f":"FT14","v":{"$error":"#N/A"}},{"$f":"FU14","v":{"$error":"#N/A"}},{"$f":"FV14","v":0},{"$f":"FW14","v":{"$error":"#N/A"}},{"$f":"FX14","v":{"$error":"#N/A"}},{"$f":"FY14","v":0},{"$f":"FZ14","v":{"$error":"#N/A"}}]
[null,null,null,null,null,null,null,null,null,null,null,{"$f":"HLOOKUP(L124,$L$118:$P$121,4,0)","v":{"$error":"#N/A"}},{"$f":"HLOOKUP(M124,$L$118:$P$121,4,0)","v":{"$error":"#N/A"}},{"$error":"#N/A"},{"$error":"#N/A"},{"$error":"#N/A"},null,{"$f":"HLOOKUP(R124,$R$118:$V$121,4,0)","v":{"$error":"#N/A"}},{"$f":"HLOOKUP(S124,$R$118:$V$121,4,0)","v":{"$error":"#N/A"}},{"$error":"#N/A"},{"$error":"#N/A"},{"$error":"#N/A"},null,{"$f":"HLOOKUP(X124,$X$118:$AB$121,4,0)","v":{"$error":"#N/A"}},{"$f":"HLOOKUP(Y124,$X$118:$AB$121,4,0)","v":{"$error":"#N/A"}},{"$error":"#N/A"},{"$error":"#N/A"},{"$error":"#N/A"},null,null,null,"second win",{"$f":"IF(AND($AW$80=$AG$117,$AW$80=MIN($AO$80,$AW$80,$BE$80),$AG$85=0,$BA$107>0,$BE$107>0),1,0)","v":0},0,1,0,0,0,0,null,null,null,null,{"$f":"IF(ISNUMBER(AR122),AR122,0)","v":0},null,null,null,{"$f":"IF(ISNUMBER(AV122),AV122,0)","v":0},null,null,null,null,null,null,null,null,null,null,null,null,null,null,null,null,null,null,null,null,null,null,null,null,null,{"$f":"GB14","v":"High Card"},{"$f":"GC14","v":{"$error":"#N/A"}},{"$f":"GD14","v":0},{"$f":"GE14","v":{"$error":"#N/A"}},{"$f":"GF14","v":{"$error":"#N/A"}},{"$f":"GG14","v":0},{"$f":"GH14","v":{"$error":"#N/A"}},{"$f":"GI14","v":{"$error":"#N/A"}},{"$f":"GJ14","v":0},{"$f":"GK14","v":{"$error":"#N/A"}}]
[null,null,null,null,null,null,null,null,null,null,null,1,2,3,4,5,null,1,2,3,4,5,null,1,2,3,4,5,null,null,null,"third win",{"$f":"IF(AND($BE$80=$AG$117,$BE$80=MIN($AO$80,$AW$80,$BE$80),$AG$86=0,$BA$114>0,$BC$114>0),1,0)","v":0},0,0,1,0,0,0,null,"third win",null,{"$f":"AQ120","v":0},{"$f":"AU124-AQ124","v":0},{"$f":"AS120","v":0},{"$f":"AU124-AS124","v":0},{"$f":"AU120","v":0}]
[null,null,null,null,null,null,null,null,null,null,null,{"$f":"L120+IF(L120=1,13+RAND()^3,RAND()^3)","v":{"$error":"#N/A"}},{"$f":"M120+IF(M120=1,13+RAND()^3,RAND()^3)","v":{"$error":"#N/A"}},{"$error":"#N/A"},{"$error":"#N/A"},{"$error":"#N/A"},0.35538492751423839,{"$error":"#N/A"},{"$error":"#N/A"},{"$error":"#N/A"},{"$error":"#N/A"},{"$error":"#N/A"},3.5849430998644936E-3,{"$error":"#N/A"},{"$error":"#N/A"},{"$error":"#N/A"},{"$error":"#N/A"},{"$error":"#N/A"},null,null,null,"Straight",6,null,null,null,null,null,null,null,null,null,{"$f":"AQ121","v":0},{"$f":"AU125-AQ125","v":0},{"$f":"AS121","v":0},{"$f":"AU125-AS125","v":0},{"$f":"AU121","v":0},null,null,null,null,null,null,null,null,null,null,null,null,null,null,null,null,null,null,null,null,null,null,null,null,null,12,{"$f":"CG15","v":"Royal Flush"},{"$f":"CH15","v":{"$error":"#N/A"}},{"$f":"CI15","v":{"$error":"#N/A"}},{"$f":"CJ15","v":{"$error":"#N/A"}},{"$f":"CK15","v":{"$error":"#N/A"}},{"$f":"CL15","v":{"$error":"#N/A"}},{"$f":"CM15","v":{"$error":"#N/A"}},{"$f":"CN15","v":{"$error":"#N/A"}},{"$f":"CO15","v":{"$error":"#N/A"}},{"$f":"CP15","v":{"$error":"#N/A"}}]
[null,null,null,null,null,null,null,null,null,null,null,null,null,null,null,null,null,null,null,null,null,null,null,null,null,null,null,null,null,null,null,"All equal hands",{"$f":"IF(AND(AM78=AU78,AU78=BC78,$AO$80=AG125,$AO$80=$AW$80,$AW$80=$BE$80),1,0)","v":0},1,1,1,{"$f":"$AG126*AH126","v":0},0,0,null,null,null,null,{"$f":"INDEX(AR124:AR125,MATCH(TRUE,INDEX(AR124:AR125<>0,),0))","v":{"$error":"#N/A"}},null,{"$f":"INDEX(AT124:AT125,MATCH(TRUE,INDEX(AT124:AT125<>0,),0))","v":{"$error":"#N/A"}},null,null,null,"THREE OF A KIND",null,null,null,null,null,null,null,null,null,null,null,null,null,null,null,null,null,null,null,null,null,null,null,{"$f":"CR15","v":"Straight Flush"},{"$f":"CS15","v":{"$error":"#N/A"}},{"$f":"CT15","v":{"$error":"#N/A"}},{"$f":"CU15","v":{"$error":"#N/A"}},{"$f":"CV15","v":{"$error":"#N/A"}},{"$f":"CW15","v":{"$error":"#N/A"}},{"$f":"CX15","v":{"$error":"#N/A"}},{"$f":"CY15","v":{"$error":"#N/A"}},{"$f":"CZ15","v":{"$error":"#N/A"}},{"$f":"DA15","v":{"$error":"#N/A"}}]
[null,null,null,null,null,null,null,null,null,null,null,{"$f":"RANK(L134,$L$134:$P$134,1)","v":{"$error":"#N/A"}},{"$f":"RANK(M134,$L$134:$P$134,1)","v":{"$error":"#N/A"}},{"$error":"#N/A"},{"$error":"#N/A"},{"$error":"#N/A"},null,{"$f":"RANK(R134,$R$134:$V$134,1)","v":{"$error":"#N/A"}},{"$f":"RANK(S134,$R$134:$V$134,1)","v":{"$error":"#N/A"}},{"$error":"#N/A"},{"$error":"#N/A"},{"$error":"#N/A"},null,{"$f":"RANK(X134,$X$134:$AB$134,1)","v":{"$error":"#N/A"}},{"$f":"RANK(Y134,$X$134:$AB$134,1)","v":{"$error":"#N/A"}},{"$error":"#N/A"},{"$error":"#N/A"},{"$error":"#N/A"},null,null,null,"third lose",{"$f":"IF(\nOR(\nAND($AO$80=$AG$125,$AO$80=$AW$80,$AW$80<$BE$80,$AI$70=$AQ$70,$AJ$70=$AR$70,$AK$70=$AS$70,$AL$70=$AT$70,$AM$70=$AU$70),\nOR(\nAND($AO$80=$AG$125,$AO$80=$AW$80,$AW$80=$BE$80,$AI$70=$AQ$70,$AJ$70=$AR$70,$AK$70=$AS$70,$AL$70=$AT$70,$AM$70=$AU$70,$AQ$70>$AY$70),\nAND($AO$80=$AG$125,$AO$80=$AW$80,$AW$80=$BE$80,$AI$70=$AQ$70,$AJ$70=$AR$70,$AK$70=$AS$70,$AL$70=$AT$70,$AM$70=$AU$70,$AQ$70=$AY$70,$AR$70>$AZ$70),\nAND($AO$80=$AG$125,$AO$80=$AW$80,$AW$80=$BE$80,$AI$70=$AQ$70,$AJ$70=$AR$70,$AK$70=$AS$70,$AL$70=$AT$70,$AM$70=$AU$70,$AQ$70=$AY$70,$AR$70=$AZ$70,$AS$70>$BA$70),\nAND($AO$80=$AG$125,$AO$80=$AW$80,$AW$80=$BE$80,$AI$70=$AQ$70,$AJ$70=$AR$70,$AK$70=$AS$70,$AL$70=$AT$70,$AM$70=$AU$70,$AQ$70=$AY$70,$AR$70=$AZ$70,$AS$70=$BA$70,$AT$70>$BB$70),\nAND($AO$80=$AG$125,$AO$80=$AW$80,$AW$80=$BE$80,$AI$70=$AQ$70,$AJ$70=$AR$70,$AK$70=$AS$70,$AL$70=$AT$70,$AM$70=$AU$70,$AQ$70=$AY$70,$AR$70=$AZ$70,$AS$70=$BA$70,$AT$70=$BB$70,$AU$70>$BC$70)\n)),1,0)","v":0},1,1,0,0,0,0,null,null,null,null,{"$f":"IF(ISNUMBER(AR126),AR126,0)","v":0},null,{"$f":"IF(ISNUMBER(AT126),AT126,0)","v":0},null,null,null,"first win",null,{"$f":"AI72","v":0},null,{"$f":"AQ72","v":0},{"$f":"AZ127-BB127","v":0},{"$f":"AY72","v":0},{"$f":"AZ127-BD127","v":0},null,null,null,null,null,null,null,null,null,null,null,null,null,null,null,null,{"$f":"DC15","v":"Four of a Kind"},{"$f":"DD15","v":{"$error":"#N/A"}},{"$f":"DE15","v":0},{"$f":"DF15","v":{"$error":"#N/A"}},{"$f":"DG15","v":{"$error":"#N/A"}},{"$f":"DH15","v":0},{"$f":"DI15","v":{"$error":"#N/A"}},{"$f":"DJ15","v":{"$error":"#N/A"}},{"$f":"DK15","v":0},{"$f":"DL15","v":{"$error":"#N/A"}}]
[null,null,null,null,null,null,null,null,null,15,null,{"$f":"[0]!Player11","v":0},{"$f":"[0]!House2","v":0},{"$f":"[0]!House3","v":0},{"$f":"[0]!House4","v":0},{"$f":"[0]!House5","v":0},null,{"$f":"[0]!Player21","v":0},{"$f":"[0]!House2","v":0},{"$f":"[0]!House3","v":0},{"$f":"[0]!House4","v":0},{"$f":"[0]!House5","v":0},null,{"$f":"[0]!Player31","v":0},{"$f":"[0]!House2","v":0},{"$f":"[0]!House3","v":0},{"$f":"[0]!House4","v":0},{"$f":"[0]!House5","v":0},null,null,null,"first lose",{"$f":"IF(\nOR(\nAND($BE$80=$AG$125,$AO$80>$AW$80,$AW$80=$BE$80,$AQ$70=$AY$70,$AR$70=$AZ$70,$AS$70=$BA$70,$AT$70=$BB$70,$AU$70=$BC$70),\nOR(\nAND($BE$80=$AG$125,$AO$80=$AW$80,$AW$80=$BE$80,$AQ$70=$AY$70,$AR$70=$AZ$70,$AS$70=$BA$70,$AT$70=$BB$70,$AU$70=$BC$70,$AI$70<$AQ$70),\nAND($BE$80=$AG$125,$AO$80=$AW$80,$AW$80=$BE$80,$AQ$70=$AY$70,$AR$70=$AZ$70,$AS$70=$BA$70,$AT$70=$BB$70,$AU$70=$BC$70,$AI$70=$AQ$70,$AJ$70<$AR$70),\nAND($BE$80=$AG$125,$AO$80=$AW$80,$AW$80=$BE$80,$AQ$70=$AY$70,$AR$70=$AZ$70,$AS$70=$BA$70,$AT$70=$BB$70,$AU$70=$BC$70,$AI$70=$AQ$70,$AJ$70=$AR$70,$AK$70<$AS$70),\nAND($BE$80=$AG$125,$AO$80=$AW$80,$AW$80=$BE$80,$AQ$70=$AY$70,$AR$70=$AZ$70,$AS$70=$BA$70,$AT$70=$BB$70,$AU$70=$BC$70,$AI$70=$AQ$70,$AJ$70=$AR$70,$AK$70=$AS$70,$AL$70<$AT$70),\nAND($BE$80=$AG$125,$AO$80=$AW$80,$AW$80=$BE$80,$AQ$70=$AY$70,$AR$70=$AZ$70,$AS$70=$BA$70,$AT$70=$BB$70,$AU$70=$BC$70,$AI$70=$AQ$70,$AJ$70=$AR$70,$AK$70=$AS$70,$AL$70=$AT$70,$AM$70<$AU$70)\n)),1,0)","v":0},0,1,1,0,0,0,null,null,null,null,null,null,null,null,null,null,null,null,{"$f":"AK72","v":0},null,{"$f":"AS72","v":0},{"$f":"AZ128-BB128","v":0},{"$f":"BA72","v":0},{"$f":"AZ128-BD128","v":0},null,null,null,null,null,null,null,null,null,null,null,null,null,null,null,null,{"$f":"DN15","v":"Full House"},{"$f":"DO15","v":{"$error":"#N/A"}},{"$f":"DP15","v":0},{"$f":"DQ15","v":{"$error":"#N/A"}},{"$f":"DR15","v":{"$error":"#N/A"}},{"$f":"DS15","v":0},{"$f":"DT15","v":{"$error":"#N/A"}},{"$f":"DU15","v":{"$error":"#N/A"}},{"$f":"DV15","v":0},{"$f":"DW15","v":{"$error":"#N/A"}}]
[null,null,null,null,null,null,null,null,null,null,null,{"$f":"VLOOKUP(L128,$B$1:$F$52,5,0)","v":{"$error":"#N/A"}},{"$f":"VLOOKUP(M128,$B$1:$F$52,5,0)","v":{"$error":"#N/A"}},{"$f":"VLOOKUP(N128,$B$1:$F$52,5,0)","v":{"$error":"#N/A"}},{"$f":"VLOOKUP(O128,$B$1:$F$52,5,0)","v":{"$error":"#N/A"}},{"$f":"VLOOKUP(P128,$B$1:$F$52,5,0)","v":{"$error":"#N/A"}},null,{"$f":"VLOOKUP(R128,$B$1:$F$52,5,0)","v":{"$error":"#N/A"}},{"$f":"VLOOKUP(S128,$B$1:$F$52,5,0)","v":{"$error":"#N/A"}},{"$f":"VLOOKUP(T128,$B$1:$F$52,5,0)","v":{"$error":"#N/A"}},{"$f":"VLOOKUP(U128,$B$1:$F$52,5,0)","v":{"$error":"#N/A"}},{"$f":"VLOOKUP(V128,$B$1:$F$52,5,0)","v":{"$error":"#N/A"}},null,{"$f":"VLOOKUP(X128,$B$1:$F$52,5,0)","v":{"$error":"#N/A"}},{"$f":"VLOOKUP(Y128,$B$1:$F$52,5,0)","v":{"$error":"#N/A"}},{"$f":"VLOOKUP(Z128,$B$1:$F$52,5,0)","v":{"$error":"#N/A"}},{"$f":"VLOOKUP(AA128,$B$1:$F$52,5,0)","v":{"$error":"#N/A"}},{"$f":"VLOOKUP(AB128,$B$1:$F$52,5,0)","v":{"$error":"#N/A"}},null,null,null,"second lose",{"$f":"IF(\nOR(\nAND($BE$80=$AG$125,$AO$80<$AW$80,$AO$80=$BE$80,$AI$70=$AY$70,$AJ$70=$AZ$70,$AK$70=$BA$70,$AL$70=$BB$70,$AM$70=$BC$70),\nOR(\nAND($BE$80=$AG$125,$AO$80=$AW$80,$AW$80=$BE$80,$AI$70=$AY$70,$AJ$70=$AZ$70,$AK$70=$BA$70,$AL$70=$BB$70,$AM$70=$BC$70,$AI$70>$AQ$70),\nAND($BE$80=$AG$125,$AO$80=$AW$80,$AW$80=$BE$80,$AI$70=$AY$70,$AJ$70=$AZ$70,$AK$70=$BA$70,$AL$70=$BB$70,$AM$70=$BC$70,$AI$70=$AQ$70,$AJ$70>$AR$70),\nAND($BE$80=$AG$125,$AO$80=$AW$80,$AW$80=$BE$80,$AI$70=$AY$70,$AJ$70=$AZ$70,$AK$70=$BA$70,$AL$70=$BB$70,$AM$70=$BC$70,$AI$70=$AQ$70,$AJ$70=$AR$70,$AK$70>$AS$70),\nAND($BE$80=$AG$125,$AO$80=$AW$80,$AW$80=$BE$80,$AI$70=$AY$70,$AJ$70=$AZ$70,$AK$70=$BA$70,$AL$70=$BB$70,$AM$70=$BC$70,$AI$70=$AQ$70,$AJ$70=$AR$70,$AK$70=$AS$70,$AL$70>$AT$70),\nAND($BE$80=$AG$125,$AO$80=$AW$80,$AW$80=$BE$80,$AI$70=$AY$70,$AJ$70=$AZ$70,$AK$70=$BA$70,$AL$70=$BB$70,$AM$70=$BC$70,$AI$70=$AQ$70,$AJ$70=$AR$70,$AK$70=$AS$70,$AL$70=$AT$70,$AM$70>$AU$70)\n)),1,0)","v":0},1,0,1,0,0,0,null,null,null,null,null,null,null,null,null,null,null,null,{"$f":"AL72","v":0},null,{"$f":"AT72","v":0},0,{"$f":"BB72","v":0},0,null,null,null,null,null,null,null,null,null,null,null,null,null,null,null,null,{"$f":"DY15","v":"Flush"},{"$f":"DZ15","v":{"$error":"#N/A"}},{"$f":"EA15","v":0},{"$f":"EB15","v":{"$error":"#N/A"}},{"$f":"EC15","v":{"$error":"#N/A"}},{"$f":"ED15","v":0},{"$f":"EE15","v":{"$error":"#N/A"}},{"$f":"EF15","v":{"$error":"#N/A"}},{"$f":"EG15","v":0},{"$f":"EH15","v":{"$error":"#N/A"}}]
[null,null,null,null,null,null,null,null,null,null,null,{"$f":"VLOOKUP(L128,$B$1:$F$52,4,0)","v":{"$error":"#N/A"}},{"$f":"VLOOKUP(M128,$B$1:$F$52,4,0)","v":{"$error":"#N/A"}},{"$f":"VLOOKUP(N128,$B$1:$F$52,4,0)","v":{"$error":"#N/A"}},{"$f":"VLOOKUP(O128,$B$1:$F$52,4,0)","v":{"$error":"#N/A"}},{"$f":"VLOOKUP(P128,$B$1:$F$52,4,0)","v":{"$error":"#N/A"}},null,{"$f":"VLOOKUP(R128,$B$1:$F$52,4,0)","v":{"$error":"#N/A"}},{"$f":"VLOOKUP(S128,$B$1:$F$52,4,0)","v":{"$error":"#N/A"}},{"$f":"VLOOKUP(T128,$B$1:$F$52,4,0)","v":{"$error":"#N/A"}},{"$f":"VLOOKUP(U128,$B$1:$F$52,4,0)","v":{"$error":"#N/A"}},{"$f":"VLOOKUP(V128,$B$1:$F$52,4,0)","v":{"$error":"#N/A"}},null,{"$f":"VLOOKUP(X128,$B$1:$F$52,4,0)","v":{"$error":"#N/A"}},{"$f":"VLOOKUP(Y128,$B$1:$F$52,4,0)","v":{"$error":"#N/A"}},{"$f":"VLOOKUP(Z128,$B$1:$F$52,4,0)","v":{"$error":"#N/A"}},{"$f":"VLOOKUP(AA128,$B$1:$F$52,4,0)","v":{"$error":"#N/A"}},{"$f":"VLOOKUP(AB128,$B$1:$F$52,4,0)","v":{"$error":"#N/A"}},null,null,null,"first win",{"$f":"IF(AND($AO$80=$AG$125,AO50=MIN($AO$80,$AW$80,$BE$80),$AG$84=0,$AT$161>0,$AV$161>0),1,0)","v":0},1,0,0,0,0,0,null,null,null,null,null,null,null,null,null,null,null,null,null,null,null,{"$f":"INDEX(BC127:BC129,MATCH(TRUE,INDEX(BC127:BC129<>0,),0))","v":{"$error":"#N/A"}},null,{"$f":"INDEX(BE127:BE129,MATCH(TRUE,INDEX(BE127:BE129<>0,),0))","v":{"$error":"#N/A"}},null,null,null,null,null,null,null,null,null,null,null,null,null,null,null,null,{"$f":"EJ15","v":"Straight"},{"$f":"EK15","v":{"$error":"#N/A"}},{"$f":"EL15","v":{"$error":"#N/A"}},{"$f":"EM15","v":{"$error":"#N/A"}},{"$f":"EN15","v":{"$error":"#N/A"}},{"$f":"EO15","v":{"$error":"#N/A"}},{"$f":"EP15","v":{"$error":"#N/A"}},{"$f":"EQ15","v":{"$error":"#N/A"}},{"$f":"ER15","v":{"$error":"#N/A"}},{"$f":"ES15","v":{"$error":"#N/A"}}]
[null,null,null,null,null,null,null,null,null,null,null,{"$f":"HLOOKUP(L133,$L$127:$P$130,3,0)","v":{"$error":"#N/A"}},{"$f":"HLOOKUP(M133,$L$127:$P$130,3,0)","v":{"$error":"#N/A"}},{"$error":"#N/A"},{"$error":"#N/A"},{"$error":"#N/A"},null,{"$f":"HLOOKUP(R133,$R$127:$V$130,3,0)","v":{"$error":"#N/A"}},{"$f":"HLOOKUP(S133,$R$127:$V$130,3,0)","v":{"$error":"#N/A"}},{"$error":"#N/A"},{"$error":"#N/A"},{"$error":"#N/A"},null,{"$f":"HLOOKUP(X133,$X$127:$AB$130,3,0)","v":{"$error":"#N/A"}},{"$f":"HLOOKUP(Y133,$X$127:$AB$130,3,0)","v":{"$error":"#N/A"}},{"$error":"#N/A"},{"$error":"#N/A"},{"$error":"#N/A"},null,null,null,"second win",{"$f":"IF(AND($AW$80=$AG$125,AW50=MIN($AO$80,$AW$80,$BE$80),$AG$85=0,$AR$168>0,$AV$168>0),1,0)","v":0},0,1,0,0,0,0,null,null,null,null,null,null,null,null,null,null,null,null,null,null,null,{"$f":"IF(ISNUMBER(BC130),BC130,0)","v":0},null,{"$f":"IF(ISNUMBER(BE130),BE130,0)","v":0},null,null,null,null,null,null,null,null,null,null,null,null,null,null,null,null,{"$f":"EU15","v":"Three of a Kind"},{"$f":"EV15","v":{"$error":"#N/A"}},{"$f":"EW15","v":0},{"$f":"EX15","v":{"$error":"#N/A"}},{"$f":"EY15","v":{"$error":"#N/A"}},{"$f":"EZ15","v":0},{"$f":"FA15","v":{"$error":"#N/A"}},{"$f":"FB15","v":{"$error":"#N/A"}},{"$f":"FC15","v":0},{"$f":"FD15","v":{"$error":"#N/A"}}]
[null,null,null,null,null,null,null,null,null,null,null,{"$f":"HLOOKUP(L133,$L$127:$P$130,4,0)","v":{"$error":"#N/A"}},{"$f":"HLOOKUP(M133,$L$127:$P$130,4,0)","v":{"$error":"#N/A"}},{"$error":"#N/A"},{"$error":"#N/A"},{"$error":"#N/A"},null,{"$f":"HLOOKUP(R133,$R$127:$V$130,4,0)","v":{"$error":"#N/A"}},{"$f":"HLOOKUP(S133,$R$127:$V$130,4,0)","v":{"$error":"#N/A"}},{"$error":"#N/A"},{"$error":"#N/A"},{"$error":"#N/A"},null,{"$f":"HLOOKUP(X133,$X$127:$AB$130,4,0)","v":{"$error":"#N/A"}},{"$f":"HLOOKUP(Y133,$X$127:$AB$130,4,0)","v":{"$error":"#N/A"}},{"$error":"#N/A"},{"$error":"#N/A"},{"$error":"#N/A"},null,null,null,"third win",{"$f":"IF(AND(BE50=$AG$125,BE50=MIN($AO$80,$AW$80,$BE$80),$AG$86=0,$AR$175>0,$AT$175>0),1,0)","v":0},0,0,1,0,0,0,null,null,null,null,null,null,null,null,null,null,"second win",null,{"$f":"AZ127","v":0},{"$f":"BB132-AZ132","v":0},{"$f":"BB127","v":0},null,{"$f":"BD127","v":0},{"$f":"BB132-BD132","v":0},null,null,null,null,null,null,null,null,null,null,null,null,null,null,null,null,{"$f":"FF15","v":"Two Pair"},{"$f":"FG15","v":{"$error":"#N/A"}},{"$f":"FH15","v":0},{"$f":"FI15","v":{"$error":"#N/A"}},{"$f":"FJ15","v":{"$error":"#N/A"}},{"$f":"FK15","v":0},{"$f":"FL15","v":{"$error":"#N/A"}},{"$f":"FM15","v":{"$error":"#N/A"}},{"$f":"FN15","v":0},{"$f":"FO15","v":{"$error":"#N/A"}}]
[null,null,null,null,null,null,null,null,null,null,null,1,2,3,4,5,null,1,2,3,4,5,null,1,2,3,4,5,null,null,null,"Three of a Kind",7,null,null,null,null,null,null,null,null,null,null,null,null,null,null,null,null,null,null,{"$f":"AZ128","v":0},0,0,null,0,0,null,null,null,null,null,null,null,null,null,null,null,null,null,null,null,null,{"$f":"FQ15","v":"One Pair"},{"$error":"#N/A"},0,{"$error":"#N/A"},{"$error":"#N/A"},0,{"$error":"#N/A"},{"$error":"#N/A"},0,{"$error":"#N/A"}]
[null,null,null,null,null,null,null,null,null,null,null,{"$f":"L129+IF(L129=1,13+RAND()^3,RAND()^3)","v":{"$error":"#N/A"}},{"$f":"M129+IF(M129=1,13+RAND()^3,RAND()^3)","v":{"$error":"#N/A"}},{"$error":"#N/A"},{"$error":"#N/A"},{"$error":"#N/A"},2.7314716085071068E-2,{"$error":"#N/A"},{"$error":"#N/A"},{"$error":"#N/A"},{"$error":"#N/A"},{"$error":"#N/A"},0.24497576929721415,{"$error":"#N/A"},{"$error":"#N/A"},{"$error":"#N/A"},{"$error":"#N/A"},{"$error":"#N/A"},null,null,null,"third lose",{"$f":"IF(OR(\nAND($AO$80=$AG$133,$AO$80=$AW$80,$AW$80<$BE$80,$AI$72=$AQ$72,$AK$72=$AS$72,$AL$72=$AT$72),\nAND($AO$80=$AG$133, $AO$80=$AW$80,$AW$80=$BE$80,$AI$72=$AQ$72,$AK$72=$AS$72,$AL$72=$AT$72,$AQ$72>$AY$72),\nAND($AO$80=$AG$133, $AO$80=$AW$80,$AW$80=$BE$80,$AI$72=$AQ$72,$AK$72=$AS$72,$AL$72=$AT$72,$AQ$72=$AY$72,$AS$72>$BA$72),\nAND($AO$80=$AG$133, $AO$80=$AW$80,$AW$80=$BE$80,$AI$72=$AQ$72,$AK$72=$AS$72,$AL$72=$AT$72,$AQ$72=$AY$72,$AS$72=$BA$72,$AT$72>$BB$72)),1,0)","v":0},1,1,0,{"$f":"$AG134*AH134","v":0},0,0,null,null,null,null,null,null,null,null,null,null,null,null,0,0,0,null,0,0,null,null,null,null,null,null,null,null,null,null,null,null,null,null,null,null,{"$f":"GB15","v":"High Card"},{"$f":"GC15","v":{"$error":"#N/A"}},{"$f":"GD15","v":0},{"$f":"GE15","v":{"$error":"#N/A"}},{"$f":"GF15","v":{"$error":"#N/A"}},{"$f":"GG15","v":0},{"$f":"GH15","v":{"$error":"#N/A"}},{"$f":"GI15","v":{"$error":"#N/A"}},{"$f":"GJ15","v":0},{"$f":"GK15","v":{"$error":"#N/A"}}]
[null,null,null,null,null,null,null,null,null,null,null,null,null,null,null,null,null,null,null,null,null,null,null,null,null,null,null,null,null,null,null,"first lose",{"$f":"IF(OR(\nAND($BE$80=$AG$133,$BE$80=$AW$80,$AW$80<$AO$80,$AY$72=$AQ$72,$BA$72=$AS$72,$BB$72=$AT$72),\nAND($BE$80=$AG$133, $BE$80=$AW$80,$AW$80=$AO$80,$AY$72=$AQ$72,$BA$72=$AS$72,$BB$72=$AT$72,$AQ$72>$AI$72),\nAND($BE$80=$AG$133, $BE$80=$AW$80,$AW$80=$AO$80,$AY$72=$AQ$72,$BA$72=$AS$72,$BB$72=$AT$72,$AQ$72=$AI$72,$AS$72>$AK$72),\nAND($BE$80=$AG$133, $BE$80=$AW$80,$AW$80=$AO$80,$AY$72=$AQ$72,$BA$72=$AS$72,$BB$72=$AT$72,$AQ$72=$AI$72,$AS$72=$AK$72,$AT$72>$AL$72)),1,0)","v":0},0,1,1,0,0,0,null,null,null,null,null,null,null,null,null,null,null,null,null,{"$f":"INDEX(BA132:BA134,MATCH(TRUE,INDEX(BA132:BA134<>0,),0))","v":{"$error":"#N/A"}},null,null,null,{"$f":"INDEX(BE132:BE134,MATCH(TRUE,INDEX(BE132:BE134<>0,),0))","v":{"$error":"#N/A"}}]
[null,null,null,null,null,null,null,null,null,null,null,{"$f":"RANK(L143,$L$143:$P$143,1)","v":{"$error":"#N/A"}},{"$f":"RANK(M143,$L$143:$P$143,1)","v":{"$error":"#N/A"}},{"$error":"#N/A"},{"$error":"#N/A"},{"$error":"#N/A"},null,{"$f":"RANK(R143,$R$143:$V$143,1)","v":{"$error":"#N/A"}},{"$f":"RANK(S143,$R$143:$V$143,1)","v":{"$error":"#N/A"}},{"$error":"#N/A"},{"$error":"#N/A"},{"$error":"#N/A"},null,{"$f":"RANK(X143,$X$143:$AB$143,1)","v":{"$error":"#N/A"}},{"$f":"RANK(Y143,$X$143:$AB$143,1)","v":{"$error":"#N/A"}},{"$error":"#N/A"},{"$error":"#N/A"},{"$error":"#N/A"},null,null,null,"second lose",{"$f":"IF(OR(\nAND($BE$80=$AG$133,$BE$80=$AO$80,$AO$80<$AW$80,$AI$72=$AY$72,$AK$72=$BA$72,$AL$72=$BB$72),\nAND($BE$80=$AG$133, $BE$80=$AO$80,$AO$80=$AW$80,$AI$72=$AY$72,$AK$72=$BA$72,$AL$72=$BB$72,$AI$72>$AQ$72),\nAND($BE$80=$AG$133, $BE$80=$AO$80,$AO$80=$AW$80,$AI$72=$AY$72,$AK$72=$BA$72,$AL$72=$BB$72,$AI$72=$AQ$72,$AK$72>$AS$72),\nAND($BE$80=$AG$133, $BE$80=$AO$80,$AO$80=$AW$80,$AI$72=$AY$72,$AK$72=$BA$72,$AL$72=$BB$72,$AI$72=$AQ$72,$AK$72=$AS$72,$AL$72>$AT$72)),1,0)","v":0},1,0,1,0,0,0,null,null,null,null,null,null,null,null,null,null,null,null,null,{"$f":"IF(ISNUMBER(BA135),BA135,0)","v":0},null,null,null,{"$f":"IF(ISNUMBER(BE135),BE135,0)","v":0},null,null,null,null,null,null,null,null,null,null,null,null,null,null,null,13,{"$f":"CG16","v":"Royal Flush"},{"$f":"CH16","v":{"$error":"#N/A"}},{"$f":"CI16","v":{"$error":"#N/A"}},{"$f":"CJ16","v":{"$error":"#N/A"}},{"$f":"CK16","v":{"$error":"#N/A"}},{"$f":"CL16","v":{"$error":"#N/A"}},{"$f":"CM16","v":{"$error":"#N/A"}},{"$f":"CN16","v":{"$error":"#N/A"}},{"$f":"CO16","v":{"$error":"#N/A"}},{"$f":"CP16","v":{"$error":"#N/A"}}]
[null,null,null,null,null,null,null,null,null,16,null,{"$f":"[0]!Player12","v":0},{"$f":"[0]!House1","v":0},{"$f":"[0]!House2","v":0},{"$f":"[0]!House3","v":0},{"$f":"[0]!House4","v":0},null,{"$f":"[0]!Player22","v":0},{"$f":"[0]!House1","v":0},{"$f":"[0]!House2","v":0},{"$f":"[0]!House3","v":0},{"$f":"[0]!House4","v":0},null,{"$f":"[0]!Player32","v":0},{"$f":"[0]!House1","v":0},{"$f":"[0]!House2","v":0},{"$f":"[0]!House3","v":0},{"$f":"[0]!House4","v":0},null,null,null,"first win",{"$f":"IF(AND($AO$80=$AG$133,$AO$80=MIN($AO$80,$AW$80,$BE$80),$AG$84=0,$BC$131>0,$BE$131>0),1,0)","v":0},1,0,0,0,0,0,null,"TWO PAIR",null,null,null,null,null,null,null,null,"third win",null,{"$f":"AZ132","v":0},{"$f":"BD137-AZ137","v":0},{"$f":"BB132","v":0},{"$f":"BD137-BB137","v":0},{"$f":"BD132","v":0},null,null,null,null,null,null,null,null,null,null,null,null,null,null,null,null,null,{"$f":"CR16","v":"Straight Flush"},{"$f":"CS16","v":{"$error":"#N/A"}},{"$f":"CT16","v":{"$error":"#N/A"}},{"$f":"CU16","v":{"$error":"#N/A"}},{"$f":"CV16","v":{"$error":"#N/A"}},{"$f":"CW16","v":{"$error":"#N/A"}},{"$f":"CX16","v":{"$error":"#N/A"}},{"$f":"CY16","v":{"$error":"#N/A"}},{"$f":"CZ16","v":{"$error":"#N/A"}},{"$f":"DA16","v":{"$error":"#N/A"}}]
[null,null,null,null,null,null,null,null,null,null,null,{"$f":"VLOOKUP(L137,$B$1:$F$52,5,0)","v":{"$error":"#N/A"}},{"$f":"VLOOKUP(M137,$B$1:$F$52,5,0)","v":{"$error":"#N/A"}},{"$f":"VLOOKUP(N137,$B$1:$F$52,5,0)","v":{"$error":"#N/A"}},{"$f":"VLOOKUP(O137,$B$1:$F$52,5,0)","v":{"$error":"#N/A"}},{"$f":"VLOOKUP(P137,$B$1:$F$52,5,0)","v":{"$error":"#N/A"}},null,{"$f":"VLOOKUP(R137,$B$1:$F$52,5,0)","v":{"$error":"#N/A"}},{"$f":"VLOOKUP(S137,$B$1:$F$52,5,0)","v":{"$error":"#N/A"}},{"$f":"VLOOKUP(T137,$B$1:$F$52,5,0)","v":{"$error":"#N/A"}},{"$f":"VLOOKUP(U137,$B$1:$F$52,5,0)","v":{"$error":"#N/A"}},{"$f":"VLOOKUP(V137,$B$1:$F$52,5,0)","v":{"$error":"#N/A"}},null,{"$f":"VLOOKUP(X137,$B$1:$F$52,5,0)","v":{"$error":"#N/A"}},{"$f":"VLOOKUP(Y137,$B$1:$F$52,5,0)","v":{"$error":"#N/A"}},{"$f":"VLOOKUP(Z137,$B$1:$F$52,5,0)","v":{"$error":"#N/A"}},{"$f":"VLOOKUP(AA137,$B$1:$F$52,5,0)","v":{"$error":"#N/A"}},{"$f":"VLOOKUP(AB137,$B$1:$F$52,5,0)","v":{"$error":"#N/A"}},null,null,null,"second win",{"$f":"IF(AND($AW$80=$AG$133,$AW$80=MIN($AO$80,$AW$80,$BE$80),$AG$85=0,$BA$136>0,$BE$136>0),1,0)","v":0},0,1,0,0,0,0,null,"first win",null,{"$f":"AI73","v":0},null,{"$f":"AQ73","v":0},{"$f":"AQ138-AS138","v":0},{"$f":"AY73","v":0},{"$f":"AQ138-AU138","v":0},null,null,null,{"$f":"AZ133","v":0},{"$f":"BD138-AZ138","v":0},{"$f":"BB133","v":0},{"$f":"BD138-BB138","v":0},{"$f":"BD133","v":0},null,null,null,null,null,null,null,null,null,null,null,null,null,null,null,null,null,{"$f":"DC16","v":"Four of a Kind"},{"$f":"DD16","v":{"$error":"#N/A"}},{"$f":"DE16","v":0},{"$f":"DF16","v":{"$error":"#N/A"}},{"$f":"DG16","v":{"$error":"#N/A"}},{"$f":"DH16","v":0},{"$f":"DI16","v":{"$error":"#N/A"}},{"$f":"DJ16","v":{"$error":"#N/A"}},{"$f":"DK16","v":0},{"$f":"DL16","v":{"$error":"#N/A"}}]
[null,null,null,null,null,null,null,null,null,null,null,{"$f":"VLOOKUP(L137,$B$1:$F$52,4,0)","v":{"$error":"#N/A"}},{"$f":"VLOOKUP(M137,$B$1:$F$52,4,0)","v":{"$error":"#N/A"}},{"$f":"VLOOKUP(N137,$B$1:$F$52,4,0)","v":{"$error":"#N/A"}},{"$f":"VLOOKUP(O137,$B$1:$F$52,4,0)","v":{"$error":"#N/A"}},{"$f":"VLOOKUP(P137,$B$1:$F$52,4,0)","v":{"$error":"#N/A"}},null,{"$f":"VLOOKUP(R137,$B$1:$F$52,4,0)","v":{"$error":"#N/A"}},{"$f":"VLOOKUP(S137,$B$1:$F$52,4,0)","v":{"$error":"#N/A"}},{"$f":"VLOOKUP(T137,$B$1:$F$52,4,0)","v":{"$error":"#N/A"}},{"$f":"VLOOKUP(U137,$B$1:$F$52,4,0)","v":{"$error":"#N/A"}},{"$f":"VLOOKUP(V137,$B$1:$F$52,4,0)","v":{"$error":"#N/A"}},null,{"$f":"VLOOKUP(X137,$B$1:$F$52,4,0)","v":{"$error":"#N/A"}},{"$f":"VLOOKUP(Y137,$B$1:$F$52,4,0)","v":{"$error":"#N/A"}},{"$f":"VLOOKUP(Z137,$B$1:$F$52,4,0)","v":{"$error":"#N/A"}},{"$f":"VLOOKUP(AA137,$B$1:$F$52,4,0)","v":{"$error":"#N/A"}},{"$f":"VLOOKUP(AB137,$B$1:$F$52,4,0)","v":{"$error":"#N/A"}},null,null,null,"third win",{"$f":"IF(AND($BE$80=$AG$133,$BE$80=MIN($AO$80,$AW$80,$BE$80),$AG$86=0,$BA$141>0,$BC$141>0),1,0)","v":0},0,0,1,0,0,0,null,null,null,{"$f":"AJ73","v":0},null,{"$f":"AR73","v":0},{"$f":"AQ139-AS139","v":0},{"$f":"AZ73","v":0},{"$f":"AQ139-AU139","v":0},null,null,null,0,0,0,0,0,null,null,null,null,null,null,null,null,null,null,null,null,null,null,null,null,null,{"$f":"DN16","v":"Full House"},{"$f":"DO16","v":{"$error":"#N/A"}},{"$f":"DP16","v":0},{"$f":"DQ16","v":{"$error":"#N/A"}},{"$f":"DR16","v":{"$error":"#N/A"}},{"$f":"DS16","v":0},{"$f":"DT16","v":{"$error":"#N/A"}},{"$f":"DU16","v":{"$error":"#N/A"}},{"$f":"DV16","v":0},{"$f":"DW16","v":{"$error":"#N/A"}}]
[null,null,null,null,null,null,null,null,null,null,null,{"$f":"HLOOKUP(L142,$L$136:$P$139,3,0)","v":{"$error":"#N/A"}},{"$f":"HLOOKUP(M142,$L$136:$P$139,3,0)","v":{"$error":"#N/A"}},{"$error":"#N/A"},{"$error":"#N/A"},{"$error":"#N/A"},null,{"$f":"HLOOKUP(R142,$R$136:$V$139,3,0)","v":{"$error":"#N/A"}},{"$f":"HLOOKUP(S142,$R$136:$V$139,3,0)","v":{"$error":"#N/A"}},{"$error":"#N/A"},{"$error":"#N/A"},{"$error":"#N/A"},null,{"$f":"HLOOKUP(X142,$X$136:$AB$139,3,0)","v":{"$error":"#N/A"}},{"$f":"HLOOKUP(Y142,$X$136:$AB$139,3,0)","v":{"$error":"#N/A"}},{"$error":"#N/A"},{"$error":"#N/A"},{"$error":"#N/A"},null,null,null,"Two Pair",8,null,null,null,null,null,null,null,null,null,{"$f":"AK73","v":0},null,{"$f":"AS73","v":0},{"$f":"AQ140-AS140","v":0},{"$f":"BA73","v":0},{"$f":"AQ140-AU140","v":0},null,null,null,null,{"$f":"INDEX(BA137:BA139,MATCH(TRUE,INDEX(BA137:BA139<>0,),0))","v":{"$error":"#N/A"}},null,{"$f":"INDEX(BC137:BC139,MATCH(TRUE,INDEX(BC137:BC139<>0,),0))","v":{"$error":"#N/A"}},null,null,null,null,null,null,null,null,null,null,null,null,null,null,null,null,null,null,{"$f":"DY16","v":"Flush"},{"$f":"DZ16","v":{"$error":"#N/A"}},{"$f":"EA16","v":0},{"$f":"EB16","v":{"$error":"#N/A"}},{"$f":"EC16","v":{"$error":"#N/A"}},{"$f":"ED16","v":0},{"$f":"EE16","v":{"$error":"#N/A"}},{"$f":"EF16","v":{"$error":"#N/A"}},{"$f":"EG16","v":0},{"$f":"EH16","v":{"$error":"#N/A"}}]
[null,null,null,null,null,null,null,null,null,null,null,{"$f":"HLOOKUP(L142,$L$136:$P$139,4,0)","v":{"$error":"#N/A"}},{"$f":"HLOOKUP(M142,$L$136:$P$139,4,0)","v":{"$error":"#N/A"}},{"$error":"#N/A"},{"$error":"#N/A"},{"$error":"#N/A"},null,{"$f":"HLOOKUP(R142,$R$136:$V$139,4,0)","v":{"$error":"#N/A"}},{"$f":"HLOOKUP(S142,$R$136:$V$139,4,0)","v":{"$error":"#N/A"}},{"$error":"#N/A"},{"$error":"#N/A"},{"$error":"#N/A"},null,{"$f":"HLOOKUP(X142,$X$136:$AB$139,4,0)","v":{"$error":"#N/A"}},{"$f":"HLOOKUP(Y142,$X$136:$AB$139,4,0)","v":{"$error":"#N/A"}},{"$error":"#N/A"},{"$error":"#N/A"},{"$error":"#N/A"},null,null,null,"third lose",{"$f":"IF(OR(\nAND($AO$80=$AG$140,$AO$80=$AW$80,$AW$80<$BE$80,$AI$73=$AQ$73,$AJ$73=$AR$73,$AK$73=$AS$73),\nAND($AO$80=$AG$140, $AO$80=$AW$80,$AW$80=$BE$80,$AI$73=$AQ$73,$AJ$73=$AR$73,$AK$73=$AS$73,$AQ$73>$AY$73),\nAND($AO$80=$AG$140, $AO$80=$AW$80,$AW$80=$BE$80,$AI$73=$AQ$73,$AJ$73=$AR$73,$AK$73=$AS$73,$AQ$73=$AY$73,$AR$73>$AZ$73),\nAND($AO$80=$AG$140, $AO$80=$AW$80,$AW$80=$BE$80,$AI$73=$AQ$73,$AJ$73=$AR$73,$AK$73=$AS$73,$AQ$73=$AY$73,$AR$73=$AZ$73,$AS$73>$BA$73)),1,0)","v":0},1,1,0,{"$f":"$AG141*AH141","v":0},0,0,null,null,null,null,null,null,{"$f":"INDEX(AT138:AT140,MATCH(TRUE,INDEX(AT138:AT140<>0,),0))","v":{"$error":"#N/A"}},null,{"$f":"INDEX(AV138:AV140,MATCH(TRUE,INDEX(AV138:AV140<>0,),0))","v":{"$error":"#N/A"}},null,null,null,null,{"$f":"IF(ISNUMBER(BA140),BA140,0)","v":0},null,{"$f":"IF(ISNUMBER(BC140),BC140,0)","v":0},null,null,null,null,null,null,null,null,null,null,null,null,null,null,null,null,null,null,{"$f":"EJ16","v":"Straight"},{"$f":"EK16","v":{"$error":"#N/A"}},{"$f":"EL16","v":{"$error":"#N/A"}},{"$f":"EM16","v":{"$error":"#N/A"}},{"$f":"EN16","v":{"$error":"#N/A"}},{"$f":"EO16","v":{"$error":"#N/A"}},{"$f":"EP16","v":{"$error":"#N/A"}},{"$f":"EQ16","v":{"$error":"#N/A"}},{"$f":"ER16","v":{"$error":"#N/A"}},{"$f":"ES16","v":{"$error":"#N/A"}}]
[null,null,null,null,null,null,null,null,null,null,null,1,2,3,4,5,null,1,2,3,4,5,null,1,2,3,4,5,null,null,null,"first lose",{"$f":"IF(OR(\nAND($BE$80=$AG$140,$BE$80=$AW$80,$AW$80<$AO$80,$AY$73=$AQ$73,$AZ$73=$AR$73,$BA$73=$AS$73),\nAND($BE$80=$AG$140, $BE$80=$AW$80,$AW$80=$AO$80,$AY$73=$AQ$73,$AZ$73=$AR$73,$BA$73=$AS$73,$AQ$73>$AI$73),\nAND($BE$80=$AG$140, $BE$80=$AW$80,$AW$80=$AO$80,$AY$73=$AQ$73,$AZ$73=$AR$73,$BA$73=$AS$73,$AQ$73=$AI$73,$AR$73>$AJ$73),\nAND($BE$80=$AG$140, $BE$80=$AW$80,$AW$80=$AO$80,$AY$73=$AQ$73,$AZ$73=$AR$73,$BA$73=$AS$73,$AQ$73=$AI$73,$AR$73=$AJ$73,$AS$73>$AK$73)),1,0)","v":0},0,1,1,0,0,0,null,null,null,null,null,null,{"$f":"IF(ISNUMBER(AT141),AT141,0)","v":0},null,{"$f":"IF(ISNUMBER(AV141),AV141,0)","v":0},null,null,null,null,null,null,null,null,null,null,null,null,null,null,null,null,null,null,null,null,null,null,null,null,null,{"$f":"EU16","v":"Three of a Kind"},{"$f":"EV16","v":{"$error":"#N/A"}},{"$f":"EW16","v":0},{"$f":"EX16","v":{"$error":"#N/A"}},{"$f":"EY16","v":{"$error":"#N/A"}},{"$f":"EZ16","v":0},{"$f":"FA16","v":{"$error":"#N/A"}},{"$f":"FB16","v":{"$error":"#N/A"}},{"$f":"FC16","v":0},{"$f":"FD16","v":{"$error":"#N/A"}}]
[null,null,null,null,null,null,null,null,null,null,null,{"$f":"L138+IF(L138=1,13+RAND()^3,RAND()^3)","v":{"$error":"#N/A"}},{"$f":"M138+IF(M138=1,13+RAND()^3,RAND()^3)","v":{"$error":"#N/A"}},{"$error":"#N/A"},{"$error":"#N/A"},{"$error":"#N/A"},0.78253368633435771,{"$error":"#N/A"},{"$error":"#N/A"},{"$error":"#N/A"},{"$error":"#N/A"},{"$error":"#N/A"},0.27520531182304642,{"$error":"#N/A"},{"$error":"#N/A"},{"$error":"#N/A"},{"$error":"#N/A"},{"$error":"#N/A"},null,null,null,"second lose",{"$f":"IF(OR(\nAND($BE$80=$AG$140,$BE$80=$AO$80,$AO$80<$AW$80,$AI$73=$AY$73,$AJ$73=$AZ$73,$AK$73=$BA$73),\nAND($BE$80=$AG$140, $BE$80=$AO$80,$AO$80<$AW$80,$AI$73=$AY$73,$AJ$73=$AZ$73,$AK$73=$BA$73,$AI$73>$AQ$73),\nAND($BE$80=$AG$140, $BE$80=$AO$80,$AO$80<$AW$80,$AI$73=$AY$73,$AJ$73=$AZ$73,$AK$73=$BA$73,$AI$73=$AQ$73,$AJ$73>$AR$73),\nAND($BE$80=$AG$140, $BE$80=$AO$80,$AO$80<$AW$80,$AI$73=$AY$73,$AJ$73=$AZ$73,$AK$73=$BA$73,$AI$73=$AQ$73,$AJ$73=$AR$73,$AK$73>$AR$73)),1,0)","v":0},1,0,1,0,0,0,null,"second win",null,{"$f":"AQ138","v":0},{"$f":"AS143-AQ143","v":0},{"$f":"AS138","v":0},null,{"$f":"AU138","v":0},{"$f":"AS143-AU143","v":0},null,"ONE PAIR",null,null,null,null,null,null,null,null,null,null,null,null,null,null,null,null,null,null,null,null,null,null,null,{"$f":"FF16","v":"Two Pair"},{"$f":"FG16","v":{"$error":"#N/A"}},{"$f":"FH16","v":0},{"$f":"FI16","v":{"$error":"#N/A"}},{"$f":"FJ16","v":{"$error":"#N/A"}},{"$f":"FK16","v":0},{"$f":"FL16","v":{"$error":"#N/A"}},{"$f":"FM16","v":{"$error":"#N/A"}},{"$f":"FN16","v":0},{"$f":"FO16","v":{"$error":"#N/A"}}]
[null,null,null,null,null,null,null,null,null,null,null,null,null,null,null,null,null,null,null,null,null,null,null,null,null,null,null,null,null,null,null,"first win",{"$f":"IF(AND($AO$80=$AG$140,$AO$80=MIN($AO$80,$AW$80,$BE$80),$AG$84=0,$AT$142>0,$AV$142>0),1,0)","v":0},1,0,0,0,0,0,null,null,null,{"$f":"AQ139","v":0},{"$f":"AS144-AQ144","v":0},{"$f":"AS139","v":0},null,{"$f":"AU139","v":0},{"$f":"AS144-AU144","v":0},null,"first win",null,{"$f":"AI71","v":0},null,{"$f":"AQ71","v":7},{"$f":"AZ144-BB144","v":-7},{"$f":"AY71","v":0},{"$f":"AZ144-BD144","v":0},null,null,null,null,null,null,null,null,null,null,null,null,null,null,null,null,{"$f":"FQ16","v":"One Pair"},{"$f":"FR16","v":{"$error":"#N/A"}},{"$f":"FS16","v":0},{"$f":"FT16","v":{"$error":"#N/A"}},{"$f":"FU16","v":{"$error":"#N/A"}},{"$f":"FV16","v":0},{"$f":"FW16","v":{"$error":"#N/A"}},{"$f":"FX16","v":{"$error":"#N/A"}},{"$f":"FY16","v":0},{"$f":"FZ16","v":{"$error":"#N/A"}}]
[null,null,null,null,null,null,null,null,null,null,null,{"$f":"RANK(L152,$L$152:$P$152,1)","v":{"$error":"#N/A"}},{"$f":"RANK(M152,$L$152:$P$152,1)","v":{"$error":"#N/A"}},{"$error":"#N/A"},{"$error":"#N/A"},{"$error":"#N/A"},null,{"$f":"RANK(R152,$R$152:$V$152,1)","v":{"$error":"#N/A"}},{"$f":"RANK(S152,$R$152:$V$152,1)","v":{"$error":"#N/A"}},{"$error":"#N/A"},{"$error":"#N/A"},{"$error":"#N/A"},null,{"$f":"RANK(X152,$X$152:$AB$152,1)","v":{"$error":"#N/A"}},{"$f":"RANK(Y152,$X$152:$AB$152,1)","v":{"$error":"#N/A"}},{"$error":"#N/A"},{"$error":"#N/A"},{"$error":"#N/A"},null,null,null,"second win",{"$f":"IF(AND($AW$80=$AG$140,$AW$80=MIN($AO$80,$AW$80,$BE$80),$AG$85=0,$AR$147>0,$AV$147>0),1,0)","v":0},0,1,0,0,0,0,null,null,null,{"$f":"AQ140","v":0},{"$f":"AS145-AQ145","v":0},{"$f":"AS140","v":0},null,{"$f":"AU140","v":0},{"$f":"AS145-AU145","v":0},null,null,null,{"$f":"AK71","v":0},null,{"$f":"AS71","v":14},{"$f":"AZ145-BB145","v":-14},{"$f":"BA71","v":0},{"$f":"AZ145-BD145","v":0},null,null,null,null,null,null,null,null,null,null,null,null,null,null,null,null,{"$f":"GB16","v":"High Card"},{"$f":"GC16","v":{"$error":"#N/A"}},{"$f":"GD16","v":0},{"$f":"GE16","v":{"$error":"#N/A"}},{"$f":"GF16","v":{"$error":"#N/A"}},{"$f":"GG16","v":0},{"$f":"GH16","v":{"$error":"#N/A"}},{"$f":"GI16","v":{"$error":"#N/A"}},{"$f":"GJ16","v":0},{"$f":"GK16","v":{"$error":"#N/A"}}]
[null,null,null,null,null,null,null,null,null,17,null,{"$f":"[0]!Player12","v":0},{"$f":"[0]!House1","v":0},{"$f":"[0]!House2","v":0},{"$f":"[0]!House3","v":0},{"$f":"[0]!House5","v":0},null,{"$f":"[0]!Player22","v":0},{"$f":"[0]!House1","v":0},{"$f":"[0]!House2","v":0},{"$f":"[0]!House3","v":0},{"$f":"[0]!House5","v":0},null,{"$f":"[0]!Player32","v":0},{"$f":"[0]!House1","v":0},{"$f":"[0]!House2","v":0},{"$f":"[0]!House3","v":0},{"$f":"[0]!House5","v":0},null,null,null,"third win",{"$f":"IF(AND($BE$80=$AG$140,$BE$80=MIN($AO$80,$AW$80,$BE$80),$AG$86=0,$AR$152>0,$AT$152>0),1,0)","v":0},0,0,1,0,0,0,null,null,null,null,{"$f":"INDEX(AR143:AR145,MATCH(TRUE,INDEX(AR143:AR145<>0,),0))","v":{"$error":"#N/A"}},null,null,null,{"$f":"INDEX(AV143:AV145,MATCH(TRUE,INDEX(AV143:AV145<>0,),0))","v":{"$error":"#N/A"}},null,null,null,{"$f":"AL71","v":0},null,{"$f":"AT71","v":11},-11,{"$f":"BB71","v":0},0]
[null,null,null,null,null,null,null,null,null,null,null,{"$f":"VLOOKUP(L146,$B$1:$F$52,5,0)","v":{"$error":"#N/A"}},{"$f":"VLOOKUP(M146,$B$1:$F$52,5,0)","v":{"$error":"#N/A"}},{"$f":"VLOOKUP(N146,$B$1:$F$52,5,0)","v":{"$error":"#N/A"}},{"$f":"VLOOKUP(O146,$B$1:$F$52,5,0)","v":{"$error":"#N/A"}},{"$f":"VLOOKUP(P146,$B$1:$F$52,5,0)","v":{"$error":"#N/A"}},null,{"$f":"VLOOKUP(R146,$B$1:$F$52,5,0)","v":{"$error":"#N/A"}},{"$f":"VLOOKUP(S146,$B$1:$F$52,5,0)","v":{"$error":"#N/A"}},{"$f":"VLOOKUP(T146,$B$1:$F$52,5,0)","v":{"$error":"#N/A"}},{"$f":"VLOOKUP(U146,$B$1:$F$52,5,0)","v":{"$error":"#N/A"}},{"$f":"VLOOKUP(V146,$B$1:$F$52,5,0)","v":{"$error":"#N/A"}},null,{"$f":"VLOOKUP(X146,$B$1:$F$52,5,0)","v":{"$error":"#N/A"}},{"$f":"VLOOKUP(Y146,$B$1:$F$52,5,0)","v":{"$error":"#N/A"}},{"$f":"VLOOKUP(Z146,$B$1:$F$52,5,0)","v":{"$error":"#N/A"}},{"$f":"VLOOKUP(AA146,$B$1:$F$52,5,0)","v":{"$error":"#N/A"}},{"$f":"VLOOKUP(AB146,$B$1:$F$52,5,0)","v":{"$error":"#N/A"}},null,null,null,"One Pair",9,null,null,null,null,null,null,null,null,null,null,{"$f":"IF(ISNUMBER(AR146),AR146,0)","v":0},null,null,null,{"$f":"IF(ISNUMBER(AV146),AV146,0)","v":0},null,null,null,{"$f":"AM71","v":0},null,{"$f":"AU71","v":9},{"$f":"AZ147-BB147","v":-9},{"$f":"BC71","v":0},{"$f":"AZ147-BD147","v":0},null,null,null,null,null,null,null,null,null,null,null,null,null,null,null,14,{"$f":"CG17","v":"Royal Flush"},{"$f":"CH17","v":{"$error":"#N/A"}},{"$f":"CI17","v":{"$error":"#N/A"}},{"$f":"CJ17","v":{"$error":"#N/A"}},{"$f":"CK17","v":{"$error":"#N/A"}},{"$f":"CL17","v":{"$error":"#N/A"}},{"$f":"CM17","v":{"$error":"#N/A"}},{"$f":"CN17","v":{"$error":"#N/A"}},{"$f":"CO17","v":{"$error":"#N/A"}},{"$f":"CP17","v":{"$error":"#N/A"}}]
[null,null,null,null,null,null,null,null,null,null,null,{"$f":"VLOOKUP(L146,$B$1:$F$52,4,0)","v":{"$error":"#N/A"}},{"$f":"VLOOKUP(M146,$B$1:$F$52,4,0)","v":{"$error":"#N/A"}},{"$f":"VLOOKUP(N146,$B$1:$F$52,4,0)","v":{"$error":"#N/A"}},{"$f":"VLOOKUP(O146,$B$1:$F$52,4,0)","v":{"$error":"#N/A"}},{"$f":"VLOOKUP(P146,$B$1:$F$52,4,0)","v":{"$error":"#N/A"}},null,{"$f":"VLOOKUP(R146,$B$1:$F$52,4,0)","v":{"$error":"#N/A"}},{"$f":"VLOOKUP(S146,$B$1:$F$52,4,0)","v":{"$error":"#N/A"}},{"$f":"VLOOKUP(T146,$B$1:$F$52,4,0)","v":{"$error":"#N/A"}},{"$f":"VLOOKUP(U146,$B$1:$F$52,4,0)","v":{"$error":"#N/A"}},{"$f":"VLOOKUP(V146,$B$1:$F$52,4,0)","v":{"$error":"#N/A"}},null,{"$f":"VLOOKUP(X146,$B$1:$F$52,4,0)","v":{"$error":"#N/A"}},{"$f":"VLOOKUP(Y146,$B$1:$F$52,4,0)","v":{"$error":"#N/A"}},{"$f":"VLOOKUP(Z146,$B$1:$F$52,4,0)","v":{"$error":"#N/A"}},{"$f":"VLOOKUP(AA146,$B$1:$F$52,4,0)","v":{"$error":"#N/A"}},{"$f":"VLOOKUP(AB146,$B$1:$F$52,4,0)","v":{"$error":"#N/A"}},null,null,null,"All equal hands",{"$f":"IF(AND(AM71=AU71,AU71=BC71,AL71=AT71,AT71=BB71,AK71=AS71,AS71=BA71,AJ71=AR71,AR71=AZ71,AI71=AQ71,AQ71=AY71,$AO$80=AG147,$AO$80=$AW$80,$AW$80=$BE$80),1,0)","v":0},1,1,1,{"$f":"$AG148*AH148","v":0},0,0,null,"third win",null,{"$f":"AQ143","v":0},{"$f":"AU148-AQ148","v":0},{"$f":"AS143","v":0},{"$f":"AU148-AS148","v":0},{"$f":"AU143","v":0},null,null,null,null,null,null,null,{"$f":"INDEX(BC144:BC147,MATCH(TRUE,INDEX(BC144:BC147<>0,),0))","v":-7},null,{"$f":"INDEX(BE144:BE147,MATCH(TRUE,INDEX(BE144:BE147<>0,),0))","v":{"$error":"#N/A"}},null,null,null,null,null,null,null,null,null,null,null,null,null,null,null,null,{"$f":"CR17","v":"Straight Flush"},{"$f":"CS17","v":{"$error":"#N/A"}},{"$f":"CT17","v":{"$error":"#N/A"}},{"$f":"CU17","v":{"$error":"#N/A"}},{"$f":"CV17","v":{"$error":"#N/A"}},{"$f":"CW17","v":{"$error":"#N/A"}},{"$f":"CX17","v":{"$error":"#N/A"}},{"$f":"CY17","v":{"$error":"#N/A"}},{"$f":"CZ17","v":{"$error":"#N/A"}},{"$f":"DA17","v":{"$error":"#N/A"}}]
[null,null,null,null,null,null,null,null,null,null,null,{"$f":"HLOOKUP(L151,$L$145:$P$148,3,0)","v":{"$error":"#N/A"}},{"$f":"HLOOKUP(M151,$L$145:$P$148,3,0)","v":{"$error":"#N/A"}},{"$error":"#N/A"},{"$error":"#N/A"},{"$error":"#N/A"},null,{"$f":"HLOOKUP(R151,$R$145:$V$148,3,0)","v":{"$error":"#N/A"}},{"$f":"HLOOKUP(S151,$R$145:$V$148,3,0)","v":{"$error":"#N/A"}},{"$error":"#N/A"},{"$error":"#N/A"},{"$error":"#N/A"},null,{"$f":"HLOOKUP(X151,$X$145:$AB$148,3,0)","v":{"$error":"#N/A"}},{"$f":"HLOOKUP(Y151,$X$145:$AB$148,3,0)","v":{"$error":"#N/A"}},{"$error":"#N/A"},{"$error":"#N/A"},{"$error":"#N/A"},null,null,null,"third lose",{"$f":"IF(\nOR(\nAND($AO$80=$AG$147,$AO$80=$AW$80,$AO$80<$BE$80,$AI$71=$AQ$71,$AK$71=$AS$71,$AL$71=$AT$71,$AM$71=$AU$71),\nOR(\nAND($AO$80=$AG$147,$AO$80=$AW$80,$AO$80=$BE$80,$AI$71=$AQ$71,$AK$71=$AS$71,$AL$71=$AT$71,$AM$71=$AU$71,$AQ$71>$AY$71),\nAND($AO$80=$AG$147,$AO$80=$AW$80,$AO$80=$BE$80,$AI$71=$AQ$71,$AK$71=$AS$71,$AL$71=$AT$71,$AM$71=$AU$71,$AQ$71=$AY$71,$AS$71>$BA$71),\nAND($AO$80=$AG$147,$AO$80=$AW$80,$AO$80=$BE$80,$AI$71=$AQ$71,$AK$71=$AS$71,$AL$71=$AT$71,$AM$71=$AU$71,$AQ$71=$AY$71,$AS$71=$BA$71,$AT$71>$BB$71),\nAND($AO$80=$AG$147,$AO$80=$AW$80,$AO$80=$BE$80,$AI$71=$AQ$71,$AK$71=$AS$71,$AL$71=$AT$71,$AM$71=$AU$71,$AQ$71=$AY$71,$AS$71=$BA$71,$AT$71=$BB$71,$AU$71>$BC$71)\n)),1,0)","v":0},1,1,0,0,0,0,null,null,null,{"$f":"AQ144","v":0},{"$f":"AU149-AQ149","v":0},{"$f":"AS144","v":0},{"$f":"AU149-AS149","v":0},{"$f":"AU144","v":0},null,null,null,null,null,null,null,{"$f":"IF(ISNUMBER(BC148),BC148,0)","v":-7},null,{"$f":"IF(ISNUMBER(BE148),BE148,0)","v":0},null,null,null,null,null,null,null,null,null,null,null,null,null,null,null,null,{"$f":"DC17","v":"Four of a Kind"},{"$f":"DD17","v":{"$error":"#N/A"}},{"$f":"DE17","v":0},{"$f":"DF17","v":{"$error":"#N/A"}},{"$f":"DG17","v":{"$error":"#N/A"}},{"$f":"DH17","v":0},{"$f":"DI17","v":{"$error":"#N/A"}},{"$f":"DJ17","v":{"$error":"#N/A"}},{"$f":"DK17","v":0},{"$f":"DL17","v":{"$error":"#N/A"}}]
[null,null,null,null,null,null,null,null,null,null,null,{"$f":"HLOOKUP(L151,$L$145:$P$148,4,0)","v":{"$error":"#N/A"}},{"$f":"HLOOKUP(M151,$L$145:$P$148,4,0)","v":{"$error":"#N/A"}},{"$error":"#N/A"},{"$error":"#N/A"},{"$error":"#N/A"},null,{"$f":"HLOOKUP(R151,$R$145:$V$148,4,0)","v":{"$error":"#N/A"}},{"$f":"HLOOKUP(S151,$R$145:$V$148,4,0)","v":{"$error":"#N/A"}},{"$error":"#N/A"},{"$error":"#N/A"},{"$error":"#N/A"},null,{"$f":"HLOOKUP(X151,$X$145:$AB$148,4,0)","v":{"$error":"#N/A"}},{"$f":"HLOOKUP(Y151,$X$145:$AB$148,4,0)","v":{"$error":"#N/A"}},{"$error":"#N/A"},{"$error":"#N/A"},{"$error":"#N/A"},null,null,null,"first lose",{"$f":"IF(\nOR(\nAND($BE$80=$AG$147,$BE$80=$AW$80,$AO$80>$AW$80,$AQ$71=$AY$71,$AS$71=$BA$71,$AT$71=$BB$71,$AU$71=$BC$71),\nOR(\nAND($BE$80=$AG$147,$BE$80=$AW$80,$AW$80=$AO$80,$AQ$71=$AY$71,$AS$71=$BA$71,$AT$71=$BB$71,$AU$71=$BC$71,$AQ$71>$AI$71),\nAND($BE$80=$AG$147,$BE$80=$AW$80,$AW$80=$AO$80,$AQ$71=$AY$71,$AS$71=$BA$71,$AT$71=$BB$71,$AU$71=$BC$71,$AQ$71=$AI$71,$AS$71>$AK$71),\nAND($BE$80=$AG$147,$BE$80=$AW$80,$AW$80=$AO$80,$AQ$71=$AY$71,$AS$71=$BA$71,$AT$71=$BB$71,$AU$71=$BC$71,$AQ$71=$AI$71,$AS$71=$AK$71,$AT$71>$AL$71),\nAND($BE$80=$AG$147,$BE$80=$AW$80,$AW$80=$AO$80,$AQ$71=$AY$71,$AS$71=$BA$71,$AT$71=$BB$71,$AU$71=$BC$71,$AQ$71=$AI$71,$AS$71=$AK$71,$AT$71=$AL$71,$AU$71>$AM$71)\n)),1,0)","v":0},0,1,1,0,0,0,null,null,null,{"$f":"AQ145","v":0},{"$f":"AU150-AQ150","v":0},{"$f":"AS145","v":0},{"$f":"AU150-AS150","v":0},{"$f":"AU145","v":0},null,null,"second win",null,{"$f":"AZ144","v":0},{"$f":"BB150-AZ150","v":7},{"$f":"BB144","v":7},null,{"$f":"BD144","v":0},{"$f":"BB150-BD150","v":7},null,null,null,null,null,null,null,null,null,null,null,null,null,null,null,null,{"$f":"DN17","v":"Full House"},{"$f":"DO17","v":{"$error":"#N/A"}},{"$f":"DP17","v":0},{"$f":"DQ17","v":{"$error":"#N/A"}},{"$f":"DR17","v":{"$error":"#N/A"}},{"$f":"DS17","v":0},{"$f":"DT17","v":{"$error":"#N/A"}},{"$f":"DU17","v":{"$error":"#N/A"}},{"$f":"DV17","v":0},{"$f":"DW17","v":{"$error":"#N/A"}}]
[null,null,null,null,null,null,null,null,null,null,null,1,2,3,4,5,null,1,2,3,4,5,null,1,2,3,4,5,null,null,null,"second lose",{"$f":"IF(\nOR(\nAND($AO$80=$AG$147,$AO$80=$BE$80,$AO$80<$AW$80,$AI$71=$AY$71,$AK$71=$BA$71,$AL$71=$BB$71,$AM$71=$BC$71),\nOR(\nAND($AO$80=$AG$147,$AO$80=$AW$80,$AW$80=$BE$80,$AI$71=$AY$71,$AK$71=$BA$71,$AL$71=$BB$71,$AM$71=$BC$71,$AI$71>$AQ$71),\nAND($AO$80=$AG$147,$AO$80=$AW$80,$AW$80=$BE$80,$AI$71=$AY$71,$AK$71=$BA$71,$AL$71=$BB$71,$AM$71=$BC$71,$AI$71=$AQ$71,$AK$71>$AS$71),\nAND($AO$80=$AG$147,$AO$80=$AW$80,$AW$80=$BE$80,$AI$71=$AY$71,$AK$71=$BA$71,$AL$71=$BB$71,$AM$71=$BC$71,$AI$71=$AY$71,$AK$71=$AS$71,$AL$71>$AT$71),\nAND($AO$80=$AG$147,$AO$80=$AW$80,$AW$80=$BE$80,$AI$71=$AY$71,$AK$71=$BA$71,$AL$71=$BB$71,$AM$71=$BC$71,$AI$71=$AY$71,$AK$71=$AS$71,$AL$71=$AT$71,$AM$71>$AU$71)\n)),1,0)","v":0},1,0,1,0,0,0,null,null,null,null,{"$f":"INDEX(AR148:AR150,MATCH(TRUE,INDEX(AR148:AR150<>0,),0))","v":{"$error":"#N/A"}},null,{"$f":"INDEX(AT148:AT150,MATCH(TRUE,INDEX(AT148:AT150<>0,),0))","v":{"$error":"#N/A"}},null,null,null,null,null,{"$f":"AZ145","v":0},{"$f":"BB151-AZ151","v":14},{"$f":"BB145","v":14},null,{"$f":"BD145","v":0},{"$f":"BB151-BD151","v":14},null,null,null,null,null,null,null,null,null,null,null,null,null,null,null,null,{"$f":"DY17","v":"Flush"},{"$f":"DZ17","v":{"$error":"#N/A"}},{"$f":"EA17","v":0},{"$f":"EB17","v":{"$error":"#N/A"}},{"$f":"EC17","v":{"$error":"#N/A"}},{"$f":"ED17","v":0},{"$f":"EE17","v":{"$error":"#N/A"}},{"$f":"EF17","v":{"$error":"#N/A"}},{"$f":"EG17","v":0},{"$f":"EH17","v":{"$error":"#N/A"}}]
[null,null,null,null,null,null,null,null,null,null,null,{"$f":"L147+IF(L147=1,13+RAND()^3,RAND()^3)","v":{"$error":"#N/A"}},{"$f":"M147+IF(M147=1,13+RAND()^3,RAND()^3)","v":{"$error":"#N/A"}},{"$error":"#N/A"},{"$error":"#N/A"},{"$error":"#N/A"},8.6435843899977278E-5,{"$error":"#N/A"},{"$error":"#N/A"},{"$error":"#N/A"},{"$error":"#N/A"},{"$error":"#N/A"},0.75271113950764545,{"$error":"#N/A"},{"$error":"#N/A"},{"$error":"#N/A"},{"$error":"#N/A"},{"$error":"#N/A"},null,null,null,"first win",{"$f":"IF(AND($AO$80=$AG$147,$AO$80=MIN($AO$80,$AW$80,$BE$80),$AG$84=0,$BC$149>0,$BE$149>0),1,0)","v":0},1,0,0,0,0,0,null,null,null,null,{"$f":"IF(ISNUMBER(AR151),AR151,0)","v":0},null,{"$f":"IF(ISNUMBER(AT151),AT151,0)","v":0},null,null,null,null,null,{"$f":"AZ146","v":0},11,{"$f":"BB146","v":11},null,{"$f":"BD146","v":0},11,null,null,null,null,null,null,null,null,null,null,null,null,null,null,null,null,{"$f":"EJ17","v":"Straight"},{"$f":"EK17","v":{"$error":"#N/A"}},{"$f":"EL17","v":{"$error":"#N/A"}},{"$f":"EM17","v":{"$error":"#N/A"}},{"$f":"EN17","v":{"$error":"#N/A"}},{"$f":"EO17","v":{"$error":"#N/A"}},{"$f":"EP17","v":{"$error":"#N/A"}},{"$f":"EQ17","v":{"$error":"#N/A"}},{"$f":"ER17","v":{"$error":"#N/A"}},{"$f":"ES17","v":{"$error":"#N/A"}}]
[null,null,null,null,null,null,null,null,null,null,null,null,null,null,null,null,null,null,null,null,null,null,null,null,null,null,null,null,null,null,null,"second win",{"$f":"IF(AND($AW$80=$AG$147,$AW$80=MIN($AO$80,$AW$80,$BE$80),$AG$85=0,$BA$155>0,$BE$155>0),1,0)","v":0},0,1,0,0,0,0,null,null,null,null,null,null,null,null,null,null,null,null,{"$f":"AZ147","v":0},{"$f":"BB153-AZ153","v":9},{"$f":"BB147","v":9},null,{"$f":"BD147","v":0},9,null,null,null,null,null,null,null,null,null,null,null,null,null,null,null,null,{"$f":"EU17","v":"Three of a Kind"},{"$f":"EV17","v":{"$error":"#N/A"}},{"$f":"EW17","v":0},{"$f":"EX17","v":{"$error":"#N/A"}},{"$f":"EY17","v":{"$error":"#N/A"}},{"$f":"EZ17","v":0},{"$f":"FA17","v":{"$error":"#N/A"}},{"$f":"FB17","v":{"$error":"#N/A"}},{"$f":"FC17","v":0},{"$f":"FD17","v":{"$error":"#N/A"}}]
[null,null,null,null,null,null,null,null,null,null,null,{"$f":"RANK(L161,$L$161:$P$161,1)","v":{"$error":"#N/A"}},{"$f":"RANK(M161,$L$161:$P$161,1)","v":{"$error":"#N/A"}},{"$error":"#N/A"},{"$error":"#N/A"},{"$error":"#N/A"},null,{"$f":"RANK(R161,$R$161:$V$161,1)","v":{"$error":"#N/A"}},{"$f":"RANK(S161,$R$161:$V$161,1)","v":{"$error":"#N/A"}},{"$error":"#N/A"},{"$error":"#N/A"},{"$error":"#N/A"},null,{"$f":"RANK(X161,$X$161:$AB$161,1)","v":{"$error":"#N/A"}},{"$f":"RANK(Y161,$X$161:$AB$161,1)","v":{"$error":"#N/A"}},{"$error":"#N/A"},{"$error":"#N/A"},{"$error":"#N/A"},null,null,null,"third win",{"$f":"IF(AND($BE$80=$AG$147,$BE$80=MIN($AO$80,$AW$80,$BE$80),$AG$86=0,$BA$161>0,$BC$161>0),1,0)","v":0},0,0,1,0,0,0,null,"HIGH CARD",null,null,null,null,null,null,null,null,null,null,null,{"$f":"INDEX(BA150:BA153,MATCH(TRUE,INDEX(BA150:BA153<>0,),0))","v":7},null,null,null,{"$f":"INDEX(BE150:BE153,MATCH(TRUE,INDEX(BE150:BE153<>0,),0))","v":7},null,null,null,null,null,null,null,null,null,null,null,null,null,null,null,null,{"$f":"FF17","v":"Two Pair"},{"$f":"FG17","v":{"$error":"#N/A"}},{"$f":"FH17","v":0},{"$f":"FI17","v":{"$error":"#N/A"}},{"$f":"FJ17","v":{"$error":"#N/A"}},{"$f":"FK17","v":0},{"$f":"FL17","v":{"$error":"#N/A"}},{"$f":"FM17","v":{"$error":"#N/A"}},{"$f":"FN17","v":0},{"$f":"FO17","v":{"$error":"#N/A"}}]
[null,null,null,null,null,null,null,null,null,18,null,{"$f":"[0]!Player12","v":0},{"$f":"[0]!House1","v":0},{"$f":"[0]!House2","v":0},{"$f":"[0]!House4","v":0},{"$f":"[0]!House5","v":0},null,{"$f":"[0]!Player22","v":0},{"$f":"[0]!House1","v":0},{"$f":"[0]!House2","v":0},{"$f":"[0]!House4","v":0},{"$f":"[0]!House5","v":0},null,{"$f":"[0]!Player32","v":0},{"$f":"[0]!House1","v":0},{"$f":"[0]!House2","v":0},{"$f":"[0]!House4","v":0},{"$f":"[0]!House5","v":0},null,null,null,"High Card",10,null,null,null,null,null,null,null,"first win",null,{"$f":"AI70","v":14},null,{"$f":"AQ70","v":0},{"$f":"AQ155-AS155","v":14},{"$f":"AY70","v":0},{"$f":"AQ155-AU155","v":14},null,null,null,null,{"$f":"IF(ISNUMBER(BA154),BA154,0)","v":7},null,null,null,{"$f":"IF(ISNUMBER(BE154),BE154,0)","v":7},null,null,null,null,null,null,null,null,null,null,null,null,null,null,null,null,{"$f":"FQ17","v":"One Pair"},{"$f":"FR17","v":{"$error":"#N/A"}},{"$f":"FS17","v":0},{"$f":"FT17","v":{"$error":"#N/A"}},{"$f":"FU17","v":{"$error":"#N/A"}},{"$f":"FV17","v":0},{"$f":"FW17","v":{"$error":"#N/A"}},{"$f":"FX17","v":{"$error":"#N/A"}},{"$f":"FY17","v":0},{"$f":"FZ17","v":{"$error":"#N/A"}}]
[null,null,null,null,null,null,null,null,null,null,null,{"$f":"VLOOKUP(L155,$B$1:$F$52,5,0)","v":{"$error":"#N/A"}},{"$f":"VLOOKUP(M155,$B$1:$F$52,5,0)","v":{"$error":"#N/A"}},{"$f":"VLOOKUP(N155,$B$1:$F$52,5,0)","v":{"$error":"#N/A"}},{"$f":"VLOOKUP(O155,$B$1:$F$52,5,0)","v":{"$error":"#N/A"}},{"$f":"VLOOKUP(P155,$B$1:$F$52,5,0)","v":{"$error":"#N/A"}},null,{"$f":"VLOOKUP(R155,$B$1:$F$52,5,0)","v":{"$error":"#N/A"}},{"$f":"VLOOKUP(S155,$B$1:$F$52,5,0)","v":{"$error":"#N/A"}},{"$f":"VLOOKUP(T155,$B$1:$F$52,5,0)","v":{"$error":"#N/A"}},{"$f":"VLOOKUP(U155,$B$1:$F$52,5,0)","v":{"$error":"#N/A"}},{"$f":"VLOOKUP(V155,$B$1:$F$52,5,0)","v":{"$error":"#N/A"}},null,{"$f":"VLOOKUP(X155,$B$1:$F$52,5,0)","v":{"$error":"#N/A"}},{"$f":"VLOOKUP(Y155,$B$1:$F$52,5,0)","v":{"$error":"#N/A"}},{"$f":"VLOOKUP(Z155,$B$1:$F$52,5,0)","v":{"$error":"#N/A"}},{"$f":"VLOOKUP(AA155,$B$1:$F$52,5,0)","v":{"$error":"#N/A"}},{"$f":"VLOOKUP(AB155,$B$1:$F$52,5,0)","v":{"$error":"#N/A"}},null,null,null,"All equal hands",{"$f":"IF(AND($AO$80=$AG$155,$AO$80=$AW$80,$AW$80=$BE$80,$AI$70=$AQ$70,$AQ$70=$AY$70,$AJ$70=$AR$70,$AR$70=$AZ$70,$AK$70=$AS$70,$AS$70=$BA$70,$AL$70=$AT$70,$AT$70=$BB$70,$AM$70=$AU$70,$AU$70=$BC$70),1,0)","v":0},1,1,1,{"$f":"$AG156*AH156","v":0},0,0,null,null,null,{"$f":"AJ70","v":11},null,{"$f":"AR70","v":0},{"$f":"AQ156-AS156","v":11},{"$f":"AZ70","v":0},{"$f":"AQ156-AU156","v":11},null,"third win",null,{"$f":"AZ150","v":0},{"$f":"BD156-AZ156","v":0},{"$f":"BB150","v":7},{"$f":"BD156-BB156","v":-7},{"$f":"BD150","v":0},null,null,null,null,null,null,null,null,null,null,null,null,null,null,null,null,null,{"$f":"GB17","v":"High Card"},{"$f":"GC17","v":{"$error":"#N/A"}},{"$f":"GD17","v":0},{"$f":"GE17","v":{"$error":"#N/A"}},{"$f":"GF17","v":{"$error":"#N/A"}},{"$f":"GG17","v":0},{"$f":"GH17","v":{"$error":"#N/A"}},{"$f":"GI17","v":{"$error":"#N/A"}},{"$f":"GJ17","v":0},{"$f":"GK17","v":{"$error":"#N/A"}}]
[null,null,null,null,null,null,null,null,null,null,null,{"$f":"VLOOKUP(L155,$B$1:$F$52,4,0)","v":{"$error":"#N/A"}},{"$f":"VLOOKUP(M155,$B$1:$F$52,4,0)","v":{"$error":"#N/A"}},{"$f":"VLOOKUP(N155,$B$1:$F$52,4,0)","v":{"$error":"#N/A"}},{"$f":"VLOOKUP(O155,$B$1:$F$52,4,0)","v":{"$error":"#N/A"}},{"$f":"VLOOKUP(P155,$B$1:$F$52,4,0)","v":{"$error":"#N/A"}},null,{"$f":"VLOOKUP(R155,$B$1:$F$52,4,0)","v":{"$error":"#N/A"}},{"$f":"VLOOKUP(S155,$B$1:$F$52,4,0)","v":{"$error":"#N/A"}},{"$f":"VLOOKUP(T155,$B$1:$F$52,4,0)","v":{"$error":"#N/A"}},{"$f":"VLOOKUP(U155,$B$1:$F$52,4,0)","v":{"$error":"#N/A"}},{"$f":"VLOOKUP(V155,$B$1:$F$52,4,0)","v":{"$error":"#N/A"}},null,{"$f":"VLOOKUP(X155,$B$1:$F$52,4,0)","v":{"$error":"#N/A"}},{"$f":"VLOOKUP(Y155,$B$1:$F$52,4,0)","v":{"$error":"#N/A"}},{"$f":"VLOOKUP(Z155,$B$1:$F$52,4,0)","v":{"$error":"#N/A"}},{"$f":"VLOOKUP(AA155,$B$1:$F$52,4,0)","v":{"$error":"#N/A"}},{"$f":"VLOOKUP(AB155,$B$1:$F$52,4,0)","v":{"$error":"#N/A"}},null,null,null,"third lose",{"$f":"IF(OR(\nAND($AG$162=0,$AO$80=$AG$155,$AO$80=$AW$80,$AW$80<$BE$80),\nAND($AG$162=0,$AO$80=$AG$155,$AO$80=$AW$80,$BE$80=MAX($AO$80,$AW$80,$BE$80),$AI$70=$AQ$70,$AQ$70>$AY$70,$AJ$70=$AR$70,$AL$70=$AT$70,$AM$70=$AU$70),\nAND($AG$162=0,$AO$80=$AG$155,$AO$80=$AW$80,$BE$80=MAX($AO$80,$AW$80,$BE$80),$AI$70=$AQ$70,$AQ$70=$AY$70,$AJ$70=$AR$70,$AR$70>$AZ$70,$AK$70=$AS$70,$AL$70=$AT$70,$AM$70=$AU$70),\nAND($AG$162=0,$AO$80=$AG$155,$AO$80=$AW$80,$BE$80=MAX($AO$80,$AW$80,$BE$80),$AI$70=$AQ$70,$AQ$70=$AY$70,$AJ$70=$AR$70,$AR$70=$AZ$70,$AK$70=$AS$70,$AS$70>$BA$70,$AL$70=$AT$70,$AM$70=$AU$70),\nAND($AG$162=0,$AO$80=$AG$155,$AO$80=$AW$80,$BE$80=MAX($AO$80,$AW$80,$BE$80),$AI$70=$AQ$70,$AQ$70=$AY$70,$AJ$70=$AR$70,$AR$70=$AZ$70,$AK$70=$AS$70,$AS$70=$BA$70,$AL$70=$AT$70,$AT$70>$BB$70,$AM$70=$AU$70),\nAND($AG$162=0,$AO$80=$AG$155,$AO$80=$AW$80,$BE$80=MAX($AO$80,$AW$80,$BE$80),$AI$70=$AQ$70,$AQ$70=$AY$70,$AJ$70=$AR$70,$AR$70=$AZ$70,$AK$70=$AS$70,$AS$70=$BA$70,$AL$70=$AT$70,$AT$70=$BB$70,$AM$70=$AU$70,$AU$70>$BC$70)),1,0)","v":0},1,1,0,0,0,0,null,null,null,{"$f":"AK70","v":9},null,{"$f":"AS70","v":0},9,{"$f":"BA70","v":0},9,null,null,null,{"$f":"AZ151","v":0},{"$f":"BD157-AZ157","v":0},{"$f":"BB151","v":14},{"$f":"BD157-BB157","v":-14},{"$f":"BD151","v":0}]
[null,null,null,null,null,null,null,null,null,null,null,{"$f":"HLOOKUP(L160,$L$154:$P$157,3,0)","v":{"$error":"#N/A"}},{"$f":"HLOOKUP(M160,$L$154:$P$157,3,0)","v":{"$error":"#N/A"}},{"$error":"#N/A"},{"$error":"#N/A"},{"$error":"#N/A"},null,{"$f":"HLOOKUP(R160,$R$154:$V$157,3,0)","v":{"$error":"#N/A"}},{"$f":"HLOOKUP(S160,$R$154:$V$157,3,0)","v":{"$error":"#N/A"}},{"$error":"#N/A"},{"$error":"#N/A"},{"$error":"#N/A"},null,{"$f":"HLOOKUP(X160,$X$154:$AB$157,3,0)","v":{"$error":"#N/A"}},{"$f":"HLOOKUP(Y160,$X$154:$AB$157,3,0)","v":{"$error":"#N/A"}},{"$error":"#N/A"},{"$error":"#N/A"},{"$error":"#N/A"},null,null,null,"first lose",{"$f":"IF(OR(\nAND($AG$160=0,$AW$80=$AG$155,$BE$80=$AW$80,$AW$80<$AO$80),\nAND($AG$160=0,$AW$80=$AG$155,$BE$80=$AW$80,$AO$80=MAX($AO$80,$AW$80,$BE$80),$AY$70=$AQ$70,$AQ$70>$AI$70,$AR$70=$AZ$70,$AS$70=$BA$70,$AT$70=$BB$70,$AU$70=$BC$70),\nAND($AG$160=0,$AW$80=$AG$155,$BE$80=$AW$80,$AO$80=MAX($AO$80,$AW$80,$BE$80),$AY$70=$AQ$70,$AQ$70=$AI$70,$AR$70=$AZ$70,$AR$70>$AJ$70,$AS$70=$BA$70,$AT$70=$BB$70,$AU$70=$BC$70),\nAND($AG$160=0,$AW$80=$AG$155,$BE$80=$AW$80,$AO$80=MAX($AO$80,$AW$80,$BE$80),$AY$70=$AQ$70,$AQ$70=$AI$70,$AR$70=$AZ$70,$AR$70=$AJ$70,$AK$70<$AS$70,$BA$70=$AS$70,$AT$70=$BB$70,$AU$70=$BC$70),\nAND($AG$160=0,$AW$80=$AG$155,$BE$80=$AW$80,$AO$80=MAX($AO$80,$AW$80,$BE$80),$AY$70=$AQ$70,$AQ$70=$AI$70,$AR$70=$AZ$70,$AR$70=$AJ$70,$AK$70=$AS$70,$BA$70=$AS$70,$AL$70<$AT$70,$AT$70=$BB$70,$AU$70=$BC$70),\nAND($AG$160=0,$AW$80=$AG$155,$BE$80=$AW$80,$AO$80=MAX($AO$80,$AW$80,$BE$80),$AY$70=$AQ$70,$AQ$70=$AI$70,$AR$70=$AZ$70,$AR$70=$AJ$70,$AK$70=$AS$70,$BA$70=$AS$70,$AL$70=$AT$70,$AT$70=$BB$70,$AM$70<$AU$70,$AU$70=$BC$70)),1,0)","v":0},0,1,1,0,0,0,null,null,null,{"$f":"AL70","v":8},null,{"$f":"AT70","v":0},8,{"$f":"BB70","v":0},8,null,null,null,0,0,11,-11,0,null,null,null,null,null,null,null,null,null,null,null,null,null,null,null,null,15,{"$f":"CG18","v":"Royal Flush"},{"$f":"CH18","v":{"$error":"#N/A"}},{"$f":"CI18","v":{"$error":"#N/A"}},{"$f":"CJ18","v":{"$error":"#N/A"}},{"$f":"CK18","v":{"$error":"#N/A"}},{"$f":"CL18","v":{"$error":"#N/A"}},{"$f":"CM18","v":{"$error":"#N/A"}},{"$f":"CN18","v":{"$error":"#N/A"}},{"$f":"CO18","v":{"$error":"#N/A"}},{"$f":"CP18","v":{"$error":"#N/A"}}]
[null,null,null,null,null,null,null,null,null,null,null,{"$f":"HLOOKUP(L160,$L$154:$P$157,4,0)","v":{"$error":"#N/A"}},{"$f":"HLOOKUP(M160,$L$154:$P$157,4,0)","v":{"$error":"#N/A"}},{"$error":"#N/A"},{"$error":"#N/A"},{"$error":"#N/A"},null,{"$f":"HLOOKUP(R160,$R$154:$V$157,4,0)","v":{"$error":"#N/A"}},{"$f":"HLOOKUP(S160,$R$154:$V$157,4,0)","v":{"$error":"#N/A"}},{"$error":"#N/A"},{"$error":"#N/A"},{"$error":"#N/A"},null,{"$f":"HLOOKUP(X160,$X$154:$AB$157,4,0)","v":{"$error":"#N/A"}},{"$f":"HLOOKUP(Y160,$X$154:$AB$157,4,0)","v":{"$error":"#N/A"}},{"$error":"#N/A"},{"$error":"#N/A"},{"$error":"#N/A"},null,null,null,"second lose",{"$f":"IF(OR(\nAND($AG$161=0,$AO$80=$AG$155,$BE$80=$AO$80,$AO$80<$AW$80),\nAND($AG$161=0,$AO$80=$AG$155,$BE$80=$AO$80,$AW$80=MAX($AO$80,$AW$80,$BE$80),$AY$70=$AI$70,$AQ$70<$AI$70,$AJ$70=$AZ$70,$AK$70=$BA$70,$AL$70=$BB$70,$AM$70=$BC$70),\nAND($AG$161=0,$AO$80=$AG$155,$BE$80=$AO$80,$AW$80=MAX($AO$80,$AW$80,$BE$80),$AY$70=$AI$70,$AQ$70=$AI$70,$AJ$70=$AZ$70,$AR$70<$AJ$70,$AK$70=$BA$70,$AL$70=$BB$70,$AM$70=$BC$70),\nAND($AG$161=0,$AO$80=$AG$155,$BE$80=$AO$80,$AW$80=MAX($AO$80,$AW$80,$BE$80),$AY$70=$AI$70,$AQ$70=$AI$70,$AJ$70=$AZ$70,$AR$70=$AJ$70,$AK$70>$AS$70,$BA$70=$AK$70,$AL$70=$BB$70,$AM$70=$BC$70),\nAND($AG$161=0,$AO$80=$AG$155,$BE$80=$AO$80,$AW$80=MAX($AO$80,$AW$80,$BE$80),$AY$70=$AI$70,$AQ$70=$AI$70,$AJ$70=$AZ$70,$AR$70=$AJ$70,$AK$70=$AS$70,$BA$70=$AK$70,$AL$70>$AT$70,$AL$70=$BB$70,$AM$70=$BC$70),\nAND($AG$161=0,$AO$80=$AG$155,$BE$80=$AO$80,$AW$80=MAX($AO$80,$AW$80,$BE$80),$AY$70=$AI$70,$AQ$70=$AI$70,$AJ$70=$AZ$70,$AR$70=$AJ$70,$AK$70=$AS$70,$BA$70=$AK$70,$AL$70=$AT$70,$AL$70=$BB$70,$AM$70>$AU$70,$AM$70=$BC$70)),1,0)","v":0},1,0,1,0,0,0,null,null,null,{"$f":"AM70","v":7},null,{"$f":"AU70","v":0},7,{"$f":"BC70","v":0},7,null,null,null,0,{"$f":"BD159-AZ159","v":0},9,{"$f":"BD159-BB159","v":-9},0,null,null,null,null,null,null,null,null,null,null,null,null,null,null,null,null,null,{"$f":"CR18","v":"Straight Flush"},{"$f":"CS18","v":{"$error":"#N/A"}},{"$f":"CT18","v":{"$error":"#N/A"}},{"$f":"CU18","v":{"$error":"#N/A"}},{"$f":"CV18","v":{"$error":"#N/A"}},{"$f":"CW18","v":{"$error":"#N/A"}},{"$f":"CX18","v":{"$error":"#N/A"}},{"$f":"CY18","v":{"$error":"#N/A"}},{"$f":"CZ18","v":{"$error":"#N/A"}},{"$f":"DA18","v":{"$error":"#N/A"}}]
[null,null,null,null,null,null,null,null,null,null,null,1,2,3,4,5,null,1,2,3,4,5,null,1,2,3,4,5,null,null,null,"first win",{"$f":"IF(AND($AO$80=$AG$155,AO80=MIN($AO$80,$AW$80,$BE$80),$AG$84=0,$AT$161>0,$AV$161>0),1,0)","v":0},1,0,0,0,0,0,null,null,null,null,null,null,{"$f":"INDEX(AT155:AT159,MATCH(TRUE,INDEX(AT155:AT159<>0,),0))","v":14},null,{"$f":"INDEX(AV155:AV159,MATCH(TRUE,INDEX(AV155:AV159<>0,),0))","v":14},null,null,null,null,{"$f":"INDEX(BA156:BA159,MATCH(TRUE,INDEX(BA156:BA159<>0,),0))","v":{"$error":"#N/A"}},null,{"$f":"INDEX(BC156:BC159,MATCH(TRUE,INDEX(BC156:BC159<>0,),0))","v":-7},null,null,null,null,null,null,null,null,null,null,null,null,null,null,null,null,null,null,{"$f":"DC18","v":"Four of a Kind"},{"$f":"DD18","v":{"$error":"#N/A"}},{"$f":"DE18","v":0},{"$f":"DF18","v":{"$error":"#N/A"}},{"$f":"DG18","v":{"$error":"#N/A"}},{"$f":"DH18","v":0},{"$f":"DI18","v":{"$error":"#N/A"}},{"$f":"DJ18","v":{"$error":"#N/A"}},{"$f":"DK18","v":0},{"$f":"DL18","v":{"$error":"#N/A"}}]
[null,null,null,null,null,null,null,null,null,null,null,{"$f":"L156+IF(L156=1,13+RAND()^3,RAND()^3)","v":{"$error":"#N/A"}},{"$f":"M156+IF(M156=1,13+RAND()^3,RAND()^3)","v":{"$error":"#N/A"}},{"$error":"#N/A"},{"$error":"#N/A"},{"$error":"#N/A"},1.5342139505489393E-2,{"$error":"#N/A"},{"$error":"#N/A"},{"$error":"#N/A"},{"$error":"#N/A"},{"$error":"#N/A"},0.45645264354621673,{"$error":"#N/A"},{"$error":"#N/A"},{"$error":"#N/A"},{"$error":"#N/A"},{"$error":"#N/A"},null,null,null,"second win",{"$f":"IF(AND($AW$80=$AG$155,AW80=MIN($AO$80,$AW$80,$BE$80),$AG$85=0,$AR$168>0,$AV$168>0),1,0)","v":0},0,1,0,0,0,0,null,null,null,null,null,null,{"$f":"IF(ISNUMBER(AT160),AT160,0)","v":14},null,{"$f":"IF(ISNUMBER(AV160),AV160,0)","v":14},null,null,null,null,{"$f":"IF(ISNUMBER(BA160),BA160,0)","v":0},null,{"$f":"IF(ISNUMBER(BC160),BC160,0)","v":-7},null,null,null,null,null,null,null,null,null,null,null,null,null,null,null,null,null,null,{"$f":"DN18","v":"Full House"},{"$f":"DO18","v":{"$error":"#N/A"}},{"$f":"DP18","v":0},{"$f":"DQ18","v":{"$error":"#N/A"}},{"$f":"DR18","v":{"$error":"#N/A"}},{"$f":"DS18","v":0},{"$f":"DT18","v":{"$error":"#N/A"}},{"$f":"DU18","v":{"$error":"#N/A"}},{"$f":"DV18","v":0},{"$f":"DW18","v":{"$error":"#N/A"}}]
[null,null,null,null,null,null,null,null,null,null,null,null,null,null,null,null,null,null,null,null,null,null,null,null,null,null,null,null,null,null,null,"third win",{"$f":"IF(AND(BE80=$AG$155,BE80=MIN($AO$80,$AW$80,$BE$80),$AG$86=0,$AR$175>0,$AT$175>0),1,0)","v":0},0,0,1,0,0,0,null,"second win",null,{"$f":"AQ155","v":14},{"$f":"AS162-AQ162","v":-14},{"$f":"AS155","v":0},null,{"$f":"AU155","v":0},{"$f":"AS162-AU162","v":0},null,null,null,null,null,null,null,null,null,null,null,null,null,null,null,null,null,null,null,null,null,null,null,null,null,{"$f":"DY18","v":"Flush"},{"$f":"DZ18","v":{"$error":"#N/A"}},{"$f":"EA18","v":0},{"$f":"EB18","v":{"$error":"#N/A"}},{"$f":"EC18","v":{"$error":"#N/A"}},{"$f":"ED18","v":0},{"$f":"EE18","v":{"$error":"#N/A"}},{"$f":"EF18","v":{"$error":"#N/A"}},{"$f":"EG18","v":0},{"$f":"EH18","v":{"$error":"#N/A"}}]
[null,null,null,null,null,null,null,null,null,null,null,{"$f":"RANK(L170,$L$170:$P$170,1)","v":{"$error":"#N/A"}},{"$f":"RANK(M170,$L$170:$P$170,1)","v":{"$error":"#N/A"}},{"$error":"#N/A"},{"$error":"#N/A"},{"$error":"#N/A"},null,{"$f":"RANK(R170,$R$170:$V$170,1)","v":{"$error":"#N/A"}},{"$f":"RANK(S170,$R$170:$V$170,1)","v":{"$error":"#N/A"}},{"$error":"#N/A"},{"$error":"#N/A"},{"$error":"#N/A"},null,{"$f":"RANK(X170,$X$170:$AB$170,1)","v":{"$error":"#N/A"}},{"$f":"RANK(Y170,$X$170:$AB$170,1)","v":{"$error":"#N/A"}},{"$error":"#N/A"},{"$error":"#N/A"},{"$error":"#N/A"},null,null,null,null,null,null,null,null,{"$f":"SUM(AK83:AK162)","v":{"$error":"#N/A"}},{"$f":"SUM(AL83:AL162)","v":{"$error":"#N/A"}},{"$f":"SUM(AM83:AM162)","v":{"$error":"#N/A"}},null,null,null,{"$f":"AQ156","v":11},{"$f":"AS163-AQ163","v":-11},{"$f":"AS156","v":0},null,{"$f":"AU156","v":0},{"$f":"AS163-AU163","v":0},null,null,null,null,null,null,null,null,null,null,null,null,null,null,null,null,null,null,null,null,null,null,null,null,null,{"$f":"EJ18","v":"Straight"},{"$f":"EK18","v":{"$error":"#N/A"}},{"$f":"EL18","v":{"$error":"#N/A"}},{"$f":"EM18","v":{"$error":"#N/A"}},{"$f":"EN18","v":{"$error":"#N/A"}},{"$f":"EO18","v":{"$error":"#N/A"}},{"$f":"EP18","v":{"$error":"#N/A"}},{"$f":"EQ18","v":{"$error":"#N/A"}},{"$f":"ER18","v":{"$error":"#N/A"}},{"$f":"ES18","v":{"$error":"#N/A"}}]
[null,null,null,null,null,null,null,null,null,19,null,{"$f":"[0]!Player12","v":0},{"$f":"[0]!House1","v":0},{"$f":"[0]!House3","v":0},{"$f":"[0]!House4","v":0},{"$f":"[0]!House5","v":0},null,{"$f":"[0]!Player22","v":0},{"$f":"[0]!House1","v":0},{"$f":"[0]!House3","v":0},{"$f":"[0]!House4","v":0},{"$f":"[0]!House5","v":0},null,{"$f":"[0]!Player32","v":0},{"$f":"[0]!House1","v":0},{"$f":"[0]!House3","v":0},{"$f":"[0]!House4","v":0},{"$f":"[0]!House5","v":0},null,null,null,null,null,null,null,null,{"$f":"IF(AK163=1,\"Winner\",\"\")","v":{"$error":"#N/A"}},{"$f":"IF(AL163=1,\"Winner\",\"\")","v":{"$error":"#N/A"}},{"$error":"#N/A"},null,null,null,{"$f":"AQ157","v":9},-9,{"$f":"AS157","v":0},null,{"$f":"AU157","v":0},0,null,null,null,null,null,null,null,null,null,null,null,null,null,null,null,null,null,null,null,null,null,null,null,null,null,{"$f":"EU18","v":"Three of a Kind"},{"$f":"EV18","v":{"$error":"#N/A"}},{"$f":"EW18","v":0},{"$f":"EX18","v":{"$error":"#N/A"}},{"$f":"EY18","v":{"$error":"#N/A"}},{"$f":"EZ18","v":0},{"$f":"FA18","v":{"$error":"#N/A"}},{"$f":"FB18","v":{"$error":"#N/A"}},{"$f":"FC18","v":0},{"$f":"FD18","v":{"$error":"#N/A"}}]
[null,null,null,null,null,null,null,null,null,null,null,{"$f":"VLOOKUP(L164,$B$1:$F$52,5,0)","v":{"$error":"#N/A"}},{"$f":"VLOOKUP(M164,$B$1:$F$52,5,0)","v":{"$error":"#N/A"}},{"$f":"VLOOKUP(N164,$B$1:$F$52,5,0)","v":{"$error":"#N/A"}},{"$f":"VLOOKUP(O164,$B$1:$F$52,5,0)","v":{"$error":"#N/A"}},{"$f":"VLOOKUP(P164,$B$1:$F$52,5,0)","v":{"$error":"#N/A"}},null,{"$f":"VLOOKUP(R164,$B$1:$F$52,5,0)","v":{"$error":"#N/A"}},{"$f":"VLOOKUP(S164,$B$1:$F$52,5,0)","v":{"$error":"#N/A"}},{"$f":"VLOOKUP(T164,$B$1:$F$52,5,0)","v":{"$error":"#N/A"}},{"$f":"VLOOKUP(U164,$B$1:$F$52,5,0)","v":{"$error":"#N/A"}},{"$f":"VLOOKUP(V164,$B$1:$F$52,5,0)","v":{"$error":"#N/A"}},null,{"$f":"VLOOKUP(X164,$B$1:$F$52,5,0)","v":{"$error":"#N/A"}},{"$f":"VLOOKUP(Y164,$B$1:$F$52,5,0)","v":{"$error":"#N/A"}},{"$f":"VLOOKUP(Z164,$B$1:$F$52,5,0)","v":{"$error":"#N/A"}},{"$f":"VLOOKUP(AA164,$B$1:$F$52,5,0)","v":{"$error":"#N/A"}},{"$f":"VLOOKUP(AB164,$B$1:$F$52,5,0)","v":{"$error":"#N/A"}},null,null,null,null,null,null,null,null,null,null,null,null,null,null,{"$f":"AQ158","v":8},-8,{"$f":"AS158","v":0},null,{"$f":"AU158","v":0},0,null,null,null,null,null,null,null,null,null,null,null,null,null,null,null,null,null,null,null,null,null,null,null,null,null,{"$f":"FF18","v":"Two Pair"},{"$f":"FG18","v":{"$error":"#N/A"}},{"$f":"FH18","v":0},{"$f":"FI18","v":{"$error":"#N/A"}},{"$f":"FJ18","v":{"$error":"#N/A"}},{"$f":"FK18","v":0},{"$f":"FL18","v":{"$error":"#N/A"}},{"$f":"FM18","v":{"$error":"#N/A"}},{"$f":"FN18","v":0},{"$f":"FO18","v":{"$error":"#N/A"}}]
[null,null,null,null,null,null,null,null,null,null,null,{"$f":"VLOOKUP(L164,$B$1:$F$52,4,0)","v":{"$error":"#N/A"}},{"$f":"VLOOKUP(M164,$B$1:$F$52,4,0)","v":{"$error":"#N/A"}},{"$f":"VLOOKUP(N164,$B$1:$F$52,4,0)","v":{"$error":"#N/A"}},{"$f":"VLOOKUP(O164,$B$1:$F$52,4,0)","v":{"$error":"#N/A"}},{"$f":"VLOOKUP(P164,$B$1:$F$52,4,0)","v":{"$error":"#N/A"}},null,{"$f":"VLOOKUP(R164,$B$1:$F$52,4,0)","v":{"$error":"#N/A"}},{"$f":"VLOOKUP(S164,$B$1:$F$52,4,0)","v":{"$error":"#N/A"}},{"$f":"VLOOKUP(T164,$B$1:$F$52,4,0)","v":{"$error":"#N/A"}},{"$f":"VLOOKUP(U164,$B$1:$F$52,4,0)","v":{"$error":"#N/A"}},{"$f":"VLOOKUP(V164,$B$1:$F$52,4,0)","v":{"$error":"#N/A"}},null,{"$f":"VLOOKUP(X164,$B$1:$F$52,4,0)","v":{"$error":"#N/A"}},{"$f":"VLOOKUP(Y164,$B$1:$F$52,4,0)","v":{"$error":"#N/A"}},{"$f":"VLOOKUP(Z164,$B$1:$F$52,4,0)","v":{"$error":"#N/A"}},{"$f":"VLOOKUP(AA164,$B$1:$F$52,4,0)","v":{"$error":"#N/A"}},{"$f":"VLOOKUP(AB164,$B$1:$F$52,4,0)","v":{"$error":"#N/A"}},null,null,null,null,null,null,null,null,null,null,null,null,null,null,{"$f":"AQ159","v":7},-7,{"$f":"AS159","v":0},null,{"$f":"AU159","v":0},0,null,null,null,null,null,null,null,null,null,null,null,null,null,null,null,null,null,null,null,null,null,null,null,null,null,{"$f":"FQ18","v":"One Pair"},{"$f":"FR18","v":{"$error":"#N/A"}},{"$f":"FS18","v":0},{"$f":"FT18","v":{"$error":"#N/A"}},{"$f":"FU18","v":{"$error":"#N/A"}},{"$f":"FV18","v":0},{"$f":"FW18","v":{"$error":"#N/A"}},{"$f":"FX18","v":{"$error":"#N/A"}},{"$f":"FY18","v":0},{"$f":"FZ18","v":{"$error":"#N/A"}}]
[null,null,null,null,null,null,null,null,null,null,null,{"$f":"HLOOKUP(L169,$L$163:$P$166,3,0)","v":{"$error":"#N/A"}},{"$f":"HLOOKUP(M169,$L$163:$P$166,3,0)","v":{"$error":"#N/A"}},{"$error":"#N/A"},{"$error":"#N/A"},{"$error":"#N/A"},null,{"$f":"HLOOKUP(R169,$R$163:$V$166,3,0)","v":{"$error":"#N/A"}},{"$f":"HLOOKUP(S169,$R$163:$V$166,3,0)","v":{"$error":"#N/A"}},{"$error":"#N/A"},{"$error":"#N/A"},{"$error":"#N/A"},null,{"$f":"HLOOKUP(X169,$X$163:$AB$166,3,0)","v":{"$error":"#N/A"}},{"$f":"HLOOKUP(Y169,$X$163:$AB$166,3,0)","v":{"$error":"#N/A"}},{"$error":"#N/A"},{"$error":"#N/A"},{"$error":"#N/A"},null,null,null,null,null,null,null,null,null,null,null,null,null,null,null,{"$f":"INDEX(AR162:AR166,MATCH(TRUE,INDEX(AR162:AR166<>0,),0))","v":-14},null,null,null,{"$f":"INDEX(AV162:AV166,MATCH(TRUE,INDEX(AV162:AV166<>0,),0))","v":{"$error":"#N/A"}},null,null,null,null,null,null,null,null,null,null,null,null,null,null,null,null,null,null,null,null,null,null,null,null,null,{"$f":"GB18","v":"High Card"},{"$f":"GC18","v":{"$error":"#N/A"}},{"$f":"GD18","v":0},{"$f":"GE18","v":{"$error":"#N/A"}},{"$f":"GF18","v":{"$error":"#N/A"}},{"$f":"GG18","v":0},{"$f":"GH18","v":{"$error":"#N/A"}},{"$f":"GI18","v":{"$error":"#N/A"}},{"$f":"GJ18","v":0},{"$f":"GK18","v":{"$error":"#N/A"}}]
[null,null,null,null,null,null,null,null,null,null,null,{"$f":"HLOOKUP(L169,$L$163:$P$166,4,0)","v":{"$error":"#N/A"}},{"$f":"HLOOKUP(M169,$L$163:$P$166,4,0)","v":{"$error":"#N/A"}},{"$error":"#N/A"},{"$error":"#N/A"},{"$error":"#N/A"},null,{"$f":"HLOOKUP(R169,$R$163:$V$166,4,0)","v":{"$error":"#N/A"}},{"$f":"HLOOKUP(S169,$R$163:$V$166,4,0)","v":{"$error":"#N/A"}},{"$error":"#N/A"},{"$error":"#N/A"},{"$error":"#N/A"},null,{"$f":"HLOOKUP(X169,$X$163:$AB$166,4,0)","v":{"$error":"#N/A"}},{"$f":"HLOOKUP(Y169,$X$163:$AB$166,4,0)","v":{"$error":"#N/A"}},{"$error":"#N/A"},{"$error":"#N/A"},{"$error":"#N/A"},null,null,null,null,null,null,null,null,null,null,null,null,null,null,null,{"$f":"IF(ISNUMBER(AR167),AR167,0)","v":-14},null,null,null,{"$f":"IF(ISNUMBER(AV167),AV167,0)","v":0}]
[null,null,null,null,null,null,null,null,null,null,null,1,2,3,4,5,null,1,2,3,4,5,null,1,2,3,4,5,null,null,null,null,null,null,null,null,null,null,null,null,"third win",null,{"$f":"AQ162","v":14},{"$f":"AU169-AQ169","v":-14},{"$f":"AS162","v":0},{"$f":"AU169-AS169","v":0},{"$f":"AU162","v":0},null,null,null,null,null,null,null,null,null,null,null,null,null,null,null,null,null,null,null,null,null,null,null,null,null,16,{"$f":"CG19","v":"Royal Flush"},{"$f":"CH19","v":{"$error":"#N/A"}},{"$f":"CI19","v":{"$error":"#N/A"}},{"$f":"CJ19","v":{"$error":"#N/A"}},{"$f":"CK19","v":{"$error":"#N/A"}},{"$f":"CL19","v":{"$error":"#N/A"}},{"$f":"CM19","v":{"$error":"#N/A"}},{"$f":"CN19","v":{"$error":"#N/A"}},{"$f":"CO19","v":{"$error":"#N/A"}},{"$f":"CP19","v":{"$error":"#N/A"}}]
[null,null,null,null,null,null,null,null,null,null,null,{"$f":"L165+IF(L165=1,13+RAND()^3,RAND()^3)","v":{"$error":"#N/A"}},{"$f":"M165+IF(M165=1,13+RAND()^3,RAND()^3)","v":{"$error":"#N/A"}},{"$error":"#N/A"},{"$error":"#N/A"},{"$error":"#N/A"},0.23608127428874623,{"$error":"#N/A"},{"$error":"#N/A"},{"$error":"#N/A"},{"$error":"#N/A"},{"$error":"#N/A"},8.3993233645063059E-2,{"$error":"#N/A"},{"$error":"#N/A"},{"$error":"#N/A"},{"$error":"#N/A"},{"$error":"#N/A"},null,null,null,null,null,null,null,null,null,null,null,null,null,null,{"$f":"AQ163","v":11},{"$f":"AU170-AQ170","v":-11},{"$f":"AS163","v":0},{"$f":"AU170-AS170","v":0},{"$f":"AU163","v":0},null,null,null,null,null,null,null,null,null,null,null,null,null,null,null,null,null,null,null,null,null,null,null,null,null,null,{"$f":"CR19","v":"Straight Flush"},{"$f":"CS19","v":{"$error":"#N/A"}},{"$f":"CT19","v":{"$error":"#N/A"}},{"$f":"CU19","v":{"$error":"#N/A"}},{"$f":"CV19","v":{"$error":"#N/A"}},{"$f":"CW19","v":{"$error":"#N/A"}},{"$f":"CX19","v":{"$error":"#N/A"}},{"$f":"CY19","v":{"$error":"#N/A"}},{"$f":"CZ19","v":{"$error":"#N/A"}},{"$f":"DA19","v":{"$error":"#N/A"}}]
[null,null,null,null,null,null,null,null,null,null,null,null,null,null,null,null,null,null,null,null,null,null,null,null,null,null,null,null,null,null,null,null,null,null,null,null,null,null,null,null,null,null,{"$f":"AQ164","v":9},-9,{"$f":"AS164","v":0},0,{"$f":"AU164","v":0},null,null,null,null,null,null,null,null,null,null,null,null,null,null,null,null,null,null,null,null,null,null,null,null,null,null,{"$f":"DC19","v":"Four of a Kind"},{"$f":"DD19","v":{"$error":"#N/A"}},{"$f":"DE19","v":0},{"$f":"DF19","v":{"$error":"#N/A"}},{"$f":"DG19","v":{"$error":"#N/A"}},{"$f":"DH19","v":0},{"$f":"DI19","v":{"$error":"#N/A"}},{"$f":"DJ19","v":{"$error":"#N/A"}},{"$f":"DK19","v":0},{"$f":"DL19","v":{"$error":"#N/A"}}]
[null,null,null,null,null,null,null,null,null,null,null,{"$f":"RANK(L179,$L$179:$P$179,1)","v":{"$error":"#N/A"}},{"$f":"RANK(M179,$L$179:$P$179,1)","v":{"$error":"#N/A"}},{"$error":"#N/A"},{"$error":"#N/A"},{"$error":"#N/A"},null,{"$f":"RANK(R179,$R$179:$V$179,1)","v":{"$error":"#N/A"}},{"$f":"RANK(S179,$R$179:$V$179,1)","v":{"$error":"#N/A"}},{"$error":"#N/A"},{"$error":"#N/A"},{"$error":"#N/A"},null,{"$f":"RANK(X179,$X$179:$AB$179,1)","v":{"$error":"#N/A"}},{"$f":"RANK(Y179,$X$179:$AB$179,1)","v":{"$error":"#N/A"}},{"$error":"#N/A"},{"$error":"#N/A"},{"$error":"#N/A"},null,null,null,null,null,null,null,null,null,null,null,null,null,null,{"$f":"AQ165","v":8},-8,{"$f":"AS165","v":0},0,{"$f":"AU165","v":0},null,null,null,null,null,null,null,null,null,null,null,null,null,null,null,null,null,null,null,null,null,null,null,null,null,null,{"$f":"DN19","v":"Full House"},{"$f":"DO19","v":{"$error":"#N/A"}},{"$f":"DP19","v":0},{"$f":"DQ19","v":{"$error":"#N/A"}},{"$f":"DR19","v":{"$error":"#N/A"}},{"$f":"DS19","v":0},{"$f":"DT19","v":{"$error":"#N/A"}},{"$f":"DU19","v":{"$error":"#N/A"}},{"$f":"DV19","v":0},{"$f":"DW19","v":{"$error":"#N/A"}}]
[null,null,null,null,null,null,null,null,null,20,null,{"$f":"[0]!Player12","v":0},{"$f":"[0]!House2","v":0},{"$f":"[0]!House3","v":0},{"$f":"[0]!House4","v":0},{"$f":"[0]!House5","v":0},null,{"$f":"[0]!Player22","v":0},{"$f":"[0]!House2","v":0},{"$f":"[0]!House3","v":0},{"$f":"[0]!House4","v":0},{"$f":"[0]!House5","v":0},null,{"$f":"[0]!Player32","v":0},{"$f":"[0]!House2","v":0},{"$f":"[0]!House3","v":0},{"$f":"[0]!House4","v":0},{"$f":"[0]!House5","v":0},null,null,null,null,null,null,null,null,null,null,null,null,null,null,{"$f":"AQ166","v":7},-7,{"$f":"AS166","v":0},0,{"$f":"AU166","v":0},null,null,null,null,null,null,null,null,null,null,null,null,null,null,null,null,null,null,null,null,null,null,null,null,null,null,{"$f":"DY19","v":"Flush"},{"$f":"DZ19","v":{"$error":"#N/A"}},{"$f":"EA19","v":0},{"$f":"EB19","v":{"$error":"#N/A"}},{"$f":"EC19","v":{"$error":"#N/A"}},{"$f":"ED19","v":0},{"$f":"EE19","v":{"$error":"#N/A"}},{"$f":"EF19","v":{"$error":"#N/A"}},{"$f":"EG19","v":0},{"$f":"EH19","v":{"$error":"#N/A"}}]
[null,null,null,null,null,null,null,null,null,null,null,{"$f":"VLOOKUP(L173,$B$1:$F$52,5,0)","v":{"$error":"#N/A"}},{"$f":"VLOOKUP(M173,$B$1:$F$52,5,0)","v":{"$error":"#N/A"}},{"$f":"VLOOKUP(N173,$B$1:$F$52,5,0)","v":{"$error":"#N/A"}},{"$f":"VLOOKUP(O173,$B$1:$F$52,5,0)","v":{"$error":"#N/A"}},{"$f":"VLOOKUP(P173,$B$1:$F$52,5,0)","v":{"$error":"#N/A"}},null,{"$f":"VLOOKUP(R173,$B$1:$F$52,5,0)","v":{"$error":"#N/A"}},{"$f":"VLOOKUP(S173,$B$1:$F$52,5,0)","v":{"$error":"#N/A"}},{"$f":"VLOOKUP(T173,$B$1:$F$52,5,0)","v":{"$error":"#N/A"}},{"$f":"VLOOKUP(U173,$B$1:$F$52,5,0)","v":{"$error":"#N/A"}},{"$f":"VLOOKUP(V173,$B$1:$F$52,5,0)","v":{"$error":"#N/A"}},null,{"$f":"VLOOKUP(X173,$B$1:$F$52,5,0)","v":{"$error":"#N/A"}},{"$f":"VLOOKUP(Y173,$B$1:$F$52,5,0)","v":{"$error":"#N/A"}},{"$f":"VLOOKUP(Z173,$B$1:$F$52,5,0)","v":{"$error":"#N/A"}},{"$f":"VLOOKUP(AA173,$B$1:$F$52,5,0)","v":{"$error":"#N/A"}},{"$f":"VLOOKUP(AB173,$B$1:$F$52,5,0)","v":{"$error":"#N/A"}},null,null,null,null,null,null,null,null,null,null,null,null,null,null,null,{"$f":"INDEX(AR169:AR173,MATCH(TRUE,INDEX(AR169:AR173<>0,),0))","v":-14},null,{"$f":"INDEX(AT169:AT173,MATCH(TRUE,INDEX(AT169:AT173<>0,),0))","v":{"$error":"#N/A"}},null,null,null,null,null,null,null,null,null,null,null,null,null,null,null,null,null,null,null,null,null,null,null,null,null,null,null,{"$f":"EJ19","v":"Straight"},{"$f":"EK19","v":{"$error":"#N/A"}},{"$f":"EL19","v":{"$error":"#N/A"}},{"$f":"EM19","v":{"$error":"#N/A"}},{"$f":"EN19","v":{"$error":"#N/A"}},{"$f":"EO19","v":{"$error":"#N/A"}},{"$f":"EP19","v":{"$error":"#N/A"}},{"$f":"EQ19","v":{"$error":"#N/A"}},{"$f":"ER19","v":{"$error":"#N/A"}},{"$f":"ES19","v":{"$error":"#N/A"}}]
[null,null,null,null,null,null,null,null,null,null,null,{"$f":"VLOOKUP(L173,$B$1:$F$52,4,0)","v":{"$error":"#N/A"}},{"$f":"VLOOKUP(M173,$B$1:$F$52,4,0)","v":{"$error":"#N/A"}},{"$f":"VLOOKUP(N173,$B$1:$F$52,4,0)","v":{"$error":"#N/A"}},{"$f":"VLOOKUP(O173,$B$1:$F$52,4,0)","v":{"$error":"#N/A"}},{"$f":"VLOOKUP(P173,$B$1:$F$52,4,0)","v":{"$error":"#N/A"}},null,{"$f":"VLOOKUP(R173,$B$1:$F$52,4,0)","v":{"$error":"#N/A"}},{"$f":"VLOOKUP(S173,$B$1:$F$52,4,0)","v":{"$error":"#N/A"}},{"$f":"VLOOKUP(T173,$B$1:$F$52,4,0)","v":{"$error":"#N/A"}},{"$f":"VLOOKUP(U173,$B$1:$F$52,4,0)","v":{"$error":"#N/A"}},{"$f":"VLOOKUP(V173,$B$1:$F$52,4,0)","v":{"$error":"#N/A"}},null,{"$f":"VLOOKUP(X173,$B$1:$F$52,4,0)","v":{"$error":"#N/A"}},{"$f":"VLOOKUP(Y173,$B$1:$F$52,4,0)","v":{"$error":"#N/A"}},{"$f":"VLOOKUP(Z173,$B$1:$F$52,4,0)","v":{"$error":"#N/A"}},{"$f":"VLOOKUP(AA173,$B$1:$F$52,4,0)","v":{"$error":"#N/A"}},{"$f":"VLOOKUP(AB173,$B$1:$F$52,4,0)","v":{"$error":"#N/A"}},null,null,null,null,null,null,null,null,null,null,null,null,null,null,null,{"$f":"IF(ISNUMBER(AR174),AR174,0)","v":-14},null,{"$f":"IF(ISNUMBER(AT174),AT174,0)","v":0},null,null,null,null,null,null,null,null,null,null,null,null,null,null,null,null,null,null,null,null,null,null,null,null,null,null,null,{"$f":"EU19","v":"Three of a Kind"},{"$f":"EV19","v":{"$error":"#N/A"}},{"$f":"EW19","v":0},{"$f":"EX19","v":{"$error":"#N/A"}},{"$f":"EY19","v":{"$error":"#N/A"}},{"$f":"EZ19","v":0},{"$f":"FA19","v":{"$error":"#N/A"}},{"$f":"FB19","v":{"$error":"#N/A"}},{"$f":"FC19","v":0},{"$f":"FD19","v":{"$error":"#N/A"}}]
[null,null,null,null,null,null,null,null,null,null,null,{"$f":"HLOOKUP(L178,$L$172:$P$175,3,0)","v":{"$error":"#N/A"}},{"$f":"HLOOKUP(M178,$L$172:$P$175,3,0)","v":{"$error":"#N/A"}},{"$error":"#N/A"},{"$error":"#N/A"},{"$error":"#N/A"},null,{"$f":"HLOOKUP(R178,$R$172:$V$175,3,0)","v":{"$error":"#N/A"}},{"$f":"HLOOKUP(S178,$R$172:$V$175,3,0)","v":{"$error":"#N/A"}},{"$error":"#N/A"},{"$error":"#N/A"},{"$error":"#N/A"},null,{"$f":"HLOOKUP(X178,$X$172:$AB$175,3,0)","v":{"$error":"#N/A"}},{"$f":"HLOOKUP(Y178,$X$172:$AB$175,3,0)","v":{"$error":"#N/A"}},{"$error":"#N/A"},{"$error":"#N/A"},{"$error":"#N/A"},null,null,null,null,null,null,null,null,null,null,null,null,null,null,null,null,null,null,null,null,null,null,null,null,null,null,null,null,null,null,null,null,null,null,null,null,null,null,null,null,null,null,null,null,null,{"$f":"FF19","v":"Two Pair"},{"$f":"FG19","v":{"$error":"#N/A"}},{"$f":"FH19","v":0},{"$f":"FI19","v":{"$error":"#N/A"}},{"$f":"FJ19","v":{"$error":"#N/A"}},{"$f":"FK19","v":0},{"$f":"FL19","v":{"$error":"#N/A"}},{"$f":"FM19","v":{"$error":"#N/A"}},{"$f":"FN19","v":0},{"$f":"FO19","v":{"$error":"#N/A"}}]
[null,null,null,null,null,null,null,null,null,null,null,{"$f":"HLOOKUP(L178,$L$172:$P$175,4,0)","v":{"$error":"#N/A"}},{"$f":"HLOOKUP(M178,$L$172:$P$175,4,0)","v":{"$error":"#N/A"}},{"$error":"#N/A"},{"$error":"#N/A"},{"$error":"#N/A"},null,{"$f":"HLOOKUP(R178,$R$172:$V$175,4,0)","v":{"$error":"#N/A"}},{"$f":"HLOOKUP(S178,$R$172:$V$175,4,0)","v":{"$error":"#N/A"}},{"$error":"#N/A"},{"$error":"#N/A"},{"$error":"#N/A"},null,{"$f":"HLOOKUP(X178,$X$172:$AB$175,4,0)","v":{"$error":"#N/A"}},{"$f":"HLOOKUP(Y178,$X$172:$AB$175,4,0)","v":{"$error":"#N/A"}},{"$error":"#N/A"},{"$error":"#N/A"},{"$error":"#N/A"},null,null,null,null,null,null,null,null,null,null,null,null,null,null,null,null,null,null,null,null,null,null,null,null,null,null,null,null,null,null,null,null,null,null,null,null,null,null,null,null,null,null,null,null,null,{"$f":"FQ19","v":"One Pair"},{"$f":"FR19","v":{"$error":"#N/A"}},{"$f":"FS19","v":0},{"$f":"FT19","v":{"$error":"#N/A"}},{"$f":"FU19","v":{"$error":"#N/A"}},{"$f":"FV19","v":0},{"$f":"FW19","v":{"$error":"#N/A"}},{"$f":"FX19","v":{"$error":"#N/A"}},{"$f":"FY19","v":0},{"$f":"FZ19","v":{"$error":"#N/A"}}]
[null,null,null,null,null,null,null,null,null,null,null,1,2,3,4,5,null,1,2,3,4,5,null,1,2,3,4,5,null,null,null,null,null,null,null,null,null,null,null,null,null,null,null,null,null,null,null,null,null,null,null,null,null,null,null,null,null,null,null,null,null,null,null,null,null,null,null,null,null,null,null,null,null,{"$f":"GB19","v":"High Card"},{"$f":"GC19","v":{"$error":"#N/A"}},{"$f":"GD19","v":0},{"$f":"GE19","v":{"$error":"#N/A"}},{"$f":"GF19","v":{"$error":"#N/A"}},{"$f":"GG19","v":0},{"$f":"GH19","v":{"$error":"#N/A"}},{"$f":"GI19","v":{"$error":"#N/A"}},{"$f":"GJ19","v":0},{"$f":"GK19","v":{"$error":"#N/A"}}]
[null,null,null,null,null,null,null,null,null,null,null,{"$f":"L174+IF(L174=1,13+RAND()^3,RAND()^3)","v":{"$error":"#N/A"}},{"$f":"M174+IF(M174=1,13+RAND()^3,RAND()^3)","v":{"$error":"#N/A"}},{"$error":"#N/A"},{"$error":"#N/A"},{"$error":"#N/A"},4.6362962315742821E-2,{"$error":"#N/A"},{"$error":"#N/A"},{"$error":"#N/A"},{"$error":"#N/A"},{"$error":"#N/A"},0.74090039250431694,{"$error":"#N/A"},{"$error":"#N/A"},{"$error":"#N/A"},{"$error":"#N/A"},{"$error":"#N/A"}]
[null,null,null,null,null,null,null,null,null,null,null,null,null,null,null,null,null,null,null,null,null,null,null,null,null,null,null,null,null,null,null,null,null,null,null,null,null,null,null,null,null,null,null,null,null,null,null,null,null,null,null,null,null,null,null,null,null,null,null,null,null,null,null,null,null,null,null,null,null,null,null,null,17,{"$f":"CG20","v":"Royal Flush"},{"$f":"CH20","v":{"$error":"#N/A"}},{"$f":"CI20","v":{"$error":"#N/A"}},{"$f":"CJ20","v":{"$error":"#N/A"}},{"$f":"CK20","v":{"$error":"#N/A"}},{"$f":"CL20","v":{"$error":"#N/A"}},{"$f":"CM20","v":{"$error":"#N/A"}},{"$f":"CN20","v":{"$error":"#N/A"}},{"$f":"CO20","v":{"$error":"#N/A"}},{"$f":"CP20","v":{"$error":"#N/A"}}]
[null,null,null,null,null,null,null,null,null,null,null,{"$f":"RANK(L188,$L$188:$P$188,1)","v":{"$error":"#N/A"}},{"$f":"RANK(M188,$L$188:$P$188,1)","v":{"$error":"#N/A"}},{"$error":"#N/A"},{"$error":"#N/A"},{"$error":"#N/A"},null,{"$f":"RANK(R188,$R$188:$V$188,1)","v":{"$error":"#N/A"}},{"$f":"RANK(S188,$R$188:$V$188,1)","v":{"$error":"#N/A"}},{"$error":"#N/A"},{"$error":"#N/A"},{"$error":"#N/A"},null,{"$f":"RANK(X188,$X$188:$AB$188,1)","v":{"$error":"#N/A"}},{"$f":"RANK(Y188,$X$188:$AB$188,1)","v":{"$error":"#N/A"}},{"$error":"#N/A"},{"$error":"#N/A"},{"$error":"#N/A"},null,null,null,null,null,null,null,null,null,null,null,null,null,null,null,null,null,null,null,null,null,null,null,null,null,null,null,null,null,null,null,null,null,null,null,null,null,null,null,null,null,null,null,null,null,{"$f":"CR20","v":"Straight Flush"},{"$f":"CS20","v":{"$error":"#N/A"}},{"$f":"CT20","v":{"$error":"#N/A"}},{"$f":"CU20","v":{"$error":"#N/A"}},{"$f":"CV20","v":{"$error":"#N/A"}},{"$f":"CW20","v":{"$error":"#N/A"}},{"$f":"CX20","v":{"$error":"#N/A"}},{"$f":"CY20","v":{"$error":"#N/A"}},{"$f":"CZ20","v":{"$error":"#N/A"}},{"$f":"DA20","v":{"$error":"#N/A"}}]
[null,null,null,null,null,null,null,null,null,21,null,{"$f":"[0]!House1","v":0},{"$f":"[0]!House2","v":0},{"$f":"[0]!House3","v":0},{"$f":"[0]!House4","v":0},{"$f":"[0]!House5","v":0},null,{"$f":"[0]!House1","v":0},{"$f":"[0]!House2","v":0},{"$f":"[0]!House3","v":0},{"$f":"[0]!House4","v":0},{"$f":"[0]!House5","v":0},null,{"$f":"[0]!House1","v":0},{"$f":"[0]!House2","v":0},{"$f":"[0]!House3","v":0},{"$f":"[0]!House4","v":0},{"$f":"[0]!House5","v":0},null,null,null,null,null,null,null,null,null,null,null,null,null,null,null,null,null,null,null,null,null,null,null,null,null,null,null,null,null,null,null,null,null,null,null,null,null,null,null,null,null,null,null,null,null,{"$f":"DC20","v":"Four of a Kind"},{"$f":"DD20","v":{"$error":"#N/A"}},{"$f":"DE20","v":0},{"$f":"DF20","v":{"$error":"#N/A"}},{"$f":"DG20","v":{"$error":"#N/A"}},{"$f":"DH20","v":0},{"$f":"DI20","v":{"$error":"#N/A"}},{"$f":"DJ20","v":{"$error":"#N/A"}},{"$f":"DK20","v":0},{"$f":"DL20","v":{"$error":"#N/A"}}]
[null,null,null,null,null,null,null,null,null,null,null,{"$f":"VLOOKUP(L182,$B$1:$F$52,5,0)","v":{"$error":"#N/A"}},{"$f":"VLOOKUP(M182,$B$1:$F$52,5,0)","v":{"$error":"#N/A"}},{"$f":"VLOOKUP(N182,$B$1:$F$52,5,0)","v":{"$error":"#N/A"}},{"$f":"VLOOKUP(O182,$B$1:$F$52,5,0)","v":{"$error":"#N/A"}},{"$f":"VLOOKUP(P182,$B$1:$F$52,5,0)","v":{"$error":"#N/A"}},null,{"$f":"VLOOKUP(R182,$B$1:$F$52,5,0)","v":{"$error":"#N/A"}},{"$f":"VLOOKUP(S182,$B$1:$F$52,5,0)","v":{"$error":"#N/A"}},{"$f":"VLOOKUP(T182,$B$1:$F$52,5,0)","v":{"$error":"#N/A"}},{"$f":"VLOOKUP(U182,$B$1:$F$52,5,0)","v":{"$error":"#N/A"}},{"$f":"VLOOKUP(V182,$B$1:$F$52,5,0)","v":{"$error":"#N/A"}},null,{"$f":"VLOOKUP(X182,$B$1:$F$52,5,0)","v":{"$error":"#N/A"}},{"$f":"VLOOKUP(Y182,$B$1:$F$52,5,0)","v":{"$error":"#N/A"}},{"$f":"VLOOKUP(Z182,$B$1:$F$52,5,0)","v":{"$error":"#N/A"}},{"$f":"VLOOKUP(AA182,$B$1:$F$52,5,0)","v":{"$error":"#N/A"}},{"$f":"VLOOKUP(AB182,$B$1:$F$52,5,0)","v":{"$error":"#N/A"}},null,null,null,null,null,null,null,null,null,null,null,null,null,null,null,null,null,null,null,null,null,null,null,null,null,null,null,null,null,null,null,null,null,null,null,null,null,null,null,null,null,null,null,null,null,{"$f":"DN20","v":"Full House"},{"$f":"DO20","v":{"$error":"#N/A"}},{"$f":"DP20","v":0},{"$f":"DQ20","v":{"$error":"#N/A"}},{"$f":"DR20","v":{"$error":"#N/A"}},{"$f":"DS20","v":0},{"$f":"DT20","v":{"$error":"#N/A"}},{"$f":"DU20","v":{"$error":"#N/A"}},{"$f":"DV20","v":0},{"$f":"DW20","v":{"$error":"#N/A"}}]
[null,null,null,null,null,null,null,null,null,null,null,{"$f":"VLOOKUP(L182,$B$1:$F$52,4,0)","v":{"$error":"#N/A"}},{"$f":"VLOOKUP(M182,$B$1:$F$52,4,0)","v":{"$error":"#N/A"}},{"$f":"VLOOKUP(N182,$B$1:$F$52,4,0)","v":{"$error":"#N/A"}},{"$f":"VLOOKUP(O182,$B$1:$F$52,4,0)","v":{"$error":"#N/A"}},{"$f":"VLOOKUP(P182,$B$1:$F$52,4,0)","v":{"$error":"#N/A"}},null,{"$f":"VLOOKUP(R182,$B$1:$F$52,4,0)","v":{"$error":"#N/A"}},{"$f":"VLOOKUP(S182,$B$1:$F$52,4,0)","v":{"$error":"#N/A"}},{"$f":"VLOOKUP(T182,$B$1:$F$52,4,0)","v":{"$error":"#N/A"}},{"$f":"VLOOKUP(U182,$B$1:$F$52,4,0)","v":{"$error":"#N/A"}},{"$f":"VLOOKUP(V182,$B$1:$F$52,4,0)","v":{"$error":"#N/A"}},null,{"$f":"VLOOKUP(X182,$B$1:$F$52,4,0)","v":{"$error":"#N/A"}},{"$f":"VLOOKUP(Y182,$B$1:$F$52,4,0)","v":{"$error":"#N/A"}},{"$f":"VLOOKUP(Z182,$B$1:$F$52,4,0)","v":{"$error":"#N/A"}},{"$f":"VLOOKUP(AA182,$B$1:$F$52,4,0)","v":{"$error":"#N/A"}},{"$f":"VLOOKUP(AB182,$B$1:$F$52,4,0)","v":{"$error":"#N/A"}},null,null,null,null,null,null,null,null,null,null,null,null,null,null,null,null,null,null,null,null,null,null,null,null,null,null,null,null,null,null,null,null,null,null,null,null,null,null,null,null,null,null,null,null,null,{"$f":"DY20","v":"Flush"},{"$f":"DZ20","v":{"$error":"#N/A"}},{"$f":"EA20","v":0},{"$f":"EB20","v":{"$error":"#N/A"}},{"$f":"EC20","v":{"$error":"#N/A"}},{"$f":"ED20","v":0},{"$f":"EE20","v":{"$error":"#N/A"}},{"$f":"EF20","v":{"$error":"#N/A"}},{"$f":"EG20","v":0},{"$f":"EH20","v":{"$error":"#N/A"}}]
[null,null,null,null,null,null,null,null,null,null,null,{"$f":"HLOOKUP(L187,$L$181:$P$184,3,0)","v":{"$error":"#N/A"}},{"$f":"HLOOKUP(M187,$L$181:$P$184,3,0)","v":{"$error":"#N/A"}},{"$error":"#N/A"},{"$error":"#N/A"},{"$error":"#N/A"},null,{"$f":"HLOOKUP(R187,$R$181:$V$184,3,0)","v":{"$error":"#N/A"}},{"$f":"HLOOKUP(S187,$R$181:$V$184,3,0)","v":{"$error":"#N/A"}},{"$error":"#N/A"},{"$error":"#N/A"},{"$error":"#N/A"},null,{"$f":"HLOOKUP(X187,$X$181:$AB$184,3,0)","v":{"$error":"#N/A"}},{"$f":"HLOOKUP(Y187,$X$181:$AB$184,3,0)","v":{"$error":"#N/A"}},{"$error":"#N/A"},{"$error":"#N/A"},{"$error":"#N/A"},null,null,null,null,null,null,null,null,null,null,null,null,null,null,null,null,null,null,null,null,null,null,null,null,null,null,null,null,null,null,null,null,null,null,null,null,null,null,null,null,null,null,null,null,null,{"$f":"EJ20","v":"Straight"},{"$f":"EK20","v":{"$error":"#N/A"}},{"$f":"EL20","v":{"$error":"#N/A"}},{"$f":"EM20","v":{"$error":"#N/A"}},{"$f":"EN20","v":{"$error":"#N/A"}},{"$f":"EO20","v":{"$error":"#N/A"}},{"$f":"EP20","v":{"$error":"#N/A"}},{"$f":"EQ20","v":{"$error":"#N/A"}},{"$f":"ER20","v":{"$error":"#N/A"}},{"$f":"ES20","v":{"$error":"#N/A"}}]
[null,null,null,null,null,null,null,null,null,null,null,{"$f":"HLOOKUP(L187,$L$181:$P$184,4,0)","v":{"$error":"#N/A"}},{"$f":"HLOOKUP(M187,$L$181:$P$184,4,0)","v":{"$error":"#N/A"}},{"$error":"#N/A"},{"$error":"#N/A"},{"$error":"#N/A"},null,{"$f":"HLOOKUP(R187,$R$181:$V$184,4,0)","v":{"$error":"#N/A"}},{"$f":"HLOOKUP(S187,$R$181:$V$184,4,0)","v":{"$error":"#N/A"}},{"$error":"#N/A"},{"$error":"#N/A"},{"$error":"#N/A"},null,{"$f":"HLOOKUP(X187,$X$181:$AB$184,4,0)","v":{"$error":"#N/A"}},{"$f":"HLOOKUP(Y187,$X$181:$AB$184,4,0)","v":{"$error":"#N/A"}},{"$error":"#N/A"},{"$error":"#N/A"},{"$error":"#N/A"},null,null,null,null,null,null,null,null,null,null,null,null,null,null,null,null,null,null,null,null,null,null,null,null,null,null,null,null,null,null,null,null,null,null,null,null,null,null,null,null,null,null,null,null,null,{"$f":"EU20","v":"Three of a Kind"},{"$f":"EV20","v":{"$error":"#N/A"}},{"$f":"EW20","v":0},{"$f":"EX20","v":{"$error":"#N/A"}},{"$f":"EY20","v":{"$error":"#N/A"}},{"$f":"EZ20","v":0},{"$f":"FA20","v":{"$error":"#N/A"}},{"$f":"FB20","v":{"$error":"#N/A"}},{"$f":"FC20","v":0},{"$f":"FD20","v":{"$error":"#N/A"}}]
[null,null,null,null,null,null,null,null,null,null,null,1,2,3,4,5,null,1,2,3,4,5,null,1,2,3,4,5,null,null,null,null,null,null,null,null,null,null,null,null,null,null,null,null,null,null,null,null,null,null,null,null,null,null,null,null,null,null,null,null,null,null,null,null,null,null,null,null,null,null,null,null,null,{"$f":"FF20","v":"Two Pair"},{"$f":"FG20","v":{"$error":"#N/A"}},{"$f":"FH20","v":0},{"$f":"FI20","v":{"$error":"#N/A"}},{"$f":"FJ20","v":{"$error":"#N/A"}},{"$f":"FK20","v":0},{"$f":"FL20","v":{"$error":"#N/A"}},{"$f":"FM20","v":{"$error":"#N/A"}},{"$f":"FN20","v":0},{"$f":"FO20","v":{"$error":"#N/A"}}]
[null,null,null,null,null,null,null,null,null,null,null,{"$f":"L183+IF(L183=1,13+RAND()^3,RAND()^3)","v":{"$error":"#N/A"}},{"$f":"M183+IF(M183=1,13+RAND()^3,RAND()^3)","v":{"$error":"#N/A"}},{"$error":"#N/A"},{"$error":"#N/A"},{"$error":"#N/A"},0.29106885432277058,{"$error":"#N/A"},{"$error":"#N/A"},{"$error":"#N/A"},{"$error":"#N/A"},{"$error":"#N/A"},0.15103343370031397,{"$error":"#N/A"},{"$error":"#N/A"},{"$error":"#N/A"},{"$error":"#N/A"},{"$error":"#N/A"},null,null,null,null,null,null,null,null,null,null,null,null,null,null,null,null,null,null,null,null,null,null,null,null,null,null,null,null,null,null,null,null,null,null,null,null,null,null,null,null,null,null,null,null,null,{"$f":"FQ20","v":"One Pair"},{"$f":"FR20","v":{"$error":"#N/A"}},{"$f":"FS20","v":0},{"$f":"FT20","v":{"$error":"#N/A"}},{"$f":"FU20","v":{"$error":"#N/A"}},{"$f":"FV20","v":0},{"$f":"FW20","v":{"$error":"#N/A"}},{"$f":"FX20","v":{"$error":"#N/A"}},{"$f":"FY20","v":0},{"$f":"FZ20","v":{"$error":"#N/A"}}]
[null,null,null,null,null,null,null,null,null,null,null,null,null,null,null,null,null,null,null,null,null,null,null,null,null,null,null,null,null,null,null,null,null,null,null,null,null,null,null,null,null,null,null,null,null,null,null,null,null,null,null,null,null,null,null,null,null,null,null,null,null,null,null,null,null,null,null,null,null,null,null,null,null,{"$f":"GB20","v":"High Card"},{"$f":"GC20","v":{"$error":"#N/A"}},{"$f":"GD20","v":0},{"$f":"GE20","v":{"$error":"#N/A"}},{"$f":"GF20","v":{"$error":"#N/A"}},{"$f":"GG20","v":0},{"$f":"GH20","v":{"$error":"#N/A"}},{"$f":"GI20","v":{"$error":"#N/A"}},{"$f":"GJ20","v":0},{"$f":"GK20","v":{"$error":"#N/A"}}]
[]
[null,null,null,null,null,null,null,null,null,null,null,null,null,null,null,null,null,null,null,null,null,null,null,null,null,null,null,null,null,null,null,null,null,null,null,null,null,null,null,null,null,null,null,null,null,null,null,null,null,null,null,null,null,null,null,null,null,null,null,null,null,null,null,null,null,null,null,null,null,null,null,null,18,{"$f":"CG21","v":"Royal Flush"},{"$f":"CH21","v":{"$error":"#N/A"}},{"$f":"CI21","v":{"$error":"#N/A"}},{"$f":"CJ21","v":{"$error":"#N/A"}},{"$f":"CK21","v":{"$error":"#N/A"}},{"$f":"CL21","v":{"$error":"#N/A"}},{"$f":"CM21","v":{"$error":"#N/A"}},{"$f":"CN21","v":{"$error":"#N/A"}},{"$f":"CO21","v":{"$error":"#N/A"}},{"$f":"CP21","v":{"$error":"#N/A"}}]
[null,null,null,null,null,null,null,null,null,null,null,null,null,null,null,null,null,null,null,null,null,null,null,null,null,null,null,null,null,null,null,null,null,null,null,null,null,null,null,null,null,null,null,null,null,null,null,null,null,null,null,null,null,null,null,null,null,null,null,null,null,null,null,null,null,null,null,null,null,null,null,null,null,{"$f":"CR21","v":"Straight Flush"},{"$f":"CS21","v":{"$error":"#N/A"}},{"$f":"CT21","v":{"$error":"#N/A"}},{"$f":"CU21","v":{"$error":"#N/A"}},{"$f":"CV21","v":{"$error":"#N/A"}},{"$f":"CW21","v":{"$error":"#N/A"}},{"$f":"CX21","v":{"$error":"#N/A"}},{"$f":"CY21","v":{"$error":"#N/A"}},{"$f":"CZ21","v":{"$error":"#N/A"}},{"$f":"DA21","v":{"$error":"#N/A"}}]
[null,null,null,null,null,null,null,null,null,null,null,null,null,null,null,null,null,null,null,null,null,null,null,null,null,null,null,null,null,null,null,null,null,null,null,null,null,null,null,null,null,null,null,null,null,null,null,null,null,null,null,null,null,null,null,null,null,null,null,null,null,null,null,null,null,null,null,null,null,null,null,null,null,{"$f":"DC21","v":"Four of a Kind"},{"$f":"DD21","v":{"$error":"#N/A"}},{"$f":"DE21","v":0},{"$f":"DF21","v":{"$error":"#N/A"}},{"$f":"DG21","v":{"$error":"#N/A"}},{"$f":"DH21","v":0},{"$f":"DI21","v":{"$error":"#N/A"}},{"$f":"DJ21","v":{"$error":"#N/A"}},{"$f":"DK21","v":0},{"$f":"DL21","v":{"$error":"#N/A"}}]
[null,null,null,null,null,null,null,null,null,null,null,null,null,null,null,null,null,null,null,null,null,null,null,null,null,null,null,null,null,null,null,null,null,null,null,null,null,null,null,null,null,null,null,null,null,null,null,null,null,null,null,null,null,null,null,null,null,null,null,null,null,null,null,null,null,null,null,null,null,null,null,null,null,{"$f":"DN21","v":"Full House"},{"$f":"DO21","v":{"$error":"#N/A"}},{"$f":"DP21","v":0},{"$f":"DQ21","v":{"$error":"#N/A"}},{"$f":"DR21","v":{"$error":"#N/A"}},{"$f":"DS21","v":0},{"$f":"DT21","v":{"$error":"#N/A"}},{"$f":"DU21","v":{"$error":"#N/A"}},{"$f":"DV21","v":0},{"$f":"DW21","v":{"$error":"#N/A"}}]
[null,null,null,null,null,null,null,null,null,null,null,null,null,null,null,null,null,null,null,null,null,null,null,null,null,null,null,null,null,null,null,null,null,null,null,null,null,null,null,null,null,null,null,null,null,null,null,null,null,null,null,null,null,null,null,null,null,null,null,null,null,null,null,null,null,null,null,null,null,null,null,null,null,{"$f":"DY21","v":"Flush"},{"$f":"DZ21","v":{"$error":"#N/A"}},{"$f":"EA21","v":0},{"$f":"EB21","v":{"$error":"#N/A"}},{"$f":"EC21","v":{"$error":"#N/A"}},{"$f":"ED21","v":0},{"$f":"EE21","v":{"$error":"#N/A"}},{"$f":"EF21","v":{"$error":"#N/A"}},{"$f":"EG21","v":0},{"$f":"EH21","v":{"$error":"#N/A"}}]
[null,null,null,null,null,null,null,null,null,null,null,null,null,null,null,null,null,null,null,null,null,null,null,null,null,null,null,null,null,null,null,null,null,null,null,null,null,null,null,null,null,null,null,null,null,null,null,null,null,null,null,null,null,null,null,null,null,null,null,null,null,null,null,null,null,null,null,null,null,null,null,null,null,{"$f":"EJ21","v":"Straight"},{"$f":"EK21","v":{"$error":"#N/A"}},{"$f":"EL21","v":{"$error":"#N/A"}},{"$f":"EM21","v":{"$error":"#N/A"}},{"$f":"EN21","v":{"$error":"#N/A"}},{"$f":"EO21","v":{"$error":"#N/A"}},{"$f":"EP21","v":{"$error":"#N/A"}},{"$f":"EQ21","v":{"$error":"#N/A"}},{"$f":"ER21","v":{"$error":"#N/A"}},{"$f":"ES21","v":{"$error":"#N/A"}}]
[null,null,null,null,null,null,null,null,null,null,null,null,null,null,null,null,null,null,null,null,null,null,null,null,null,null,null,null,null,null,null,null,null,null,null,null,null,null,null,null,null,null,null,null,null,null,null,null,null,null,null,null,null,null,null,null,null,null,null,null,null,null,null,null,null,null,null,null,null,null,null,null,null,{"$f":"EU21","v":"Three of a Kind"},{"$f":"EV21","v":{"$error":"#N/A"}},{"$f":"EW21","v":0},{"$f":"EX21","v":{"$error":"#N/A"}},{"$f":"EY21","v":{"$error":"#N/A"}},{"$f":"EZ21","v":0},{"$f":"FA21","v":{"$error":"#N/A"}},{"$f":"FB21","v":{"$error":"#N/A"}},{"$f":"FC21","v":0},{"$f":"FD21","v":{"$error":"#N/A"}}]
[null,null,null,null,null,null,null,null,null,null,null,null,null,null,null,null,null,null,null,null,null,null,null,null,null,null,null,null,null,null,null,null,null,null,null,null,null,null,null,null,null,null,null,null,null,null,null,null,null,null,null,null,null,null,null,null,null,null,null,null,null,null,null,null,null,null,null,null,null,null,null,null,null,{"$f":"FF21","v":"Two Pair"},{"$f":"FG21","v":{"$error":"#N/A"}},{"$f":"FH21","v":0},{"$f":"FI21","v":{"$error":"#N/A"}},{"$f":"FJ21","v":{"$error":"#N/A"}},{"$f":"FK21","v":0},{"$f":"FL21","v":{"$error":"#N/A"}},{"$f":"FM21","v":{"$error":"#N/A"}},{"$f":"FN21","v":0},{"$f":"FO21","v":{"$error":"#N/A"}}]
[null,null,null,null,null,null,null,null,null,null,null,null,null,null,null,null,null,null,null,null,null,null,null,null,null,null,null,null,null,null,null,null,null,null,null,null,null,null,null,null,null,null,null,null,null,null,null,null,null,null,null,null,null,null,null,null,null,null,null,null,null,null,null,null,null,null,null,null,null,null,null,null,null,{"$f":"FQ21","v":"One Pair"},{"$f":"FR21","v":{"$error":"#N/A"}},{"$f":"FS21","v":0},{"$f":"FT21","v":{"$error":"#N/A"}},{"$f":"FU21","v":{"$error":"#N/A"}},{"$f":"FV21","v":0},{"$f":"FW21","v":{"$error":"#N/A"}},{"$f":"FX21","v":{"$error":"#N/A"}},{"$f":"FY21","v":0},{"$f":"FZ21","v":{"$error":"#N/A"}}]
[null,null,null,null,null,null,null,null,null,null,null,null,null,null,null,null,null,null,null,null,null,null,null,null,null,null,null,null,null,null,null,null,null,null,null,null,null,null,null,null,null,null,null,null,null,null,null,null,null,null,null,null,null,null,null,null,null,null,null,null,null,null,null,null,null,null,null,null,null,null,null,null,null,{"$f":"GB21","v":"High Card"},{"$f":"GC21","v":{"$error":"#N/A"}},{"$f":"GD21","v":0},{"$f":"GE21","v":{"$error":"#N/A"}},{"$f":"GF21","v":{"$error":"#N/A"}},{"$f":"GG21","v":0},{"$f":"GH21","v":{"$error":"#N/A"}},{"$f":"GI21","v":{"$error":"#N/A"}},{"$f":"GJ21","v":0},{"$f":"GK21","v":{"$error":"#N/A"}}]
[null,null,null,null,null,null,null,null,null,null,null,null,null,null,null,null,null,null,null,null,null,null,null,null,null,null,null,null,null,null,null,"5-card Probability"]
[null,null,null,null,null,null,null,null,null,null,null,null,null,null,null,null,null,null,null,null,null,null,null,null,null,null,null,null,null,null,"Royal Flush",{"$f":"(COMBIN(4,1)*FACT(5))/(52*51*50*49*48)","v":1.5390771693292702E-6},"4 suits, fact(5) possible sequence",null,null,null,null,null,null,null,null,null,null,null,null,null,null,null,null,null,null,null,null,null,null,null,null,null,null,null,null,null,null,null,null,null,null,null,null,null,null,null,19,{"$f":"CG22","v":"Royal Flush"},{"$f":"CH22","v":{"$error":"#N/A"}},{"$f":"CI22","v":{"$error":"#N/A"}},{"$f":"CJ22","v":{"$error":"#N/A"}},{"$f":"CK22","v":{"$error":"#N/A"}},{"$f":"CL22","v":{"$error":"#N/A"}},{"$f":"CM22","v":{"$error":"#N/A"}},{"$f":"CN22","v":{"$error":"#N/A"}},{"$f":"CO22","v":{"$error":"#N/A"}},{"$f":"CP22","v":{"$error":"#N/A"}}]
[null,null,null,null,null,null,null,null,null,null,null,null,null,null,null,null,null,null,null,null,null,null,null,null,null,null,null,null,null,null,"Straight Flush",{"$f":"(COMBIN(4,1)*COMBIN(9,1)*FACT(5))/(52*51*50*49*48)","v":1.3851694523963431E-5},"4 suits, 9 kinds of straight flush, fact(5) possible sequence",null,null,null,null,null,null,null,null,null,null,null,null,null,null,null,null,null,null,null,null,null,null,null,null,null,null,null,null,null,null,null,null,null,null,null,null,null,null,null,null,{"$f":"CR22","v":"Straight Flush"},{"$f":"CS22","v":{"$error":"#N/A"}},{"$f":"CT22","v":{"$error":"#N/A"}},{"$f":"CU22","v":{"$error":"#N/A"}},{"$f":"CV22","v":{"$error":"#N/A"}},{"$f":"CW22","v":{"$error":"#N/A"}},{"$f":"CX22","v":{"$error":"#N/A"}},{"$f":"CY22","v":{"$error":"#N/A"}},{"$f":"CZ22","v":{"$error":"#N/A"}},{"$f":"DA22","v":{"$error":"#N/A"}}]
[null,null,null,null,null,null,null,null,null,null,null,null,null,null,null,null,null,null,null,null,null,null,null,null,null,null,null,null,null,null,"Four of a Kind",{"$f":"(COMBIN(13,1)*COMBIN(52-4,1)*FACT(5))/(52*51*50*49*48)","v":2.4009603841536616E-4},"13 possible numbers, 48 possible cards for the only non-four-of-a-kind card, fact(5) possible sequence",null,null,null,null,null,null,null,null,null,null,null,null,null,null,null,null,null,null,null,null,null,null,null,null,null,null,null,null,null,null,null,null,null,null,null,null,null,null,null,null,{"$f":"DC22","v":"Four of a Kind"},{"$f":"DD22","v":{"$error":"#N/A"}},{"$f":"DE22","v":0},{"$f":"DF22","v":{"$error":"#N/A"}},{"$f":"DG22","v":{"$error":"#N/A"}},{"$f":"DH22","v":0},{"$f":"DI22","v":{"$error":"#N/A"}},{"$f":"DJ22","v":{"$error":"#N/A"}},{"$f":"DK22","v":0},{"$f":"DL22","v":{"$error":"#N/A"}}]
[null,null,null,null,null,null,null,null,null,null,null,null,null,null,null,null,null,null,null,null,null,null,null,null,null,null,null,null,null,null,"Full House",{"$f":"(COMBIN(13,1)*COMBIN(12,1)*COMBIN(4,3)*COMBIN(4,2)*FACT(5))/(52*51*50*49*48)","v":1.4405762304921968E-3},"13 possible numbers for the three-of-a-kind, 12 possible numbers for the two-of-a-kind, 4 choose 3 for the three-of-a-kind, 4 choose 2 for the two-of-a-kind, fact(5) possible sequence",null,null,null,null,null,null,null,null,null,null,null,null,null,null,null,null,null,null,null,null,null,null,null,null,null,null,null,null,null,null,null,null,null,null,null,null,null,null,null,null,{"$f":"DN22","v":"Full House"},{"$f":"DO22","v":{"$error":"#N/A"}},{"$f":"DP22","v":0},{"$f":"DQ22","v":{"$error":"#N/A"}},{"$f":"DR22","v":{"$error":"#N/A"}},{"$f":"DS22","v":0},{"$f":"DT22","v":{"$error":"#N/A"}},{"$f":"DU22","v":{"$error":"#N/A"}},{"$f":"DV22","v":0},{"$f":"DW22","v":{"$error":"#N/A"}}]
[null,null,null,null,null,null,null,null,null,null,null,null,null,null,null,null,null,null,null,null,null,null,null,null,null,null,null,null,null,null,"Flush",{"$f":"(COMBIN(4,1)*(COMBIN(13,5)-10)*FACT(5))/(52*51*50*49*48)","v":1.965401545233478E-3},"4 possible suits, all possible combinations of the same suit cards, i.e., 13 choose 5, minus 9 kinds of straight flush and 1 kind of royal flush, fact(5) possible sequence",null,null,null,null,null,null,null,null,null,null,null,null,null,null,null,null,null,null,null,null,null,null,null,null,null,null,null,null,null,null,null,null,null,null,null,null,null,null,null,null,{"$f":"DY22","v":"Flush"},{"$f":"DZ22","v":{"$error":"#N/A"}},{"$f":"EA22","v":0},{"$f":"EB22","v":{"$error":"#N/A"}},{"$f":"EC22","v":{"$error":"#N/A"}},{"$f":"ED22","v":0},{"$f":"EE22","v":{"$error":"#N/A"}},{"$f":"EF22","v":{"$error":"#N/A"}},{"$f":"EG22","v":0},{"$f":"EH22","v":{"$error":"#N/A"}}]
[null,null,null,null,null,null,null,null,null,null,null,null,null,null,null,null,null,null,null,null,null,null,null,null,null,null,null,null,null,null,"Straight",{"$f":"(10*4^5*FACT(5)-10*4)/(52*51*50*49*48)","v":3.9399092970521538E-3},"10 possible ways of straight cards, each of the five cards can be four possible suits, fact(5) possible sequence, all of which minus the 10 possible ways of straight card times four possible suits",null,null,null,null,null,null,null,null,null,null,null,null,null,null,null,null,null,null,null,null,null,null,null,null,null,null,null,null,null,null,null,null,null,null,null,null,null,null,null,null,{"$f":"EJ22","v":"Straight"},{"$f":"EK22","v":{"$error":"#N/A"}},{"$f":"EL22","v":{"$error":"#N/A"}},{"$f":"EM22","v":{"$error":"#N/A"}},{"$f":"EN22","v":{"$error":"#N/A"}},{"$f":"EO22","v":{"$error":"#N/A"}},{"$f":"EP22","v":{"$error":"#N/A"}},{"$f":"EQ22","v":{"$error":"#N/A"}},{"$f":"ER22","v":{"$error":"#N/A"}},{"$f":"ES22","v":{"$error":"#N/A"}}]
[null,null,null,null,null,null,null,null,null,null,null,null,null,null,null,null,null,null,null,null,null,null,null,null,null,null,null,null,null,null,"Three of a Kind",{"$f":"(COMBIN(13,1)*COMBIN(4,1)*COMBIN(12,2)*COMBIN(4,1)*COMBIN(4,1)*FACT(5))/(52*51*50*49*48)","v":2.1128451380552221E-2},"13 possible numbers for the three-of-a-kind, 4 choose 3 for the three-of-a-kind, 12 choose 2 possible numbers for the other two different numbers, 4 possible suits for the second number, 4 possible suits for the third number, fact(5) possible sequence",null,null,null,null,null,null,null,null,null,null,null,null,null,null,null,null,null,null,null,null,null,null,null,null,null,null,null,null,null,null,null,null,null,null,null,null,null,null,null,null,{"$f":"EU22","v":"Three of a Kind"},{"$f":"EV22","v":{"$error":"#N/A"}},{"$f":"EW22","v":0},{"$f":"EX22","v":{"$error":"#N/A"}},{"$f":"EY22","v":{"$error":"#N/A"}},{"$f":"EZ22","v":0},{"$f":"FA22","v":{"$error":"#N/A"}},{"$f":"FB22","v":{"$error":"#N/A"}},{"$f":"FC22","v":0},{"$f":"FD22","v":{"$error":"#N/A"}}]
[null,null,null,null,null,null,null,null,null,null,null,null,null,null,null,null,null,null,null,null,null,null,null,null,null,null,null,null,null,null,"Two Pair",{"$f":"(COMBIN(13,2)*COMBIN(4,2)*COMBIN(4,2)*COMBIN(11,1)*COMBIN(4,1)*FACT(5))/(52*51*50*49*48)","v":4.7539015606242498E-2},"13 choose 2 for the two pairs, for each of the two pair, 4 choose 2, 11 choose 1 for the last card, which has 4 possible suits, fact(5) possible sequence",null,null,null,null,null,null,null,null,null,null,null,null,null,null,null,null,null,null,null,null,null,null,null,null,null,null,null,null,null,null,null,null,null,null,null,null,null,null,null,null,{"$f":"FF22","v":"Two Pair"},{"$f":"FG22","v":{"$error":"#N/A"}},{"$f":"FH22","v":0},{"$f":"FI22","v":{"$error":"#N/A"}},{"$f":"FJ22","v":{"$error":"#N/A"}},{"$f":"FK22","v":0},{"$f":"FL22","v":{"$error":"#N/A"}},{"$f":"FM22","v":{"$error":"#N/A"}},{"$f":"FN22","v":0},{"$f":"FO22","v":{"$error":"#N/A"}}]
[null,null,null,null,null,null,null,null,null,null,null,null,null,null,null,null,null,null,null,null,null,null,null,null,null,null,null,null,null,null,"One Pair",{"$f":"(COMBIN(13,1)*COMBIN(4,2)*COMBIN(12,3)*COMBIN(4,1)*COMBIN(4,1)*COMBIN(4,1)*FACT(5))/(52*51*50*49*48)","v":0.42256902761104442},"13 choose 1 for the one pair, 4 choose 1 suit, 12 choose 3 for the other three cards, each has 4 possible suits, fact(5) possible sequence",null,null,null,null,null,null,null,null,null,null,null,null,null,null,null,null,null,null,null,null,null,null,null,null,null,null,null,null,null,null,null,null,null,null,null,null,null,null,null,null,{"$f":"FQ22","v":"One Pair"},{"$f":"FR22","v":{"$error":"#N/A"}},{"$f":"FS22","v":0},{"$f":"FT22","v":{"$error":"#N/A"}},{"$f":"FU22","v":{"$error":"#N/A"}},{"$f":"FV22","v":0},{"$f":"FW22","v":{"$error":"#N/A"}},{"$f":"FX22","v":{"$error":"#N/A"}},{"$f":"FY22","v":0},{"$f":"FZ22","v":{"$error":"#N/A"}}]
[null,null,null,null,null,null,null,null,null,null,null,null,null,null,null,null,null,null,null,null,null,null,null,null,null,null,null,null,null,null,"High Card/Fold",{"$f":"(COMBIN(13,5)*COMBIN(4,1)*COMBIN(4,1)*COMBIN(4,1)*COMBIN(4,1)*COMBIN(4,1)*FACT(5))/(52*51*50*49*48)","v":0.50708283313325331},"13 choose 5, for each car, 4 choose 1 suit, fact(5) possible sequence",null,null,null,null,null,null,null,null,null,null,null,null,null,null,null,null,null,null,null,null,null,null,null,null,null,null,null,null,null,null,null,null,null,null,null,null,null,null,null,null,{"$f":"GB22","v":"High Card"},{"$f":"GC22","v":{"$error":"#N/A"}},{"$f":"GD22","v":0},{"$f":"GE22","v":{"$error":"#N/A"}},{"$f":"GF22","v":{"$error":"#N/A"}},{"$f":"GG22","v":0},{"$f":"GH22","v":{"$error":"#N/A"}},{"$f":"GI22","v":{"$error":"#N/A"}},{"$f":"GJ22","v":0},{"$f":"GK22","v":{"$error":"#N/A"}}]
[]
[null,null,null,null,null,null,null,null,null,null,null,null,null,null,null,null,null,null,null,null,null,null,null,null,null,null,null,null,null,null,null,null,null,null,null,null,null,null,null,null,null,null,null,null,null,null,null,null,null,null,null,null,null,null,null,null,null,null,null,null,null,null,null,null,null,null,null,null,null,null,null,null,20,{"$f":"CG23","v":"Royal Flush"},{"$f":"CH23","v":{"$error":"#N/A"}},{"$f":"CI23","v":{"$error":"#N/A"}},{"$f":"CJ23","v":{"$error":"#N/A"}},{"$f":"CK23","v":{"$error":"#N/A"}},{"$f":"CL23","v":{"$error":"#N/A"}},{"$f":"CM23","v":{"$error":"#N/A"}},{"$f":"CN23","v":{"$error":"#N/A"}},{"$f":"CO23","v":{"$error":"#N/A"}},{"$f":"CP23","v":{"$error":"#N/A"}}]
[null,null,null,null,null,null,null,null,null,null,null,null,null,null,null,null,null,null,null,null,null,null,null,null,null,null,null,null,null,null,null,null,null,null,null,null,null,null,null,null,null,null,null,null,null,null,null,null,null,null,null,null,null,null,null,null,null,null,null,null,null,null,null,null,null,null,null,null,null,null,null,null,null,{"$f":"CR23","v":"Straight Flush"},{"$f":"CS23","v":{"$error":"#N/A"}},{"$f":"CT23","v":{"$error":"#N/A"}},{"$f":"CU23","v":{"$error":"#N/A"}},{"$f":"CV23","v":{"$error":"#N/A"}},{"$f":"CW23","v":{"$error":"#N/A"}},{"$f":"CX23","v":{"$error":"#N/A"}},{"$f":"CY23","v":{"$error":"#N/A"}},{"$f":"CZ23","v":{"$error":"#N/A"}},{"$f":"DA23","v":{"$error":"#N/A"}}]
[null,null,null,null,null,null,null,null,null,null,null,null,null,null,null,null,null,null,null,null,null,null,null,null,null,null,null,null,null,null,null,null,null,null,null,null,null,null,null,null,null,null,null,null,null,null,null,null,null,null,null,null,null,null,null,null,null,null,null,null,null,null,null,null,null,null,null,null,null,null,null,null,null,{"$f":"DC23","v":"Four of a Kind"},{"$f":"DD23","v":{"$error":"#N/A"}},{"$f":"DE23","v":0},{"$f":"DF23","v":{"$error":"#N/A"}},{"$f":"DG23","v":{"$error":"#N/A"}},{"$f":"DH23","v":0},{"$f":"DI23","v":{"$error":"#N/A"}},{"$f":"DJ23","v":{"$error":"#N/A"}},{"$f":"DK23","v":0},{"$f":"DL23","v":{"$error":"#N/A"}}]
[null,null,null,null,null,null,null,null,null,null,null,null,null,null,null,null,null,null,null,null,null,null,null,null,null,null,null,null,null,null,null,null,null,null,null,null,null,null,null,null,null,null,null,null,null,null,null,null,null,null,null,null,null,null,null,null,null,null,null,null,null,null,null,null,null,null,null,null,null,null,null,null,null,{"$f":"DN23","v":"Full House"},{"$f":"DO23","v":{"$error":"#N/A"}},{"$f":"DP23","v":0},{"$f":"DQ23","v":{"$error":"#N/A"}},{"$f":"DR23","v":{"$error":"#N/A"}},{"$f":"DS23","v":0},{"$f":"DT23","v":{"$error":"#N/A"}},{"$f":"DU23","v":{"$error":"#N/A"}},{"$f":"DV23","v":0},{"$f":"DW23","v":{"$error":"#N/A"}}]
[null,null,null,null,null,null,null,null,null,null,null,null,null,null,null,null,null,null,null,null,null,null,null,null,null,null,null,null,null,null,null,null,null,null,null,null,null,null,null,null,null,null,null,null,null,null,null,null,null,null,null,null,null,null,null,null,null,null,null,null,null,null,null,null,null,null,null,null,null,null,null,null,null,{"$f":"DY23","v":"Flush"},{"$f":"DZ23","v":{"$error":"#N/A"}},{"$f":"EA23","v":0},{"$f":"EB23","v":{"$error":"#N/A"}},{"$f":"EC23","v":{"$error":"#N/A"}},{"$f":"ED23","v":0},{"$f":"EE23","v":{"$error":"#N/A"}},{"$f":"EF23","v":{"$error":"#N/A"}},{"$f":"EG23","v":0},{"$f":"EH23","v":{"$error":"#N/A"}}]
[null,null,null,null,null,null,null,null,null,null,null,null,null,null,null,null,null,null,null,null,null,null,null,null,null,null,null,null,null,null,null,null,null,null,null,null,null,null,null,null,null,null,null,null,null,null,null,null,null,null,null,null,null,null,null,null,null,null,null,null,null,null,null,null,null,null,null,null,null,null,null,null,null,{"$f":"EJ23","v":"Straight"},{"$f":"EK23","v":{"$error":"#N/A"}},{"$f":"EL23","v":{"$error":"#N/A"}},{"$f":"EM23","v":{"$error":"#N/A"}},{"$f":"EN23","v":{"$error":"#N/A"}},{"$f":"EO23","v":{"$error":"#N/A"}},{"$f":"EP23","v":{"$error":"#N/A"}},{"$f":"EQ23","v":{"$error":"#N/A"}},{"$f":"ER23","v":{"$error":"#N/A"}},{"$f":"ES23","v":{"$error":"#N/A"}}]
[null,null,null,null,null,null,null,null,null,null,null,null,null,null,null,null,null,null,null,null,null,null,null,null,null,null,null,null,null,null,null,null,null,null,null,null,null,null,null,null,null,null,null,null,null,null,null,null,null,null,null,null,null,null,null,null,null,null,null,null,null,null,null,null,null,null,null,null,null,null,null,null,null,{"$f":"EU23","v":"Three of a Kind"},{"$f":"EV23","v":{"$error":"#N/A"}},{"$f":"EW23","v":0},{"$f":"EX23","v":{"$error":"#N/A"}},{"$f":"EY23","v":{"$error":"#N/A"}},{"$f":"EZ23","v":0},{"$f":"FA23","v":{"$error":"#N/A"}},{"$f":"FB23","v":{"$error":"#N/A"}},{"$f":"FC23","v":0},{"$f":"FD23","v":{"$error":"#N/A"}}]
[null,null,null,null,null,null,null,null,null,null,null,null,null,null,null,null,null,null,null,null,null,null,null,null,null,null,null,null,null,null,null,null,null,null,null,null,null,null,null,null,null,null,null,null,null,null,null,null,null,null,null,null,null,null,null,null,null,null,null,null,null,null,null,null,null,null,null,null,null,null,null,null,null,{"$f":"FF23","v":"Two Pair"},{"$f":"FG23","v":{"$error":"#N/A"}},{"$f":"FH23","v":0},{"$f":"FI23","v":{"$error":"#N/A"}},{"$f":"FJ23","v":{"$error":"#N/A"}},{"$f":"FK23","v":0},{"$f":"FL23","v":{"$error":"#N/A"}},{"$f":"FM23","v":{"$error":"#N/A"}},{"$f":"FN23","v":0},{"$f":"FO23","v":{"$error":"#N/A"}}]
[null,null,null,null,null,null,null,null,null,null,null,null,null,null,null,null,null,null,null,null,null,null,null,null,null,null,null,null,null,null,null,null,null,null,null,null,null,null,null,null,null,null,null,null,null,null,null,null,null,null,null,null,null,null,null,null,null,null,null,null,null,null,null,null,null,null,null,null,null,null,null,null,null,{"$f":"FQ23","v":"One Pair"},{"$f":"FR23","v":{"$error":"#N/A"}},{"$f":"FS23","v":0},{"$f":"FT23","v":{"$error":"#N/A"}},{"$f":"FU23","v":{"$error":"#N/A"}},{"$f":"FV23","v":0},{"$f":"FW23","v":{"$error":"#N/A"}},{"$f":"FX23","v":{"$error":"#N/A"}},{"$f":"FY23","v":0},{"$f":"FZ23","v":{"$error":"#N/A"}}]
[null,null,null,null,null,null,null,null,null,null,null,null,null,null,null,null,null,null,null,null,null,null,null,null,null,null,null,null,null,null,null,null,null,null,null,null,null,null,null,null,null,null,null,null,null,null,null,null,null,null,null,null,null,null,null,null,null,null,null,null,null,null,null,null,null,null,null,null,null,null,null,null,null,{"$f":"GB23","v":"High Card"},{"$f":"GC23","v":{"$error":"#N/A"}},{"$f":"GD23","v":0},{"$f":"GE23","v":{"$error":"#N/A"}},{"$f":"GF23","v":{"$error":"#N/A"}},{"$f":"GG23","v":0},{"$f":"GH23","v":{"$error":"#N/A"}},{"$f":"GI23","v":{"$error":"#N/A"}},{"$f":"GJ23","v":0},{"$f":"GK23","v":{"$error":"#N/A"}}]
[]
[null,null,null,null,null,null,null,null,null,null,null,null,null,null,null,null,null,null,null,null,null,null,null,null,null,null,null,null,null,null,null,null,null,null,null,null,null,null,null,null,null,null,null,null,null,null,null,null,null,null,null,null,null,null,null,null,null,null,null,null,null,null,null,null,null,null,null,null,null,null,null,null,21,{"$f":"CG24","v":"Royal Flush"},{"$f":"CH24","v":{"$error":"#N/A"}},{"$f":"CI24","v":{"$error":"#N/A"}},{"$f":"CJ24","v":{"$error":"#N/A"}},{"$f":"CK24","v":{"$error":"#N/A"}},{"$f":"CL24","v":{"$error":"#N/A"}},{"$f":"CM24","v":{"$error":"#N/A"}},{"$f":"CN24","v":{"$error":"#N/A"}},{"$f":"CO24","v":{"$error":"#N/A"}},{"$f":"CP24","v":{"$error":"#N/A"}}]
[null,null,null,null,null,null,null,null,null,null,null,null,null,null,null,null,null,null,null,null,null,null,null,null,null,null,null,null,null,null,null,null,null,null,null,null,null,null,null,null,null,null,null,null,null,null,null,null,null,null,null,null,null,null,null,null,null,null,null,null,null,null,null,null,null,null,null,null,null,null,null,null,null,{"$f":"CR24","v":"Straight Flush"},{"$f":"CS24","v":{"$error":"#N/A"}},{"$f":"CT24","v":{"$error":"#N/A"}},{"$f":"CU24","v":{"$error":"#N/A"}},{"$f":"CV24","v":{"$error":"#N/A"}},{"$f":"CW24","v":{"$error":"#N/A"}},{"$f":"CX24","v":{"$error":"#N/A"}},{"$f":"CY24","v":{"$error":"#N/A"}},{"$f":"CZ24","v":{"$error":"#N/A"}},{"$f":"DA24","v":{"$error":"#N/A"}}]
[null,null,null,null,null,null,null,null,null,null,null,null,null,null,null,null,null,null,null,null,null,null,null,null,null,null,null,null,null,null,null,null,null,null,null,null,null,null,null,null,null,null,null,null,null,null,null,null,null,null,null,null,null,null,null,null,null,null,null,null,null,null,null,null,null,null,null,null,null,null,null,null,null,{"$f":"DC24","v":"Four of a Kind"},{"$f":"DD24","v":{"$error":"#N/A"}},{"$f":"DE24","v":0},{"$f":"DF24","v":{"$error":"#N/A"}},{"$f":"DG24","v":{"$error":"#N/A"}},{"$f":"DH24","v":0},{"$f":"DI24","v":{"$error":"#N/A"}},{"$f":"DJ24","v":{"$error":"#N/A"}},{"$f":"DK24","v":0},{"$f":"DL24","v":{"$error":"#N/A"}}]
[null,null,null,null,null,null,null,null,null,null,null,null,null,null,null,null,null,null,null,null,null,null,null,null,null,null,null,null,null,null,null,null,null,null,null,null,null,null,null,null,null,null,null,null,null,null,null,null,null,null,null,null,null,null,null,null,null,null,null,null,null,null,null,null,null,null,null,null,null,null,null,null,null,{"$f":"DN24","v":"Full House"},{"$f":"DO24","v":{"$error":"#N/A"}},{"$f":"DP24","v":0},{"$f":"DQ24","v":{"$error":"#N/A"}},{"$f":"DR24","v":{"$error":"#N/A"}},{"$f":"DS24","v":0},{"$f":"DT24","v":{"$error":"#N/A"}},{"$f":"DU24","v":{"$error":"#N/A"}},{"$f":"DV24","v":0},{"$f":"DW24","v":{"$error":"#N/A"}}]
[null,null,null,null,null,null,null,null,null,null,null,null,null,null,null,null,null,null,null,null,null,null,null,null,null,null,null,null,null,null,null,null,null,null,null,null,null,null,null,null,null,null,null,null,null,null,null,null,null,null,null,null,null,null,null,null,null,null,null,null,null,null,null,null,null,null,null,null,null,null,null,null,null,{"$f":"DY24","v":"Flush"},{"$f":"DZ24","v":{"$error":"#N/A"}},{"$f":"EA24","v":0},{"$f":"EB24","v":{"$error":"#N/A"}},{"$f":"EC24","v":{"$error":"#N/A"}},{"$f":"ED24","v":0},{"$f":"EE24","v":{"$error":"#N/A"}},{"$f":"EF24","v":{"$error":"#N/A"}},{"$f":"EG24","v":0},{"$f":"EH24","v":{"$error":"#N/A"}}]
[null,null,null,null,null,null,null,null,null,null,null,null,null,null,null,null,null,null,null,null,null,null,null,null,null,null,null,null,null,null,null,null,null,null,null,null,null,null,null,null,null,null,null,null,null,null,null,null,null,null,null,null,null,null,null,null,null,null,null,null,null,null,null,null,null,null,null,null,null,null,null,null,null,{"$f":"EJ24","v":"Straight"},{"$f":"EK24","v":{"$error":"#N/A"}},{"$f":"EL24","v":{"$error":"#N/A"}},{"$f":"EM24","v":{"$error":"#N/A"}},{"$f":"EN24","v":{"$error":"#N/A"}},{"$f":"EO24","v":{"$error":"#N/A"}},{"$f":"EP24","v":{"$error":"#N/A"}},{"$f":"EQ24","v":{"$error":"#N/A"}},{"$f":"ER24","v":{"$error":"#N/A"}},{"$f":"ES24","v":{"$error":"#N/A"}}]
[null,null,null,null,null,null,null,null,null,null,null,null,null,null,null,null,null,null,null,null,null,null,null,null,null,null,null,null,null,null,null,null,null,null,null,null,null,null,null,null,null,null,null,null,null,null,null,null,null,null,null,null,null,null,null,null,null,null,null,null,null,null,null,null,null,null,null,null,null,null,null,null,null,{"$f":"EU24","v":"Three of a Kind"},{"$f":"EV24","v":{"$error":"#N/A"}},{"$f":"EW24","v":0},{"$f":"EX24","v":{"$error":"#N/A"}},{"$f":"EY24","v":{"$error":"#N/A"}},{"$f":"EZ24","v":0},{"$f":"FA24","v":{"$error":"#N/A"}},{"$f":"FB24","v":{"$error":"#N/A"}},{"$f":"FC24","v":0},{"$f":"FD24","v":{"$error":"#N/A"}}]
[null,null,null,null,null,null,null,null,null,null,null,null,null,null,null,null,null,null,null,null,null,null,null,null,null,null,null,null,null,null,null,null,null,null,null,null,null,null,null,null,null,null,null,null,null,null,null,null,null,null,null,null,null,null,null,null,null,null,null,null,null,null,null,null,null,null,null,null,null,null,null,null,null,{"$f":"FF24","v":"Two Pair"},{"$f":"FG24","v":{"$error":"#N/A"}},{"$f":"FH24","v":0},{"$f":"FI24","v":{"$error":"#N/A"}},{"$f":"FJ24","v":{"$error":"#N/A"}},{"$f":"FK24","v":0},{"$f":"FL24","v":{"$error":"#N/A"}},{"$f":"FM24","v":{"$error":"#N/A"}},{"$f":"FN24","v":0},{"$f":"FO24","v":{"$error":"#N/A"}}]
[null,null,null,null,null,null,null,null,null,null,null,null,null,null,null,null,null,null,null,null,null,null,null,null,null,null,null,null,null,null,null,null,null,null,null,null,null,null,null,null,null,null,null,null,null,null,null,null,null,null,null,null,null,null,null,null,null,null,null,null,null,null,null,null,null,null,null,null,null,null,null,null,null,{"$f":"FQ24","v":"One Pair"},{"$f":"FR24","v":{"$error":"#N/A"}},{"$f":"FS24","v":0},{"$f":"FT24","v":{"$error":"#N/A"}},{"$f":"FU24","v":{"$error":"#N/A"}},{"$f":"FV24","v":0},{"$f":"FW24","v":{"$error":"#N/A"}},{"$f":"FX24","v":{"$error":"#N/A"}},{"$f":"FY24","v":0},{"$f":"FZ24","v":{"$error":"#N/A"}}]
[null,null,null,null,null,null,null,null,null,null,null,null,null,null,null,null,null,null,null,null,null,null,null,null,null,null,null,null,null,null,null,null,null,null,null,null,null,null,null,null,null,null,null,null,null,null,null,null,null,null,null,null,null,null,null,null,null,null,null,null,null,null,null,null,null,null,null,null,null,null,null,null,null,{"$f":"GB24","v":"High Card"},{"$f":"GC24","v":{"$error":"#N/A"}},{"$f":"GD24","v":0},{"$f":"GE24","v":{"$error":"#N/A"}},{"$f":"GF24","v":{"$error":"#N/A"}},{"$f":"GG24","v":0},{"$f":"GH24","v":{"$error":"#N/A"}},{"$f":"GI24","v":{"$error":"#N/A"}},{"$f":"GJ24","v":0},{"$f":"GK24","v":{"$error":"#N/A"}}]

{"sheet":"Chart","index":5,"n_rows":293,"n_cols":200,"rows_kept":293,"cut":false,"hidden":true,"merged":[]}
[1,"♠A",0.73341416010965332,{"$f":"IF(OR($AC$2=B1,$AD$2=B1),1,RANK(C1,$C$1:$C$52))","v":14},"S",1,{"$f":"LARGE($D$1:$D$52,1)","v":52},null,{"$f":"Player11","v":0},{"$f":"Player12","v":0},{"$f":"IF(ISBLANK(House1),INDEX($B$1:$B$52,MATCH(G1,$D$1:$D$52,0)), House1)","v":"♣4"},{"$f":"IF(ISBLANK(House2),INDEX($B$1:$B$52,MATCH(G2,$D$1:$D$52,0)),House2)","v":"♠10"},{"$f":"IF(ISBLANK(House3),INDEX($B$1:$B$52,MATCH(G3,$D$1:$D$52,0)),House3)","v":"♣J"},{"$f":"IF(ISBLANK(House4),INDEX($B$1:$B$52,MATCH(G4,$D$1:$D$52,0)),House4)","v":"♣Q"},{"$f":"IF(ISBLANK(House5),INDEX($B$1:$B$52,MATCH(G5,$D$1:$D$52,0)),House5)","v":"♥3"},null,null,null,null,null,null,null,null,null,null,null,null,null,{"$f":"RANK(AC8,$AC$8:$AG$8,1)","v":{"$error":"#N/A"}},{"$f":"RANK(AD8,$AC$8:$AG$8,1)","v":{"$error":"#N/A"}},{"$error":"#N/A"},{"$error":"#N/A"},{"$error":"#N/A"},null,null,null,null,null,null,null,null,null,null,null,null,null,null,null,null,null,null,null,"Player",null,null,null,null,null,null,null,null,null,null,null,null,null,null,null,null,null,"Match?"]
[2,"♠2",0.58815133882512671,27,"S",2,{"$f":"LARGE($D$1:$D$52,2)","v":51},1,{"$f":"IF(I3=13,\"king\",IF(I3=12,\"queen\",IF(I3=11,\"jack\",IF(I3=1,\"ace\",I3))))","v":{"$error":"#N/A"}},{"$f":"IF(J3=13,\"king\",IF(J3=12,\"queen\",IF(J3=11,\"jack\",IF(J3=1,\"ace\",J3))))","v":{"$error":"#N/A"}},4,10,"jack","queen",3,null,null,null,null,null,null,null,null,null,null,null,null,null,{"$f":"[0]!Player11","v":0},{"$f":"[0]!Player12","v":0},{"$f":"$K$1","v":"♣4"},{"$f":"$L$1","v":"♠10"},{"$f":"$M$1","v":"♣J"},null,null,null,null,null,null,null,null,null,null,null,null,null,null,null,null,null,null,null,null,null,null,null,null,null,null,null,null,null,null,null,null,null,null,null,"Robot1"]
[3,"♠3",0.27801355514860016,43,"S",3,{"$f":"LARGE($D$1:$D$52,3)","v":50},null,{"$f":"VLOOKUP(I1,$B$1:$F$52,5,0)","v":{"$error":"#N/A"}},{"$error":"#N/A"},4,10,11,12,3,null,null,null,null,null,null,null,null,null,null,null,null,null,{"$f":"VLOOKUP(AC2,$B$1:$F$52,5,0)","v":{"$error":"#N/A"}},{"$f":"VLOOKUP(AD2,$B$1:$F$52,5,0)","v":{"$error":"#N/A"}},{"$f":"VLOOKUP(AE2,$B$1:$F$52,5,0)","v":4},{"$f":"VLOOKUP(AF2,$B$1:$F$52,5,0)","v":10},{"$f":"VLOOKUP(AG2,$B$1:$F$52,5,0)","v":11},null,null,null,null,null,null,null,null,null,null,null,null,null,null,null,null,null,null,null,null,null,null,null,null,null,null,null,null,null,null,null,null,null,null,null,"Number","Suit","Total"]
[4,"♠4",0.75823807685556965,13,"S",4,{"$f":"LARGE($D$1:$D$52,4)","v":49},null,{"$f":"VLOOKUP(I1,$B$1:$F$52,4,0)","v":{"$error":"#N/A"}},{"$error":"#N/A"},"C","S","C","C","H",null,null,null,null,null,null,null,null,null,null,null,null,null,{"$f":"VLOOKUP(AC2,$B$1:$F$52,4,0)","v":{"$error":"#N/A"}},{"$f":"VLOOKUP(AD2,$B$1:$F$52,4,0)","v":{"$error":"#N/A"}},{"$f":"VLOOKUP(AE2,$B$1:$F$52,4,0)","v":"C"},{"$f":"VLOOKUP(AF2,$B$1:$F$52,4,0)","v":"S"},{"$f":"VLOOKUP(AG2,$B$1:$F$52,4,0)","v":"C"},null,null,null,null,null,null,null,null,null,null,null,null,null,1,{"$f":"AC5","v":{"$error":"#N/A"}},{"$f":"AD5","v":{"$error":"#N/A"}},{"$f":"AE5","v":{"$error":"#N/A"}},{"$f":"AF5","v":{"$error":"#N/A"}},{"$f":"AG5","v":{"$error":"#N/A"}},null,{"$f":"INDEX($BL$4:$BL$13,MATCH(1,$BS$4:$BS$13,0))","v":{"$error":"#N/A"}},null,null,null,null,null,null,null,null,null,1,{"$f":"BX4","v":"Royal Flush"},null,null,null,{"$f":"CB4","v":{"$error":"#N/A"}},{"$error":"#N/A"},{"$error":"#N/A"},null,null,null,null,"Royal Flush",null,null,null,{"$f":"IF(AND(10=AV4,11=AW4,12=AX4,13=AY4,1=AZ4),1,0)","v":{"$error":"#N/A"}},{"$f":"IF(AND(AV25=AW25,AW25=AX25,AX25=AY25,AY25=AZ25),1,0)","v":{"$error":"#N/A"}},{"$f":"CB4*CC4","v":{"$error":"#N/A"}},null,null,null,null,"Straight Flush",null,null,null,{"$f":"IF(OR(AND(AV4<10,AW4=AV4+1,AX4=AW4+1,AY4=AX4+1,AZ4=AY4+1),AND(AV4=2,AW4=3,AX4=4,AY4=5,AZ4=1)),1,0)","v":{"$error":"#N/A"}},{"$f":"IF(AND(AV25=AW25,AW25=AX25,AX25=AY25,AY25=AZ25),1,0)","v":{"$error":"#N/A"}},{"$f":"CM4*CN4","v":{"$error":"#N/A"}},null,null,null,null,"Four of a Kind",null,null,null,{"$f":"IF(OR(AND(AV4=AW4,AW4=AX4,AX4=AY4),AND(AW4=AX4,AX4=AY4,AY4=AZ4)),1,0)","v":{"$error":"#N/A"}},null,{"$f":"CX4","v":{"$error":"#N/A"}},null,null,null,null,"Full House",null,null,null,{"$f":"IF(OR(AND(AV4=AW4,AW4=AX4,AY4=AZ4),AND(AV4=AW4,AX4=AY4,AY4=AZ4)),1,0)","v":{"$error":"#N/A"}},null,{"$f":"DI4","v":{"$error":"#N/A"}},null,null,null,null,"Flush",null,null,null,{"$f":"IF(AND(AV25=AW25,AW25=AX25,AX25=AY25,AY25=AZ25),1,0)","v":{"$error":"#N/A"}},null,{"$f":"DT4","v":{"$error":"#N/A"}},null,null,null,null,"Straight",null,null,null,{"$f":"IF(OR(\nAND(AV4<10,AW4=AV4+1,AX4=AW4+1,AY4=AX4+1,AZ4=AY4+1),\nAND(AV4=10,AW4=11,AX4=12,AY4=13,AZ4=1),\n),1,0)","v":{"$error":"#N/A"}},{"$f":"IF(AND(AV25=AW25,AW25=AX25,AX25=AY25,AY25=AZ25),0,1)","v":{"$error":"#N/A"}},{"$f":"EE4*EF4","v":{"$error":"#N/A"}},null,null,null,null,"Three of a Kind",null,null,null,{"$f":"IF(OR(AND(AV4=AW4,AW4=AX4,AY4<>AZ4),AND(AV4<>AW4,AX4=AY4,AY4=AZ4),AND(AW4=AX4,AX4=AY4)),1,0)","v":{"$error":"#N/A"}},null,{"$f":"EP4","v":{"$error":"#N/A"}},null,null,null,null,"Two Pair",null,null,null,{"$f":"IF(OR(AND(AV4=AW4,AX4=AY4,AZ4<>AV4,AZ4<>AX4,AW4<>AX4),AND(AW4=AX4,AY4=AZ4,AV4<>AW4,AV4<>AY4,AX4<>AY4),AND(AV4=AW4,AY4=AZ4,AX4<>AW4,AX4<>AY4,AW4<>AY4)),1,0)","v":{"$error":"#N/A"}},null,{"$f":"FA4","v":{"$error":"#N/A"}},null,null,null,null,"One Pair",null,null,null,{"$f":"IF(OR(AND(AV4=AW4,AW4<>AX4,AX4<>AY4,AY4<>AZ4),AND(AV4<>AW4,AW4=AX4,AX4<>AY4,AY4<>AZ4),AND(AV4<>AW4,AW4<>AX4,AX4=AY4,AY4<>AZ4),AND(AV4<>AW4,AW4<>AX4,AX4<>AY4,AY4=AZ4)),1,0)","v":{"$error":"#N/A"}},null,{"$f":"FL4","v":{"$error":"#N/A"}},null,null,null,null,"High Card",null,null,null,{"$f":"IF(AND(AV4<>AW4,AW4<>AX4,AX4<>AY4,AY4<>AZ4),1,0)","v":{"$error":"#N/A"}},null,{"$f":"FW4","v":{"$error":"#N/A"}}]
[5,"♠5",0.96139264663660018,5,"S",5,{"$f":"LARGE($D$1:$D$52,5)","v":48},null,null,{"$f":"3-COUNTIF($J$3,$I$3)","v":2},null,null,{"$f":"4-COUNTIF(I3:M3,I3)","v":2},null,null,null,null,null,null,null,null,null,null,null,null,null,null,null,{"$f":"HLOOKUP(AC7,$AC$1:$AG$4,3,0)","v":{"$error":"#N/A"}},{"$f":"HLOOKUP(AD7,$AC$1:$AG$4,3,0)","v":{"$error":"#N/A"}},{"$f":"HLOOKUP(AE7,$AC$1:$AG$4,3,0)","v":{"$error":"#N/A"}},{"$f":"HLOOKUP(AF7,$AC$1:$AG$4,3,0)","v":{"$error":"#N/A"}},{"$f":"HLOOKUP(AG7,$AC$1:$AG$4,3,0)","v":{"$error":"#N/A"}},null,null,null,null,null,null,null,null,null,null,null,null,null,2,{"$f":"AC14","v":{"$error":"#N/A"}},{"$f":"AD14","v":{"$error":"#N/A"}},{"$f":"AE14","v":{"$error":"#N/A"}},{"$f":"AF14","v":{"$error":"#N/A"}},{"$f":"AG14","v":{"$error":"#N/A"}},null,{"$f":"INDEX($BL$4:$BL$13,MATCH(1,$BS$15:$BS$24,0))","v":{"$error":"#N/A"}},null,null,null,null,null,null,null,null,null,2,{"$f":"CI4","v":"Straight Flush"},null,null,null,{"$f":"CM4","v":{"$error":"#N/A"}},{"$error":"#N/A"},{"$error":"#N/A"},null,null,null,null,"Royal Flush",null,null,null,{"$error":"#N/A"},{"$error":"#N/A"},{"$error":"#N/A"},null,null,null,null,"Straight Flush",null,null,null,{"$error":"#N/A"},{"$error":"#N/A"},{"$f":"CM5*CN5","v":{"$error":"#N/A"}},null,null,null,null,"Four of a Kind",null,null,null,{"$error":"#N/A"},null,{"$error":"#N/A"},null,null,null,null,"Full House",null,null,null,{"$error":"#N/A"},null,{"$error":"#N/A"},null,null,null,null,"Flush",null,null,null,{"$error":"#N/A"},null,{"$error":"#N/A"},null,null,null,null,"Straight",null,null,null,{"$error":"#N/A"},{"$error":"#N/A"},{"$error":"#N/A"},null,null,null,null,"Three of a Kind",null,null,null,{"$error":"#N/A"},null,{"$error":"#N/A"},null,null,null,null,"Two Pair",null,null,null,{"$error":"#N/A"},null,{"$error":"#N/A"},null,null,null,null,"One Pair",null,null,null,{"$error":"#N/A"},null,{"$error":"#N/A"},null,null,null,null,"High Card",null,null,null,{"$error":"#N/A"},null,{"$error":"#N/A"}]
[6,"♠6",0.9373774080752697,7,"S",6,null,null,null,null,{"$f":"52-2","v":50},null,null,{"$f":"52-5","v":47},null,null,null,null,null,null,null,null,null,null,null,null,null,null,{"$f":"HLOOKUP(AC7,$AC$1:$AG$4,4,0)","v":{"$error":"#N/A"}},{"$f":"HLOOKUP(AD7,$AC$1:$AG$4,4,0)","v":{"$error":"#N/A"}},{"$f":"HLOOKUP(AE7,$AC$1:$AG$4,4,0)","v":{"$error":"#N/A"}},{"$f":"HLOOKUP(AF7,$AC$1:$AG$4,4,0)","v":{"$error":"#N/A"}},{"$f":"HLOOKUP(AG7,$AC$1:$AG$4,4,0)","v":{"$error":"#N/A"}},null,null,null,null,null,null,null,null,null,null,null,null,null,3,{"$f":"AC23","v":{"$error":"#N/A"}},{"$f":"AD23","v":{"$error":"#N/A"}},{"$f":"AE23","v":{"$error":"#N/A"}},{"$f":"AF23","v":{"$error":"#N/A"}},{"$f":"AG23","v":{"$error":"#N/A"}},null,{"$f":"INDEX($BL$4:$BL$13,MATCH(1,$BS$26:$BS$35,0))","v":{"$error":"#N/A"}},null,null,null,null,null,null,null,null,null,3,{"$f":"CT4","v":"Four of a Kind"},null,null,null,{"$f":"CX4","v":{"$error":"#N/A"}},0,{"$error":"#N/A"},null,null,null,null,"Royal Flush",null,null,null,{"$error":"#N/A"},{"$error":"#N/A"},{"$error":"#N/A"},null,null,null,null,"Straight Flush",null,null,null,{"$error":"#N/A"},{"$error":"#N/A"},{"$error":"#N/A"},null,null,null,null,"Four of a Kind",null,null,null,{"$error":"#N/A"},null,{"$error":"#N/A"},null,null,null,null,"Full House",null,null,null,{"$error":"#N/A"},null,{"$error":"#N/A"},null,null,null,null,"Flush",null,null,null,{"$error":"#N/A"},null,{"$error":"#N/A"},null,null,null,null,"Straight",null,null,null,{"$error":"#N/A"},{"$error":"#N/A"},{"$error":"#N/A"},null,null,null,null,"Three of a Kind",null,null,null,{"$error":"#N/A"},null,{"$error":"#N/A"},null,null,null,null,"Two Pair",null,null,null,{"$error":"#N/A"},null,{"$error":"#N/A"},null,null,null,null,"One Pair",null,null,null,{"$error":"#N/A"},null,{"$error":"#N/A"},null,null,null,null,"High Card",null,null,null,{"$error":"#N/A"},null,{"$error":"#N/A"}]
[7,"♠7",0.35415083663059688,38,"S",7,null,null,"quizzes",{"$f":"J5/K6","v":0.04},null,null,{"$f":"M5/N6","v":4.2553191489361701E-2},null,null,null,null,null,null,null,null,null,null,null,null,null,null,null,1,2,3,4,5,null,null,null,null,null,null,null,null,null,null,null,null,null,4,{"$f":"AC32","v":{"$error":"#N/A"}},{"$f":"AD32","v":{"$error":"#N/A"}},{"$f":"AE32","v":{"$error":"#N/A"}},{"$f":"AF32","v":{"$error":"#N/A"}},{"$f":"AG32","v":{"$error":"#N/A"}},null,{"$f":"INDEX($BL$4:$BL$13,MATCH(1,$BS$37:$BS$46,0))","v":{"$error":"#N/A"}},null,null,null,null,null,null,null,null,null,4,{"$f":"DE4","v":"Full House"},null,null,null,{"$f":"DI4","v":{"$error":"#N/A"}},0,{"$error":"#N/A"},null,null,null,null,"Royal Flush",null,null,null,{"$error":"#N/A"},{"$error":"#N/A"},{"$error":"#N/A"},null,null,null,null,"Straight Flush",null,null,null,{"$error":"#N/A"},{"$error":"#N/A"},{"$error":"#N/A"},null,null,null,null,"Four of a Kind",null,null,null,{"$error":"#N/A"},null,{"$error":"#N/A"},null,null,null,null,"Full House",null,null,null,{"$error":"#N/A"},null,{"$error":"#N/A"},null,null,null,null,"Flush",null,null,null,{"$error":"#N/A"},null,{"$error":"#N/A"},null,null,null,null,"Straight",null,null,null,{"$error":"#N/A"},{"$error":"#N/A"},{"$error":"#N/A"},null,null,null,null,"Three of a Kind",null,null,null,{"$error":"#N/A"},null,{"$error":"#N/A"},null,null,null,null,"Two Pair",null,null,null,{"$error":"#N/A"},null,{"$error":"#N/A"},null,null,null,null,"One Pair",null,null,null,{"$error":"#N/A"},null,{"$error":"#N/A"},null,null,null,null,"High Card",null,null,null,{"$error":"#N/A"},null,{"$error":"#N/A"}]
[8,"♠8",0.33712265095164562,41,"S",8,null,null,null,"get the first pocket card at the first flop card",null,null,"get first pocket card at the turn card ",null,null,null,null,null,null,null,null,null,null,null,null,null,null,{"$f":"AB3+IF(AB3=1,13+RAND()^3,RAND()^3)","v":6.9058722972712872E-2},{"$error":"#N/A"},{"$error":"#N/A"},4.0004717303070843,10.033857423693197,11.000051083393442,null,null,null,null,null,null,null,null,null,null,null,null,null,5,{"$f":"AC41","v":{"$error":"#N/A"}},{"$f":"AD41","v":{"$error":"#N/A"}},{"$f":"AE41","v":{"$error":"#N/A"}},{"$f":"AF41","v":{"$error":"#N/A"}},{"$f":"AG41","v":{"$error":"#N/A"}},null,{"$f":"INDEX($BL$4:$BL$13,MATCH(1,$BS$48:$BS$57,0))","v":{"$error":"#N/A"}},null,null,null,null,null,null,null,null,null,5,{"$f":"DP4","v":"Flush"},null,null,null,{"$f":"DT4","v":{"$error":"#N/A"}},0,{"$error":"#N/A"},null,null,null,null,"Royal Flush",null,null,null,{"$error":"#N/A"},{"$error":"#N/A"},{"$error":"#N/A"},null,null,null,null,"Straight Flush",null,null,null,{"$error":"#N/A"},{"$error":"#N/A"},{"$error":"#N/A"},null,null,null,null,"Four of a Kind",null,null,null,{"$error":"#N/A"},null,{"$error":"#N/A"},null,null,null,null,"Full House",null,null,null,{"$error":"#N/A"},null,{"$error":"#N/A"},null,null,null,null,"Flush",null,null,null,{"$error":"#N/A"},null,{"$error":"#N/A"},null,null,null,null,"Straight",null,null,null,{"$error":"#N/A"},{"$error":"#N/A"},{"$error":"#N/A"},null,null,null,null,"Three of a Kind",null,null,null,{"$error":"#N/A"},null,{"$error":"#N/A"},null,null,null,null,"Two Pair",null,null,null,{"$error":"#N/A"},null,{"$error":"#N/A"},null,null,null,null,"One Pair",null,null,null,{"$error":"#N/A"},null,{"$error":"#N/A"},null,null,null,null,"High Card",null,null,null,{"$error":"#N/A"},null,{"$error":"#N/A"}]
[9,"♠9",0.35280525382937222,39,"S",9,null,null,null,null,null,null,null,null,null,null,null,null,null,null,null,null,null,null,null,null,null,null,null,null,null,null,null,null,null,null,null,null,null,null,null,null,null,null,null,null,6,{"$f":"AC50","v":{"$error":"#N/A"}},{"$f":"AD50","v":{"$error":"#N/A"}},{"$f":"AE50","v":{"$error":"#N/A"}},{"$f":"AF50","v":{"$error":"#N/A"}},{"$f":"AG50","v":{"$error":"#N/A"}},null,{"$f":"INDEX($BL$4:$BL$13,MATCH(1,$BS$59:$BS$68,0))","v":{"$error":"#N/A"}},null,null,null,null,null,null,null,null,null,6,{"$f":"EA4","v":"Straight"},null,null,null,{"$f":"EE4","v":{"$error":"#N/A"}},{"$error":"#N/A"},{"$error":"#N/A"},null,null,null,null,"Royal Flush",null,null,null,{"$error":"#N/A"},{"$error":"#N/A"},{"$error":"#N/A"},null,null,null,null,"Straight Flush",null,null,null,{"$error":"#N/A"},{"$error":"#N/A"},{"$error":"#N/A"},null,null,null,null,"Four of a Kind",null,null,null,{"$error":"#N/A"},null,{"$error":"#N/A"},null,null,null,null,"Full House",null,null,null,{"$error":"#N/A"},null,{"$error":"#N/A"},null,null,null,null,"Flush",null,null,null,{"$error":"#N/A"},null,{"$error":"#N/A"},null,null,null,null,"Straight",null,null,null,{"$error":"#N/A"},{"$error":"#N/A"},{"$error":"#N/A"},null,null,null,null,"Three of a Kind",null,null,null,{"$error":"#N/A"},null,{"$error":"#N/A"},null,null,null,null,"Two Pair",null,null,null,{"$error":"#N/A"},null,{"$error":"#N/A"},null,null,null,null,"One Pair",null,null,null,{"$error":"#N/A"},null,{"$error":"#N/A"},null,null,null,null,"High Card",null,null,null,{"$error":"#N/A"},null,{"$error":"#N/A"}]
[10,"♠10",7.1591774160779109E-2,51,"S",10,null,null,null,null,null,null,null,null,{"$f":"52-6","v":46},null,null,null,null,null,null,null,null,null,null,null,null,null,{"$f":"RANK(AC17,$AC$17:$AG$17,1)","v":{"$error":"#N/A"}},{"$f":"RANK(AD17,$AC$17:$AG$17,1)","v":{"$error":"#N/A"}},{"$f":"RANK(AE17,$AC$17:$AG$17,1)","v":{"$error":"#N/A"}},{"$f":"RANK(AF17,$AC$17:$AG$17,1)","v":{"$error":"#N/A"}},{"$f":"RANK(AG17,$AC$17:$AG$17,1)","v":{"$error":"#N/A"}},null,null,null,null,null,null,null,null,null,null,null,null,null,7,{"$f":"AC59","v":{"$error":"#N/A"}},{"$f":"AD59","v":{"$error":"#N/A"}},{"$f":"AE59","v":{"$error":"#N/A"}},{"$f":"AF59","v":{"$error":"#N/A"}},{"$f":"AG59","v":{"$error":"#N/A"}},null,{"$f":"INDEX($BL$4:$BL$13,MATCH(1,$BS$70:$BS$79,0))","v":{"$error":"#N/A"}},null,null,null,null,null,null,null,null,null,7,{"$f":"EL4","v":"Three of a Kind"},null,null,null,{"$f":"EP4","v":{"$error":"#N/A"}},0,{"$error":"#N/A"},null,null,null,null,"Royal Flush",null,null,null,{"$error":"#N/A"},{"$error":"#N/A"},{"$error":"#N/A"},null,null,null,null,"Straight Flush",null,null,null,{"$error":"#N/A"},{"$error":"#N/A"},{"$error":"#N/A"},null,null,null,null,"Four of a Kind",null,null,null,{"$error":"#N/A"},null,{"$error":"#N/A"},null,null,null,null,"Full House",null,null,null,{"$error":"#N/A"},null,{"$error":"#N/A"},null,null,null,null,"Flush",null,null,null,{"$error":"#N/A"},null,{"$error":"#N/A"},null,null,null,null,"Straight",null,null,null,{"$error":"#N/A"},{"$error":"#N/A"},{"$error":"#N/A"},null,null,null,null,"Three of a Kind",null,null,null,{"$error":"#N/A"},null,{"$error":"#N/A"},null,null,null,null,"Two Pair",null,null,null,{"$error":"#N/A"},null,{"$error":"#N/A"},null,null,null,null,"One Pair",null,null,null,{"$error":"#N/A"},null,{"$error":"#N/A"},null,null,null,null,"High Card",null,null,null,{"$error":"#N/A"},null,{"$error":"#N/A"}]
[11,"♠J",0.9861354029498326,3,"S",11,null,2,null,null,null,null,{"$f":"((N6-M5)/N6)*M5/O10","v":4.1628122109158186E-2},null,null,null,null,null,null,null,null,null,null,null,null,null,null,null,{"$f":"[0]!Player11","v":0},{"$f":"[0]!Player12","v":0},{"$f":"$K$1","v":"♣4"},{"$f":"$L$1","v":"♠10"},{"$f":"$N$1","v":"♣Q"},null,null,null,null,null,null,null,null,null,null,null,null,null,8,{"$f":"AC68","v":{"$error":"#N/A"}},{"$f":"AD68","v":{"$error":"#N/A"}},{"$f":"AE68","v":{"$error":"#N/A"}},{"$f":"AF68","v":{"$error":"#N/A"}},{"$f":"AG68","v":{"$error":"#N/A"}},null,{"$f":"INDEX($BL$4:$BL$13,MATCH(1,$BS$81:$BS$90,0))","v":{"$error":"#N/A"}},null,null,null,null,null,null,null,null,null,8,{"$f":"EW4","v":"Two Pair"},null,null,null,{"$f":"FA4","v":{"$error":"#N/A"}},0,{"$error":"#N/A"},null,null,null,null,"Royal Flush",null,null,null,{"$error":"#N/A"},{"$error":"#N/A"},{"$error":"#N/A"},null,null,null,null,"Straight Flush",null,null,null,{"$error":"#N/A"},{"$error":"#N/A"},{"$error":"#N/A"},null,null,null,null,"Four of a Kind",null,null,null,{"$error":"#N/A"},null,{"$error":"#N/A"},null,null,null,null,"Full House",null,null,null,{"$error":"#N/A"},null,{"$error":"#N/A"},null,null,null,null,"Flush",null,null,null,{"$error":"#N/A"},null,{"$error":"#N/A"},null,null,null,null,"Straight",null,null,null,{"$error":"#N/A"},{"$error":"#N/A"},{"$error":"#N/A"},null,null,null,null,"Three of a Kind",null,null,null,{"$error":"#N/A"},null,{"$error":"#N/A"},null,null,null,null,"Two Pair",null,null,null,{"$error":"#N/A"},null,{"$error":"#N/A"},null,null,null,null,"One Pair",null,null,null,{"$error":"#N/A"},null,{"$error":"#N/A"},null,null,null,null,"High Card",null,null,null,{"$error":"#N/A"},null,{"$error":"#N/A"}]
[12,"♠Q",0.70053662678164719,16,"S",12,null,null,null,null,null,null,"get the first pocket card at the first flop card",null,null,"get first pocket card at the turn card ",null,null,null,null,null,null,null,null,null,null,null,null,{"$f":"VLOOKUP(AC11,$B$1:$F$52,5,0)","v":{"$error":"#N/A"}},{"$f":"VLOOKUP(AD11,$B$1:$F$52,5,0)","v":{"$error":"#N/A"}},{"$f":"VLOOKUP(AE11,$B$1:$F$52,5,0)","v":4},{"$f":"VLOOKUP(AF11,$B$1:$F$52,5,0)","v":10},{"$f":"VLOOKUP(AG11,$B$1:$F$52,5,0)","v":12},null,null,null,null,null,null,null,null,null,null,null,null,null,9,{"$f":"AC77","v":{"$error":"#N/A"}},{"$f":"AD77","v":{"$error":"#N/A"}},{"$f":"AE77","v":{"$error":"#N/A"}},{"$f":"AF77","v":{"$error":"#N/A"}},{"$f":"AG77","v":{"$error":"#N/A"}},null,{"$f":"INDEX($BL$4:$BL$13,MATCH(1,$BS$92:$BS$101,0))","v":{"$error":"#N/A"}},null,null,null,null,null,null,null,null,null,9,{"$f":"FH4","v":"One Pair"},null,null,null,{"$f":"FL4","v":{"$error":"#N/A"}},0,{"$error":"#N/A"},null,null,null,null,"Royal Flush",null,null,null,{"$error":"#N/A"},{"$error":"#N/A"},{"$error":"#N/A"},null,null,null,null,"Straight Flush",null,null,null,{"$error":"#N/A"},{"$error":"#N/A"},{"$error":"#N/A"},null,null,null,null,"Four of a Kind",null,null,null,{"$error":"#N/A"},null,{"$error":"#N/A"},null,null,null,null,"Full House",null,null,null,{"$error":"#N/A"},null,{"$error":"#N/A"},null,null,null,null,"Flush",null,null,null,{"$error":"#N/A"},null,{"$error":"#N/A"},null,null,null,null,"Straight",null,null,null,{"$error":"#N/A"},{"$error":"#N/A"},{"$error":"#N/A"},null,null,null,null,"Three of a Kind",null,null,null,{"$error":"#N/A"},null,{"$error":"#N/A"},null,null,null,null,"Two Pair",null,null,null,{"$error":"#N/A"},null,{"$error":"#N/A"},null,null,null,null,"One Pair",null,null,null,{"$error":"#N/A"},null,{"$error":"#N/A"},null,null,null,null,"High Card",null,null,null,{"$error":"#N/A"},null,{"$error":"#N/A"}]
[13,"♠K",0.67475320906290204,18,"S",13,null,null,null,{"$f":"12-COUNTIF($J$4,$I$4)","v":11},null,null,{"$f":"12-COUNTIF(J4:M4,I4)","v":11},null,null,null,null,null,null,null,null,null,null,null,null,null,null,null,{"$f":"VLOOKUP(AC11,$B$1:$F$52,4,0)","v":{"$error":"#N/A"}},{"$f":"VLOOKUP(AD11,$B$1:$F$52,4,0)","v":{"$error":"#N/A"}},{"$f":"VLOOKUP(AE11,$B$1:$F$52,4,0)","v":"C"},{"$f":"VLOOKUP(AF11,$B$1:$F$52,4,0)","v":"S"},{"$f":"VLOOKUP(AG11,$B$1:$F$52,4,0)","v":"C"},null,null,null,null,null,null,null,null,null,null,null,null,null,10,{"$f":"AC86","v":{"$error":"#N/A"}},{"$f":"AD86","v":{"$error":"#N/A"}},{"$f":"AE86","v":{"$error":"#N/A"}},{"$f":"AF86","v":{"$error":"#N/A"}},{"$f":"AG86","v":{"$error":"#N/A"}},null,{"$f":"INDEX($BL$4:$BL$13,MATCH(1,$BS$103:$BS$112,0))","v":{"$error":"#N/A"}},null,null,null,null,null,null,null,null,null,10,{"$f":"FS4","v":"High Card"},null,null,null,{"$f":"FW4","v":{"$error":"#N/A"}},0,{"$error":"#N/A"},null,null,null,null,"Royal Flush",null,null,null,{"$error":"#N/A"},{"$error":"#N/A"},{"$error":"#N/A"},null,null,null,null,"Straight Flush",null,null,null,{"$error":"#N/A"},{"$error":"#N/A"},{"$error":"#N/A"},null,null,null,null,"Four of a Kind",null,null,null,{"$error":"#N/A"},null,{"$error":"#N/A"},null,null,null,null,"Full House",null,null,null,{"$error":"#N/A"},null,{"$error":"#N/A"},null,null,null,null,"Flush",null,null,null,{"$error":"#N/A"},null,{"$error":"#N/A"},null,null,null,null,"Straight",null,null,null,{"$error":"#N/A"},{"$error":"#N/A"},{"$error":"#N/A"},null,null,null,null,"Three of a Kind",null,null,null,{"$error":"#N/A"},null,{"$error":"#N/A"},null,null,null,null,"Two Pair",null,null,null,{"$error":"#N/A"},null,{"$error":"#N/A"},null,null,null,null,"One Pair",null,null,null,{"$error":"#N/A"},null,{"$error":"#N/A"},null,null,null,null,"High Card",null,null,null,{"$error":"#N/A"},null,{"$error":"#N/A"}]
[14,"♣A",0.87666963777824303,11,"C",1,null,null,null,null,{"$f":"52-2","v":50},null,null,{"$f":"52-5","v":47},null,null,null,null,null,null,null,null,null,null,null,null,null,null,{"$f":"HLOOKUP(AC16,$AC$10:$AG$13,3,0)","v":{"$error":"#N/A"}},{"$f":"HLOOKUP(AD16,$AC$10:$AG$13,3,0)","v":{"$error":"#N/A"}},{"$f":"HLOOKUP(AE16,$AC$10:$AG$13,3,0)","v":{"$error":"#N/A"}},{"$f":"HLOOKUP(AF16,$AC$10:$AG$13,3,0)","v":{"$error":"#N/A"}},{"$f":"HLOOKUP(AG16,$AC$10:$AG$13,3,0)","v":{"$error":"#N/A"}},null,null,null,null,null,null,null,null,null,null,null,null,null,11,{"$f":"AC95","v":{"$error":"#N/A"}},{"$f":"AD95","v":{"$error":"#N/A"}},{"$f":"AE95","v":{"$error":"#N/A"}},{"$f":"AF95","v":{"$error":"#N/A"}},{"$f":"AG95","v":{"$error":"#N/A"}},null,{"$f":"INDEX($BL$4:$BL$13,MATCH(1,$BS$114:$BS$123,0))","v":{"$error":"#N/A"}},null,null,null,null,null,null,null,null,null,null,null,null,null,null,null,null,null,null,null,null,null,"Royal Flush",null,null,null,{"$error":"#N/A"},{"$error":"#N/A"},{"$error":"#N/A"},null,null,null,null,"Straight Flush",null,null,null,{"$error":"#N/A"},{"$error":"#N/A"},{"$error":"#N/A"},null,null,null,null,"Four of a Kind",null,null,null,{"$error":"#N/A"},null,{"$error":"#N/A"},null,null,null,null,"Full House",null,null,null,{"$error":"#N/A"},null,{"$error":"#N/A"},null,null,null,null,"Flush",null,null,null,{"$error":"#N/A"},null,{"$error":"#N/A"},null,null,null,null,"Straight",null,null,null,{"$error":"#N/A"},{"$error":"#N/A"},{"$error":"#N/A"},null,null,null,null,"Three of a Kind",null,null,null,{"$error":"#N/A"},null,{"$error":"#N/A"},null,null,null,null,"Two Pair",null,null,null,{"$error":"#N/A"},null,{"$error":"#N/A"},null,null,null,null,"One Pair",null,null,null,{"$error":"#N/A"},null,{"$error":"#N/A"},null,null,null,null,"High Card",null,null,null,{"$error":"#N/A"},null,{"$error":"#N/A"}]
[15,"♣2",0.43008524895412426,35,"C",2,null,null,"quizzes",{"$f":"J13/K14","v":0.22},null,null,{"$f":"M13/N14","v":0.23404255319148937},null,null,null,null,null,null,null,null,null,null,null,null,null,null,null,{"$f":"HLOOKUP(AC16,$AC$10:$AG$13,4,0)","v":{"$error":"#N/A"}},{"$f":"HLOOKUP(AD16,$AC$10:$AG$13,4,0)","v":{"$error":"#N/A"}},{"$f":"HLOOKUP(AE16,$AC$10:$AG$13,4,0)","v":{"$error":"#N/A"}},{"$f":"HLOOKUP(AF16,$AC$10:$AG$13,4,0)","v":{"$error":"#N/A"}},{"$f":"HLOOKUP(AG16,$AC$10:$AG$13,4,0)","v":{"$error":"#N/A"}},null,null,null,null,null,null,null,null,null,null,null,null,null,12,{"$f":"AC104","v":{"$error":"#N/A"}},{"$f":"AD104","v":{"$error":"#N/A"}},{"$f":"AE104","v":{"$error":"#N/A"}},{"$f":"AF104","v":{"$error":"#N/A"}},{"$f":"AG104","v":{"$error":"#N/A"}},null,{"$f":"INDEX($BL$4:$BL$13,MATCH(1,$BS$125:$BS$134,0))","v":{"$error":"#N/A"}},null,null,null,null,null,null,null,null,null,2,{"$f":"BX5","v":"Royal Flush"},null,null,null,{"$f":"CB5","v":{"$error":"#N/A"}},{"$error":"#N/A"},{"$error":"#N/A"},null,null,null,null,"Royal Flush",null,null,null,{"$error":"#N/A"},{"$error":"#N/A"},{"$error":"#N/A"},null,null,null,null,"Straight Flush",null,null,null,{"$error":"#N/A"},{"$error":"#N/A"},{"$error":"#N/A"},null,null,null,null,"Four of a Kind",null,null,null,{"$error":"#N/A"},null,{"$error":"#N/A"},null,null,null,null,"Full House",null,null,null,{"$error":"#N/A"},null,{"$error":"#N/A"},null,null,null,null,"Flush",null,null,null,{"$error":"#N/A"},null,{"$error":"#N/A"},null,null,null,null,"Straight",null,null,null,{"$error":"#N/A"},{"$error":"#N/A"},{"$error":"#N/A"},null,null,null,null,"Three of a Kind",null,null,null,{"$error":"#N/A"},null,{"$error":"#N/A"},null,null,null,null,"Two Pair",null,null,null,{"$error":"#N/A"},null,{"$error":"#N/A"},null,null,null,null,"One Pair",null,null,null,{"$error":"#N/A"},null,{"$error":"#N/A"},null,null,null,null,"High Card",null,null,null,{"$error":"#N/A"},null,{"$error":"#N/A"}]
[16,"♣3",0.67064934947502497,20,"C",3,null,null,null,"get the first pocket card at the first flop card",null,null,"get first pocket card at the turn card ",null,null,null,null,null,null,null,null,null,null,null,null,null,null,null,1,2,3,4,5,null,null,null,null,null,null,null,null,null,null,null,null,null,13,{"$f":"AC113","v":{"$error":"#N/A"}},{"$f":"AD113","v":{"$error":"#N/A"}},{"$f":"AE113","v":{"$error":"#N/A"}},{"$f":"AF113","v":{"$error":"#N/A"}},{"$f":"AG113","v":{"$error":"#N/A"}},null,{"$f":"INDEX($BL$4:$BL$13,MATCH(1,$BS$136:$BS$145,0))","v":{"$error":"#N/A"}},null,null,null,null,null,null,null,null,null,null,{"$f":"CI5","v":"Straight Flush"},null,null,null,{"$f":"CM5","v":{"$error":"#N/A"}},{"$error":"#N/A"},{"$error":"#N/A"},null,null,null,null,"Royal Flush",null,null,null,{"$error":"#N/A"},{"$error":"#N/A"},{"$error":"#N/A"},null,null,null,null,"Straight Flush",null,null,null,{"$error":"#N/A"},{"$error":"#N/A"},{"$error":"#N/A"},null,null,null,null,"Four of a Kind",null,null,null,{"$error":"#N/A"},null,{"$error":"#N/A"},null,null,null,null,"Full House",null,null,null,{"$error":"#N/A"},null,{"$error":"#N/A"},null,null,null,null,"Flush",null,null,null,{"$error":"#N/A"},null,{"$error":"#N/A"},null,null,null,null,"Straight",null,null,null,{"$error":"#N/A"},{"$error":"#N/A"},{"$error":"#N/A"},null,null,null,null,"Three of a Kind",null,null,null,{"$error":"#N/A"},null,{"$error":"#N/A"},null,null,null,null,"Two Pair",null,null,null,{"$error":"#N/A"},null,{"$error":"#N/A"},null,null,null,null,"One Pair",null,null,null,{"$error":"#N/A"},null,{"$error":"#N/A"},null,null,null,null,"High Card",null,null,null,{"$error":"#N/A"},null,{"$error":"#N/A"}]
[17,"♣4",9.8729959238351706E-3,52,"C",4,null,null,null,null,null,null,null,null,null,null,null,null,null,null,null,null,null,null,null,null,null,{"$f":"AB12+IF(AB12=1,13+RAND()^3,RAND()^3)","v":7.8639669882808042E-5},{"$error":"#N/A"},{"$error":"#N/A"},4.006074690984037,10.168134682737671,12.000307670077888,null,null,null,null,null,null,null,null,null,null,null,null,null,14,{"$f":"AC122","v":{"$error":"#N/A"}},{"$f":"AD122","v":{"$error":"#N/A"}},{"$f":"AE122","v":{"$error":"#N/A"}},{"$f":"AF122","v":{"$error":"#N/A"}},{"$f":"AG122","v":{"$error":"#N/A"}},null,{"$f":"INDEX($BL$4:$BL$13,MATCH(1,$BS$147:$BS$156,0))","v":{"$error":"#N/A"}},null,null,null,null,null,null,null,null,null,null,{"$f":"CT5","v":"Four of a Kind"},null,null,null,{"$f":"CX5","v":{"$error":"#N/A"}},0,{"$error":"#N/A"},null,null,null,null,"Royal Flush",null,null,null,{"$error":"#N/A"},{"$error":"#N/A"},{"$error":"#N/A"},null,null,null,null,"Straight Flush",null,null,null,{"$error":"#N/A"},{"$error":"#N/A"},{"$error":"#N/A"},null,null,null,null,"Four of a Kind",null,null,null,{"$error":"#N/A"},null,{"$error":"#N/A"},null,null,null,null,"Full House",null,null,null,{"$error":"#N/A"},null,{"$error":"#N/A"},null,null,null,null,"Flush",null,null,null,{"$error":"#N/A"},null,{"$error":"#N/A"},null,null,null,null,"Straight",null,null,null,{"$error":"#N/A"},{"$error":"#N/A"},{"$error":"#N/A"},null,null,null,null,"Three of a Kind",null,null,null,{"$error":"#N/A"},null,{"$error":"#N/A"},null,null,null,null,"Two Pair",null,null,null,{"$error":"#N/A"},null,{"$error":"#N/A"},null,null,null,null,"One Pair",null,null,null,{"$error":"#N/A"},null,{"$error":"#N/A"},null,null,null,null,"High Card",null,null,null,{"$error":"#N/A"},null,{"$error":"#N/A"}]
[18,"♣5",0.46931027103414913,31,"C",5,null,null,null,null,null,null,null,null,{"$f":"52-6","v":46},null,null,null,null,null,null,null,null,null,null,null,null,null,null,null,null,null,null,null,null,null,null,null,null,null,null,null,null,null,null,null,15,{"$f":"AC131","v":{"$error":"#N/A"}},{"$f":"AD131","v":{"$error":"#N/A"}},{"$f":"AE131","v":{"$error":"#N/A"}},{"$f":"AF131","v":{"$error":"#N/A"}},{"$f":"AG131","v":{"$error":"#N/A"}},null,{"$f":"INDEX($BL$4:$BL$13,MATCH(1,$BS$158:$BS$167,0))","v":{"$error":"#N/A"}},null,null,null,null,null,null,null,null,null,null,{"$f":"DE5","v":"Full House"},null,null,null,{"$f":"DI5","v":{"$error":"#N/A"}},0,{"$error":"#N/A"},null,null,null,null,"Royal Flush",null,null,null,{"$error":"#N/A"},{"$error":"#N/A"},{"$error":"#N/A"},null,null,null,null,"Straight Flush",null,null,null,{"$error":"#N/A"},{"$error":"#N/A"},{"$error":"#N/A"},null,null,null,null,"Four of a Kind",null,null,null,{"$error":"#N/A"},null,{"$error":"#N/A"},null,null,null,null,"Full House",null,null,null,{"$error":"#N/A"},null,{"$error":"#N/A"},null,null,null,null,"Flush",null,null,null,{"$error":"#N/A"},null,{"$error":"#N/A"},null,null,null,null,"Straight",null,null,null,{"$error":"#N/A"},{"$error":"#N/A"},{"$error":"#N/A"},null,null,null,null,"Three of a Kind",null,null,null,{"$error":"#N/A"},null,{"$error":"#N/A"},null,null,null,null,"Two Pair",null,null,null,{"$error":"#N/A"},null,{"$error":"#N/A"},null,null,null,null,"One Pair",null,null,null,{"$error":"#N/A"},null,{"$error":"#N/A"},null,null,null,null,"High Card",null,null,null,{"$error":"#N/A"},null,{"$error":"#N/A"}]
[19,"♣6",0.59240977928160898,26,"C",6,null,null,null,null,null,null,{"$f":"((N14-M13)/N14)*M13/O18","v":0.183163737280296},null,null,null,null,null,null,null,null,null,null,null,null,null,null,null,{"$f":"RANK(AC26,$AC$26:$AG$26,1)","v":{"$error":"#N/A"}},{"$f":"RANK(AD26,$AC$26:$AG$26,1)","v":{"$error":"#N/A"}},{"$f":"RANK(AE26,$AC$26:$AG$26,1)","v":{"$error":"#N/A"}},{"$f":"RANK(AF26,$AC$26:$AG$26,1)","v":{"$error":"#N/A"}},{"$f":"RANK(AG26,$AC$26:$AG$26,1)","v":{"$error":"#N/A"}},null,null,null,null,null,null,null,null,null,null,null,null,null,16,{"$f":"AC140","v":{"$error":"#N/A"}},{"$f":"AD140","v":{"$error":"#N/A"}},{"$f":"AE140","v":{"$error":"#N/A"}},{"$f":"AF140","v":{"$error":"#N/A"}},{"$f":"AG140","v":{"$error":"#N/A"}},null,{"$f":"INDEX($BL$4:$BL$13,MATCH(1,$BS$169:$BS$178,0))","v":{"$error":"#N/A"}},null,null,null,null,null,null,null,null,null,null,{"$f":"DP5","v":"Flush"},null,null,null,{"$f":"DT5","v":{"$error":"#N/A"}},0,{"$error":"#N/A"},null,null,null,null,"Royal Flush",null,null,null,{"$error":"#N/A"},{"$error":"#N/A"},{"$error":"#N/A"},null,null,null,null,"Straight Flush",null,null,null,{"$error":"#N/A"},{"$error":"#N/A"},{"$error":"#N/A"},null,null,null,null,"Four of a Kind",null,null,null,{"$error":"#N/A"},null,{"$error":"#N/A"},null,null,null,null,"Full House",null,null,null,{"$error":"#N/A"},null,{"$error":"#N/A"},null,null,null,null,"Flush",null,null,null,{"$error":"#N/A"},null,{"$error":"#N/A"},null,null,null,null,"Straight",null,null,null,{"$error":"#N/A"},{"$error":"#N/A"},{"$error":"#N/A"},null,null,null,null,"Three of a Kind",null,null,null,{"$error":"#N/A"},null,{"$error":"#N/A"},null,null,null,null,"Two Pair",null,null,null,{"$error":"#N/A"},null,{"$error":"#N/A"},null,null,null,null,"One Pair",null,null,null,{"$error":"#N/A"},null,{"$error":"#N/A"},null,null,null,null,"High Card",null,null,null,{"$error":"#N/A"},null,{"$error":"#N/A"}]
[20,"♣7",0.82370622793724946,12,"C",7,null,3,null,null,null,null,"get the first pocket card at the first flop card",null,null,"get first pocket card at the turn card ",null,null,null,null,null,null,null,null,null,null,null,null,{"$f":"[0]!Player11","v":0},{"$f":"[0]!Player12","v":0},{"$f":"$K$1","v":"♣4"},{"$f":"$L$1","v":"♠10"},{"$f":"$O$1","v":"♥3"},null,null,null,null,null,null,null,null,null,null,null,null,null,17,{"$f":"AC149","v":{"$error":"#N/A"}},{"$f":"AD149","v":{"$error":"#N/A"}},{"$f":"AE149","v":{"$error":"#N/A"}},{"$f":"AF149","v":{"$error":"#N/A"}},{"$f":"AG149","v":{"$error":"#N/A"}},null,{"$f":"INDEX($BL$4:$BL$13,MATCH(1,$BS$180:$BS$189,0))","v":{"$error":"#N/A"}},null,null,null,null,null,null,null,null,null,null,{"$f":"EA5","v":"Straight"},null,null,null,{"$f":"EE5","v":{"$error":"#N/A"}},{"$error":"#N/A"},{"$error":"#N/A"},null,null,null,null,"Royal Flush",null,null,null,{"$error":"#N/A"},{"$error":"#N/A"},{"$error":"#N/A"},null,null,null,null,"Straight Flush",null,null,null,{"$error":"#N/A"},{"$error":"#N/A"},{"$error":"#N/A"},null,null,null,null,"Four of a Kind",null,null,null,{"$error":"#N/A"},null,{"$error":"#N/A"},null,null,null,null,"Full House",null,null,null,{"$error":"#N/A"},null,{"$error":"#N/A"},null,null,null,null,"Flush",null,null,null,{"$error":"#N/A"},null,{"$error":"#N/A"},null,null,null,null,"Straight",null,null,null,{"$error":"#N/A"},{"$error":"#N/A"},{"$error":"#N/A"},null,null,null,null,"Three of a Kind",null,null,null,{"$error":"#N/A"},null,{"$error":"#N/A"},null,null,null,null,"Two Pair",null,null,null,{"$error":"#N/A"},null,{"$error":"#N/A"},null,null,null,null,"One Pair",null,null,null,{"$error":"#N/A"},null,{"$error":"#N/A"},null,null,null,null,"High Card",null,null,null,{"$error":"#N/A"},null,{"$error":"#N/A"}]
[21,"♣8",0.40506908660636876,36,"C",8,null,null,null,null,null,null,null,null,null,null,null,null,null,null,null,null,null,null,null,null,null,null,{"$f":"VLOOKUP(AC20,$B$1:$F$52,5,0)","v":{"$error":"#N/A"}},{"$f":"VLOOKUP(AD20,$B$1:$F$52,5,0)","v":{"$error":"#N/A"}},{"$f":"VLOOKUP(AE20,$B$1:$F$52,5,0)","v":4},{"$f":"VLOOKUP(AF20,$B$1:$F$52,5,0)","v":10},{"$f":"VLOOKUP(AG20,$B$1:$F$52,5,0)","v":3},null,null,null,null,null,null,null,null,null,null,null,null,null,18,{"$f":"AC158","v":{"$error":"#N/A"}},{"$f":"AD158","v":{"$error":"#N/A"}},{"$f":"AE158","v":{"$error":"#N/A"}},{"$f":"AF158","v":{"$error":"#N/A"}},{"$f":"AG158","v":{"$error":"#N/A"}},null,{"$f":"INDEX($BL$4:$BL$13,MATCH(1,$BS$191:$BS$200,0))","v":{"$error":"#N/A"}},null,null,null,null,null,null,null,null,null,null,{"$f":"EL5","v":"Three of a Kind"},null,null,null,{"$f":"EP5","v":{"$error":"#N/A"}},0,{"$error":"#N/A"},null,null,null,null,"Royal Flush",null,null,null,{"$error":"#N/A"},{"$error":"#N/A"},{"$error":"#N/A"},null,null,null,null,"Straight Flush",null,null,null,{"$error":"#N/A"},{"$error":"#N/A"},{"$error":"#N/A"},null,null,null,null,"Four of a Kind",null,null,null,{"$error":"#N/A"},null,{"$error":"#N/A"},null,null,null,null,"Full House",null,null,null,{"$error":"#N/A"},null,{"$error":"#N/A"},null,null,null,null,"Flush",null,null,null,{"$error":"#N/A"},null,{"$error":"#N/A"},null,null,null,null,"Straight",null,null,null,{"$error":"#N/A"},{"$error":"#N/A"},{"$error":"#N/A"},null,null,null,null,"Three of a Kind",null,null,null,{"$error":"#N/A"},null,{"$error":"#N/A"},null,null,null,null,"Two Pair",null,null,null,{"$error":"#N/A"},null,{"$error":"#N/A"},null,null,null,null,"One Pair",null,null,null,{"$error":"#N/A"},null,{"$error":"#N/A"},null,null,null,null,"High Card",null,null,null,{"$error":"#N/A"},null,{"$error":"#N/A"}]
[22,"♣9",0.63685962789759887,24,"C",9,null,null,null,null,null,null,null,null,null,null,null,null,null,null,null,null,null,null,null,null,null,null,{"$f":"VLOOKUP(AC20,$B$1:$F$52,4,0)","v":{"$error":"#N/A"}},{"$f":"VLOOKUP(AD20,$B$1:$F$52,4,0)","v":{"$error":"#N/A"}},{"$f":"VLOOKUP(AE20,$B$1:$F$52,4,0)","v":"C"},{"$f":"VLOOKUP(AF20,$B$1:$F$52,4,0)","v":"S"},{"$f":"VLOOKUP(AG20,$B$1:$F$52,4,0)","v":"H"},null,null,null,null,null,null,null,null,null,null,null,null,null,19,{"$f":"AC167","v":{"$error":"#N/A"}},{"$f":"AD167","v":{"$error":"#N/A"}},{"$f":"AE167","v":{"$error":"#N/A"}},{"$f":"AF167","v":{"$error":"#N/A"}},{"$f":"AG167","v":{"$error":"#N/A"}},null,{"$f":"INDEX($BL$4:$BL$13,MATCH(1,$BS$202:$BS$211,0))","v":{"$error":"#N/A"}},null,null,null,null,null,null,null,null,null,null,{"$f":"EW5","v":"Two Pair"},null,null,null,{"$f":"FA5","v":{"$error":"#N/A"}},0,{"$error":"#N/A"},null,null,null,null,"Royal Flush",null,null,null,{"$error":"#N/A"},{"$error":"#N/A"},{"$error":"#N/A"},null,null,null,null,"Straight Flush",null,null,null,{"$error":"#N/A"},{"$error":"#N/A"},{"$error":"#N/A"},null,null,null,null,"Four of a Kind",null,null,null,{"$error":"#N/A"},null,{"$error":"#N/A"},null,null,null,null,"Full House",null,null,null,{"$error":"#N/A"},null,{"$error":"#N/A"},null,null,null,null,"Flush",null,null,null,{"$error":"#N/A"},null,{"$error":"#N/A"},null,null,null,null,"Straight",null,null,null,{"$error":"#N/A"},{"$error":"#N/A"},{"$error":"#N/A"},null,null,null,null,"Three of a Kind",null,null,null,{"$error":"#N/A"},null,{"$error":"#N/A"},null,null,null,null,"Two Pair",null,null,null,{"$error":"#N/A"},null,{"$error":"#N/A"},null,null,null,null,"One Pair",null,null,null,{"$error":"#N/A"},null,{"$error":"#N/A"},null,null,null,null,"High Card",null,null,null,{"$error":"#N/A"},null,{"$error":"#N/A"}]
[23,"♣10",0.19144800553842789,45,"C",10,null,null,"quizzes",{"$f":"J24*RANDBETWEEN(1,10)*0.1","v":9.0000000000000011E-2},"bluff",null,null,null,null,null,null,null,null,null,null,null,null,null,null,null,null,null,{"$f":"HLOOKUP(AC25,$AC$19:$AG$22,3,0)","v":{"$error":"#N/A"}},{"$f":"HLOOKUP(AD25,$AC$19:$AG$22,3,0)","v":{"$error":"#N/A"}},{"$f":"HLOOKUP(AE25,$AC$19:$AG$22,3,0)","v":{"$error":"#N/A"}},{"$f":"HLOOKUP(AF25,$AC$19:$AG$22,3,0)","v":{"$error":"#N/A"}},{"$f":"HLOOKUP(AG25,$AC$19:$AG$22,3,0)","v":{"$error":"#N/A"}},null,null,null,null,null,null,null,null,null,null,null,null,null,20,{"$f":"AC176","v":{"$error":"#N/A"}},{"$f":"AD176","v":{"$error":"#N/A"}},{"$f":"AE176","v":{"$error":"#N/A"}},{"$f":"AF176","v":{"$error":"#N/A"}},{"$f":"AG176","v":{"$error":"#N/A"}},null,{"$f":"INDEX($BL$4:$BL$13,MATCH(1,$BS$213:$BS$222,0))","v":{"$error":"#N/A"}},null,null,null,null,null,null,null,null,null,null,{"$f":"FH5","v":"One Pair"},null,null,null,{"$f":"FL5","v":{"$error":"#N/A"}},0,{"$error":"#N/A"},null,null,null,null,"Royal Flush",null,null,null,{"$error":"#N/A"},{"$error":"#N/A"},{"$error":"#N/A"},null,null,null,null,"Straight Flush",null,null,null,{"$error":"#N/A"},{"$error":"#N/A"},{"$error":"#N/A"},null,null,null,null,"Four of a Kind",null,null,null,{"$error":"#N/A"},null,{"$error":"#N/A"},null,null,null,null,"Full House",null,null,null,{"$error":"#N/A"},null,{"$error":"#N/A"},null,null,null,null,"Flush",null,null,null,{"$error":"#N/A"},null,{"$error":"#N/A"},null,null,null,null,"Straight",null,null,null,{"$error":"#N/A"},{"$error":"#N/A"},{"$error":"#N/A"},null,null,null,null,"Three of a Kind",null,null,null,{"$error":"#N/A"},null,{"$error":"#N/A"},null,null,null,null,"Two Pair",null,null,null,{"$error":"#N/A"},null,{"$error":"#N/A"},null,null,null,null,"One Pair",null,null,null,{"$error":"#N/A"},null,{"$error":"#N/A"},null,null,null,null,"High Card",null,null,null,{"$error":"#N/A"},null,{"$error":"#N/A"}]
[24,"♣J",0.11997408804467857,50,"C",11,null,null,null,{"$f":"RANDBETWEEN(1,9)*0.1","v":0.9},"raise",null,null,null,null,null,null,null,null,null,null,null,null,null,null,null,null,null,{"$f":"HLOOKUP(AC25,$AC$19:$AG$22,4,0)","v":{"$error":"#N/A"}},{"$f":"HLOOKUP(AD25,$AC$19:$AG$22,4,0)","v":{"$error":"#N/A"}},{"$f":"HLOOKUP(AE25,$AC$19:$AG$22,4,0)","v":{"$error":"#N/A"}},{"$f":"HLOOKUP(AF25,$AC$19:$AG$22,4,0)","v":{"$error":"#N/A"}},{"$f":"HLOOKUP(AG25,$AC$19:$AG$22,4,0)","v":{"$error":"#N/A"}},null,null,null,null,null,null,null,null,null,null,null,null,null,21,{"$f":"AC185","v":3},{"$f":"AD185","v":4},{"$f":"AE185","v":10},{"$f":"AF185","v":11},{"$f":"AG185","v":12},null,{"$f":"INDEX($BL$4:$BL$13,MATCH(1,$BS$224:$BS$233,0))","v":10},null,null,null,null,null,null,null,null,null,null,{"$f":"FS5","v":"High Card"},null,null,null,{"$f":"FW5","v":{"$error":"#N/A"}},0,{"$error":"#N/A"},null,null,null,null,"Royal Flush",null,null,null,0,0,0,null,null,null,null,"Straight Flush",null,null,null,0,0,0,null,null,null,null,"Four of a Kind",null,null,null,0,null,0,null,null,null,null,"Full House",null,null,null,0,null,0,null,null,null,null,"Flush",null,null,null,0,null,0,null,null,null,null,"Straight",null,null,null,0,1,0,null,null,null,null,"Three of a Kind",null,null,null,0,null,0,null,null,null,null,"Two Pair",null,null,null,0,null,0,null,null,null,null,"One Pair",null,null,null,0,null,0,null,null,null,null,"High Card",null,null,null,1,null,1]
[25,"♣Q",0.14745014505122278,49,"C",12,null,null,null,{"$f":"RANDBETWEEN(1,9)*0.1","v":0.2},"he raises if/given he’s bluffed (new info)",null,null,null,null,null,null,null,null,null,null,null,null,null,null,null,null,null,1,2,3,4,5,null,null,null,null,null,null,null,null,null,null,null,null,null,1,{"$f":"AC6","v":{"$error":"#N/A"}},{"$f":"AD6","v":{"$error":"#N/A"}},{"$f":"AE6","v":{"$error":"#N/A"}},{"$f":"AF6","v":{"$error":"#N/A"}},{"$f":"AG6","v":{"$error":"#N/A"}}]
[26,"♣K",0.97424838994616192,4,"C",13,null,null,null,null,null,null,null,null,null,null,null,null,null,null,null,null,null,null,null,null,null,{"$f":"AB21+IF(AB21=1,13+RAND()^3,RAND()^3)","v":0.21572838629119975},{"$error":"#N/A"},{"$error":"#N/A"},4.4650789156172763,10.083435768401946,3.7400562759731892,null,null,null,null,null,null,null,null,null,null,null,null,null,2,{"$f":"AC15","v":{"$error":"#N/A"}},{"$f":"AD15","v":{"$error":"#N/A"}},{"$f":"AE15","v":{"$error":"#N/A"}},{"$f":"AF15","v":{"$error":"#N/A"}},{"$f":"AG15","v":{"$error":"#N/A"}},null,null,null,null,null,null,null,null,null,null,null,3,{"$f":"BX6","v":"Royal Flush"},null,null,null,{"$f":"CB6","v":{"$error":"#N/A"}},{"$error":"#N/A"},{"$error":"#N/A"}]
[27,"♦A",0.64536084285794793,23,"D",1,null,null,null,{"$f":"J25*J23/J24","v":0.02},"What is the chance that he bluffs, given that he’s raised? ",null,null,null,null,null,null,null,null,null,null,null,null,null,null,null,null,null,null,null,null,null,null,null,null,null,null,null,null,null,null,null,null,null,null,null,3,{"$f":"AC24","v":{"$error":"#N/A"}},{"$f":"AD24","v":{"$error":"#N/A"}},{"$f":"AE24","v":{"$error":"#N/A"}},{"$f":"AF24","v":{"$error":"#N/A"}},{"$f":"AG24","v":{"$error":"#N/A"}},null,null,null,null,null,null,null,null,null,null,null,null,{"$f":"CI6","v":"Straight Flush"},null,null,null,{"$f":"CM6","v":{"$error":"#N/A"}},{"$error":"#N/A"},{"$error":"#N/A"}]
[28,"♦2",0.72420070689095839,15,"D",2,null,null,null,null,null,null,null,null,null,null,null,null,null,null,null,null,null,null,null,null,null,null,{"$f":"RANK(AC35,$AC$35:$AG$35,1)","v":{"$error":"#N/A"}},{"$f":"RANK(AD35,$AC$35:$AG$35,1)","v":{"$error":"#N/A"}},{"$f":"RANK(AE35,$AC$35:$AG$35,1)","v":{"$error":"#N/A"}},{"$f":"RANK(AF35,$AC$35:$AG$35,1)","v":{"$error":"#N/A"}},{"$f":"RANK(AG35,$AC$35:$AG$35,1)","v":{"$error":"#N/A"}},null,null,null,null,null,null,null,null,null,null,null,null,null,4,{"$f":"AC33","v":{"$error":"#N/A"}},{"$f":"AD33","v":{"$error":"#N/A"}},{"$f":"AE33","v":{"$error":"#N/A"}},{"$f":"AF33","v":{"$error":"#N/A"}},{"$f":"AG33","v":{"$error":"#N/A"}},null,null,null,null,null,null,null,null,null,null,null,null,{"$f":"CT6","v":"Four of a Kind"},null,null,null,{"$f":"CX6","v":{"$error":"#N/A"}},0,{"$error":"#N/A"}]
[29,"♦3",0.45440095235129208,33,"D",3,null,4,"quizzes",{"$f":"RANDBETWEEN(1,9)*0.1","v":0.1},"bluff",null,null,null,null,null,null,null,null,null,null,null,null,null,null,null,null,null,{"$f":"[0]!Player11","v":0},{"$f":"[0]!Player12","v":0},{"$f":"$K$1","v":"♣4"},{"$f":"$M$1","v":"♣J"},{"$f":"$N$1","v":"♣Q"},null,null,null,null,null,null,null,null,null,null,null,null,null,5,{"$f":"AC42","v":{"$error":"#N/A"}},{"$f":"AD42","v":{"$error":"#N/A"}},{"$f":"AE42","v":{"$error":"#N/A"}},{"$f":"AF42","v":{"$error":"#N/A"}},{"$f":"AG42","v":{"$error":"#N/A"}},null,null,null,null,null,null,null,null,null,null,null,null,{"$f":"DE6","v":"Full House"},null,null,null,{"$f":"DI6","v":{"$error":"#N/A"}},0,{"$error":"#N/A"}]
[30,"♦4",0.45673608873597904,32,"D",4,null,null,null,null,null,null,null,null,null,null,null,null,null,null,null,null,null,null,null,null,null,null,{"$f":"VLOOKUP(AC29,$B$1:$F$52,5,0)","v":{"$error":"#N/A"}},{"$f":"VLOOKUP(AD29,$B$1:$F$52,5,0)","v":{"$error":"#N/A"}},{"$f":"VLOOKUP(AE29,$B$1:$F$52,5,0)","v":4},{"$f":"VLOOKUP(AF29,$B$1:$F$52,5,0)","v":11},{"$f":"VLOOKUP(AG29,$B$1:$F$52,5,0)","v":12},null,null,null,null,null,null,null,null,null,null,null,null,null,6,{"$f":"AC51","v":{"$error":"#N/A"}},{"$f":"AD51","v":{"$error":"#N/A"}},{"$f":"AE51","v":{"$error":"#N/A"}},{"$f":"AF51","v":{"$error":"#N/A"}},{"$f":"AG51","v":{"$error":"#N/A"}},null,null,null,null,null,null,null,null,null,null,null,null,{"$f":"DP6","v":"Flush"},null,null,null,{"$f":"DT6","v":{"$error":"#N/A"}},0,{"$error":"#N/A"}]
[31,"♦5",0.44204253497420365,34,"D",5,null,null,null,{"$f":"RANDBETWEEN(1,9)*0.1","v":0.70000000000000007},"he raises if/given he’s bluffed (new info)",null,null,null,null,null,null,null,null,null,null,null,null,null,null,null,null,null,{"$f":"VLOOKUP(AC29,$B$1:$F$52,4,0)","v":{"$error":"#N/A"}},{"$f":"VLOOKUP(AD29,$B$1:$F$52,4,0)","v":{"$error":"#N/A"}},{"$f":"VLOOKUP(AE29,$B$1:$F$52,4,0)","v":"C"},{"$f":"VLOOKUP(AF29,$B$1:$F$52,4,0)","v":"C"},{"$f":"VLOOKUP(AG29,$B$1:$F$52,4,0)","v":"C"},null,null,null,null,null,null,null,null,null,null,null,null,null,7,{"$f":"AC60","v":{"$error":"#N/A"}},{"$f":"AD60","v":{"$error":"#N/A"}},{"$f":"AE60","v":{"$error":"#N/A"}},{"$f":"AF60","v":{"$error":"#N/A"}},{"$f":"AG60","v":{"$error":"#N/A"}},null,null,null,null,null,null,null,null,null,null,null,null,{"$f":"EA6","v":"Straight"},null,null,null,{"$f":"EE6","v":{"$error":"#N/A"}},{"$error":"#N/A"},{"$error":"#N/A"}]
[32,"♦6",0.29428597146476954,42,"D",6,null,null,null,{"$f":"RANDBETWEEN(1,9)*0.1","v":0.30000000000000004},"he raises if/given he’s not bluffed ",null,null,null,null,null,null,null,null,null,null,null,null,null,null,null,null,null,{"$f":"HLOOKUP(AC34,$AC$28:$AG$31,3,0)","v":{"$error":"#N/A"}},{"$f":"HLOOKUP(AD34,$AC$28:$AG$31,3,0)","v":{"$error":"#N/A"}},{"$f":"HLOOKUP(AE34,$AC$28:$AG$31,3,0)","v":{"$error":"#N/A"}},{"$f":"HLOOKUP(AF34,$AC$28:$AG$31,3,0)","v":{"$error":"#N/A"}},{"$f":"HLOOKUP(AG34,$AC$28:$AG$31,3,0)","v":{"$error":"#N/A"}},null,null,null,null,null,null,null,null,null,null,null,null,null,8,{"$f":"AC69","v":{"$error":"#N/A"}},{"$f":"AD69","v":{"$error":"#N/A"}},{"$f":"AE69","v":{"$error":"#N/A"}},{"$f":"AF69","v":{"$error":"#N/A"}},{"$f":"AG69","v":{"$error":"#N/A"}},null,null,null,null,null,null,null,null,null,null,null,null,{"$f":"EL6","v":"Three of a Kind"},null,null,null,{"$f":"EP6","v":{"$error":"#N/A"}},0,{"$error":"#N/A"}]
[33,"♦7",0.18920047034914023,{"$f":"IF(OR($AC$2=B33,$AD$2=B33),1,RANK(C33,$C$1:$C$52))","v":46},"D",7,null,null,null,{"$f":"J31*J29/(J31*J29+J32*(1-J29))","v":0.20588235294117643},"What is the chance that he bluffs, given that he’s raised? ",null,null,null,null,null,null,null,null,null,null,null,null,null,null,null,null,null,{"$f":"HLOOKUP(AC34,$AC$28:$AG$31,4,0)","v":{"$error":"#N/A"}},{"$f":"HLOOKUP(AD34,$AC$28:$AG$31,4,0)","v":{"$error":"#N/A"}},{"$f":"HLOOKUP(AE34,$AC$28:$AG$31,4,0)","v":{"$error":"#N/A"}},{"$f":"HLOOKUP(AF34,$AC$28:$AG$31,4,0)","v":{"$error":"#N/A"}},{"$f":"HLOOKUP(AG34,$AC$28:$AG$31,4,0)","v":{"$error":"#N/A"}},null,null,null,null,null,null,null,null,null,null,null,null,null,9,{"$f":"AC78","v":{"$error":"#N/A"}},{"$f":"AD78","v":{"$error":"#N/A"}},{"$f":"AE78","v":{"$error":"#N/A"}},{"$f":"AF78","v":{"$error":"#N/A"}},{"$f":"AG78","v":{"$error":"#N/A"}},null,null,null,null,null,null,null,null,null,null,null,null,{"$f":"EW6","v":"Two Pair"},null,null,null,{"$f":"FA6","v":{"$error":"#N/A"}},0,{"$error":"#N/A"}]
[34,"♦8",0.92320768495541006,8,"D",8,null,null,null,null,null,null,null,null,null,null,null,null,null,null,null,null,null,null,null,null,null,null,1,2,3,4,5,null,null,null,null,null,null,null,null,null,null,null,null,null,10,{"$f":"AC87","v":{"$error":"#N/A"}},{"$f":"AD87","v":{"$error":"#N/A"}},{"$f":"AE87","v":{"$error":"#N/A"}},{"$f":"AF87","v":{"$error":"#N/A"}},{"$f":"AG87","v":{"$error":"#N/A"}},null,null,null,null,null,null,null,null,null,null,null,null,{"$f":"FH6","v":"One Pair"},null,null,null,{"$f":"FL6","v":{"$error":"#N/A"}},0,{"$error":"#N/A"}]
[35,"♦9",0.38790214874023554,37,"D",9,null,null,null,null,null,null,null,null,null,null,null,null,null,null,null,null,null,null,null,null,null,{"$f":"AB30+IF(AB30=1,13+RAND()^3,RAND()^3)","v":0.67567281440644555},{"$error":"#N/A"},{"$error":"#N/A"},4.0278674248216646,11.063807197997873,12.218105140568239,null,null,null,null,null,null,null,null,null,null,null,null,null,11,{"$f":"AC96","v":{"$error":"#N/A"}},{"$f":"AD96","v":{"$error":"#N/A"}},{"$f":"AE96","v":{"$error":"#N/A"}},{"$f":"AF96","v":{"$error":"#N/A"}},{"$f":"AG96","v":{"$error":"#N/A"}},null,null,null,null,null,null,null,null,null,null,null,null,{"$f":"FS6","v":"High Card"},null,null,null,{"$f":"FW6","v":{"$error":"#N/A"}},0,{"$error":"#N/A"}]
[36,"♦10",0.56176912208741847,29,"D",10,null,null,null,null,null,null,null,null,null,null,null,null,null,null,null,0.06,null,null,null,null,null,null,null,null,null,null,null,null,null,null,null,null,null,null,null,null,null,null,null,null,12,{"$f":"AC105","v":{"$error":"#N/A"}},{"$f":"AD105","v":{"$error":"#N/A"}},{"$f":"AE105","v":{"$error":"#N/A"}},{"$f":"AF105","v":{"$error":"#N/A"}},{"$f":"AG105","v":{"$error":"#N/A"}}]
[37,"♦J",0.94342982082169558,6,"D",11,null,null,null,null,null,null,null,null,null,null,null,null,null,null,null,0.06,null,null,null,null,null,null,{"$f":"RANK(AC44,$AC$44:$AG$44,1)","v":{"$error":"#N/A"}},{"$f":"RANK(AD44,$AC$44:$AG$44,1)","v":{"$error":"#N/A"}},{"$f":"RANK(AE44,$AC$44:$AG$44,1)","v":{"$error":"#N/A"}},{"$f":"RANK(AF44,$AC$44:$AG$44,1)","v":{"$error":"#N/A"}},{"$f":"RANK(AG44,$AC$44:$AG$44,1)","v":{"$error":"#N/A"}},null,null,null,null,null,null,null,null,null,null,null,null,null,13,{"$f":"AC114","v":{"$error":"#N/A"}},{"$f":"AD114","v":{"$error":"#N/A"}},{"$f":"AE114","v":{"$error":"#N/A"}},{"$f":"AF114","v":{"$error":"#N/A"}},{"$f":"AG114","v":{"$error":"#N/A"}},null,null,null,null,null,null,null,null,null,null,null,4,{"$f":"BX7","v":"Royal Flush"},null,null,null,{"$f":"CB7","v":{"$error":"#N/A"}},{"$error":"#N/A"},{"$error":"#N/A"}]
[38,"♦Q",0.67298692140358785,19,"D",12,null,5,null,null,null,null,null,null,null,null,null,null,null,null,null,null,null,null,null,null,null,null,{"$f":"[0]!Player11","v":0},{"$f":"[0]!Player12","v":0},{"$f":"$K$1","v":"♣4"},{"$f":"$M$1","v":"♣J"},{"$f":"$O$1","v":"♥3"},null,null,null,null,null,null,null,null,null,null,null,null,null,14,{"$f":"AC123","v":{"$error":"#N/A"}},{"$f":"AD123","v":{"$error":"#N/A"}},{"$f":"AE123","v":{"$error":"#N/A"}},{"$f":"AF123","v":{"$error":"#N/A"}},{"$f":"AG123","v":{"$error":"#N/A"}},null,null,null,null,null,null,null,null,null,null,null,null,{"$f":"CI7","v":"Straight Flush"},null,null,null,{"$f":"CM7","v":{"$error":"#N/A"}},{"$error":"#N/A"},{"$error":"#N/A"}]
[39,"♦K",0.19893110463871844,44,"D",13,null,null,null,null,null,null,null,null,null,null,null,null,null,null,null,null,null,null,null,null,null,null,{"$f":"VLOOKUP(AC38,$B$1:$F$52,5,0)","v":{"$error":"#N/A"}},{"$f":"VLOOKUP(AD38,$B$1:$F$52,5,0)","v":{"$error":"#N/A"}},{"$f":"VLOOKUP(AE38,$B$1:$F$52,5,0)","v":4},{"$f":"VLOOKUP(AF38,$B$1:$F$52,5,0)","v":11},{"$f":"VLOOKUP(AG38,$B$1:$F$52,5,0)","v":3},null,null,null,null,null,null,null,null,null,null,null,null,null,15,{"$f":"AC132","v":{"$error":"#N/A"}},{"$f":"AD132","v":{"$error":"#N/A"}},{"$f":"AE132","v":{"$error":"#N/A"}},{"$f":"AF132","v":{"$error":"#N/A"}},{"$f":"AG132","v":{"$error":"#N/A"}},null,null,null,null,null,null,null,null,null,null,null,null,{"$f":"CT7","v":"Four of a Kind"},null,null,null,{"$f":"CX7","v":{"$error":"#N/A"}},0,{"$error":"#N/A"}]
[40,"♥A",0.60252025885954164,25,"H",1,null,null,null,null,null,null,null,null,null,null,null,null,null,null,null,null,null,null,null,null,null,null,{"$f":"VLOOKUP(AC38,$B$1:$F$52,4,0)","v":{"$error":"#N/A"}},{"$f":"VLOOKUP(AD38,$B$1:$F$52,4,0)","v":{"$error":"#N/A"}},{"$f":"VLOOKUP(AE38,$B$1:$F$52,4,0)","v":"C"},{"$f":"VLOOKUP(AF38,$B$1:$F$52,4,0)","v":"C"},{"$f":"VLOOKUP(AG38,$B$1:$F$52,4,0)","v":"H"},null,null,null,null,null,null,null,null,null,null,null,null,null,16,{"$f":"AC141","v":{"$error":"#N/A"}},{"$f":"AD141","v":{"$error":"#N/A"}},{"$f":"AE141","v":{"$error":"#N/A"}},{"$f":"AF141","v":{"$error":"#N/A"}},{"$f":"AG141","v":{"$error":"#N/A"}},null,null,null,null,null,null,null,null,null,null,null,null,{"$f":"DE7","v":"Full House"},null,null,null,{"$f":"DI7","v":{"$error":"#N/A"}},0,{"$error":"#N/A"}]
[41,"♥2",0.90069429301817772,9,"H",2,null,null,null,null,null,null,null,null,null,null,null,null,null,null,null,null,null,null,null,null,null,null,{"$f":"HLOOKUP(AC43,$AC$37:$AG$40,3,0)","v":{"$error":"#N/A"}},{"$f":"HLOOKUP(AD43,$AC$37:$AG$40,3,0)","v":{"$error":"#N/A"}},{"$f":"HLOOKUP(AE43,$AC$37:$AG$40,3,0)","v":{"$error":"#N/A"}},{"$f":"HLOOKUP(AF43,$AC$37:$AG$40,3,0)","v":{"$error":"#N/A"}},{"$f":"HLOOKUP(AG43,$AC$37:$AG$40,3,0)","v":{"$error":"#N/A"}},null,null,null,null,null,null,null,null,null,null,null,null,null,17,{"$f":"AC150","v":{"$error":"#N/A"}},{"$f":"AD150","v":{"$error":"#N/A"}},{"$f":"AE150","v":{"$error":"#N/A"}},{"$f":"AF150","v":{"$error":"#N/A"}},{"$f":"AG150","v":{"$error":"#N/A"}},null,null,null,null,null,null,null,null,null,null,null,null,{"$f":"DP7","v":"Flush"},null,null,null,{"$f":"DT7","v":{"$error":"#N/A"}},0,{"$error":"#N/A"}]
[42,"♥3",0.16316687359045057,48,"H",3,null,null,null,null,null,null,null,null,null,null,null,null,null,null,null,null,null,null,null,null,null,null,{"$f":"HLOOKUP(AC43,$AC$37:$AG$40,4,0)","v":{"$error":"#N/A"}},{"$f":"HLOOKUP(AD43,$AC$37:$AG$40,4,0)","v":{"$error":"#N/A"}},{"$f":"HLOOKUP(AE43,$AC$37:$AG$40,4,0)","v":{"$error":"#N/A"}},{"$f":"HLOOKUP(AF43,$AC$37:$AG$40,4,0)","v":{"$error":"#N/A"}},{"$f":"HLOOKUP(AG43,$AC$37:$AG$40,4,0)","v":{"$error":"#N/A"}},null,null,null,null,null,null,null,null,null,null,null,null,null,18,{"$f":"AC159","v":{"$error":"#N/A"}},{"$f":"AD159","v":{"$error":"#N/A"}},{"$f":"AE159","v":{"$error":"#N/A"}},{"$f":"AF159","v":{"$error":"#N/A"}},{"$f":"AG159","v":{"$error":"#N/A"}},null,null,null,null,null,null,null,null,null,null,null,null,{"$f":"EA7","v":"Straight"},null,null,null,{"$f":"EE7","v":{"$error":"#N/A"}},{"$error":"#N/A"},{"$error":"#N/A"}]
[43,"♥4",0.99439059668222229,1,"H",4,null,null,null,null,null,null,null,null,null,null,null,null,null,null,null,null,null,null,null,null,null,null,1,2,3,4,5,null,null,null,null,null,null,null,null,null,null,null,null,null,19,{"$f":"AC168","v":{"$error":"#N/A"}},{"$f":"AD168","v":{"$error":"#N/A"}},{"$f":"AE168","v":{"$error":"#N/A"}},{"$f":"AF168","v":{"$error":"#N/A"}},{"$f":"AG168","v":{"$error":"#N/A"}},null,null,null,null,null,null,null,null,null,null,null,null,{"$f":"EL7","v":"Three of a Kind"},null,null,null,{"$f":"EP7","v":{"$error":"#N/A"}},0,{"$error":"#N/A"}]
[44,"♥5",0.66258561316204345,22,"H",5,null,null,null,null,null,null,null,null,null,null,null,null,null,null,null,null,null,null,null,null,null,{"$f":"AB39+IF(AB39=1,13+RAND()^3,RAND()^3)","v":5.1321855045541745E-3},{"$error":"#N/A"},{"$error":"#N/A"},4.069979835664153,11.000008539318248,3.0414749220703303,null,null,null,null,null,null,null,null,null,null,null,null,null,20,{"$f":"AC177","v":{"$error":"#N/A"}},{"$f":"AD177","v":{"$error":"#N/A"}},{"$f":"AE177","v":{"$error":"#N/A"}},{"$f":"AF177","v":{"$error":"#N/A"}},{"$f":"AG177","v":{"$error":"#N/A"}},null,null,null,null,null,null,null,null,null,null,null,null,{"$f":"EW7","v":"Two Pair"},null,null,null,{"$f":"FA7","v":{"$error":"#N/A"}},0,{"$error":"#N/A"}]
[45,"♥6",0.46954551268997324,30,"H",6,null,null,null,null,null,null,null,null,null,null,null,null,null,null,null,null,null,null,null,null,null,null,null,null,null,null,null,null,null,null,null,null,null,null,null,null,null,null,null,null,21,{"$f":"AC186","v":"H"},{"$f":"AD186","v":"C"},{"$f":"AE186","v":"S"},{"$f":"AF186","v":"C"},{"$f":"AG186","v":"C"},null,null,null,null,null,null,null,null,null,null,null,null,{"$f":"FH7","v":"One Pair"},null,null,null,{"$f":"FL7","v":{"$error":"#N/A"}},0,{"$error":"#N/A"}]
[46,"♥7",0.34778983708937183,40,"H",7,null,null,null,null,null,null,null,null,null,null,null,null,null,null,null,null,null,null,null,null,null,null,{"$f":"RANK(AC53,$AC$53:$AG$53,1)","v":{"$error":"#N/A"}},{"$f":"RANK(AD53,$AC$53:$AG$53,1)","v":{"$error":"#N/A"}},{"$f":"RANK(AE53,$AC$53:$AG$53,1)","v":{"$error":"#N/A"}},{"$f":"RANK(AF53,$AC$53:$AG$53,1)","v":{"$error":"#N/A"}},{"$f":"RANK(AG53,$AC$53:$AG$53,1)","v":{"$error":"#N/A"}},null,null,null,null,null,null,null,null,null,null,null,null,null,null,null,null,null,null,null,null,null,null,null,null,null,null,null,null,null,null,null,{"$f":"FS7","v":"High Card"},null,null,null,{"$f":"FW7","v":{"$error":"#N/A"}},0,{"$error":"#N/A"}]
[47,"♥8",0.6625930000548832,21,"H",8,null,6,null,null,null,null,null,null,null,null,null,null,null,null,null,null,null,null,null,null,null,null,{"$f":"[0]!Player11","v":0},{"$f":"[0]!Player12","v":0},{"$f":"$K$1","v":"♣4"},{"$f":"$N$1","v":"♣Q"},{"$f":"$O$1","v":"♥3"},null,null,null,null,null,null,null,null,null,null,null,null,null,"Seq","1st","2nd","3rd","4th","5th","Hand","Rank"]
[48,"♥9",0.17920039344455307,47,"H",9,null,null,null,null,null,null,null,null,null,null,null,null,null,null,null,null,null,null,null,null,null,null,{"$f":"VLOOKUP(AC47,$B$1:$F$52,5,0)","v":{"$error":"#N/A"}},{"$f":"VLOOKUP(AD47,$B$1:$F$52,5,0)","v":{"$error":"#N/A"}},{"$f":"VLOOKUP(AE47,$B$1:$F$52,5,0)","v":4},{"$f":"VLOOKUP(AF47,$B$1:$F$52,5,0)","v":12},{"$f":"VLOOKUP(AG47,$B$1:$F$52,5,0)","v":3},null,null,null,null,null,null,null,null,null,null,null,null,null,18,7,8,9,11,1,0,10,null,null,null,null,null,null,null,null,null,5,{"$f":"BX8","v":"Royal Flush"},null,null,null,{"$f":"CB8","v":{"$error":"#N/A"}},{"$error":"#N/A"},{"$error":"#N/A"}]
[49,"♥10",0.89795126785721013,10,"H",10,null,null,null,null,null,null,null,null,null,null,null,null,null,null,null,null,null,null,null,null,null,null,{"$f":"VLOOKUP(AC47,$B$1:$F$52,4,0)","v":{"$error":"#N/A"}},{"$f":"VLOOKUP(AD47,$B$1:$F$52,4,0)","v":{"$error":"#N/A"}},{"$f":"VLOOKUP(AE47,$B$1:$F$52,4,0)","v":"C"},{"$f":"VLOOKUP(AF47,$B$1:$F$52,4,0)","v":"C"},{"$f":"VLOOKUP(AG47,$B$1:$F$52,4,0)","v":"H"},null,null,null,null,null,null,null,null,null,null,null,null,null,20,5,8,9,11,1,0,10,null,null,null,null,null,null,null,null,null,null,{"$f":"CI8","v":"Straight Flush"},null,null,null,{"$f":"CM8","v":{"$error":"#N/A"}},{"$error":"#N/A"},{"$error":"#N/A"}]
[50,"♥J",0.57382982147437711,28,"H",11,null,null,null,null,null,null,null,null,null,null,null,null,null,null,null,null,null,null,null,null,null,null,{"$f":"HLOOKUP(AC52,$AC$46:$AG$49,3,0)","v":{"$error":"#N/A"}},{"$f":"HLOOKUP(AD52,$AC$46:$AG$49,3,0)","v":{"$error":"#N/A"}},{"$f":"HLOOKUP(AE52,$AC$46:$AG$49,3,0)","v":{"$error":"#N/A"}},{"$f":"HLOOKUP(AF52,$AC$46:$AG$49,3,0)","v":{"$error":"#N/A"}},{"$f":"HLOOKUP(AG52,$AC$46:$AG$49,3,0)","v":{"$error":"#N/A"}},null,null,null,null,null,null,null,null,null,null,null,null,null,9,3,8,9,11,1,0,10,null,null,null,null,null,null,null,null,null,null,{"$f":"CT8","v":"Four of a Kind"},null,null,null,{"$f":"CX8","v":{"$error":"#N/A"}},0,{"$error":"#N/A"}]
[51,"♥Q",0.98875149272684426,2,"H",12,null,null,null,null,null,null,null,null,null,null,null,null,null,null,null,null,null,null,null,null,null,null,{"$f":"HLOOKUP(AC52,$AC$46:$AG$49,4,0)","v":{"$error":"#N/A"}},{"$f":"HLOOKUP(AD52,$AC$46:$AG$49,4,0)","v":{"$error":"#N/A"}},{"$f":"HLOOKUP(AE52,$AC$46:$AG$49,4,0)","v":{"$error":"#N/A"}},{"$f":"HLOOKUP(AF52,$AC$46:$AG$49,4,0)","v":{"$error":"#N/A"}},{"$f":"HLOOKUP(AG52,$AC$46:$AG$49,4,0)","v":{"$error":"#N/A"}},null,null,null,null,null,null,null,null,null,null,null,null,null,16,5,7,9,11,1,0,10,null,null,null,null,null,null,null,null,null,null,{"$f":"DE8","v":"Full House"},null,null,null,{"$f":"DI8","v":{"$error":"#N/A"}},0,{"$error":"#N/A"}]
[52,"♥K",0.67843550288080201,17,"H",13,null,null,null,null,null,null,null,null,null,null,null,null,null,null,null,null,null,null,null,null,null,null,1,2,3,4,5,null,null,null,null,null,null,null,null,null,null,null,null,null,2,3,7,9,11,1,0,10,null,null,null,null,null,null,null,null,null,null,{"$f":"DP8","v":"Flush"},null,null,null,{"$f":"DT8","v":{"$error":"#N/A"}},0,{"$error":"#N/A"}]
[null,null,null,null,null,null,null,null,null,null,null,null,null,null,null,null,null,null,null,null,null,null,null,null,null,null,null,{"$f":"AB48+IF(AB48=1,13+RAND()^3,RAND()^3)","v":7.0820034552774623E-3},{"$error":"#N/A"},{"$error":"#N/A"},4.3164009799700604,12.906745466157,3.6626286486955966,null,null,null,null,null,null,null,null,null,null,null,null,null,7,3,5,9,11,1,0,10,null,null,null,null,null,null,null,null,null,null,{"$f":"EA8","v":"Straight"},null,null,null,{"$f":"EE8","v":{"$error":"#N/A"}},{"$error":"#N/A"},{"$error":"#N/A"}]
[null,null,null,null,null,null,null,null,null,null,null,null,null,null,null,null,null,null,null,null,null,null,null,null,null,null,null,null,null,null,null,null,null,null,null,null,null,null,null,null,null,null,null,null,null,null,21,5,7,8,11,1,0,10,null,null,null,null,null,null,null,null,null,null,{"$f":"EL8","v":"Three of a Kind"},null,null,null,{"$f":"EP8","v":{"$error":"#N/A"}},0,{"$error":"#N/A"}]
[null,null,null,null,null,null,null,null,null,null,null,null,null,null,null,null,null,null,null,null,null,null,null,null,null,null,null,null,{"$f":"RANK(AC62,$AC$62:$AG$62,1)","v":{"$error":"#N/A"}},{"$f":"RANK(AD62,$AC$62:$AG$62,1)","v":{"$error":"#N/A"}},{"$f":"RANK(AE62,$AC$62:$AG$62,1)","v":{"$error":"#N/A"}},{"$f":"RANK(AF62,$AC$62:$AG$62,1)","v":{"$error":"#N/A"}},{"$f":"RANK(AG62,$AC$62:$AG$62,1)","v":{"$error":"#N/A"}},null,null,null,null,null,null,null,null,null,null,null,null,null,13,3,7,8,11,1,0,10,null,null,null,null,null,null,null,null,null,null,{"$f":"EW8","v":"Two Pair"},null,null,null,{"$f":"FA8","v":{"$error":"#N/A"}},0,{"$error":"#N/A"}]
[null,null,null,null,null,null,null,7,null,null,null,null,null,null,null,null,null,null,null,null,null,null,null,null,null,null,null,null,{"$f":"[0]!Player11","v":0},{"$f":"[0]!Player12","v":0},{"$f":"$L$1","v":"♠10"},{"$f":"$M$1","v":"♣J"},{"$f":"$N$1","v":"♣Q"},null,null,null,null,null,null,null,null,null,null,null,null,null,15,3,5,8,11,1,0,10,null,null,null,null,null,null,null,null,null,null,{"$f":"FH8","v":"One Pair"},null,null,null,{"$f":"FL8","v":{"$error":"#N/A"}},0,{"$error":"#N/A"}]
[null,null,null,null,null,null,null,null,null,null,null,null,null,null,null,null,null,null,null,null,null,null,null,null,null,null,null,null,{"$f":"VLOOKUP(AC56,$B$1:$F$52,5,0)","v":{"$error":"#N/A"}},{"$f":"VLOOKUP(AD56,$B$1:$F$52,5,0)","v":{"$error":"#N/A"}},{"$f":"VLOOKUP(AE56,$B$1:$F$52,5,0)","v":10},{"$f":"VLOOKUP(AF56,$B$1:$F$52,5,0)","v":11},{"$f":"VLOOKUP(AG56,$B$1:$F$52,5,0)","v":12},null,null,null,null,null,null,null,null,null,null,null,null,null,11,3,5,7,11,1,0,10,null,null,null,null,null,null,null,null,null,null,{"$f":"FS8","v":"High Card"},null,null,null,{"$f":"FW8","v":{"$error":"#N/A"}},0,{"$error":"#N/A"}]
[null,null,null,null,null,null,null,null,null,null,null,null,null,null,null,null,null,null,null,null,null,null,null,null,null,null,null,null,{"$f":"VLOOKUP(AC56,$B$1:$F$52,4,0)","v":{"$error":"#N/A"}},{"$f":"VLOOKUP(AD56,$B$1:$F$52,4,0)","v":{"$error":"#N/A"}},{"$f":"VLOOKUP(AE56,$B$1:$F$52,4,0)","v":"S"},{"$f":"VLOOKUP(AF56,$B$1:$F$52,4,0)","v":"C"},{"$f":"VLOOKUP(AG56,$B$1:$F$52,4,0)","v":"C"},null,null,null,null,null,null,null,null,null,null,null,null,null,19,5,7,8,9,1,0,10]
[null,null,null,null,null,null,null,null,null,null,null,null,null,null,null,null,null,null,null,null,null,null,null,null,null,null,null,null,{"$f":"HLOOKUP(AC61,$AC$55:$AG$58,3,0)","v":{"$error":"#N/A"}},{"$f":"HLOOKUP(AD61,$AC$55:$AG$58,3,0)","v":{"$error":"#N/A"}},{"$f":"HLOOKUP(AE61,$AC$55:$AG$58,3,0)","v":{"$error":"#N/A"}},{"$f":"HLOOKUP(AF61,$AC$55:$AG$58,3,0)","v":{"$error":"#N/A"}},{"$f":"HLOOKUP(AG61,$AC$55:$AG$58,3,0)","v":{"$error":"#N/A"}},null,null,null,null,null,null,null,null,null,null,null,null,null,6,3,7,8,9,1,0,10,null,null,null,null,null,null,null,null,null,6,{"$f":"BX9","v":"Royal Flush"},null,null,null,{"$f":"CB9","v":{"$error":"#N/A"}},{"$error":"#N/A"},{"$error":"#N/A"}]
[null,null,null,null,null,null,null,null,null,null,null,null,null,null,null,null,null,null,null,null,null,null,null,null,null,null,null,null,{"$f":"HLOOKUP(AC61,$AC$55:$AG$58,4,0)","v":{"$error":"#N/A"}},{"$f":"HLOOKUP(AD61,$AC$55:$AG$58,4,0)","v":{"$error":"#N/A"}},{"$f":"HLOOKUP(AE61,$AC$55:$AG$58,4,0)","v":{"$error":"#N/A"}},{"$f":"HLOOKUP(AF61,$AC$55:$AG$58,4,0)","v":{"$error":"#N/A"}},{"$f":"HLOOKUP(AG61,$AC$55:$AG$58,4,0)","v":{"$error":"#N/A"}},null,null,null,null,null,null,null,null,null,null,null,null,null,10,3,5,8,9,1,0,10,null,null,null,null,null,null,null,null,null,null,{"$f":"CI9","v":"Straight Flush"},null,null,null,{"$f":"CM9","v":{"$error":"#N/A"}},{"$error":"#N/A"},{"$error":"#N/A"}]
[null,null,null,null,null,null,null,null,null,null,null,null,null,null,null,null,null,null,null,null,null,null,null,null,null,null,null,null,1,2,3,4,5,null,null,null,null,null,null,null,null,null,null,null,null,null,4,3,5,7,9,1,0,10,null,null,null,null,null,null,null,null,null,null,{"$f":"CT9","v":"Four of a Kind"},null,null,null,{"$f":"CX9","v":{"$error":"#N/A"}},0,{"$error":"#N/A"}]
[null,null,null,null,null,null,null,null,null,null,null,null,null,null,null,null,null,null,null,null,null,null,null,null,null,null,null,{"$f":"AB57+IF(AB57=1,13+RAND()^3,RAND()^3)","v":1.9782073380202648E-2},{"$error":"#N/A"},{"$error":"#N/A"},10.000000034928767,11.974428503020658,12.181785923359962,null,null,null,null,null,null,null,null,null,null,null,null,null,14,3,5,7,8,1,0,10,null,null,null,null,null,null,null,null,null,null,{"$f":"DE9","v":"Full House"},null,null,null,{"$f":"DI9","v":{"$error":"#N/A"}},0,{"$error":"#N/A"}]
[null,null,null,null,null,null,null,null,null,null,null,null,null,null,null,null,null,null,null,null,null,null,null,null,null,null,null,null,null,null,null,null,null,null,null,null,null,null,null,null,null,null,null,null,null,null,17,5,7,8,9,11,0,10,null,null,null,null,null,null,null,null,null,null,{"$f":"DP9","v":"Flush"},null,null,null,{"$f":"DT9","v":{"$error":"#N/A"}},0,{"$error":"#N/A"}]
[null,null,null,null,null,null,null,null,null,null,null,null,null,null,null,null,null,null,null,null,null,null,null,null,null,null,null,null,{"$f":"RANK(AC71,$AC$71:$AG$71,1)","v":{"$error":"#N/A"}},{"$f":"RANK(AD71,$AC$71:$AG$71,1)","v":{"$error":"#N/A"}},{"$f":"RANK(AE71,$AC$71:$AG$71,1)","v":{"$error":"#N/A"}},{"$f":"RANK(AF71,$AC$71:$AG$71,1)","v":{"$error":"#N/A"}},{"$f":"RANK(AG71,$AC$71:$AG$71,1)","v":{"$error":"#N/A"}},null,null,null,null,null,null,null,null,null,null,null,null,null,3,3,7,8,9,11,0,10,null,null,null,null,null,null,null,null,null,null,{"$f":"EA9","v":"Straight"},null,null,null,{"$f":"EE9","v":{"$error":"#N/A"}},{"$error":"#N/A"},{"$error":"#N/A"}]
[null,null,null,null,null,null,null,8,null,null,null,null,null,null,null,null,null,null,null,null,null,null,null,null,null,null,null,null,{"$f":"[0]!Player11","v":0},{"$f":"[0]!Player12","v":0},{"$f":"$L$1","v":"♠10"},{"$f":"$M$1","v":"♣J"},{"$f":"$O$1","v":"♥3"},null,null,null,null,null,null,null,null,null,null,null,null,null,8,3,5,8,9,11,0,10,null,null,null,null,null,null,null,null,null,null,{"$f":"EL9","v":"Three of a Kind"},null,null,null,{"$f":"EP9","v":{"$error":"#N/A"}},0,{"$error":"#N/A"}]
[null,null,null,null,null,null,null,null,null,null,null,null,null,null,null,null,null,null,null,null,null,null,null,null,null,null,null,null,{"$f":"VLOOKUP(AC65,$B$1:$F$52,5,0)","v":{"$error":"#N/A"}},{"$f":"VLOOKUP(AD65,$B$1:$F$52,5,0)","v":{"$error":"#N/A"}},{"$f":"VLOOKUP(AE65,$B$1:$F$52,5,0)","v":10},{"$f":"VLOOKUP(AF65,$B$1:$F$52,5,0)","v":11},{"$f":"VLOOKUP(AG65,$B$1:$F$52,5,0)","v":3},null,null,null,null,null,null,null,null,null,null,null,null,null,1,3,5,7,9,11,0,10,null,null,null,null,null,null,null,null,null,null,{"$f":"EW9","v":"Two Pair"},null,null,null,{"$f":"FA9","v":{"$error":"#N/A"}},0,{"$error":"#N/A"}]
[null,null,null,null,null,null,null,null,null,null,null,null,null,null,null,null,null,null,null,null,null,null,null,null,null,null,null,null,{"$f":"VLOOKUP(AC65,$B$1:$F$52,4,0)","v":{"$error":"#N/A"}},{"$f":"VLOOKUP(AD65,$B$1:$F$52,4,0)","v":{"$error":"#N/A"}},{"$f":"VLOOKUP(AE65,$B$1:$F$52,4,0)","v":"S"},{"$f":"VLOOKUP(AF65,$B$1:$F$52,4,0)","v":"C"},{"$f":"VLOOKUP(AG65,$B$1:$F$52,4,0)","v":"H"},null,null,null,null,null,null,null,null,null,null,null,null,null,12,3,5,7,8,11,0,10,null,null,null,null,null,null,null,null,null,null,{"$f":"FH9","v":"One Pair"},null,null,null,{"$f":"FL9","v":{"$error":"#N/A"}},0,{"$error":"#N/A"}]
[null,null,null,null,null,null,null,null,null,null,null,null,null,null,null,null,null,null,null,null,null,null,null,null,null,null,null,null,{"$f":"HLOOKUP(AC70,$AC$64:$AG$67,3,0)","v":{"$error":"#N/A"}},{"$f":"HLOOKUP(AD70,$AC$64:$AG$67,3,0)","v":{"$error":"#N/A"}},{"$f":"HLOOKUP(AE70,$AC$64:$AG$67,3,0)","v":{"$error":"#N/A"}},{"$f":"HLOOKUP(AF70,$AC$64:$AG$67,3,0)","v":{"$error":"#N/A"}},{"$f":"HLOOKUP(AG70,$AC$64:$AG$67,3,0)","v":{"$error":"#N/A"}},null,null,null,null,null,null,null,null,null,null,null,null,null,5,3,5,7,8,9,0,10,null,null,null,null,null,null,null,null,null,null,{"$f":"FS9","v":"High Card"},null,null,null,{"$f":"FW9","v":{"$error":"#N/A"}},0,{"$error":"#N/A"}]
[null,null,null,null,null,null,null,null,null,null,null,null,null,null,null,null,null,null,null,null,null,null,null,null,null,null,null,null,{"$f":"HLOOKUP(AC70,$AC$64:$AG$67,4,0)","v":{"$error":"#N/A"}},{"$f":"HLOOKUP(AD70,$AC$64:$AG$67,4,0)","v":{"$error":"#N/A"}},{"$f":"HLOOKUP(AE70,$AC$64:$AG$67,4,0)","v":{"$error":"#N/A"}},{"$f":"HLOOKUP(AF70,$AC$64:$AG$67,4,0)","v":{"$error":"#N/A"}},{"$f":"HLOOKUP(AG70,$AC$64:$AG$67,4,0)","v":{"$error":"#N/A"}}]
[null,null,null,null,null,null,null,null,null,null,null,null,null,null,null,null,null,null,null,null,null,null,null,null,null,null,null,null,1,2,3,4,5,null,null,null,null,null,null,null,null,null,null,null,null,null,null,null,null,null,null,null,null,null,null,null,null,null,null,null,null,null,null,7,{"$f":"BX10","v":"Royal Flush"},null,null,null,{"$f":"CB10","v":{"$error":"#N/A"}},{"$error":"#N/A"},{"$error":"#N/A"}]
[null,null,null,null,null,null,null,null,null,null,null,null,null,null,null,null,null,null,null,null,null,null,null,null,null,null,null,{"$f":"AB66+IF(AB66=1,13+RAND()^3,RAND()^3)","v":1.2504807871842973E-3},{"$error":"#N/A"},{"$error":"#N/A"},10.047148803956912,11.004720528582938,3.1173006481873999,null,null,null,null,null,null,null,null,null,null,null,null,null,null,null,null,null,null,null,null,null,null,null,null,null,null,null,null,null,null,null,{"$f":"CI10","v":"Straight Flush"},null,null,null,{"$f":"CM10","v":{"$error":"#N/A"}},{"$error":"#N/A"},{"$error":"#N/A"}]
[null,null,null,null,null,null,null,null,null,null,null,null,null,null,null,null,null,null,null,null,null,null,null,null,null,null,null,null,null,null,null,null,null,null,null,null,null,null,null,null,null,null,null,null,null,null,null,null,null,null,null,null,null,null,null,null,null,null,null,null,null,null,null,null,{"$f":"CT10","v":"Four of a Kind"},null,null,null,{"$f":"CX10","v":{"$error":"#N/A"}},0,{"$error":"#N/A"}]
[null,null,null,null,null,null,null,null,null,null,null,null,null,null,null,null,null,null,null,null,null,null,null,null,null,null,null,null,{"$f":"RANK(AC80,$AC$80:$AG$80,1)","v":{"$error":"#N/A"}},{"$f":"RANK(AD80,$AC$80:$AG$80,1)","v":{"$error":"#N/A"}},{"$f":"RANK(AE80,$AC$80:$AG$80,1)","v":{"$error":"#N/A"}},{"$f":"RANK(AF80,$AC$80:$AG$80,1)","v":{"$error":"#N/A"}},{"$f":"RANK(AG80,$AC$80:$AG$80,1)","v":{"$error":"#N/A"}},null,null,null,null,null,null,null,null,null,null,null,null,null,null,null,null,null,null,null,null,null,null,null,null,null,null,null,null,null,null,null,{"$f":"DE10","v":"Full House"},null,null,null,{"$f":"DI10","v":{"$error":"#N/A"}},0,{"$error":"#N/A"}]
[null,null,null,null,null,null,null,9,null,null,null,null,null,null,null,null,null,null,null,null,null,null,null,null,null,null,null,null,{"$f":"[0]!Player11","v":0},{"$f":"[0]!Player12","v":0},{"$f":"$L$1","v":"♠10"},{"$f":"$N$1","v":"♣Q"},{"$f":"$O$1","v":"♥3"},null,null,null,null,null,null,null,null,null,null,null,null,null,null,null,null,null,null,null,null,null,null,null,null,null,null,null,null,null,null,null,{"$f":"DP10","v":"Flush"},null,null,null,{"$f":"DT10","v":{"$error":"#N/A"}},0,{"$error":"#N/A"}]
[null,null,null,null,null,null,null,null,null,null,null,null,null,null,null,null,null,null,null,null,null,null,null,null,null,null,null,null,{"$f":"VLOOKUP(AC74,$B$1:$F$52,5,0)","v":{"$error":"#N/A"}},{"$f":"VLOOKUP(AD74,$B$1:$F$52,5,0)","v":{"$error":"#N/A"}},{"$f":"VLOOKUP(AE74,$B$1:$F$52,5,0)","v":10},{"$f":"VLOOKUP(AF74,$B$1:$F$52,5,0)","v":12},{"$f":"VLOOKUP(AG74,$B$1:$F$52,5,0)","v":3},null,null,null,null,null,null,null,null,null,null,null,null,null,null,null,null,null,null,null,null,null,null,null,null,null,null,null,null,null,null,null,{"$f":"EA10","v":"Straight"},null,null,null,{"$f":"EE10","v":{"$error":"#N/A"}},{"$error":"#N/A"},{"$error":"#N/A"}]
[null,null,null,null,null,null,null,null,null,null,null,null,null,null,null,null,null,null,null,null,null,null,null,null,null,null,null,null,{"$f":"VLOOKUP(AC74,$B$1:$F$52,4,0)","v":{"$error":"#N/A"}},{"$f":"VLOOKUP(AD74,$B$1:$F$52,4,0)","v":{"$error":"#N/A"}},{"$f":"VLOOKUP(AE74,$B$1:$F$52,4,0)","v":"S"},{"$f":"VLOOKUP(AF74,$B$1:$F$52,4,0)","v":"C"},{"$f":"VLOOKUP(AG74,$B$1:$F$52,4,0)","v":"H"},null,null,null,null,null,null,null,null,null,null,null,null,null,null,null,null,null,null,null,null,null,null,null,null,null,null,null,null,null,null,null,{"$f":"EL10","v":"Three of a Kind"},null,null,null,{"$f":"EP10","v":{"$error":"#N/A"}},0,{"$error":"#N/A"}]
[null,null,null,null,null,null,null,null,null,null,null,null,null,null,null,null,null,null,null,null,null,null,null,null,null,null,null,null,{"$f":"HLOOKUP(AC79,$AC$73:$AG$76,3,0)","v":{"$error":"#N/A"}},{"$f":"HLOOKUP(AD79,$AC$73:$AG$76,3,0)","v":{"$error":"#N/A"}},{"$f":"HLOOKUP(AE79,$AC$73:$AG$76,3,0)","v":{"$error":"#N/A"}},{"$f":"HLOOKUP(AF79,$AC$73:$AG$76,3,0)","v":{"$error":"#N/A"}},{"$f":"HLOOKUP(AG79,$AC$73:$AG$76,3,0)","v":{"$error":"#N/A"}},null,null,null,null,null,null,null,null,null,null,null,null,null,null,null,null,null,null,null,{"$f":"_xlfn.MODE.MULT(AV78:AZ78)","v":{"$error":"#N/A"}},{"$f":"IF(ISNUMBER(BA77),IF(BA77=1,14,BA77),0)","v":0},null,null,null,null,null,null,null,null,null,null,{"$f":"EW10","v":"Two Pair"},null,null,null,{"$f":"FA10","v":{"$error":"#N/A"}},0,{"$error":"#N/A"}]
[null,null,null,null,null,null,null,null,null,null,null,null,null,null,null,null,null,null,null,null,null,null,null,null,null,null,null,null,{"$f":"HLOOKUP(AC79,$AC$73:$AG$76,4,0)","v":{"$error":"#N/A"}},{"$f":"HLOOKUP(AD79,$AC$73:$AG$76,4,0)","v":{"$error":"#N/A"}},{"$f":"HLOOKUP(AE79,$AC$73:$AG$76,4,0)","v":{"$error":"#N/A"}},{"$f":"HLOOKUP(AF79,$AC$73:$AG$76,4,0)","v":{"$error":"#N/A"}},{"$f":"HLOOKUP(AG79,$AC$73:$AG$76,4,0)","v":{"$error":"#N/A"}},null,null,null,null,null,null,null,null,null,null,null,null,null,{"$f":"AU48","v":18},7,8,9,11,1,{"$error":"#N/A"},{"$f":"IF(BA78=BA77,0,IF(ISNUMBER(BA78),IF(BA78=1,14,BA78),0))","v":{"$error":"#N/A"}},null,null,null,null,null,null,null,null,null,null,{"$f":"FH10:FH10","v":"One Pair"},null,null,null,{"$f":"FL10:FL10","v":{"$error":"#N/A"}},0,{"$error":"#N/A"}]
[null,null,null,null,null,null,null,null,null,null,null,null,null,null,null,null,null,null,null,null,null,null,null,null,null,null,null,null,1,2,3,4,5,null,null,null,null,null,null,null,null,null,null,null,null,null,{"$f":"AU78","v":18},{"$f":"VLOOKUP($AU$79,$AU$25:$AZ$45,2,0)","v":{"$error":"#N/A"}},{"$f":"VLOOKUP($AU$79,$AU$25:$AZ$45,3,0)","v":{"$error":"#N/A"}},{"$f":"VLOOKUP($AU$79,$AU$25:$AZ$45,4,0)","v":{"$error":"#N/A"}},{"$f":"VLOOKUP($AU$79,$AU$25:$AZ$45,5,0)","v":{"$error":"#N/A"}},{"$f":"VLOOKUP($AU$79,$AU$25:$AZ$45,6,0)","v":{"$error":"#N/A"}},{"$f":"COUNTIF($AV$78:$AZ$78,AV78)","v":1},{"$f":"COUNTIF($AV$78:$AZ$78,AZ78)","v":1},null,null,null,null,null,null,null,null,null,null,{"$f":"FS10","v":"High Card"},null,null,null,{"$f":"FW10","v":{"$error":"#N/A"}},0,{"$error":"#N/A"}]
[null,null,null,null,null,null,null,null,null,null,null,null,null,null,null,null,null,null,null,null,null,null,null,null,null,null,null,{"$f":"AB75+IF(AB75=1,13+RAND()^3,RAND()^3)","v":7.4948873341329728E-2},{"$error":"#N/A"},{"$error":"#N/A"},10.242165256099856,12.180955329342728,3.2298013337918934,null,null,null,null,null,null,null,null,null,null,null,null,null,{"$f":"AU79","v":18},{"$f":"VLOOKUP($AU$78,$H$2:$AG$182,9,0)","v":0},{"$f":"VLOOKUP($AU$78,$H$2:$AG$182,10,0)","v":0},{"$f":"VLOOKUP($AU$78,$H$2:$AG$182,11,0)","v":0},{"$f":"VLOOKUP($AU$78,$H$2:$AG$182,12,0)","v":0},{"$f":"VLOOKUP($AU$78,$H$2:$AG$182,13,0)","v":0},null,{"$f":"SMALL($BB$48:$BB$68,1)","v":10}]
[null,null,null,null,null,null,null,null,null,null,null,null,null,null,null,null,null,null,null,null,null,null,null,null,null,null,null,null,null,null,null,null,null,null,null,null,null,null,null,null,null,null,null,null,null,null,null,null,null,null,null,null,null,null,null,null,null,null,null,null,null,null,null,8,{"$f":"BX11","v":"Royal Flush"},null,null,null,{"$f":"CB11","v":{"$error":"#N/A"}},{"$error":"#N/A"},{"$error":"#N/A"}]
[null,null,null,null,null,null,null,null,null,null,null,null,null,null,null,null,null,null,null,null,null,null,null,null,null,null,null,null,{"$f":"RANK(AC89,$AC$89:$AG$89,1)","v":{"$error":"#N/A"}},{"$f":"RANK(AD89,$AC$89:$AG$89,1)","v":{"$error":"#N/A"}},{"$f":"RANK(AE89,$AC$89:$AG$89,1)","v":{"$error":"#N/A"}},{"$f":"RANK(AF89,$AC$89:$AG$89,1)","v":{"$error":"#N/A"}},{"$f":"RANK(AG89,$AC$89:$AG$89,1)","v":{"$error":"#N/A"}},null,null,null,null,null,null,null,null,null,null,null,null,null,null,null,null,null,null,null,null,null,null,null,null,null,null,null,null,null,null,null,{"$f":"CI11","v":"Straight Flush"},null,null,null,{"$f":"CM11","v":{"$error":"#N/A"}},{"$error":"#N/A"},{"$error":"#N/A"}]
[null,null,null,null,null,null,null,10,null,null,null,null,null,null,null,null,null,null,null,null,null,null,null,null,null,null,null,null,{"$f":"[0]!Player11","v":0},{"$f":"[0]!Player12","v":0},{"$f":"$M$1","v":"♣J"},{"$f":"$N$1","v":"♣Q"},{"$f":"$O$1","v":"♥3"},null,null,null,null,null,null,null,null,null,null,null,null,null,1,null,null,null,null,null,null,null,null,null,null,null,null,null,null,null,null,null,{"$f":"CT11","v":"Four of a Kind"},null,null,null,{"$f":"CX11","v":{"$error":"#N/A"}},0,{"$error":"#N/A"}]
[null,null,null,null,null,null,null,null,null,null,null,null,null,null,null,null,null,null,null,null,null,null,null,null,null,null,null,null,{"$f":"VLOOKUP(AC83,$B$1:$F$52,5,0)","v":{"$error":"#N/A"}},{"$f":"VLOOKUP(AD83,$B$1:$F$52,5,0)","v":{"$error":"#N/A"}},{"$f":"VLOOKUP(AE83,$B$1:$F$52,5,0)","v":11},{"$f":"VLOOKUP(AF83,$B$1:$F$52,5,0)","v":12},{"$f":"VLOOKUP(AG83,$B$1:$F$52,5,0)","v":3},null,null,null,null,null,null,null,null,null,null,null,null,null,null,null,"Player",null,null,null,null,null,null,null,null,null,null,null,null,null,null,null,{"$f":"DE11","v":"Full House"},null,null,null,{"$f":"DI11","v":{"$error":"#N/A"}},0,{"$error":"#N/A"}]
[null,null,null,null,null,null,null,null,null,null,null,null,null,null,null,null,null,null,null,null,null,null,null,null,null,null,null,null,{"$f":"VLOOKUP(AC83,$B$1:$F$52,4,0)","v":{"$error":"#N/A"}},{"$f":"VLOOKUP(AD83,$B$1:$F$52,4,0)","v":{"$error":"#N/A"}},{"$f":"VLOOKUP(AE83,$B$1:$F$52,4,0)","v":"C"},{"$f":"VLOOKUP(AF83,$B$1:$F$52,4,0)","v":"C"},{"$f":"VLOOKUP(AG83,$B$1:$F$52,4,0)","v":"H"},null,null,null,null,null,null,null,null,null,null,null,null,null,"Royal Flush",1,null,{"$f":"IF($BB$80=AV85,1,0)","v":0},null,null,null,null,null,null,null,null,null,null,null,null,null,null,{"$f":"DP11","v":"Flush"},null,null,null,{"$f":"DT11","v":{"$error":"#N/A"}},0,{"$error":"#N/A"}]
[null,null,null,null,null,null,null,null,null,null,null,null,null,null,null,null,null,null,null,null,null,null,null,null,null,null,null,null,{"$f":"HLOOKUP(AC88,$AC$82:$AG$85,3,0)","v":{"$error":"#N/A"}},{"$f":"HLOOKUP(AD88,$AC$82:$AG$85,3,0)","v":{"$error":"#N/A"}},{"$f":"HLOOKUP(AE88,$AC$82:$AG$85,3,0)","v":{"$error":"#N/A"}},{"$f":"HLOOKUP(AF88,$AC$82:$AG$85,3,0)","v":{"$error":"#N/A"}},{"$f":"HLOOKUP(AG88,$AC$82:$AG$85,3,0)","v":{"$error":"#N/A"}},null,null,null,null,null,null,null,null,null,null,null,null,null,"Straight Flush",2,null,{"$f":"IF($BB$80=AV86,1,0)","v":0},null,null,null,null,null,null,null,null,null,null,null,null,null,null,{"$f":"EA11","v":"Straight"},null,null,null,{"$f":"EE11","v":{"$error":"#N/A"}},{"$error":"#N/A"},{"$error":"#N/A"}]
[null,null,null,null,null,null,null,null,null,null,null,null,null,null,null,null,null,null,null,null,null,null,null,null,null,null,null,null,{"$f":"HLOOKUP(AC88,$AC$82:$AG$85,4,0)","v":{"$error":"#N/A"}},{"$f":"HLOOKUP(AD88,$AC$82:$AG$85,4,0)","v":{"$error":"#N/A"}},{"$f":"HLOOKUP(AE88,$AC$82:$AG$85,4,0)","v":{"$error":"#N/A"}},{"$f":"HLOOKUP(AF88,$AC$82:$AG$85,4,0)","v":{"$error":"#N/A"}},{"$f":"HLOOKUP(AG88,$AC$82:$AG$85,4,0)","v":{"$error":"#N/A"}},null,null,null,null,null,null,null,null,null,null,null,null,null,"Four of a Kind",3,null,0,null,null,null,null,null,null,null,null,null,null,null,null,null,null,{"$f":"EL11","v":"Three of a Kind"},null,null,null,{"$f":"EP11","v":{"$error":"#N/A"}},0,{"$error":"#N/A"}]
[null,null,null,null,null,null,null,null,null,null,null,null,null,null,null,null,null,null,null,null,null,null,null,null,null,null,null,null,1,2,3,4,5,null,null,null,null,null,null,null,null,null,null,null,null,null,"Full House",4,null,0,null,null,null,null,null,null,null,null,null,null,null,null,null,null,{"$f":"EW11","v":"Two Pair"},null,null,null,{"$f":"FA11","v":{"$error":"#N/A"}},0,{"$error":"#N/A"}]
[null,null,null,null,null,null,null,null,null,null,null,null,null,null,null,null,null,null,null,null,null,null,null,null,null,null,null,{"$f":"AB84+IF(AB84=1,13+RAND()^3,RAND()^3)","v":3.6778642398401098E-4},{"$error":"#N/A"},{"$error":"#N/A"},11.414435560446734,12.002372727153265,3.9216565265464904,null,null,null,null,null,null,null,null,null,null,null,null,null,"Flush",5,null,0,null,null,null,null,null,null,null,null,null,null,null,null,null,null,{"$f":"FH11","v":"One Pair"},null,null,null,{"$f":"FL11","v":{"$error":"#N/A"}},0,{"$error":"#N/A"}]
[null,null,null,null,null,null,null,null,null,null,null,null,null,null,null,null,null,null,null,null,null,null,null,null,null,null,null,null,null,null,null,null,null,null,null,null,null,null,null,null,null,null,null,null,null,null,"Straight",6,null,0,null,null,null,null,null,null,null,null,null,null,null,null,null,null,{"$f":"FS11","v":"High Card"},null,null,null,{"$f":"FW11","v":{"$error":"#N/A"}},0,{"$error":"#N/A"}]
[null,null,null,null,null,null,null,null,null,null,null,null,null,null,null,null,null,null,null,null,null,null,null,null,null,null,null,null,{"$f":"RANK(AC98,$AC$98:$AG$98,1)","v":{"$error":"#N/A"}},{"$f":"RANK(AD98,$AC$98:$AG$98,1)","v":{"$error":"#N/A"}},{"$error":"#N/A"},{"$error":"#N/A"},{"$error":"#N/A"},null,null,null,null,null,null,null,null,null,null,null,null,null,"Three of a Kind",7,null,0]
[null,null,null,null,null,null,null,11,null,null,null,null,null,null,null,null,null,null,null,null,null,null,null,null,null,null,null,null,{"$f":"[0]!Player11","v":0},{"$f":"$K$1","v":"♣4"},{"$f":"$L$1","v":"♠10"},{"$f":"$M$1","v":"♣J"},{"$f":"$N$1","v":"♣Q"},null,null,null,null,null,null,null,null,null,null,null,null,null,"Two Pairs",8,null,0,null,null,null,null,null,null,null,null,null,null,null,null,null,9,{"$f":"BX12","v":"Royal Flush"},null,null,null,{"$f":"CB12","v":{"$error":"#N/A"}},{"$error":"#N/A"},{"$error":"#N/A"}]
[null,null,null,null,null,null,null,null,null,null,null,null,null,null,null,null,null,null,null,null,null,null,null,null,null,null,null,null,{"$f":"VLOOKUP(AC92,$B$1:$F$52,5,0)","v":{"$error":"#N/A"}},{"$f":"VLOOKUP(AD92,$B$1:$F$52,5,0)","v":4},{"$f":"VLOOKUP(AE92,$B$1:$F$52,5,0)","v":10},{"$f":"VLOOKUP(AF92,$B$1:$F$52,5,0)","v":11},{"$f":"VLOOKUP(AG92,$B$1:$F$52,5,0)","v":12},null,null,null,null,null,null,null,null,null,null,null,null,null,"One Pair",9,null,0,null,null,null,null,null,null,null,null,null,null,null,null,null,null,{"$f":"CI12","v":"Straight Flush"},null,null,null,{"$f":"CM12","v":{"$error":"#N/A"}},{"$error":"#N/A"},{"$error":"#N/A"}]
[null,null,null,null,null,null,null,null,null,null,null,null,null,null,null,null,null,null,null,null,null,null,null,null,null,null,null,null,{"$f":"VLOOKUP(AC92,$B$1:$F$52,4,0)","v":{"$error":"#N/A"}},{"$f":"VLOOKUP(AD92,$B$1:$F$52,4,0)","v":"C"},{"$f":"VLOOKUP(AE92,$B$1:$F$52,4,0)","v":"S"},{"$f":"VLOOKUP(AF92,$B$1:$F$52,4,0)","v":"C"},{"$f":"VLOOKUP(AG92,$B$1:$F$52,4,0)","v":"C"},null,null,null,null,null,null,null,null,null,null,null,null,null,"High Card",10,null,1,null,null,null,null,null,null,null,null,null,null,null,null,null,null,{"$f":"CT12","v":"Four of a Kind"},null,null,null,{"$f":"CX12","v":{"$error":"#N/A"}},0,{"$error":"#N/A"}]
[null,null,null,null,null,null,null,null,null,null,null,null,null,null,null,null,null,null,null,null,null,null,null,null,null,null,null,null,{"$f":"HLOOKUP(AC97,$AC$91:$AG$94,3,0)","v":{"$error":"#N/A"}},{"$f":"HLOOKUP(AD97,$AC$91:$AG$94,3,0)","v":{"$error":"#N/A"}},{"$error":"#N/A"},{"$error":"#N/A"},{"$error":"#N/A"},null,null,null,null,null,null,null,null,null,null,null,null,null,null,null,{"$f":"SUM(AW85:AW94)","v":0},null,null,null,null,null,null,null,null,null,null,null,null,null,null,null,{"$f":"DE12","v":"Full House"},null,null,null,{"$f":"DI12","v":{"$error":"#N/A"}},0,{"$error":"#N/A"}]
[null,null,null,null,null,null,null,null,null,null,null,null,null,null,null,null,null,null,null,null,null,null,null,null,null,null,null,null,{"$f":"HLOOKUP(AC97,$AC$91:$AG$94,4,0)","v":{"$error":"#N/A"}},{"$f":"HLOOKUP(AD97,$AC$91:$AG$94,4,0)","v":{"$error":"#N/A"}},{"$error":"#N/A"},{"$error":"#N/A"},{"$error":"#N/A"},null,null,null,null,null,null,null,null,null,null,null,null,null,null,null,null,null,null,null,null,null,null,null,null,null,null,null,null,null,null,null,{"$f":"DP12","v":"Flush"},null,null,null,{"$f":"DT12","v":{"$error":"#N/A"}},0,{"$error":"#N/A"}]
[null,null,null,null,null,null,null,null,null,null,null,null,null,null,null,null,null,null,null,null,null,null,null,null,null,null,null,null,1,2,3,4,5,null,null,null,null,null,null,null,null,null,null,null,null,null,null,null,null,null,null,null,null,null,null,null,null,null,null,null,null,null,null,null,{"$f":"EA12","v":"Straight"},null,null,null,{"$f":"EE12","v":{"$error":"#N/A"}},{"$error":"#N/A"},{"$error":"#N/A"}]
[null,null,null,null,null,null,null,null,null,null,null,null,null,null,null,null,null,null,null,null,null,null,null,null,null,null,null,{"$f":"AB93+IF(AB93=1,13+RAND()^3,RAND()^3)","v":1.7625244895679864E-4},{"$error":"#N/A"},4.0011161955209467,10.515536294887568,11.066627921514238,12.001659653845797,null,null,null,null,null,null,null,null,null,null,null,null,null,null,null,null,null,null,null,null,null,null,null,null,null,null,null,null,null,null,null,{"$f":"EL12","v":"Three of a Kind"},null,null,null,{"$f":"EP12","v":{"$error":"#N/A"}},0,{"$error":"#N/A"}]
[null,null,null,null,null,null,null,null,null,null,null,null,null,null,null,null,null,null,null,null,null,null,null,null,null,null,null,null,null,null,null,null,null,null,null,null,null,null,null,null,null,null,null,null,null,null,null,null,null,null,null,null,null,null,null,null,null,null,null,null,null,null,null,null,{"$f":"EW12","v":"Two Pair"},null,null,null,{"$f":"FA12","v":{"$error":"#N/A"}},0,{"$error":"#N/A"}]
[null,null,null,null,null,null,null,null,null,null,null,null,null,null,null,null,null,null,null,null,null,null,null,null,null,null,null,null,{"$f":"RANK(AC107,$AC$107:$AG$107,1)","v":{"$error":"#N/A"}},{"$f":"RANK(AD107,$AC$107:$AG$107,1)","v":{"$error":"#N/A"}},{"$error":"#N/A"},{"$error":"#N/A"},{"$error":"#N/A"},null,null,null,null,null,null,null,null,null,null,null,null,null,null,null,null,null,null,null,null,null,null,null,null,null,null,null,null,null,null,null,{"$f":"FH12","v":"One Pair"},null,null,null,{"$f":"FL12","v":{"$error":"#N/A"}},0,{"$error":"#N/A"}]
[null,null,null,null,null,null,null,12,null,null,null,null,null,null,null,null,null,null,null,null,null,null,null,null,null,null,null,null,{"$f":"[0]!Player11","v":0},{"$f":"$K$1","v":"♣4"},{"$f":"$L$1","v":"♠10"},{"$f":"$M$1","v":"♣J"},{"$f":"$O$1","v":"♥3"},null,null,null,null,null,null,null,null,null,null,null,null,null,null,null,null,null,null,null,null,null,null,null,null,null,null,null,null,null,null,null,{"$f":"FS12","v":"High Card"},null,null,null,{"$f":"FW12","v":{"$error":"#N/A"}},0,{"$error":"#N/A"}]
[null,null,null,null,null,null,null,null,null,null,null,null,null,null,null,null,null,null,null,null,null,null,null,null,null,null,null,null,{"$f":"VLOOKUP(AC101,$B$1:$F$52,5,0)","v":{"$error":"#N/A"}},{"$f":"VLOOKUP(AD101,$B$1:$F$52,5,0)","v":4},{"$f":"VLOOKUP(AE101,$B$1:$F$52,5,0)","v":10},{"$f":"VLOOKUP(AF101,$B$1:$F$52,5,0)","v":11},{"$f":"VLOOKUP(AG101,$B$1:$F$52,5,0)","v":3}]
[null,null,null,null,null,null,null,null,null,null,null,null,null,null,null,null,null,null,null,null,null,null,null,null,null,null,null,null,{"$f":"VLOOKUP(AC101,$B$1:$F$52,4,0)","v":{"$error":"#N/A"}},{"$f":"VLOOKUP(AD101,$B$1:$F$52,4,0)","v":"C"},{"$f":"VLOOKUP(AE101,$B$1:$F$52,4,0)","v":"S"},{"$f":"VLOOKUP(AF101,$B$1:$F$52,4,0)","v":"C"},{"$f":"VLOOKUP(AG101,$B$1:$F$52,4,0)","v":"H"},null,null,null,null,null,null,null,null,null,null,null,null,null,null,null,null,null,null,null,null,null,null,null,null,null,null,null,null,null,null,10,{"$f":"BX13","v":"Royal Flush"},null,null,null,{"$f":"CB13","v":{"$error":"#N/A"}},{"$error":"#N/A"},{"$error":"#N/A"}]
[null,null,null,null,null,null,null,null,null,null,null,null,null,null,null,null,null,null,null,null,null,null,null,null,null,null,null,null,{"$f":"HLOOKUP(AC106,$AC$100:$AG$103,3,0)","v":{"$error":"#N/A"}},{"$f":"HLOOKUP(AD106,$AC$100:$AG$103,3,0)","v":{"$error":"#N/A"}},{"$error":"#N/A"},{"$error":"#N/A"},{"$error":"#N/A"},null,null,null,null,null,null,null,null,null,null,null,null,null,null,null,null,null,null,null,null,null,null,null,null,null,null,null,null,null,null,null,{"$f":"CI13","v":"Straight Flush"},null,null,null,{"$f":"CM13","v":{"$error":"#N/A"}},{"$error":"#N/A"},{"$error":"#N/A"}]
[null,null,null,null,null,null,null,null,null,null,null,null,null,null,null,null,null,null,null,null,null,null,null,null,null,null,null,null,{"$f":"HLOOKUP(AC106,$AC$100:$AG$103,4,0)","v":{"$error":"#N/A"}},{"$f":"HLOOKUP(AD106,$AC$100:$AG$103,4,0)","v":{"$error":"#N/A"}},{"$error":"#N/A"},{"$error":"#N/A"},{"$error":"#N/A"},null,null,null,null,null,null,null,null,null,null,null,null,null,null,null,null,null,null,null,null,null,null,null,null,null,null,null,null,null,null,null,{"$f":"CT13","v":"Four of a Kind"},null,null,null,{"$f":"CX13","v":{"$error":"#N/A"}},0,{"$error":"#N/A"}]
[null,null,null,null,null,null,null,null,null,null,null,null,null,null,null,null,null,null,null,null,null,null,null,null,null,null,null,null,1,2,3,4,5,null,null,null,null,null,null,null,null,null,null,null,null,null,null,null,null,null,null,null,null,null,null,null,null,null,null,null,null,null,null,null,{"$f":"DE13","v":"Full House"},null,null,null,{"$f":"DI13","v":{"$error":"#N/A"}},0,{"$error":"#N/A"}]
[null,null,null,null,null,null,null,null,null,null,null,null,null,null,null,null,null,null,null,null,null,null,null,null,null,null,null,{"$f":"AB102+IF(AB102=1,13+RAND()^3,RAND()^3)","v":0.17759231896288402},{"$error":"#N/A"},4.9993469677408724,10.413274055792742,11.25174088890436,3.0904520655255574,null,null,null,null,null,null,null,null,null,null,null,null,null,null,null,null,null,null,null,null,null,null,null,null,null,null,null,null,null,null,null,{"$f":"DP13","v":"Flush"},null,null,null,{"$f":"DT13","v":{"$error":"#N/A"}},0,{"$error":"#N/A"}]
[null,null,null,null,null,null,null,null,null,null,null,null,null,null,null,null,null,null,null,null,null,null,null,null,null,null,null,null,null,null,null,null,null,null,null,null,null,null,null,null,null,null,null,null,null,null,null,null,null,null,null,null,null,null,null,null,null,null,null,null,null,null,null,null,{"$f":"EA13","v":"Straight"},null,null,null,{"$f":"EE13","v":{"$error":"#N/A"}},{"$error":"#N/A"},{"$error":"#N/A"}]
[null,null,null,null,null,null,null,null,null,null,null,null,null,null,null,null,null,null,null,null,null,null,null,null,null,null,null,null,{"$f":"RANK(AC116,$AC$116:$AG$116,1)","v":{"$error":"#N/A"}},{"$f":"RANK(AD116,$AC$116:$AG$116,1)","v":{"$error":"#N/A"}},{"$error":"#N/A"},{"$error":"#N/A"},{"$error":"#N/A"},null,null,null,null,null,null,null,null,null,null,null,null,null,null,null,null,null,null,null,null,null,null,null,null,null,null,null,null,null,null,null,{"$f":"EL13","v":"Three of a Kind"},null,null,null,{"$f":"EP13","v":{"$error":"#N/A"}},0,{"$error":"#N/A"}]
[null,null,null,null,null,null,null,13,null,null,null,null,null,null,null,null,null,null,null,null,null,null,null,null,null,null,null,null,{"$f":"[0]!Player11","v":0},{"$f":"$K$1","v":"♣4"},{"$f":"$L$1","v":"♠10"},{"$f":"$N$1","v":"♣Q"},{"$f":"$O$1","v":"♥3"},null,null,null,null,null,null,null,null,null,null,null,null,null,null,null,null,null,null,null,null,null,null,null,null,null,null,null,null,null,null,null,{"$f":"EW13","v":"Two Pair"},null,null,null,{"$f":"FA13","v":{"$error":"#N/A"}},0,{"$error":"#N/A"}]
[null,null,null,null,null,null,null,null,null,null,null,null,null,null,null,null,null,null,null,null,null,null,null,null,null,null,null,null,{"$f":"VLOOKUP(AC110,$B$1:$F$52,5,0)","v":{"$error":"#N/A"}},{"$f":"VLOOKUP(AD110,$B$1:$F$52,5,0)","v":4},{"$f":"VLOOKUP(AE110,$B$1:$F$52,5,0)","v":10},{"$f":"VLOOKUP(AF110,$B$1:$F$52,5,0)","v":12},{"$f":"VLOOKUP(AG110,$B$1:$F$52,5,0)","v":3},null,null,null,null,null,null,null,null,null,null,null,null,null,null,null,null,null,null,null,null,null,null,null,null,null,null,null,null,null,null,null,{"$f":"FH13","v":"One Pair"},null,null,null,{"$f":"FL13","v":{"$error":"#N/A"}},0,{"$error":"#N/A"}]
[null,null,null,null,null,null,null,null,null,null,null,null,null,null,null,null,null,null,null,null,null,null,null,null,null,null,null,null,{"$f":"VLOOKUP(AC110,$B$1:$F$52,4,0)","v":{"$error":"#N/A"}},{"$f":"VLOOKUP(AD110,$B$1:$F$52,4,0)","v":"C"},{"$f":"VLOOKUP(AE110,$B$1:$F$52,4,0)","v":"S"},{"$f":"VLOOKUP(AF110,$B$1:$F$52,4,0)","v":"C"},{"$f":"VLOOKUP(AG110,$B$1:$F$52,4,0)","v":"H"},null,null,null,null,null,null,null,null,null,null,null,null,null,null,null,null,null,null,null,null,null,null,null,null,null,null,null,null,null,null,null,{"$f":"FS13","v":"High Card"},null,null,null,{"$f":"FW13","v":{"$error":"#N/A"}},0,{"$error":"#N/A"}]
[null,null,null,null,null,null,null,null,null,null,null,null,null,null,null,null,null,null,null,null,null,null,null,null,null,null,null,null,{"$f":"HLOOKUP(AC115,$AC$109:$AG$112,3,0)","v":{"$error":"#N/A"}},{"$f":"HLOOKUP(AD115,$AC$109:$AG$112,3,0)","v":{"$error":"#N/A"}},{"$error":"#N/A"},{"$error":"#N/A"},{"$error":"#N/A"}]
[null,null,null,null,null,null,null,null,null,null,null,null,null,null,null,null,null,null,null,null,null,null,null,null,null,null,null,null,{"$f":"HLOOKUP(AC115,$AC$109:$AG$112,4,0)","v":{"$error":"#N/A"}},{"$f":"HLOOKUP(AD115,$AC$109:$AG$112,4,0)","v":{"$error":"#N/A"}},{"$error":"#N/A"},{"$error":"#N/A"},{"$error":"#N/A"},null,null,null,null,null,null,null,null,null,null,null,null,null,null,null,null,null,null,null,null,null,null,null,null,null,null,null,null,null,null,11,{"$f":"BX14","v":"Royal Flush"},null,null,null,{"$f":"CB14","v":{"$error":"#N/A"}},{"$error":"#N/A"},{"$error":"#N/A"}]
[null,null,null,null,null,null,null,null,null,null,null,null,null,null,null,null,null,null,null,null,null,null,null,null,null,null,null,null,1,2,3,4,5,null,null,null,null,null,null,null,null,null,null,null,null,null,null,null,null,null,null,null,null,null,null,null,null,null,null,null,null,null,null,null,{"$f":"CI14","v":"Straight Flush"},null,null,null,{"$f":"CM14","v":{"$error":"#N/A"}},{"$error":"#N/A"},{"$error":"#N/A"}]
[null,null,null,null,null,null,null,null,null,null,null,null,null,null,null,null,null,null,null,null,null,null,null,null,null,null,null,{"$f":"AB111+IF(AB111=1,13+RAND()^3,RAND()^3)","v":2.3589494958541021E-3},{"$error":"#N/A"},4.648293083026763,10.062960522162438,12.555632314683853,3.0002034199808767,null,null,null,null,null,null,null,null,null,null,null,null,null,null,null,null,null,null,null,null,null,null,null,null,null,null,null,null,null,null,null,{"$f":"CT14","v":"Four of a Kind"},null,null,null,{"$f":"CX14","v":{"$error":"#N/A"}},0,{"$error":"#N/A"}]
[null,null,null,null,null,null,null,null,null,null,null,null,null,null,null,null,null,null,null,null,null,null,null,null,null,null,null,null,null,null,null,null,null,null,null,null,null,null,null,null,null,null,null,null,null,null,null,null,null,null,null,null,null,null,null,null,null,null,null,null,null,null,null,null,{"$f":"DE14","v":"Full House"},null,null,null,{"$f":"DI14","v":{"$error":"#N/A"}},0,{"$error":"#N/A"}]
[null,null,null,null,null,null,null,null,null,null,null,null,null,null,null,null,null,null,null,null,null,null,null,null,null,null,null,null,{"$f":"RANK(AC125,$AC$125:$AG$125,1)","v":{"$error":"#N/A"}},{"$f":"RANK(AD125,$AC$125:$AG$125,1)","v":{"$error":"#N/A"}},{"$error":"#N/A"},{"$error":"#N/A"},{"$error":"#N/A"},null,null,null,null,null,null,null,null,null,null,null,null,null,null,null,null,null,null,null,null,null,null,null,null,null,null,null,null,null,null,null,{"$f":"DP14","v":"Flush"},null,null,null,{"$f":"DT14","v":{"$error":"#N/A"}},0,{"$error":"#N/A"}]
[null,null,null,null,null,null,null,14,null,null,null,null,null,null,null,null,null,null,null,null,null,null,null,null,null,null,null,null,{"$f":"[0]!Player11","v":0},{"$f":"$K$1","v":"♣4"},{"$f":"$M$1","v":"♣J"},{"$f":"$N$1","v":"♣Q"},{"$f":"$O$1","v":"♥3"},null,null,null,null,null,null,null,null,null,null,null,null,null,null,null,null,null,null,null,null,null,null,null,null,null,null,null,null,null,null,null,{"$f":"EA14","v":"Straight"},null,null,null,{"$f":"EE14","v":{"$error":"#N/A"}},{"$error":"#N/A"},{"$error":"#N/A"}]
[null,null,null,null,null,null,null,null,null,null,null,null,null,null,null,null,null,null,null,null,null,null,null,null,null,null,null,null,{"$f":"VLOOKUP(AC119,$B$1:$F$52,5,0)","v":{"$error":"#N/A"}},{"$f":"VLOOKUP(AD119,$B$1:$F$52,5,0)","v":4},{"$f":"VLOOKUP(AE119,$B$1:$F$52,5,0)","v":11},{"$f":"VLOOKUP(AF119,$B$1:$F$52,5,0)","v":12},{"$f":"VLOOKUP(AG119,$B$1:$F$52,5,0)","v":3},null,null,null,null,null,null,null,null,null,null,null,null,null,null,null,null,null,null,null,null,null,null,null,null,null,null,null,null,null,null,null,{"$f":"EL14","v":"Three of a Kind"},null,null,null,{"$f":"EP14","v":{"$error":"#N/A"}},0,{"$error":"#N/A"}]
[null,null,null,null,null,null,null,null,null,null,null,null,null,null,null,null,null,null,null,null,null,null,null,null,null,null,null,null,{"$f":"VLOOKUP(AC119,$B$1:$F$52,4,0)","v":{"$error":"#N/A"}},{"$f":"VLOOKUP(AD119,$B$1:$F$52,4,0)","v":"C"},{"$f":"VLOOKUP(AE119,$B$1:$F$52,4,0)","v":"C"},{"$f":"VLOOKUP(AF119,$B$1:$F$52,4,0)","v":"C"},{"$f":"VLOOKUP(AG119,$B$1:$F$52,4,0)","v":"H"},null,null,null,null,null,null,null,null,null,null,null,null,null,null,null,null,null,null,null,null,null,null,null,null,null,null,null,null,null,null,null,{"$f":"EW14","v":"Two Pair"},null,null,null,{"$f":"FA14","v":{"$error":"#N/A"}},0,{"$error":"#N/A"}]
[null,null,null,null,null,null,null,null,null,null,null,null,null,null,null,null,null,null,null,null,null,null,null,null,null,null,null,null,{"$f":"HLOOKUP(AC124,$AC$118:$AG$121,3,0)","v":{"$error":"#N/A"}},{"$f":"HLOOKUP(AD124,$AC$118:$AG$121,3,0)","v":{"$error":"#N/A"}},{"$error":"#N/A"},{"$error":"#N/A"},{"$error":"#N/A"},null,null,null,null,null,null,null,null,null,null,null,null,null,null,null,null,null,null,null,null,null,null,null,null,null,null,null,null,null,null,null,{"$f":"FH14","v":"One Pair"},null,null,null,{"$f":"FL14","v":{"$error":"#N/A"}},0,{"$error":"#N/A"}]
[null,null,null,null,null,null,null,null,null,null,null,null,null,null,null,null,null,null,null,null,null,null,null,null,null,null,null,null,{"$f":"HLOOKUP(AC124,$AC$118:$AG$121,4,0)","v":{"$error":"#N/A"}},{"$f":"HLOOKUP(AD124,$AC$118:$AG$121,4,0)","v":{"$error":"#N/A"}},{"$error":"#N/A"},{"$error":"#N/A"},{"$error":"#N/A"},null,null,null,null,null,null,null,null,null,null,null,null,null,null,null,null,null,null,null,null,null,null,null,null,null,null,null,null,null,null,null,{"$f":"FS14","v":"High Card"},null,null,null,{"$f":"FW14","v":{"$error":"#N/A"}},0,{"$error":"#N/A"}]
[null,null,null,null,null,null,null,null,null,null,null,null,null,null,null,null,null,null,null,null,null,null,null,null,null,null,null,null,1,2,3,4,5]
[null,null,null,null,null,null,null,null,null,null,null,null,null,null,null,null,null,null,null,null,null,null,null,null,null,null,null,{"$f":"AB120+IF(AB120=1,13+RAND()^3,RAND()^3)","v":4.1842060281110562E-3},{"$error":"#N/A"},4.8459255221602371,11.13015311571492,12.305016194043647,3.0209903533959825,null,null,null,null,null,null,null,null,null,null,null,null,null,null,null,null,null,null,null,null,null,null,null,null,null,null,null,null,null,null,12,{"$f":"BX15","v":"Royal Flush"},null,null,null,{"$f":"CB15","v":{"$error":"#N/A"}},{"$error":"#N/A"},{"$error":"#N/A"}]
[null,null,null,null,null,null,null,null,null,null,null,null,null,null,null,null,null,null,null,null,null,null,null,null,null,null,null,null,null,null,null,null,null,null,null,null,null,null,null,null,null,null,null,null,null,null,null,null,null,null,null,null,null,null,null,null,null,null,null,null,null,null,null,null,{"$f":"CI15","v":"Straight Flush"},null,null,null,{"$f":"CM15","v":{"$error":"#N/A"}},{"$error":"#N/A"},{"$error":"#N/A"}]
[null,null,null,null,null,null,null,null,null,null,null,null,null,null,null,null,null,null,null,null,null,null,null,null,null,null,null,null,{"$f":"RANK(AC134,$AC$134:$AG$134,1)","v":{"$error":"#N/A"}},{"$f":"RANK(AD134,$AC$134:$AG$134,1)","v":{"$error":"#N/A"}},{"$error":"#N/A"},{"$error":"#N/A"},{"$error":"#N/A"},null,null,null,null,null,null,null,null,null,null,null,null,null,null,null,null,null,null,null,null,null,null,null,null,null,null,null,null,null,null,null,{"$f":"CT15","v":"Four of a Kind"},null,null,null,{"$f":"CX15","v":{"$error":"#N/A"}},0,{"$error":"#N/A"}]
[null,null,null,null,null,null,null,15,null,null,null,null,null,null,null,null,null,null,null,null,null,null,null,null,null,null,null,null,{"$f":"[0]!Player11","v":0},{"$f":"$L$1","v":"♠10"},{"$f":"$M$1","v":"♣J"},{"$f":"$N$1","v":"♣Q"},{"$f":"$O$1","v":"♥3"},null,null,null,null,null,null,null,null,null,null,null,null,null,null,null,null,null,null,null,null,null,null,null,null,null,null,null,null,null,null,null,{"$f":"DE15","v":"Full House"},null,null,null,{"$f":"DI15","v":{"$error":"#N/A"}},0,{"$error":"#N/A"}]
[null,null,null,null,null,null,null,null,null,null,null,null,null,null,null,null,null,null,null,null,null,null,null,null,null,null,null,null,{"$f":"VLOOKUP(AC128,$B$1:$F$52,5,0)","v":{"$error":"#N/A"}},{"$f":"VLOOKUP(AD128,$B$1:$F$52,5,0)","v":10},{"$f":"VLOOKUP(AE128,$B$1:$F$52,5,0)","v":11},{"$f":"VLOOKUP(AF128,$B$1:$F$52,5,0)","v":12},{"$f":"VLOOKUP(AG128,$B$1:$F$52,5,0)","v":3},null,null,null,null,null,null,null,null,null,null,null,null,null,null,null,null,null,null,null,null,null,null,null,null,null,null,null,null,null,null,null,{"$f":"DP15","v":"Flush"},null,null,null,{"$f":"DT15","v":{"$error":"#N/A"}},0,{"$error":"#N/A"}]
[null,null,null,null,null,null,null,null,null,null,null,null,null,null,null,null,null,null,null,null,null,null,null,null,null,null,null,null,{"$f":"VLOOKUP(AC128,$B$1:$F$52,4,0)","v":{"$error":"#N/A"}},{"$f":"VLOOKUP(AD128,$B$1:$F$52,4,0)","v":"S"},{"$f":"VLOOKUP(AE128,$B$1:$F$52,4,0)","v":"C"},{"$f":"VLOOKUP(AF128,$B$1:$F$52,4,0)","v":"C"},{"$f":"VLOOKUP(AG128,$B$1:$F$52,4,0)","v":"H"},null,null,null,null,null,null,null,null,null,null,null,null,null,null,null,null,null,null,null,null,null,null,null,null,null,null,null,null,null,null,null,{"$f":"EA15","v":"Straight"},null,null,null,{"$f":"EE15","v":{"$error":"#N/A"}},{"$error":"#N/A"},{"$error":"#N/A"}]
[null,null,null,null,null,null,null,null,null,null,null,null,null,null,null,null,null,null,null,null,null,null,null,null,null,null,null,null,{"$f":"HLOOKUP(AC133,$AC$127:$AG$130,3,0)","v":{"$error":"#N/A"}},{"$f":"HLOOKUP(AD133,$AC$127:$AG$130,3,0)","v":{"$error":"#N/A"}},{"$error":"#N/A"},{"$error":"#N/A"},{"$error":"#N/A"},null,null,null,null,null,null,null,null,null,null,null,null,null,null,null,null,null,null,null,null,null,null,null,null,null,null,null,null,null,null,null,{"$f":"EL15","v":"Three of a Kind"},null,null,null,{"$f":"EP15","v":{"$error":"#N/A"}},0,{"$error":"#N/A"}]
[null,null,null,null,null,null,null,null,null,null,null,null,null,null,null,null,null,null,null,null,null,null,null,null,null,null,null,null,{"$f":"HLOOKUP(AC133,$AC$127:$AG$130,4,0)","v":{"$error":"#N/A"}},{"$f":"HLOOKUP(AD133,$AC$127:$AG$130,4,0)","v":{"$error":"#N/A"}},{"$error":"#N/A"},{"$error":"#N/A"},{"$error":"#N/A"},null,null,null,null,null,null,null,null,null,null,null,null,null,null,null,null,null,null,null,null,null,null,null,null,null,null,null,null,null,null,null,{"$f":"EW15","v":"Two Pair"},null,null,null,{"$f":"FA15","v":{"$error":"#N/A"}},0,{"$error":"#N/A"}]
[null,null,null,null,null,null,null,null,null,null,null,null,null,null,null,null,null,null,null,null,null,null,null,null,null,null,null,null,1,2,3,4,5,null,null,null,null,null,null,null,null,null,null,null,null,null,null,null,null,null,null,null,null,null,null,null,null,null,null,null,null,null,null,null,{"$f":"FH15","v":"One Pair"},null,null,null,{"$error":"#N/A"},0,{"$error":"#N/A"}]
[null,null,null,null,null,null,null,null,null,null,null,null,null,null,null,null,null,null,null,null,null,null,null,null,null,null,null,{"$f":"AB129+IF(AB129=1,13+RAND()^3,RAND()^3)","v":0.49775215603107686},{"$error":"#N/A"},10.046423856648754,11.151082617254373,12.132865854981693,3.2920497510711901,null,null,null,null,null,null,null,null,null,null,null,null,null,null,null,null,null,null,null,null,null,null,null,null,null,null,null,null,null,null,null,{"$f":"FS15","v":"High Card"},null,null,null,{"$f":"FW15","v":{"$error":"#N/A"}},0,{"$error":"#N/A"}]
[]
[null,null,null,null,null,null,null,null,null,null,null,null,null,null,null,null,null,null,null,null,null,null,null,null,null,null,null,null,{"$f":"RANK(AC143,$AC$143:$AG$143,1)","v":{"$error":"#N/A"}},{"$f":"RANK(AD143,$AC$143:$AG$143,1)","v":{"$error":"#N/A"}},{"$error":"#N/A"},{"$error":"#N/A"},{"$error":"#N/A"},null,null,null,null,null,null,null,null,null,null,null,null,null,null,null,null,null,null,null,null,null,null,null,null,null,null,null,null,null,null,13,{"$f":"BX16","v":"Royal Flush"},null,null,null,{"$f":"CB16","v":{"$error":"#N/A"}},{"$error":"#N/A"},{"$error":"#N/A"}]
[null,null,null,null,null,null,null,16,null,null,null,null,null,null,null,null,null,null,null,null,null,null,null,null,null,null,null,null,{"$f":"[0]!Player12","v":0},{"$f":"$K$1","v":"♣4"},{"$f":"$L$1","v":"♠10"},{"$f":"$M$1","v":"♣J"},{"$f":"$N$1","v":"♣Q"},null,null,null,null,null,null,null,null,null,null,null,null,null,null,null,null,null,null,null,null,null,null,null,null,null,null,null,null,null,null,null,{"$f":"CI16","v":"Straight Flush"},null,null,null,{"$f":"CM16","v":{"$error":"#N/A"}},{"$error":"#N/A"},{"$error":"#N/A"}]
[null,null,null,null,null,null,null,null,null,null,null,null,null,null,null,null,null,null,null,null,null,null,null,null,null,null,null,null,{"$f":"VLOOKUP(AC137,$B$1:$F$52,5,0)","v":{"$error":"#N/A"}},{"$f":"VLOOKUP(AD137,$B$1:$F$52,5,0)","v":4},{"$f":"VLOOKUP(AE137,$B$1:$F$52,5,0)","v":10},{"$f":"VLOOKUP(AF137,$B$1:$F$52,5,0)","v":11},{"$f":"VLOOKUP(AG137,$B$1:$F$52,5,0)","v":12},null,null,null,null,null,null,null,null,null,null,null,null,null,null,null,null,null,null,null,null,null,null,null,null,null,null,null,null,null,null,null,{"$f":"CT16","v":"Four of a Kind"},null,null,null,{"$f":"CX16","v":{"$error":"#N/A"}},0,{"$error":"#N/A"}]
[null,null,null,null,null,null,null,null,null,null,null,null,null,null,null,null,null,null,null,null,null,null,null,null,null,null,null,null,{"$f":"VLOOKUP(AC137,$B$1:$F$52,4,0)","v":{"$error":"#N/A"}},{"$f":"VLOOKUP(AD137,$B$1:$F$52,4,0)","v":"C"},{"$f":"VLOOKUP(AE137,$B$1:$F$52,4,0)","v":"S"},{"$f":"VLOOKUP(AF137,$B$1:$F$52,4,0)","v":"C"},{"$f":"VLOOKUP(AG137,$B$1:$F$52,4,0)","v":"C"},null,null,null,null,null,null,null,null,null,null,null,null,null,null,null,null,null,null,null,null,null,null,null,null,null,null,null,null,null,null,null,{"$f":"DE16","v":"Full House"},null,null,null,{"$f":"DI16","v":{"$error":"#N/A"}},0,{"$error":"#N/A"}]
[null,null,null,null,null,null,null,null,null,null,null,null,null,null,null,null,null,null,null,null,null,null,null,null,null,null,null,null,{"$f":"HLOOKUP(AC142,$AC$136:$AG$139,3,0)","v":{"$error":"#N/A"}},{"$f":"HLOOKUP(AD142,$AC$136:$AG$139,3,0)","v":{"$error":"#N/A"}},{"$error":"#N/A"},{"$error":"#N/A"},{"$error":"#N/A"},null,null,null,null,null,null,null,null,null,null,null,null,null,null,null,null,null,null,null,null,null,null,null,null,null,null,null,null,null,null,null,{"$f":"DP16","v":"Flush"},null,null,null,{"$f":"DT16","v":{"$error":"#N/A"}},0,{"$error":"#N/A"}]
[null,null,null,null,null,null,null,null,null,null,null,null,null,null,null,null,null,null,null,null,null,null,null,null,null,null,null,null,{"$f":"HLOOKUP(AC142,$AC$136:$AG$139,4,0)","v":{"$error":"#N/A"}},{"$f":"HLOOKUP(AD142,$AC$136:$AG$139,4,0)","v":{"$error":"#N/A"}},{"$error":"#N/A"},{"$error":"#N/A"},{"$error":"#N/A"},null,null,null,null,null,null,null,null,null,null,null,null,null,null,null,null,null,null,null,null,null,null,null,null,null,null,null,null,null,null,null,{"$f":"EA16","v":"Straight"},null,null,null,{"$f":"EE16","v":{"$error":"#N/A"}},{"$error":"#N/A"},{"$error":"#N/A"}]
[null,null,null,null,null,null,null,null,null,null,null,null,null,null,null,null,null,null,null,null,null,null,null,null,null,null,null,null,1,2,3,4,5,null,null,null,null,null,null,null,null,null,null,null,null,null,null,null,null,null,null,null,null,null,null,null,null,null,null,null,null,null,null,null,{"$f":"EL16","v":"Three of a Kind"},null,null,null,{"$f":"EP16","v":{"$error":"#N/A"}},0,{"$error":"#N/A"}]
[null,null,null,null,null,null,null,null,null,null,null,null,null,null,null,null,null,null,null,null,null,null,null,null,null,null,null,{"$f":"AB138+IF(AB138=1,13+RAND()^3,RAND()^3)","v":0.93169758863115559},{"$error":"#N/A"},4.0093798831812668,10.089472568796785,11.199649458898282,12.002115024976677,null,null,null,null,null,null,null,null,null,null,null,null,null,null,null,null,null,null,null,null,null,null,null,null,null,null,null,null,null,null,null,{"$f":"EW16","v":"Two Pair"},null,null,null,{"$f":"FA16","v":{"$error":"#N/A"}},0,{"$error":"#N/A"}]
[null,null,null,null,null,null,null,null,null,null,null,null,null,null,null,null,null,null,null,null,null,null,null,null,null,null,null,null,null,null,null,null,null,null,null,null,null,null,null,null,null,null,null,null,null,null,null,null,null,null,null,null,null,null,null,null,null,null,null,null,null,null,null,null,{"$f":"FH16","v":"One Pair"},null,null,null,{"$f":"FL16","v":{"$error":"#N/A"}},0,{"$error":"#N/A"}]
[null,null,null,null,null,null,null,null,null,null,null,null,null,null,null,null,null,null,null,null,null,null,null,null,null,null,null,null,{"$f":"RANK(AC152,$AC$152:$AG$152,1)","v":{"$error":"#N/A"}},{"$f":"RANK(AD152,$AC$152:$AG$152,1)","v":{"$error":"#N/A"}},{"$error":"#N/A"},{"$error":"#N/A"},{"$error":"#N/A"},null,null,null,null,null,null,null,null,null,null,null,null,null,null,null,null,null,null,null,null,null,null,null,null,null,null,null,null,null,null,null,{"$f":"FS16","v":"High Card"},null,null,null,{"$f":"FW16","v":{"$error":"#N/A"}},0,{"$error":"#N/A"}]
[null,null,null,null,null,null,null,17,null,null,null,null,null,null,null,null,null,null,null,null,null,null,null,null,null,null,null,null,{"$f":"[0]!Player12","v":0},{"$f":"$K$1","v":"♣4"},{"$f":"$L$1","v":"♠10"},{"$f":"$M$1","v":"♣J"},{"$f":"$O$1","v":"♥3"}]
[null,null,null,null,null,null,null,null,null,null,null,null,null,null,null,null,null,null,null,null,null,null,null,null,null,null,null,null,{"$f":"VLOOKUP(AC146,$B$1:$F$52,5,0)","v":{"$error":"#N/A"}},{"$f":"VLOOKUP(AD146,$B$1:$F$52,5,0)","v":4},{"$f":"VLOOKUP(AE146,$B$1:$F$52,5,0)","v":10},{"$f":"VLOOKUP(AF146,$B$1:$F$52,5,0)","v":11},{"$f":"VLOOKUP(AG146,$B$1:$F$52,5,0)","v":3},null,null,null,null,null,null,null,null,null,null,null,null,null,null,null,null,null,null,null,null,null,null,null,null,null,null,null,null,null,null,14,{"$f":"BX17","v":"Royal Flush"},null,null,null,{"$f":"CB17","v":{"$error":"#N/A"}},{"$error":"#N/A"},{"$error":"#N/A"}]
[null,null,null,null,null,null,null,null,null,null,null,null,null,null,null,null,null,null,null,null,null,null,null,null,null,null,null,null,{"$f":"VLOOKUP(AC146,$B$1:$F$52,4,0)","v":{"$error":"#N/A"}},{"$f":"VLOOKUP(AD146,$B$1:$F$52,4,0)","v":"C"},{"$f":"VLOOKUP(AE146,$B$1:$F$52,4,0)","v":"S"},{"$f":"VLOOKUP(AF146,$B$1:$F$52,4,0)","v":"C"},{"$f":"VLOOKUP(AG146,$B$1:$F$52,4,0)","v":"H"},null,null,null,null,null,null,null,null,null,null,null,null,null,null,null,null,null,null,null,null,null,null,null,null,null,null,null,null,null,null,null,{"$f":"CI17","v":"Straight Flush"},null,null,null,{"$f":"CM17","v":{"$error":"#N/A"}},{"$error":"#N/A"},{"$error":"#N/A"}]
[null,null,null,null,null,null,null,null,null,null,null,null,null,null,null,null,null,null,null,null,null,null,null,null,null,null,null,null,{"$f":"HLOOKUP(AC151,$AC$145:$AG$148,3,0)","v":{"$error":"#N/A"}},{"$f":"HLOOKUP(AD151,$AC$145:$AG$148,3,0)","v":{"$error":"#N/A"}},{"$error":"#N/A"},{"$error":"#N/A"},{"$error":"#N/A"},null,null,null,null,null,null,null,null,null,null,null,null,null,null,null,null,null,null,null,null,null,null,null,null,null,null,null,null,null,null,null,{"$f":"CT17","v":"Four of a Kind"},null,null,null,{"$f":"CX17","v":{"$error":"#N/A"}},0,{"$error":"#N/A"}]
[null,null,null,null,null,null,null,null,null,null,null,null,null,null,null,null,null,null,null,null,null,null,null,null,null,null,null,null,{"$f":"HLOOKUP(AC151,$AC$145:$AG$148,4,0)","v":{"$error":"#N/A"}},{"$f":"HLOOKUP(AD151,$AC$145:$AG$148,4,0)","v":{"$error":"#N/A"}},{"$error":"#N/A"},{"$error":"#N/A"},{"$error":"#N/A"},null,null,null,null,null,null,null,null,null,null,null,null,null,null,null,null,null,null,null,null,null,null,null,null,null,null,null,null,null,null,null,{"$f":"DE17","v":"Full House"},null,null,null,{"$f":"DI17","v":{"$error":"#N/A"}},0,{"$error":"#N/A"}]
[null,null,null,null,null,null,null,null,null,null,null,null,null,null,null,null,null,null,null,null,null,null,null,null,null,null,null,null,1,2,3,4,5,null,null,null,null,null,null,null,null,null,null,null,null,null,null,null,null,null,null,null,null,null,null,null,null,null,null,null,null,null,null,null,{"$f":"DP17","v":"Flush"},null,null,null,{"$f":"DT17","v":{"$error":"#N/A"}},0,{"$error":"#N/A"}]
[null,null,null,null,null,null,null,null,null,null,null,null,null,null,null,null,null,null,null,null,null,null,null,null,null,null,null,{"$f":"AB147+IF(AB147=1,13+RAND()^3,RAND()^3)","v":0.81824459796692739},{"$error":"#N/A"},4.0003191403120812,10.000280894297701,11.000974255681761,3.0000002469383258,null,null,null,null,null,null,null,null,null,null,null,null,null,null,null,null,null,null,null,null,null,null,null,null,null,null,null,null,null,null,null,{"$f":"EA17","v":"Straight"},null,null,null,{"$f":"EE17","v":{"$error":"#N/A"}},{"$error":"#N/A"},{"$error":"#N/A"}]
[null,null,null,null,null,null,null,null,null,null,null,null,null,null,null,null,null,null,null,null,null,null,null,null,null,null,null,null,null,null,null,null,null,null,null,null,null,null,null,null,null,null,null,null,null,null,null,null,null,null,null,null,null,null,null,null,null,null,null,null,null,null,null,null,{"$f":"EL17","v":"Three of a Kind"},null,null,null,{"$f":"EP17","v":{"$error":"#N/A"}},0,{"$error":"#N/A"}]
[null,null,null,null,null,null,null,null,null,null,null,null,null,null,null,null,null,null,null,null,null,null,null,null,null,null,null,null,{"$f":"RANK(AC161,$AC$161:$AG$161,1)","v":{"$error":"#N/A"}},{"$f":"RANK(AD161,$AC$161:$AG$161,1)","v":{"$error":"#N/A"}},{"$error":"#N/A"},{"$error":"#N/A"},{"$error":"#N/A"},null,null,null,null,null,null,null,null,null,null,null,null,null,null,null,null,null,null,null,null,null,null,null,null,null,null,null,null,null,null,null,{"$f":"EW17","v":"Two Pair"},null,null,null,{"$f":"FA17","v":{"$error":"#N/A"}},0,{"$error":"#N/A"}]
[null,null,null,null,null,null,null,18,null,null,null,null,null,null,null,null,null,null,null,null,null,null,null,null,null,null,null,null,{"$f":"[0]!Player12","v":0},{"$f":"$K$1","v":"♣4"},{"$f":"$L$1","v":"♠10"},{"$f":"$N$1","v":"♣Q"},{"$f":"$O$1","v":"♥3"},null,null,null,null,null,null,null,null,null,null,null,null,null,null,null,null,null,null,null,null,null,null,null,null,null,null,null,null,null,null,null,{"$f":"FH17","v":"One Pair"},null,null,null,{"$f":"FL17","v":{"$error":"#N/A"}},0,{"$error":"#N/A"}]
[null,null,null,null,null,null,null,null,null,null,null,null,null,null,null,null,null,null,null,null,null,null,null,null,null,null,null,null,{"$f":"VLOOKUP(AC155,$B$1:$F$52,5,0)","v":{"$error":"#N/A"}},{"$f":"VLOOKUP(AD155,$B$1:$F$52,5,0)","v":4},{"$f":"VLOOKUP(AE155,$B$1:$F$52,5,0)","v":10},{"$f":"VLOOKUP(AF155,$B$1:$F$52,5,0)","v":12},{"$f":"VLOOKUP(AG155,$B$1:$F$52,5,0)","v":3},null,null,null,null,null,null,null,null,null,null,null,null,null,null,null,null,null,null,null,null,null,null,null,null,null,null,null,null,null,null,null,{"$f":"FS17","v":"High Card"},null,null,null,{"$f":"FW17","v":{"$error":"#N/A"}},0,{"$error":"#N/A"}]
[null,null,null,null,null,null,null,null,null,null,null,null,null,null,null,null,null,null,null,null,null,null,null,null,null,null,null,null,{"$f":"VLOOKUP(AC155,$B$1:$F$52,4,0)","v":{"$error":"#N/A"}},{"$f":"VLOOKUP(AD155,$B$1:$F$52,4,0)","v":"C"},{"$f":"VLOOKUP(AE155,$B$1:$F$52,4,0)","v":"S"},{"$f":"VLOOKUP(AF155,$B$1:$F$52,4,0)","v":"C"},{"$f":"VLOOKUP(AG155,$B$1:$F$52,4,0)","v":"H"}]
[null,null,null,null,null,null,null,null,null,null,null,null,null,null,null,null,null,null,null,null,null,null,null,null,null,null,null,null,{"$f":"HLOOKUP(AC160,$AC$154:$AG$157,3,0)","v":{"$error":"#N/A"}},{"$f":"HLOOKUP(AD160,$AC$154:$AG$157,3,0)","v":{"$error":"#N/A"}},{"$error":"#N/A"},{"$error":"#N/A"},{"$error":"#N/A"},null,null,null,null,null,null,null,null,null,null,null,null,null,null,null,null,null,null,null,null,null,null,null,null,null,null,null,null,null,null,15,{"$f":"BX18","v":"Royal Flush"},null,null,null,{"$f":"CB18","v":{"$error":"#N/A"}},{"$error":"#N/A"},{"$error":"#N/A"}]
[null,null,null,null,null,null,null,null,null,null,null,null,null,null,null,null,null,null,null,null,null,null,null,null,null,null,null,null,{"$f":"HLOOKUP(AC160,$AC$154:$AG$157,4,0)","v":{"$error":"#N/A"}},{"$f":"HLOOKUP(AD160,$AC$154:$AG$157,4,0)","v":{"$error":"#N/A"}},{"$error":"#N/A"},{"$error":"#N/A"},{"$error":"#N/A"},null,null,null,null,null,null,null,null,null,null,null,null,null,null,null,null,null,null,null,null,null,null,null,null,null,null,null,null,null,null,null,{"$f":"CI18","v":"Straight Flush"},null,null,null,{"$f":"CM18","v":{"$error":"#N/A"}},{"$error":"#N/A"},{"$error":"#N/A"}]
[null,null,null,null,null,null,null,null,null,null,null,null,null,null,null,null,null,null,null,null,null,null,null,null,null,null,null,null,1,2,3,4,5,null,null,null,null,null,null,null,null,null,null,null,null,null,null,null,null,null,null,null,null,null,null,null,null,null,null,null,null,null,null,null,{"$f":"CT18","v":"Four of a Kind"},null,null,null,{"$f":"CX18","v":{"$error":"#N/A"}},0,{"$error":"#N/A"}]
[null,null,null,null,null,null,null,null,null,null,null,null,null,null,null,null,null,null,null,null,null,null,null,null,null,null,null,{"$f":"AB156+IF(AB156=1,13+RAND()^3,RAND()^3)","v":0.62918673967128347},{"$error":"#N/A"},4.1139104439827765,10.07280204267335,12.34419158968665,3.1453597052733326,null,null,null,null,null,null,null,null,null,null,null,null,null,null,null,null,null,null,null,null,null,null,null,null,null,null,null,null,null,null,null,{"$f":"DE18","v":"Full House"},null,null,null,{"$f":"DI18","v":{"$error":"#N/A"}},0,{"$error":"#N/A"}]
[null,null,null,null,null,null,null,null,null,null,null,null,null,null,null,null,null,null,null,null,null,null,null,null,null,null,null,null,null,null,null,null,null,null,null,null,null,null,null,null,null,null,null,null,null,null,null,null,null,null,null,null,null,null,null,null,null,null,null,null,null,null,null,null,{"$f":"DP18","v":"Flush"},null,null,null,{"$f":"DT18","v":{"$error":"#N/A"}},0,{"$error":"#N/A"}]
[null,null,null,null,null,null,null,null,null,null,null,null,null,null,null,null,null,null,null,null,null,null,null,null,null,null,null,null,{"$f":"RANK(AC170,$AC$170:$AG$170,1)","v":{"$error":"#N/A"}},{"$f":"RANK(AD170,$AC$170:$AG$170,1)","v":{"$error":"#N/A"}},{"$error":"#N/A"},{"$error":"#N/A"},{"$error":"#N/A"},null,null,null,null,null,null,null,null,null,null,null,null,null,null,null,null,null,null,null,null,null,null,null,null,null,null,null,null,null,null,null,{"$f":"EA18","v":"Straight"},null,null,null,{"$f":"EE18","v":{"$error":"#N/A"}},{"$error":"#N/A"},{"$error":"#N/A"}]
[null,null,null,null,null,null,null,19,null,null,null,null,null,null,null,null,null,null,null,null,null,null,null,null,null,null,null,null,{"$f":"[0]!Player12","v":0},{"$f":"$K$1","v":"♣4"},{"$f":"$M$1","v":"♣J"},{"$f":"$N$1","v":"♣Q"},{"$f":"$O$1","v":"♥3"},null,null,null,null,null,null,null,null,null,null,null,null,null,null,null,null,null,null,null,null,null,null,null,null,null,null,null,null,null,null,null,{"$f":"EL18","v":"Three of a Kind"},null,null,null,{"$f":"EP18","v":{"$error":"#N/A"}},0,{"$error":"#N/A"}]
[null,null,null,null,null,null,null,null,null,null,null,null,null,null,null,null,null,null,null,null,null,null,null,null,null,null,null,null,{"$f":"VLOOKUP(AC164,$B$1:$F$52,5,0)","v":{"$error":"#N/A"}},{"$f":"VLOOKUP(AD164,$B$1:$F$52,5,0)","v":4},{"$f":"VLOOKUP(AE164,$B$1:$F$52,5,0)","v":11},{"$f":"VLOOKUP(AF164,$B$1:$F$52,5,0)","v":12},{"$f":"VLOOKUP(AG164,$B$1:$F$52,5,0)","v":3},null,null,null,null,null,null,null,null,null,null,null,null,null,null,null,null,null,null,null,null,null,null,null,null,null,null,null,null,null,null,null,{"$f":"EW18","v":"Two Pair"},null,null,null,{"$f":"FA18","v":{"$error":"#N/A"}},0,{"$error":"#N/A"}]
[null,null,null,null,null,null,null,null,null,null,null,null,null,null,null,null,null,null,null,null,null,null,null,null,null,null,null,null,{"$f":"VLOOKUP(AC164,$B$1:$F$52,4,0)","v":{"$error":"#N/A"}},{"$f":"VLOOKUP(AD164,$B$1:$F$52,4,0)","v":"C"},{"$f":"VLOOKUP(AE164,$B$1:$F$52,4,0)","v":"C"},{"$f":"VLOOKUP(AF164,$B$1:$F$52,4,0)","v":"C"},{"$f":"VLOOKUP(AG164,$B$1:$F$52,4,0)","v":"H"},null,null,null,null,null,null,null,null,null,null,null,null,null,null,null,null,null,null,null,null,null,null,null,null,null,null,null,null,null,null,null,{"$f":"FH18","v":"One Pair"},null,null,null,{"$f":"FL18","v":{"$error":"#N/A"}},0,{"$error":"#N/A"}]
[null,null,null,null,null,null,null,null,null,null,null,null,null,null,null,null,null,null,null,null,null,null,null,null,null,null,null,null,{"$f":"HLOOKUP(AC169,$AC$163:$AG$166,3,0)","v":{"$error":"#N/A"}},{"$f":"HLOOKUP(AD169,$AC$163:$AG$166,3,0)","v":{"$error":"#N/A"}},{"$error":"#N/A"},{"$error":"#N/A"},{"$error":"#N/A"},null,null,null,null,null,null,null,null,null,null,null,null,null,null,null,null,null,null,null,null,null,null,null,null,null,null,null,null,null,null,null,{"$f":"FS18","v":"High Card"},null,null,null,{"$f":"FW18","v":{"$error":"#N/A"}},0,{"$error":"#N/A"}]
[null,null,null,null,null,null,null,null,null,null,null,null,null,null,null,null,null,null,null,null,null,null,null,null,null,null,null,null,{"$f":"HLOOKUP(AC169,$AC$163:$AG$166,4,0)","v":{"$error":"#N/A"}},{"$f":"HLOOKUP(AD169,$AC$163:$AG$166,4,0)","v":{"$error":"#N/A"}},{"$error":"#N/A"},{"$error":"#N/A"},{"$error":"#N/A"}]
[null,null,null,null,null,null,null,null,null,null,null,null,null,null,null,null,null,null,null,null,null,null,null,null,null,null,null,null,1,2,3,4,5,null,null,null,null,null,null,null,null,null,null,null,null,null,null,null,null,null,null,null,null,null,null,null,null,null,null,null,null,null,null,16,{"$f":"BX19","v":"Royal Flush"},null,null,null,{"$f":"CB19","v":{"$error":"#N/A"}},{"$error":"#N/A"},{"$error":"#N/A"}]
[null,null,null,null,null,null,null,null,null,null,null,null,null,null,null,null,null,null,null,null,null,null,null,null,null,null,null,{"$f":"AB165+IF(AB165=1,13+RAND()^3,RAND()^3)","v":0.38662478542704437},{"$error":"#N/A"},4.9198729672407548,11.000001937417132,12.269260420344779,3.0000538126444725,null,null,null,null,null,null,null,null,null,null,null,null,null,null,null,null,null,null,null,null,null,null,null,null,null,null,null,null,null,null,null,{"$f":"CI19","v":"Straight Flush"},null,null,null,{"$f":"CM19","v":{"$error":"#N/A"}},{"$error":"#N/A"},{"$error":"#N/A"}]
[null,null,null,null,null,null,null,null,null,null,null,null,null,null,null,null,null,null,null,null,null,null,null,null,null,null,null,null,null,null,null,null,null,null,null,null,null,null,null,null,null,null,null,null,null,null,null,null,null,null,null,null,null,null,null,null,null,null,null,null,null,null,null,null,{"$f":"CT19","v":"Four of a Kind"},null,null,null,{"$f":"CX19","v":{"$error":"#N/A"}},0,{"$error":"#N/A"}]
[null,null,null,null,null,null,null,null,null,null,null,null,null,null,null,null,null,null,null,null,null,null,null,null,null,null,null,null,{"$f":"RANK(AC179,$AC$179:$AG$179,1)","v":{"$error":"#N/A"}},{"$f":"RANK(AD179,$AC$179:$AG$179,1)","v":{"$error":"#N/A"}},{"$error":"#N/A"},{"$error":"#N/A"},{"$error":"#N/A"},null,null,null,null,null,null,null,null,null,null,null,null,null,null,null,null,null,null,null,null,null,null,null,null,null,null,null,null,null,null,null,{"$f":"DE19","v":"Full House"},null,null,null,{"$f":"DI19","v":{"$error":"#N/A"}},0,{"$error":"#N/A"}]
[null,null,null,null,null,null,null,20,null,null,null,null,null,null,null,null,null,null,null,null,null,null,null,null,null,null,null,null,{"$f":"[0]!Player12","v":0},{"$f":"$L$1","v":"♠10"},{"$f":"$M$1","v":"♣J"},{"$f":"$N$1","v":"♣Q"},{"$f":"$O$1","v":"♥3"},null,null,null,null,null,null,null,null,null,null,null,null,null,null,null,null,null,null,null,null,null,null,null,null,null,null,null,null,null,null,null,{"$f":"DP19","v":"Flush"},null,null,null,{"$f":"DT19","v":{"$error":"#N/A"}},0,{"$error":"#N/A"}]
[null,null,null,null,null,null,null,null,null,null,null,null,null,null,null,null,null,null,null,null,null,null,null,null,null,null,null,null,{"$f":"VLOOKUP(AC173,$B$1:$F$52,5,0)","v":{"$error":"#N/A"}},{"$f":"VLOOKUP(AD173,$B$1:$F$52,5,0)","v":10},{"$f":"VLOOKUP(AE173,$B$1:$F$52,5,0)","v":11},{"$f":"VLOOKUP(AF173,$B$1:$F$52,5,0)","v":12},{"$f":"VLOOKUP(AG173,$B$1:$F$52,5,0)","v":3},null,null,null,null,null,null,null,null,null,null,null,null,null,null,null,null,null,null,null,null,null,null,null,null,null,null,null,null,null,null,null,{"$f":"EA19","v":"Straight"},null,null,null,{"$f":"EE19","v":{"$error":"#N/A"}},{"$error":"#N/A"},{"$error":"#N/A"}]
[null,null,null,null,null,null,null,null,null,null,null,null,null,null,null,null,null,null,null,null,null,null,null,null,null,null,null,null,{"$f":"VLOOKUP(AC173,$B$1:$F$52,4,0)","v":{"$error":"#N/A"}},{"$f":"VLOOKUP(AD173,$B$1:$F$52,4,0)","v":"S"},{"$f":"VLOOKUP(AE173,$B$1:$F$52,4,0)","v":"C"},{"$f":"VLOOKUP(AF173,$B$1:$F$52,4,0)","v":"C"},{"$f":"VLOOKUP(AG173,$B$1:$F$52,4,0)","v":"H"},null,null,null,null,null,null,null,null,null,null,null,null,null,null,null,null,null,null,null,null,null,null,null,null,null,null,null,null,null,null,null,{"$f":"EL19","v":"Three of a Kind"},null,null,null,{"$f":"EP19","v":{"$error":"#N/A"}},0,{"$error":"#N/A"}]
[null,null,null,null,null,null,null,null,null,null,null,null,null,null,null,null,null,null,null,null,null,null,null,null,null,null,null,null,{"$f":"HLOOKUP(AC178,$AC$172:$AG$175,3,0)","v":{"$error":"#N/A"}},{"$f":"HLOOKUP(AD178,$AC$172:$AG$175,3,0)","v":{"$error":"#N/A"}},{"$error":"#N/A"},{"$error":"#N/A"},{"$error":"#N/A"},null,null,null,null,null,null,null,null,null,null,null,null,null,null,null,null,null,null,null,null,null,null,null,null,null,null,null,null,null,null,null,{"$f":"EW19","v":"Two Pair"},null,null,null,{"$f":"FA19","v":{"$error":"#N/A"}},0,{"$error":"#N/A"}]
[null,null,null,null,null,null,null,null,null,null,null,null,null,null,null,null,null,null,null,null,null,null,null,null,null,null,null,null,{"$f":"HLOOKUP(AC178,$AC$172:$AG$175,4,0)","v":{"$error":"#N/A"}},{"$f":"HLOOKUP(AD178,$AC$172:$AG$175,4,0)","v":{"$error":"#N/A"}},{"$error":"#N/A"},{"$error":"#N/A"},{"$error":"#N/A"},null,null,null,null,null,null,null,null,null,null,null,null,null,null,null,null,null,null,null,null,null,null,null,null,null,null,null,null,null,null,null,{"$f":"FH19","v":"One Pair"},null,null,null,{"$f":"FL19","v":{"$error":"#N/A"}},0,{"$error":"#N/A"}]
[null,null,null,null,null,null,null,null,null,null,null,null,null,null,null,null,null,null,null,null,null,null,null,null,null,null,null,null,1,2,3,4,5,null,null,null,null,null,null,null,null,null,null,null,null,null,null,null,null,null,null,null,null,null,null,null,null,null,null,null,null,null,null,null,{"$f":"FS19","v":"High Card"},null,null,null,{"$f":"FW19","v":{"$error":"#N/A"}},0,{"$error":"#N/A"}]
[null,null,null,null,null,null,null,null,null,null,null,null,null,null,null,null,null,null,null,null,null,null,null,null,null,null,null,{"$f":"AB174+IF(AB174=1,13+RAND()^3,RAND()^3)","v":2.5022658742634285E-4},{"$error":"#N/A"},10.265138370506818,11.004493694928454,12.000065780823642,3.2628817331601865]
[null,null,null,null,null,null,null,null,null,null,null,null,null,null,null,null,null,null,null,null,null,null,null,null,null,null,null,null,null,null,null,null,null,null,null,null,null,null,null,null,null,null,null,null,null,null,null,null,null,null,null,null,null,null,null,null,null,null,null,null,null,null,null,17,{"$f":"BX20","v":"Royal Flush"},null,null,null,{"$f":"CB20","v":{"$error":"#N/A"}},{"$error":"#N/A"},{"$error":"#N/A"}]
[null,null,null,null,null,null,null,null,null,null,null,null,null,null,null,null,null,null,null,null,null,null,null,null,null,null,null,null,{"$f":"RANK(AC188,$AC$188:$AG$188,1)","v":2},{"$f":"RANK(AD188,$AC$188:$AG$188,1)","v":3},4,5,1,null,null,null,null,null,null,null,null,null,null,null,null,null,null,null,null,null,null,null,null,null,null,null,null,null,null,null,null,null,null,null,{"$f":"CI20","v":"Straight Flush"},null,null,null,{"$f":"CM20","v":{"$error":"#N/A"}},{"$error":"#N/A"},{"$error":"#N/A"}]
[null,null,null,null,null,null,null,21,null,null,null,null,null,null,null,null,null,null,null,null,null,null,null,null,null,null,null,null,{"$f":"$K$1","v":"♣4"},{"$f":"$L$1","v":"♠10"},{"$f":"$M$1","v":"♣J"},{"$f":"$N$1","v":"♣Q"},{"$f":"$O$1","v":"♥3"},null,null,null,null,null,null,null,null,null,null,null,null,null,null,null,null,null,null,null,null,null,null,null,null,null,null,null,null,null,null,null,{"$f":"CT20","v":"Four of a Kind"},null,null,null,{"$f":"CX20","v":{"$error":"#N/A"}},0,{"$error":"#N/A"}]
[null,null,null,null,null,null,null,null,null,null,null,null,null,null,null,null,null,null,null,null,null,null,null,null,null,null,null,null,{"$f":"VLOOKUP(AC182,$B$1:$F$52,5,0)","v":4},{"$f":"VLOOKUP(AD182,$B$1:$F$52,5,0)","v":10},{"$f":"VLOOKUP(AE182,$B$1:$F$52,5,0)","v":11},{"$f":"VLOOKUP(AF182,$B$1:$F$52,5,0)","v":12},{"$f":"VLOOKUP(AG182,$B$1:$F$52,5,0)","v":3},null,null,null,null,null,null,null,null,null,null,null,null,null,null,null,null,null,null,null,null,null,null,null,null,null,null,null,null,null,null,null,{"$f":"DE20","v":"Full House"},null,null,null,{"$f":"DI20","v":{"$error":"#N/A"}},0,{"$error":"#N/A"}]
[null,null,null,null,null,null,null,null,null,null,null,null,null,null,null,null,null,null,null,null,null,null,null,null,null,null,null,null,{"$f":"VLOOKUP(AC182,$B$1:$F$52,4,0)","v":"C"},{"$f":"VLOOKUP(AD182,$B$1:$F$52,4,0)","v":"S"},{"$f":"VLOOKUP(AE182,$B$1:$F$52,4,0)","v":"C"},{"$f":"VLOOKUP(AF182,$B$1:$F$52,4,0)","v":"C"},{"$f":"VLOOKUP(AG182,$B$1:$F$52,4,0)","v":"H"},null,null,null,null,null,null,null,null,null,null,null,null,null,null,null,null,null,null,null,null,null,null,null,null,null,null,null,null,null,null,null,{"$f":"DP20","v":"Flush"},null,null,null,{"$f":"DT20","v":{"$error":"#N/A"}},0,{"$error":"#N/A"}]
[null,null,null,null,null,null,null,null,null,null,null,null,null,null,null,null,null,null,null,null,null,null,null,null,null,null,null,null,{"$f":"HLOOKUP(AC187,$AC$181:$AG$184,3,0)","v":3},{"$f":"HLOOKUP(AD187,$AC$181:$AG$184,3,0)","v":4},10,11,12,null,null,null,null,null,null,null,null,null,null,null,null,null,null,null,null,null,null,null,null,null,null,null,null,null,null,null,null,null,null,null,{"$f":"EA20","v":"Straight"},null,null,null,{"$f":"EE20","v":{"$error":"#N/A"}},{"$error":"#N/A"},{"$error":"#N/A"}]
[null,null,null,null,null,null,null,null,null,null,null,null,null,null,null,null,null,null,null,null,null,null,null,null,null,null,null,null,{"$f":"HLOOKUP(AC187,$AC$181:$AG$184,4,0)","v":"H"},{"$f":"HLOOKUP(AD187,$AC$181:$AG$184,4,0)","v":"C"},"S","C","C",null,null,null,null,null,null,null,null,null,null,null,null,null,null,null,null,null,null,null,null,null,null,null,null,null,null,null,null,null,null,null,{"$f":"EL20","v":"Three of a Kind"},null,null,null,{"$f":"EP20","v":{"$error":"#N/A"}},0,{"$error":"#N/A"}]
[null,null,null,null,null,null,null,null,null,null,null,null,null,null,null,null,null,null,null,null,null,null,null,null,null,null,null,null,1,2,3,4,5,null,null,null,null,null,null,null,null,null,null,null,null,null,null,null,null,null,null,null,null,null,null,null,null,null,null,null,null,null,null,null,{"$f":"EW20","v":"Two Pair"},null,null,null,{"$f":"FA20","v":{"$error":"#N/A"}},0,{"$error":"#N/A"}]
[null,null,null,null,null,null,null,null,null,null,null,null,null,null,null,null,null,null,null,null,null,null,null,null,null,null,null,{"$f":"AB183+IF(AB183=1,13+RAND()^3,RAND()^3)","v":0.11544020552243263},4.0098263111244341,10.025810579390075,11.145326498870556,12.746170999130751,3.2484655274261205,null,null,null,null,null,null,null,null,null,null,null,null,null,null,null,null,null,null,null,null,null,null,null,null,null,null,null,null,null,null,null,{"$f":"FH20","v":"One Pair"},null,null,null,{"$f":"FL20","v":{"$error":"#N/A"}},0,{"$error":"#N/A"}]
[null,null,null,null,null,null,null,null,null,null,null,null,null,null,null,null,null,null,null,null,null,null,null,null,null,null,null,null,null,null,null,null,null,null,null,null,null,null,null,null,null,null,null,null,null,null,null,null,null,null,null,null,null,null,null,null,null,null,null,null,null,null,null,null,{"$f":"FS20","v":"High Card"},null,null,null,{"$f":"FW20","v":{"$error":"#N/A"}},0,{"$error":"#N/A"}]
[]
[null,null,null,null,null,null,null,null,null,null,null,null,null,null,null,null,null,null,null,null,null,null,null,null,null,null,null,null,null,null,null,null,null,null,null,null,null,null,null,null,null,null,null,null,null,null,null,null,null,null,null,null,null,null,null,null,null,null,null,null,null,null,null,18,{"$f":"BX21","v":"Royal Flush"},null,null,null,{"$f":"CB21","v":{"$error":"#N/A"}},{"$error":"#N/A"},{"$error":"#N/A"}]
[null,null,null,null,null,null,null,null,null,null,null,null,null,null,null,null,null,null,null,null,null,null,null,null,null,null,null,null,null,null,null,null,null,null,null,null,null,null,null,null,null,null,null,null,null,null,null,null,null,null,null,null,null,null,null,null,null,null,null,null,null,null,null,null,{"$f":"CI21","v":"Straight Flush"},null,null,null,{"$f":"CM21","v":{"$error":"#N/A"}},{"$error":"#N/A"},{"$error":"#N/A"}]
[null,null,null,null,null,null,null,null,null,null,null,null,null,null,null,null,null,null,null,null,null,null,null,null,null,null,null,null,null,null,null,null,null,null,null,null,null,null,null,null,null,null,null,null,null,null,null,null,null,null,null,null,null,null,null,null,null,null,null,null,null,null,null,null,{"$f":"CT21","v":"Four of a Kind"},null,null,null,{"$f":"CX21","v":{"$error":"#N/A"}},0,{"$error":"#N/A"}]
[null,null,null,null,null,null,null,null,null,null,null,null,null,null,null,null,null,null,null,null,null,null,null,null,null,null,null,null,null,null,null,null,null,null,null,null,null,null,null,null,null,null,null,null,null,null,null,null,null,null,null,null,null,null,null,null,null,null,null,null,null,null,null,null,{"$f":"DE21","v":"Full House"},null,null,null,{"$f":"DI21","v":{"$error":"#N/A"}},0,{"$error":"#N/A"}]
[null,null,null,null,null,null,null,null,null,null,null,null,null,null,null,null,null,null,null,null,null,null,null,null,null,null,null,null,null,null,null,null,null,null,null,null,null,null,null,null,null,null,null,null,null,null,null,null,null,null,null,null,null,null,null,null,null,null,null,null,null,null,null,null,{"$f":"DP21","v":"Flush"},null,null,null,{"$f":"DT21","v":{"$error":"#N/A"}},0,{"$error":"#N/A"}]
[null,null,null,null,null,null,null,null,null,null,null,null,null,null,null,null,null,null,null,null,null,null,null,null,null,null,null,null,null,null,null,null,null,null,null,null,null,null,null,null,null,null,null,null,null,null,null,null,null,null,null,null,null,null,null,null,null,null,null,null,null,null,null,null,{"$f":"EA21","v":"Straight"},null,null,null,{"$f":"EE21","v":{"$error":"#N/A"}},{"$error":"#N/A"},{"$error":"#N/A"}]
[null,null,null,null,null,null,null,null,null,null,null,null,null,null,null,null,null,null,null,null,null,null,null,null,null,null,null,null,null,null,null,null,null,null,null,null,null,null,null,null,null,null,null,null,null,null,null,null,null,null,null,null,null,null,null,null,null,null,null,null,null,null,null,null,{"$f":"EL21","v":"Three of a Kind"},null,null,null,{"$f":"EP21","v":{"$error":"#N/A"}},0,{"$error":"#N/A"}]
[null,null,null,null,null,null,null,null,null,null,null,null,null,null,null,null,null,null,null,null,null,null,null,null,null,null,null,null,null,null,null,null,null,null,null,null,null,null,null,null,null,null,null,null,null,null,null,null,null,null,null,null,null,null,null,null,null,null,null,null,null,null,null,null,{"$f":"EW21","v":"Two Pair"},null,null,null,{"$f":"FA21","v":{"$error":"#N/A"}},0,{"$error":"#N/A"}]
[null,null,null,null,null,null,null,null,null,null,null,null,null,null,null,null,null,null,null,null,null,null,null,null,null,null,null,null,null,null,null,null,null,null,null,null,null,null,null,null,null,null,null,null,null,null,null,null,null,null,null,null,null,null,null,null,null,null,null,null,null,null,null,null,{"$f":"FH21","v":"One Pair"},null,null,null,{"$f":"FL21","v":{"$error":"#N/A"}},0,{"$error":"#N/A"}]
[null,null,null,null,null,null,null,null,null,null,null,null,null,null,null,null,null,null,null,null,null,null,null,null,null,null,null,null,null,null,null,null,null,null,null,null,null,null,null,null,null,null,null,null,null,null,null,null,null,null,null,null,null,null,null,null,null,null,null,null,null,null,null,null,{"$f":"FS21","v":"High Card"},null,null,null,{"$f":"FW21","v":{"$error":"#N/A"}},0,{"$error":"#N/A"}]
[]
[null,null,null,null,null,null,null,null,null,null,null,null,null,null,null,null,null,null,null,null,null,null,null,null,null,null,null,null,null,null,null,null,null,null,null,null,null,null,null,null,null,null,null,null,null,null,null,null,null,null,null,null,null,null,null,null,null,null,null,null,null,null,null,19,{"$f":"BX22","v":"Royal Flush"},null,null,null,{"$f":"CB22","v":{"$error":"#N/A"}},{"$error":"#N/A"},{"$error":"#N/A"}]
[null,null,null,null,null,null,null,null,null,null,null,null,null,null,null,null,null,null,null,null,null,null,null,null,null,null,null,null,null,null,null,null,null,null,null,null,null,null,null,null,null,null,null,null,null,null,null,null,null,null,null,null,null,null,null,null,null,null,null,null,null,null,null,null,{"$f":"CI22","v":"Straight Flush"},null,null,null,{"$f":"CM22","v":{"$error":"#N/A"}},{"$error":"#N/A"},{"$error":"#N/A"}]
[null,null,null,null,null,null,null,null,null,null,null,null,null,null,null,null,null,null,null,null,null,null,null,null,null,null,null,null,null,null,null,null,null,null,null,null,null,null,null,null,null,null,null,null,null,null,null,null,null,null,null,null,null,null,null,null,null,null,null,null,null,null,null,null,{"$f":"CT22","v":"Four of a Kind"},null,null,null,{"$f":"CX22","v":{"$error":"#N/A"}},0,{"$error":"#N/A"}]
[null,null,null,null,null,null,null,null,null,null,null,null,null,null,null,null,null,null,null,null,null,null,null,null,null,null,null,null,null,null,null,null,null,null,null,null,null,null,null,null,null,null,null,null,null,null,null,null,null,null,null,null,null,null,null,null,null,null,null,null,null,null,null,null,{"$f":"DE22","v":"Full House"},null,null,null,{"$f":"DI22","v":{"$error":"#N/A"}},0,{"$error":"#N/A"}]
[null,null,null,null,null,null,null,null,null,null,null,null,null,null,null,null,null,null,null,null,null,null,null,null,null,null,null,null,null,null,null,null,null,null,null,null,null,null,null,null,null,null,null,null,null,null,null,null,null,null,null,null,null,null,null,null,null,null,null,null,null,null,null,null,{"$f":"DP22","v":"Flush"},null,null,null,{"$f":"DT22","v":{"$error":"#N/A"}},0,{"$error":"#N/A"}]
[null,null,null,null,null,null,null,null,null,null,null,null,null,null,null,null,null,null,null,null,null,null,null,null,null,null,null,null,null,null,null,null,null,null,null,null,null,null,null,null,null,null,null,null,null,null,null,null,null,null,null,null,null,null,null,null,null,null,null,null,null,null,null,null,{"$f":"EA22","v":"Straight"},null,null,null,{"$f":"EE22","v":{"$error":"#N/A"}},{"$error":"#N/A"},{"$error":"#N/A"}]
[null,null,null,null,null,null,null,null,null,null,null,null,null,null,null,null,null,null,null,null,null,null,null,null,null,null,null,null,null,null,null,null,null,null,null,null,null,null,null,null,null,null,null,null,null,null,null,null,null,null,null,null,null,null,null,null,null,null,null,null,null,null,null,null,{"$f":"EL22","v":"Three of a Kind"},null,null,null,{"$f":"EP22","v":{"$error":"#N/A"}},0,{"$error":"#N/A"}]
[null,null,null,null,null,null,null,null,null,null,null,null,null,null,null,null,null,null,null,null,null,null,null,null,null,null,null,null,null,null,null,null,null,null,null,null,null,null,null,null,null,null,null,null,null,null,null,null,null,null,null,null,null,null,null,null,null,null,null,null,null,null,null,null,{"$f":"EW22","v":"Two Pair"},null,null,null,{"$f":"FA22","v":{"$error":"#N/A"}},0,{"$error":"#N/A"}]
[null,null,null,null,null,null,null,null,null,null,null,null,null,null,null,null,null,null,null,null,null,null,null,null,null,null,null,null,null,null,null,null,null,null,null,null,null,null,null,null,null,null,null,null,null,null,null,null,null,null,null,null,null,null,null,null,null,null,null,null,null,null,null,null,{"$f":"FH22","v":"One Pair"},null,null,null,{"$f":"FL22","v":{"$error":"#N/A"}},0,{"$error":"#N/A"}]
[null,null,null,null,null,null,null,null,null,null,null,null,null,null,null,null,null,null,null,null,null,null,null,null,null,null,null,null,null,null,null,null,null,null,null,null,null,null,null,null,null,null,null,null,null,null,null,null,null,null,null,null,null,null,null,null,null,null,null,null,null,null,null,null,{"$f":"FS22","v":"High Card"},null,null,null,{"$f":"FW22","v":{"$error":"#N/A"}},0,{"$error":"#N/A"}]
[]
[null,null,null,null,null,null,null,null,null,null,null,null,null,null,null,null,null,null,null,null,null,null,null,null,null,null,null,null,null,null,null,null,null,null,null,null,null,null,null,null,null,null,null,null,null,null,null,null,null,null,null,null,null,null,null,null,null,null,null,null,null,null,null,20,{"$f":"BX23","v":"Royal Flush"},null,null,null,{"$f":"CB23","v":{"$error":"#N/A"}},{"$error":"#N/A"},{"$error":"#N/A"}]
[null,null,null,null,null,null,null,null,null,null,null,null,null,null,null,null,null,null,null,null,null,null,null,null,null,null,null,null,null,null,null,null,null,null,null,null,null,null,null,null,null,null,null,null,null,null,null,null,null,null,null,null,null,null,null,null,null,null,null,null,null,null,null,null,{"$f":"CI23","v":"Straight Flush"},null,null,null,{"$f":"CM23","v":{"$error":"#N/A"}},{"$error":"#N/A"},{"$error":"#N/A"}]
[null,null,null,null,null,null,null,null,null,null,null,null,null,null,null,null,null,null,null,null,null,null,null,null,null,null,null,null,null,null,null,null,null,null,null,null,null,null,null,null,null,null,null,null,null,null,null,null,null,null,null,null,null,null,null,null,null,null,null,null,null,null,null,null,{"$f":"CT23","v":"Four of a Kind"},null,null,null,{"$f":"CX23","v":{"$error":"#N/A"}},0,{"$error":"#N/A"}]
[null,null,null,null,null,null,null,null,null,null,null,null,null,null,null,null,null,null,null,null,null,null,null,null,null,null,null,null,null,null,null,null,null,null,null,null,null,null,null,null,null,null,null,null,null,null,null,null,null,null,null,null,null,null,null,null,null,null,null,null,null,null,null,null,{"$f":"DE23","v":"Full House"},null,null,null,{"$f":"DI23","v":{"$error":"#N/A"}},0,{"$error":"#N/A"}]
[null,null,null,null,null,null,null,null,null,null,null,null,null,null,null,null,null,null,null,null,null,null,null,null,null,null,null,null,null,null,null,null,null,null,null,null,null,null,null,null,null,null,null,null,null,null,null,null,null,null,null,null,null,null,null,null,null,null,null,null,null,null,null,null,{"$f":"DP23","v":"Flush"},null,null,null,{"$f":"DT23","v":{"$error":"#N/A"}},0,{"$error":"#N/A"}]
[null,null,null,null,null,null,null,null,null,null,null,null,null,null,null,null,null,null,null,null,null,null,null,null,null,null,null,null,null,null,null,null,null,null,null,null,null,null,null,null,null,null,null,null,null,null,null,null,null,null,null,null,null,null,null,null,null,null,null,null,null,null,null,null,{"$f":"EA23","v":"Straight"},null,null,null,{"$f":"EE23","v":{"$error":"#N/A"}},{"$error":"#N/A"},{"$error":"#N/A"}]
[null,null,null,null,null,null,null,null,null,null,null,null,null,null,null,null,null,null,null,null,null,null,null,null,null,null,null,null,null,null,null,null,null,null,null,null,null,null,null,null,null,null,null,null,null,null,null,null,null,null,null,null,null,null,null,null,null,null,null,null,null,null,null,null,{"$f":"EL23","v":"Three of a Kind"},null,null,null,{"$f":"EP23","v":{"$error":"#N/A"}},0,{"$error":"#N/A"}]
[null,null,null,null,null,null,null,null,null,null,null,null,null,null,null,null,null,null,null,null,null,null,null,null,null,null,null,null,null,null,null,null,null,null,null,null,null,null,null,null,null,null,null,null,null,null,null,null,null,null,null,null,null,null,null,null,null,null,null,null,null,null,null,null,{"$f":"EW23","v":"Two Pair"},null,null,null,{"$f":"FA23","v":{"$error":"#N/A"}},0,{"$error":"#N/A"}]
[null,null,null,null,null,null,null,null,null,null,null,null,null,null,null,null,null,null,null,null,null,null,null,null,null,null,null,null,null,null,null,null,null,null,null,null,null,null,null,null,null,null,null,null,null,null,null,null,null,null,null,null,null,null,null,null,null,null,null,null,null,null,null,null,{"$f":"FH23","v":"One Pair"},null,null,null,{"$f":"FL23","v":{"$error":"#N/A"}},0,{"$error":"#N/A"}]
[null,null,null,null,null,null,null,null,null,null,null,null,null,null,null,null,null,null,null,null,null,null,null,null,null,null,null,null,null,null,null,null,null,null,null,null,null,null,null,null,null,null,null,null,null,null,null,null,null,null,null,null,null,null,null,null,null,null,null,null,null,null,null,null,{"$f":"FS23","v":"High Card"},null,null,null,{"$f":"FW23","v":{"$error":"#N/A"}},0,{"$error":"#N/A"}]
[]
[null,null,null,null,null,null,null,null,null,null,null,null,null,null,null,null,null,null,null,null,null,null,null,null,null,null,null,null,null,null,null,null,null,null,null,null,null,null,null,null,null,null,null,null,null,null,null,null,null,null,null,null,null,null,null,null,null,null,null,null,null,null,null,21,{"$f":"BX24","v":"Royal Flush"},null,null,null,{"$f":"CB24","v":0},0,0]
[null,null,null,null,null,null,null,null,null,null,null,null,null,null,null,null,null,null,null,null,null,null,null,null,null,null,null,null,null,null,null,null,null,null,null,null,null,null,null,null,null,null,null,null,null,null,null,null,null,null,null,null,null,null,null,null,null,null,null,null,null,null,null,null,{"$f":"CI24","v":"Straight Flush"},null,null,null,{"$f":"CM24","v":0},0,0]
[null,null,null,null,null,null,null,null,null,null,null,null,null,null,null,null,null,null,null,null,null,null,null,null,null,null,null,null,null,null,null,null,null,null,null,null,null,null,null,null,null,null,null,null,null,null,null,null,null,null,null,null,null,null,null,null,null,null,null,null,null,null,null,null,{"$f":"CT24","v":"Four of a Kind"},null,null,null,{"$f":"CX24","v":0},0,0]
[null,null,null,null,null,null,null,null,null,null,null,null,null,null,null,null,null,null,null,null,null,null,null,null,null,null,null,null,null,null,null,null,null,null,null,null,null,null,null,null,null,null,null,null,null,null,null,null,null,null,null,null,null,null,null,null,null,null,null,null,null,null,null,null,{"$f":"DE24","v":"Full House"},null,null,null,{"$f":"DI24","v":0},0,0]
[null,null,null,null,null,null,null,null,null,null,null,null,null,null,null,null,null,null,null,null,null,null,null,null,null,null,null,null,null,null,null,null,null,null,null,null,null,null,null,null,null,null,null,null,null,null,null,null,null,null,null,null,null,null,null,null,null,null,null,null,null,null,null,null,{"$f":"DP24","v":"Flush"},null,null,null,{"$f":"DT24","v":0},0,0]
[null,null,null,null,null,null,null,null,null,null,null,null,null,null,null,null,null,null,null,null,null,null,null,null,null,null,null,null,null,null,null,null,null,null,null,null,null,null,null,null,null,null,null,null,null,null,null,null,null,null,null,null,null,null,null,null,null,null,null,null,null,null,null,null,{"$f":"EA24","v":"Straight"},null,null,null,{"$f":"EE24","v":0},1,0]
[null,null,null,null,null,null,null,null,null,null,null,null,null,null,null,null,null,null,null,null,null,null,null,null,null,null,null,null,null,null,null,null,null,null,null,null,null,null,null,null,null,null,null,null,null,null,null,null,null,null,null,null,null,null,null,null,null,null,null,null,null,null,null,null,{"$f":"EL24","v":"Three of a Kind"},null,null,null,{"$f":"EP24","v":0},0,0]
[null,null,null,null,null,null,null,null,null,null,null,null,null,null,null,null,null,null,null,null,null,null,null,null,null,null,null,null,null,null,null,null,null,null,null,null,null,null,null,null,null,null,null,null,null,null,null,null,null,null,null,null,null,null,null,null,null,null,null,null,null,null,null,null,{"$f":"EW24","v":"Two Pair"},null,null,null,{"$f":"FA24","v":0},0,0]
[null,null,null,null,null,null,null,null,null,null,null,null,null,null,null,null,null,null,null,null,null,null,null,null,null,null,null,null,null,null,null,null,null,null,null,null,null,null,null,null,null,null,null,null,null,null,null,null,null,null,null,null,null,null,null,null,null,null,null,null,null,null,null,null,{"$f":"FH24","v":"One Pair"},null,null,null,{"$f":"FL24","v":0},0,0]
[null,null,null,null,null,null,null,null,null,null,null,null,null,null,null,null,null,null,null,null,null,null,null,null,null,null,null,null,null,null,null,null,null,null,null,null,null,null,null,null,null,null,null,null,null,null,null,null,null,null,null,null,null,null,null,null,null,null,null,null,null,null,null,null,{"$f":"FS24","v":"High Card"},null,null,null,{"$f":"FW24","v":1},0,1]
[]
[]
[]
[]
[]
[]
[0.77321777153665461,0.85834739049374686,0.19619687416580844,0.82130645375978617,0.83303920600981141,8.7758904266992177E-2,0.40394999329814774,0.65618013011502996,0.89229303350191636,0.28020352401711024,0.63816698919492676,0.21829746766494118,8.8095726108133765E-2,0.1903420228442988,0.35780234170759617,2.8178148760049981E-2,0.18903211168979872,0.81296133255409497,0.15811510368622905,0.12602401198376367,0.54308944872395326,0.65268987917691612,0.96745094276426613,0.583126086256888,0.80047973975397368,0.79441784889602785,0.99566984033450079,0.15745828818455154,0.23694366636564557,0.76959640040439425,4.0381672065251673E-3,0.30729488679028616,0.37631317639274831,0.61726874652046881,0.21286000034163133,0.52662351377437056,8.6838277758233606E-2,0.53179396027144954,0.53334296328038633,0.41922817244840094,2.8361764859687333E-2,0.82451309342315349,8.6710174962131292E-3,0.68024081620070875,0.89931698286339112,0.10298422934428597,0.89097408107530973,0.17632638130299227,0.67097593162210534,0.62287449979757448,0.70717776944070498,0.56228232133501599,0.53113768994177168,0.26648167214374407,2.4026139727345019E-2,0.12858562868963441,6.6718249915207584E-2,0.15433195273211386,0.12642388059467669,0.59598878516030929,0.9503797856189653,0.77701313239548142,0.76700528116909472,0.95576429116253614,0.58775399469956247,0.91749058343067513,0.16424883886636577,0.44042527113133012,0.2029995693483283,0.64826715094601328,0.89592217261093965,0.57065268645885847,0.79322411514732216,0.88839312489880096,3.6566655824102234E-2,0.76402324252130838,0.47882641705604734,0.88967298182244692,0.32936637198711216,0.71967250333213795,0.14778048357499285,0.95923106352202758,0.16282903672797644,0.59656722420229025,0.39686271850807009,0.96759329254726689,0.82174476028984944,0.12804414583904278,0.17729289290903305,0.3363307081129987,0.74662496856424643,0.94247842854877417,1.4463929595692204E-2,0.38929340954923763,0.74355770695734091,0.45663284329157272,0.26716352711200442,0.49131531372000392,0.22152400818642259,0.11786056137424517,0.58034637372772957,0.78028161836061005,0.48505342829588771,0.39668904027038043,0.31645557088390763,0.36720056659252709,0.87104397082060359,0.62206679687482214,0.11581830083232725,0.74856627110822826,0.30158754608272265,0.26596208561025536,0.47136481077740056,0.71376527123384215,0.43952977896301726,0.61756861578564748,0.23933256681813098,0.89171767197340679,0.64742110907826245,0.71924065933458614,0.24473060577045325,0.49542470001875183,0.51282666945140432,0.33853106998561244,0.47256880521205802,0.23548907774874983,0.52462325773530838,2.9737076234799709E-2,0.38536337774769891,0.65175330550019839,4.8308975777185514E-2,0.3303130648660445,0.33248985722740154,0.21654172959321638,0.50575179474442122,0.2274702685325195,0.70664643495229229,0.66736519135640637,0.73896298292035556,0.47718267297322881,0.10434643813469413,0.60659776932246212,0.90644128345504238,0.28841851464655355,0.65539550706584793,0.64007074451423651,0.31598974874724273,0.45217703893994332,0.49093714951666434,0.78613198792104011,0.85627485535104453,0.30971503823901902,0.49243126886606248,0.59943492345380145,0.90195624661239315,0.64121198142310598,4.0677953910559506E-3,0.65745775392011507,0.64463692498434166,0.37195472160392318,0.70844834360262698,0.7684113591343622,0.20181775227312237,0.15758757606796581,0.57825232700520401,0.67844037947241487,0.97596577788686711,0.34851690905046218,0.33362843154793476,0.82003583701754401,0.95249372975555613,0.45559651390506251,0.48325531250907849,0.77220554945947373,0.45695235370461162,0.1373435756521757,0.32794488160047086,0.17115814930318796,0.55942930499522014,0.90254157685001701,0.58836947142890994,4.3123637339506415E-2,0.74151740395600696,0.51806298989883881,0.11209842318369723,0.69708565577197101,0.97476438059017823,0.40245520245187838,0.9224058232163822,0.6552495319535504,0.27278647720413418,0.31669153261478633,0.40248854885967644,0.73185371979923275,0.27275596382271472,0.13137502633953169,0.29345035426796595,0.2553206980120778,0.75590193649996851,0.93580384050885135]
[0.30028483295118658,0.61025858416068146,0.14384182724310135,0.79261189047287739,0.61196481850608586,0.1004061816371008,0.17700891617321779,0.26641349989070218,0.31247743141449513,0.46905813175830868,0.15172215837658598,0.57826664558339935,0.90469723116487721,0.78511746727367315,0.45959762375481727,6.2270619042029129E-2,0.67126069355550833,0.90553228541544362,0.98531485227644966,0.92848847895505215,0.56760065394962567,0.9490109833195377,0.84613769241699333,0.84834265400915509,0.65395699580149447,0.93045336754070407,0.61539307822667022,0.32149809544975938,2.0059300564215232E-2,0.49871919607766968,0.94340327107888811,0.2035130776913483,0.63642154076822011,0.83803955946422481,0.24026254020248783,0.96259111373751005,0.61682704780857001,0.60019196485882642,5.5365773249441697E-3,0.57924744728819677,0.41935468145077781,0.90040598184499943,0.87912904334092501,0.21811858295612074,0.18302503270439818,0.43955596701870858,5.7405670239716655E-2,0.47412201281855137,0.92860605994911338,0.32757881201366357,2.7585034125217067E-3,0.86821186894911617,0.94292148958826671,0.26870302229563103,0.6259659676168885,0.1158059643297239,0.68853192154056364,0.1972546495468317,0.53192816865857084,0.8414547024896829,0.17723364374270867,0.48757515213648384,0.54190549103976959,0.73593449143093448,0.14983260565736212,0.3632999484094549,0.59127595164542179,0.71283074210182862,0.13970480297123322,0.94025466660080248,0.93884073995921113,0.70501249733825921,4.6680091661157053E-2,0.73833943024151405,0.59324013974782919,5.2827102059400777E-2,0.19431602925884983,0.93152662990105684,0.74475684757200467,0.33391317818344357,0.59272697397395879,0.49153162383967575,1.1059880549062595E-2,0.3939006760236976,0.44439219820993014,0.89189806577313879,0.2502082174641429,0.21390895588017522,0.38159234886551263,0.32081076265294228,0.75449834084392065,0.7601554568834723,0.58655897689215886,0.77292691713359341,0.24564539864449841,0.88488997966283367,0.25284601131022155,0.81489910458467907,7.7955108484139335E-2,0.76701543442777864,0.85785131191570063,0.57504270910442223,0.37280363538711947,0.16697316655371286,0.66005757062529025,0.68920295751923433,0.44826643745575678,0.79868587088503917,0.70357732349094582,0.74764755880495304,0.65949813853169237,0.40610130257771559,0.2247444961018541,0.47206612821276017,0.36186554017903971,0.66237051001862413,0.76127219563671611,0.74061443243059832,0.67026810282075833,0.12459342578995303,0.88766021632652425,0.72990254714143621,0.94566091189123158,0.95919555553718561,0.52399967784784729,0.16360689407613982,0.43262366660306317,2.3591474820471081E-2,0.38629935048794795,0.13065141986678541,0.34779782011638705,0.6169678895708709,0.79102031541650375,0.34570581042208692,0.22614369559424541,0.9245039066405889,0.8533597122417913,0.83703006524915324,0.4181464120118461,0.19744294023444253,0.86533273310432646,0.29248768226703381,0.71343290640450019,0.79636434482335727,0.62485109772690328,0.4261165434453269,0.47727375461650789,0.23518127090242458,0.88745605698031182,0.56017950221739965,0.28037169621237634,0.24577287738310771,7.9247604312217668E-2,0.49142940768869581,0.33321469611782406,0.31786163752305741,0.24490486214250085,0.10731990636833011,6.7562824100882768E-2,0.48251521466639358,0.14650074337006702,0.81170855666578445,9.4830322647292076E-2,0.9049309018396644,0.66914077484852974,0.10667130691122151,0.69804897265758314,0.48108612130459261,0.53988871855384302,0.87471719603480447,0.69338167044519605,0.53208701762394295,0.81737418840011844,2.6184160748904617E-2,0.85455407389684634,0.51335099908137205,0.16840276808119137,0.22379180565040147,0.66226218516806168,0.63881706483929523,0.5375035061336837,0.40775383656795527,0.25925380917277518,0.37545471555371024,0.96514220602017653,3.0857951160296104E-2,0.539581896960035,0.16850055577412115,0.85942098715634296,0.53327817095132124,0.63072110284095018,0.87898563998897383,0.87234306341974444,0.45222594911744007,0.80278180042158098,0.13789245336728584,0.89333075055918854,0.43856868924082726,0.89250372383702081,0.69700831890414894]
[0.51756666153070008,9.1216143974252928E-2,0.88416165560771987,0.63230702927039972,3.2500872147102067E-3,0.76859053852223524,0.78177390329774465,0.85807385621151655,0.56270098048386674,0.7896600086096458,0.79210998496431873,5.3070012605304528E-2,0.42197396147658073,2.6194457057147402E-2,0.31735416691024421,0.46841286501699542,0.27790169257530439,0.10941746609281455,0.23844819594207123,0.89227421380574301,0.68385634989308852,0.83313114991332093,0.65056576642357455,0.69706519946982359,0.61013098167541313,0.5209322998540552,0.39978147533972597,0.73726349135943658,0.46870140648383585,0.95570549153667661,0.99893121468301671,0.23615668066466156,0.92291871605167008,0.12693909711545703,0.45530986302375287,0.90263557147499984,0.92464947306674505,0.893893605622058,0.1381838473923811,0.50426448814485625,0.56338155606153328,0.59661954758829217,0.77836084528380911,0.6801344194161828,0.22809542527997961,0.90413068280829023,0.88549723367902555,7.2864594807519278E-2,0.16788034405834462,0.12159677210920061,0.91170849894126571,0.43518893562753713,5.1204728109928488E-2,0.19741546058252213,0.77869761881193345,0.13173086943649548,0.99456310386101066,0.66442458444812413,0.85601285932205218,0.32255399352118375,0.77515278983142022,0.74089687960626682,0.93536045870714524,0.69596141551093171,0.27933288874860884,0.3412168097316457,0.10583028677492157,0.64715108999000104,0.49952260388642233,0.82632325102139736,0.86288127094572498,0.83506655643323657,0.75047189943098769,0.54159939096108234,0.7651196350352748,0.47743227272599464,0.94890301828984336,0.24004598772447949,0.89040781926098433,0.25192485548225296,0.48982263747677657,0.68942106133494341,0.43862672451570439,0.47575110461350467,0.82454664383093146,0.46727534117828295,0.46424735626195524,0.25728730124555887,0.87903270381862741,0.98545797765760212,0.32941871764854591,0.66742665726185324,4.4610715907192677E-2,0.73326004832358072,0.9728263456651951,0.88937610649401044,0.72314837448300262,0.11587093463774722,0.32779062181264162,0.87711799577372074,0.8295603872439955,0.88968439229360341,0.32563685059048264,0.16616395529523853,0.65294828331733712,2.1268481911276504E-2,8.8625499026891097E-2,0.57307753341645395,0.60940249175411887,0.53529141875975073,0.89861801165488275,0.55260674764837681,0.13448213608045412,0.39055841128494639,0.79624510833696471,0.92852376564800954,0.35950099414259595,0.41325867763498703,0.36381189313318363,0.12363497462151785,0.10553893599550201,0.64611672373328888,0.44843949733722899,0.69072978977072019,3.6549580276068805E-2,0.51246179304464179,1.4745948767597494E-2,0.24745535637475002,0.20995969738960718,0.77999074363675114,0.5011308552020024,0.59720245209785638,0.35815129041791105,0.19944776554744226,0.35091340596314069,0.95432882054593338,0.93150530552984856,0.50627437298293854,0.8007581163921762,0.24471470169994769,0.45695640699020634,0.40802840628161752,0.74377011975541518,0.26652033483243054,0.25375866001920067,0.18831733996739808,0.85370577936459047,0.22359133582010093,0.82156777429605854,2.8463639115475114E-2,0.50605119512830465,0.82580735202861333,0.66370078269935562,0.62458467993025035,0.72514713483177196,0.64776916132849705,0.4576185104407996,0.17580601264293139,0.87261628015205872,0.36779167725324835,0.92122917404549831,2.7182066286485007E-2,0.95168604967351389,0.74732145549065654,9.617759030271833E-2,0.58305141396284466,8.4951292596018302E-3,5.7714640019554064E-2,0.57759030844151771,0.73914052058974034,0.32347321772739435,0.70674175465739641,0.64067767314960511,0.36934197134793534,0.35247947299419125,0.22736054877953382,0.87259646018498938,0.68115484187868469,0.55993279994137568,6.5803995349096756E-2,0.57391405217057345,0.35378057650236949,0.99047594088496527,0.63714905015992962,0.51597823853399694,0.14902288101431604,0.65417837043045868,0.24897356244016011,0.48999538932482367,0.81194564954588655,0.63143807719579836,0.92672303454932514,0.46627692625427852,0.68621602470694276,0.38685576252116338,0.60673778364668163,0.99915318839314238,0.81488907265520427,0.28491847550871363,0.58776086990278598]
[0.80066937680142891,0.71844987922559855,0.31100470008949643,0.7064391286063435,0.1941424896052637,0.30645169489793023,0.92266475801058045,0.14275557982577136,0.30672368093931912,0.45403533090586667,0.14256804469363094,0.55329834039382597,0.66951167508671028,0.71513449397778495,0.64291237455241579,0.3708395187157224,0.66443015273048345,0.40312470448967719,0.77063259457657662,0.73156018433110082,0.73593692500852803,8.2316984103459556E-2,0.20228435392926225,0.78190990235806923,4.3350736206227536E-2,0.57820004274415915,0.98773613616062539,0.95418759632575101,0.48911532727970519,0.81205871749925085,0.75530468996256095,0.55701363236215173,0.68477279559178916,0.43247364401341659,0.1552002253574577,0.74162692392143759,0.48906560279619826,0.96987790579901323,0.23978460852332106,0.88796778356239059,0.90687763969970037,0.83374674351549372,0.80608618341254734,0.16172241262609544,7.8699573826320646E-2,0.69202544617851258,8.1273721777845975E-2,3.3074118525945329E-2,0.73544523029080089,0.22344367531690557,0.35645834705032808,0.89814274750732448,0.69492027526931888,0.34925488142282723,0.10701963252784485,0.30402815729016641,0.35867163616593645,0.91157417194563284,0.43854704580907866,0.79593420602005016,0.35642697000424206,0.87274716188517576,0.17090270330420476,0.74472999103323023,0.72549861241646962,0.49768143019545963,0.645411457354091,8.0917256785350888E-2,0.23245133018943864,0.16701667618789151,0.84147269561487603,0.89590905019625766,0.70650572273296031,0.68026179887516725,2.4988270807458135E-2,9.9388134381209747E-3,9.4359173271087005E-2,0.71193381106816056,0.79948489512646159,0.8395557672613605,0.47916739723891244,0.75742986979063354,0.21727614581899357,9.4859182592517133E-2,0.22278620393409287,0.96672430272143184,0.11666228281845847,0.89498933520062773,0.38045094146078573,0.81046682248480584,0.25786372699727822,2.8569738016645418E-2,0.77262609342453037,0.19823083310936307,0.5084964423656313,0.19057741857077037,0.17166641615112677,0.23075990291766924,0.77172222046818872,0.28539269130622535,0.41527249214824313,0.10754751395857687,0.95386204556986087,0.34064914763777554,0.67822642865371519,0.71243205980069524,0.16656476987925628,0.47262757304629421,0.2156910054679958,0.53761194041385596,0.75661447585446828,0.2945029521906376,0.73642391328576073,0.58298785953851928,0.4947535306748343,0.47667586922884742,0.37212453022835723,0.863069696055903,0.24744235147312443,0.82375356254822907,0.91446906928598914,0.48764349626259429,0.65668675122447084,0.55816190749764683,0.34822506369410433,0.73293858429334757,0.47713440617514646,0.9066046238845511,0.46320828766802224,0.37408831483814209,0.81006218925409978,0.60073876119795289,9.7121277808910222E-2,0.51529683926534897,0.20789813396758017,0.16063208607209878,0.63241821353819661,0.82225002541043568,0.78492106053194255,0.27865513481540716,0.76135626356358133,0.87115495501026396,0.2637187077351103,0.40341733162185422,0.60229330229201172,0.69592416954520986,0.45967049884073408,0.88623529167233395,0.78984575746470009,0.63391958791289915,0.65818924816470037,0.19795070138179127,0.3526962887670626,0.59589495840737394,0.69892618123145001,0.34495267841916255,0.18351558493760256,0.95395931647312671,0.18806410790993788,0.70372147456289313,0.1318692624995218,6.4781912592256852E-2,0.35967862637447434,5.4760827556227132E-2,0.49917112500066918,0.12477941004300985,0.27708267974187772,0.8654691606900714,0.3449842125292204,0.675810742923588,0.99118334202181246,0.19931934194355405,9.1245882216249186E-2,0.91660728933072932,0.6282432348196455,0.90666731201017359,0.41118297072154431,0.93825676378101375,0.22408438918473073,0.9934589437433633,0.36427574759049031,0.55986299976142895,0.4439439358120405,0.20536108899592809,0.74896404568989317,0.8529673036176868,0.27148724825228576,0.56811553413507443,0.70034575038680102,0.34825100207822601,0.81545772942555839,0.66417602257677777,9.468082815463863E-2,0.66911729429387701,0.64655104720992829,0.37122954623092397,0.78360724269194748,0.16730484144955859,0.8018180368772484,0.71745403333482716]
[8.6921150445109618E-2,0.21273644391816182,0.2810960902591686,0.52618410852186948,0.52851929531328634,0.81866035495052092,2.7959386110433915E-2,0.42371512849604565,0.67408421915244943,3.6142502856429171E-2,0.81618660988331126,0.6759978461567282,0.92819701049790992,0.49283221687851264,2.1168320260712137E-2,0.5898520625113054,5.8708187185250837E-2,0.33157159729955443,0.19398633247343966,0.44537857716254259,5.5222819497924291E-4,7.7914940686911849E-2,0.60929153524511248,0.81802326868518882,0.17038682965054786,0.35408609808619418,0.47120891226134776,0.92868849458560943,0.10643133276840899,0.71420202871768002,0.89245204102443276,0.24655057845233264,0.25903750778276713,0.1605746710083642,0.63314199951786909,0.5444532861286836,0.87969470733377597,0.94607455082766001,0.72594472196230564,0.13766395479615057,8.3237070575382321E-2,0.2007758684058687,0.32795670161677148,0.24813779646151646,0.64500582856718647,0.33601791054466157,0.42995026369076828,0.98353721457979426,0.72467543293077041,0.96991487286903089,0.48447459185027653,0.75930388191940656,0.87872190162726294,0.43234767524373685,0.38410447559431005,0.39234745739359966,0.59656350446121786,0.8621039598339183,0.23107232784740417,0.23992377506589846,0.60200321744523877,0.5600499425170814,9.4513303598190213E-2,0.4969858161772277,3.9781751539274657E-2,0.5997372497506458,0.98649027860556149,0.50834839988610891,0.47045394835994037,0.78181997355545108,0.12880850029169322,0.77451703941206052,0.54332898513565731,0.73632020063577219,0.45527473933872009,0.10150470663061417,0.28003766249000739,0.65383371015676672,0.80123900157196448,0.45979247161601844,0.65476704069333669,0.129296024766967,0.15957108926226005,0.85854214433984777,0.37313276076445034,2.4180232042257277E-2,0.53573201328786435,0.57990210909625772,0.16889923620515679,0.93787369301419088,0.47780660725341895,0.52416459941136229,0.27740310411128011,4.4397937482858807E-2,0.52025310252025148,0.48121744580970871,0.81662334205743425,0.51867146892868621,8.7789951864121751E-2,0.82873315323584185,0.79169436128281168,0.18589138417406359,0.13461716344295771,0.83699970632960596,0.16261126158588424,0.2818228255384444,0.61751773726788162,5.933655367002999E-2,0.76846561102416144,0.70869285164597584,0.21086106226885748,0.61319354268078174,0.96117428964834228,0.80809511539848711,0.28009418114871842,0.35474432913843112,0.19204669708629918,0.51912649025679747,0.44541475818008769,0.96355298127020694,0.28025244495000301,0.29115042256649659,0.67698670796477201,0.95634258234382186,0.13844688815472284,0.18981135734925103,0.54567117181140656,0.76699790809340995,0.72218120514102591,1.632964540632087E-2,0.6633109768946891,0.43640430916194584,0.17930689499522412,0.74162262276732682,0.13602843623060712,8.0249557548461858E-4,0.75964206585058225,0.73853491951376116,0.31968049160495526,0.73165603041385918,0.93519106630011684,0.57915649402199587,2.0563306836596018E-2,0.113530540333458,0.68807115439186195,0.60482185867843108,0.62939604780003378,6.8567947124701489E-2,5.2946370698832013E-3,0.61540806282409288,0.44808217773686809,0.21081873367322124,0.31698461673263445,0.48758200270106855,0.54035763171179685,0.88213978924038028,0.24471966950328061,0.79472773871657043,0.44971678269821103,0.15197499641718049,0.32565257310916351,0.24782974758606258,0.9136069564477276,0.86980715586592816,0.32646263296638478,0.51268619140864902,0.61088864080685334,0.85661416705180959,0.85438226831063868,0.36540364837450545,0.54007933408138886,0.6688992334421614,0.43297809607752558,3.5808146062278001E-2,0.15135013485618132,0.27225842468370232,3.0545074463783739E-2,0.53409667289757434,0.70200920719104931,0.88366098722525144,0.25107421991904599,0.77581535246660416,0.77234826036737236,0.18735161935725686,0.6190494588534442,0.71192215742351284,0.53331406732911713,0.11455586194492506,0.26448424539225324,0.86524964006510696,0.48543186735617216,0.17729080603325897,0.18242850818215761,0.20508620202108863,0.38606567565256189,0.6291582045540639,0.68348728874372044,0.48068174752741988,0.49393988516017207,0.4597708324960077]
[0.94780161307025845,3.2609824295794509E-2,0.38464555524403155,7.5071814548925864E-2,0.82315539188342723,0.56279891681113858,0.22664610079171899,0.95174159025793015,0.50282966253056549,0.21320948756138514,0.35960721767322368,0.56189514178019273,0.13368985478479134,0.85502197714292316,0.50577428976596595,0.98035537680797724,0.8997252039763185,0.73029220973061693,0.10988657880577246,0.44412984663960187,0.15198207150656806,0.81616312849707162,0.31392329902099869,0.30263507950235879,0.79587414642533671,0.74223360228802593,0.95517353145972561,0.79549394364445392,0.52921901691375406,0.4744365059487019,0.7824541213392433,7.8681164778943047E-2,4.7313820611238233E-2,0.41316836474789131,0.69461456085318596,0.30424234743207568,0.23575390507366789,0.31120481345603657,0.75617754126469028,0.34571119427883035,0.25390717817424668,0.81492470248998916,0.66337622604484292,0.43529895647907668,0.36475614587530869,0.44598893991862854,0.74685891925839654,1.6417674526845949E-2,7.5903943079543845E-2,0.79256656147555915,0.58896336590930987,0.5024616711398262,0.41179878654512192,0.1234745732537802,1.5929031810064664E-3,0.6284759498272745,0.61604982502251071,0.70485927588071695,0.21207509724205464,2.9253872676064052E-2,0.69689692488888344,0.42326435789855443,0.50967516294381299,0.41378341512956585,0.97387739357288894,0.6631043214590151,0.55521659496792419,0.5100943012827065,0.13686605181000888,0.84232726123568602,0.99059640930456816,0.96346155180660464,0.12572357450899529,0.90944898289614828,0.41862020524433996,0.28672154870054711,0.35189043588964297,0.11446802551150759,0.70426303444297955,0.60635546417534891,0.11974542675883715,0.21528622158799438,0.6847909592137007,0.61462552359219935,0.50373738719678429,0.23865239322946408,6.6325218160835253E-2,0.78055777775344637,2.6654466653059927E-3,0.75360845063437498,0.86844925729848033,0.26300411091838072,0.9033301033142499,5.8632045220285645E-2,0.81500194737050302,0.59281991090887565,0.84908080722800761,0.23921716282430938,4.8337236889914537E-2,0.62123841678720138,0.33201788238403496,0.89245400687990084,0.15978796825116048,0.90673598672873412,0.27693118928752325,7.979227593649707E-2,0.63107481869863868,0.92050766727934408,0.99559565593753885,0.50515324369656478,3.6234180774788904E-2,0.42945388118211103,0.44572210626907716,0.80726808746279344,0.13195649341875126,0.60615335261151237,0.82287008914764037,0.2517400778085721,0.99108499689642238,0.3596721424500291,0.76378666900677739,0.17723681053154672,0.17165013212126345,0.26049731115458663,0.73940733686911475,6.3328461498071253E-2,0.36802670291792017,0.90822967233548157,0.84445304834404566,0.21325471923083272,0.45528541850611981,0.60943532302092807,0.12169014104462716,0.93944487705447177,0.80389341707427964,0.21421743823697759,0.96735430415204415,0.49859065127253444,0.94274277924903593,0.20649800875294111,1.9693629601397089E-2,0.56013468411508494,0.78228970791145713,0.11391010372710819,0.35441676637956665,0.63775057494553056,3.846751932252368E-3,0.72423475640521073,0.72564824706955211,3.6273250831843407E-2,0.44547457329129792,0.10870179740640784,0.32398020973513253,0.43732529929185704,0.26612771900958154,0.87042590817679999,0.27809408235157218,0.73111950033583351,0.65805394056099364,0.88589049728583835,5.3749658524448241E-2,4.3524532498033341E-2,7.6627013855871229E-2,0.92855476575524043,0.16636510189271314,0.44097203808834007,0.14314494712818027,0.41993644103309102,0.30099947642345148,0.62954904628684083,3.2733878676387662E-2,0.36442954640006453,0.6138749771961336,0.21114580668967686,0.82111154444319412,0.62809384973835458,1.884174928692417E-4,0.28240536968838403,0.46629574484169023,0.11002458366382373,0.8635571049049986,0.18035387088440702,7.7696161392414642E-2,5.4837165914709551E-2,0.59730566544060026,0.83541650437229376,0.47507894134682038,0.21194656360726893,0.78709517378354299,0.64196481830769392,0.12546236004207689,0.13997831643343095,0.47402948118108446,0.88266224950152827,0.42769213732483502,8.5706080387171202E-3,0.64862780748175097,0.9226408248818303,0.4805331961796937,0.75069788199084908]
[0.35321246754536662,0.18431817050233013,0.13230355751719625,0.85614309640084529,0.18403853629695288,0.14731822989411469,0.62860788245000898,0.13275109572845512,0.90757084120075571,2.3627818042283755E-2,0.82776276521771064,0.32956637881597772,0.97928763043280354,0.43072796932968205,0.88341279049087651,0.54743896357490873,0.55642359580382195,0.5890156567309377,0.16236981083951552,0.8275149753140546,0.5676870650677992,0.30624204165266744,0.11338681579102372,0.95801426313976379,0.84346726163739871,0.97641130778662288,0.75257940917326005,0.52311040866000824,0.18419627499667157,0.65366453281942238,0.39003754633321541,0.17887824600491653,0.25136024134767554,1.8481474901802852E-2,0.91930127420348673,0.26549971744501522,0.93278096348834094,0.15483591089565629,0.97062209469787009,0.40845356958742596,0.48257010434542247,0.82234020828803978,0.66620572056825322,0.95584807572818831,0.66662952212762194,0.39291137283875432,0.71394244283776065,0.45857716718283215,0.33973566126651578,0.22092146335597129,0.94933649369066675,0.32425772526228147,0.28248152137329807,0.54688827383332761,0.3910536163128765,0.12072437788441115,0.28704974955977547,0.87442426093246428,0.66714958029886773,0.77864674528367017,0.3393915496192198,0.75277239574884525,0.87162984508261987,0.87412654328057948,0.75265190855043085,0.28420400014157865,0.79431343661062259,0.78770839311347618,0.57587707731854954,0.99898743946784818,0.25328745403805963,0.69917554365753853,0.74353463022415445,0.3008969635583788,0.59235371591263553,0.42133765600404238,0.2415741230199161,0.25629391612365371,0.21280958833578079,0.394322256887222,0.34764401072335904,0.83931677143805039,0.95760008913878436,0.75931008643777487,0.827986704727531,0.43371152228783572,0.40354338580458848,0.64984255290289572,0.73014552831826474,0.78028694633573525,0.38728727522655915,0.75640071429682776,0.84985695357865532,0.27103120287765581,0.81977584323767305,0.84999274545850656,0.63992432900618113,0.29795460915074745,0.53593113111189772,0.46166886952319186,0.63679568212861981,0.62216937845558207,0.25493214462251612,0.49471529353814325,0.25795703769804124,0.13552115359958727,0.72334214100632854,0.23523246576689305,0.69204927063374611,0.18303479355982577,0.38556164310453389,0.45452177642287361,0.30893060228049218,0.95809409292468328,0.87066275690203387,0.76464492520685479,1.7359687264017376E-2,0.69618850307693281,0.45145317548361619,0.21155937630405275,0.90427096171615096,0.24237554511374371,0.6384186554632123,0.65802998299922943,0.66977406805806539,6.8662874782484784E-2,0.10324633867488897,0.82240005469474431,0.62069972360796188,0.88820777905649773,0.63878636397595656,0.21020383980550272,0.62676946506029085,0.41345512746627988,3.8734696709554539E-2,0.83637458476042215,7.6134457414285261E-3,0.74580519221420505,0.60229648309737416,0.21904182587405108,0.61010852541383254,0.66583240258469467,0.3548630856442816,0.10984260483123243,0.61174566722440604,0.63944156120417994,0.64426048272177827,0.19139045640659902,0.26251675687127574,0.88053627673684531,0.38823948292890631,0.88794840298841105,0.82064261270474703,0.13741960392476316,0.41746106795593407,0.65331914026543636,0.42040351356813488,0.76160638790558943,0.85416224531339724,0.8612208239752186,0.18581303534436944,0.86520519269210405,0.28216023814804603,0.24451865479231827,0.24641547057287083,0.27544278652885201,0.24968480427191797,0.80712958357513365,0.41983770966069245,0.10520134739895859,0.61963999103814005,0.42815870210276619,0.43528539774598796,4.1888627250714738E-2,0.97223936998937299,0.15963517341931133,0.48933996650095368,0.45716369494225806,0.15999688968824743,0.5049063772349397,0.31498444022779282,5.9559241130246909E-2,0.52654511053674069,0.50225207015221296,4.0068392312750944E-2,0.24144328559145922,0.38365811128318017,0.58187856024154427,0.70924524742462058,0.42318032888902579,0.19530976398304156,0.87546795085411688,0.22487064173703653,0.61776278098598092,0.84516893667325799,6.0887761416272945E-2,0.83031698356631722,0.33830854373597941,0.60323667993513053,0.95716065405730621]
[0.57642585159394599,0.58227839657852898,0.71749799638515888,0.74008543772021362,0.70518613561719579,0.60972340052626972,0.56121133555278158,0.48822062112099018,0.80176162599996537,0.46568081113027338,0.85423723183574507,0.19192396416234192,0.65435491620152642,0.68580647083418156,0.88279850646779345,8.2767268887748879E-2,0.66453952070455879,0.37379403754725105,0.12008023188542993,0.11010765989333371,0.39713539961523503,0.6377500633134654,0.8678954673914655,0.21464876725573256,0.80026733784771475,0.71860203756844931,0.90182153537272125,0.7479595083805346,0.49907993148030338,0.19482985395455965,0.49089421342383155,0.1086132971926731,0.89804079379265311,0.31591577130521209,0.95496805274177887,0.90290626441136723,0.87965871093355308,0.65512029407374095,0.27650322009486461,0.6348777893445281,2.3269421069232354E-2,0.38784554086080802,0.8159792809290437,0.3673919844734872,0.16163204950090693,0.79060211102950162,0.8814436813533032,0.95913220216339989,0.91122372017480802,0.25418695265329128,0.92340483829327846,0.28023814324271812,0.90768171805088826,0.56093579577710373,0.39270990323502464,0.67615173813444551,6.1363475777821863E-2,0.67241588933923546,9.7873411534656785E-2,5.5163793237511083E-2,0.53331950505233039,0.98143934048200521,0.85111077034538907,0.60287445923769301,0.66870288138163625,0.10962945568838733,0.69885349992581591,8.398314429627296E-2,3.5430736835887267E-2,0.46463686384895131,0.40716708575568217,0.75912332010265116,0.59203178327822004,0.2261032066601909,0.52167422203303127,0.84565866268771117,2.2783282263554416E-2,0.66040083115601833,0.46014076976233775,0.97567370530886677,0.28301009720625925,0.88943784991285679,0.17809980048036844,0.11177812156829769,0.94966669943688919,0.1217098311417677,0.35289736222004542,0.50612325532771285,0.18625146563748818,0.29236513619588311,0.16042399994954359,0.14838299528511112,0.36464814709638671,0.20718591803250175,0.53305177710866802,0.39782681747521376,0.26059389014377099,0.86228696399059401,0.75557372847712911,0.60586706516027156,0.79915671268257515,0.23826423283072895,0.25107973176839915,7.5171839760171055E-2,0.67154809911633673,0.828542693086746,0.6008724720868166,0.71936459629044547,0.81916997788696633,0.76539325862042717,3.3120327359441371E-2,0.7962701866859242,0.48801547634336584,0.30849557482632239,0.37635079391927795,0.52373656355614195,0.27374852230983782,0.22504456318012844,0.33989580808912534,2.957647880144576E-2,0.7397410863574635,0.61051914724404099,0.87701426784154501,0.67512875212147894,0.46204046304656721,0.51114008295334989,0.7694163771541539,0.29400032484708083,0.56593895770716207,0.90750898731018148,0.48183813777181861,1.8334777424915738E-2,0.93390259141575604,0.15408339689655892,2.6048005849151012E-2,0.80216569667485882,0.84108392825238032,9.2791156672859199E-2,0.11375341719750465,0.46662117018832094,2.8703813149414947E-2,0.43789443168212627,8.3590250333289817E-2,9.5519427247109712E-2,0.15442229988898448,0.57659896001512945,0.8921044719236173,4.1891259663541236E-3,0.22579808245827016,0.82835186344165501,0.54048614963038433,0.88629407575506514,0.89020267738578818,0.49871703155482316,4.1379470792759943E-2,0.70186829382998372,0.7636648345977296,0.40491475772153551,0.93403788659683606,0.95499498288946283,0.32345257240401937,0.34377706680846021,0.97133838830218611,0.3335417387100339,0.51832036290479055,0.94439089991199443,0.94236754955546231,0.18876663393209137,0.22014422022186042,0.3550162210591864,0.77828743713873794,0.96237740917418435,0.40370347683261898,0.86722707062346993,0.15961577887655232,0.50082555598239042,0.61215803318875561,0.39814127186763815,0.92876973022756304,4.6165348328047751E-3,0.26997296700954843,0.4718195257514789,0.97477753795807442,0.82643172261538145,0.2060859370795799,0.70520315485321172,0.80619137009752118,0.32163824650194373,0.29542687927828448,0.70009424556172073,0.82368313075496558,0.97468799449412402,0.10577229991744963,3.3847348355201312E-2,0.42563396314126967,0.43398510919534306,0.92159702527164167,0.46957676275269589,0.26970803964081635,0.20134765653126108]
[0.63624405794473282,0.99620251980026975,0.26869662379752313,0.82000515153436304,0.5945961979533344,0.75183305063182038,0.1502945264855805,0.31923409846750617,8.9912789229084522E-2,0.49955246621528326,0.22002055087243211,0.65277925436464423,0.8208574706003845,0.72121934576175573,0.27491688551090521,0.89910877344358631,0.9701274284260426,0.7463147931792169,0.47025417739688113,0.49800940376078151,0.4518181234348434,0.46622229214375221,0.41174038543736857,0.18113286897531378,0.26772322955953132,0.59481268472961302,0.36639836149001903,4.1257630391707933E-2,0.91520323910302614,0.2860391728021956,0.36853406269704936,0.28897423500186381,0.68469038919524983,0.65436425168259293,0.17485053710744503,9.8361958364138524E-2,0.65199448424774153,0.71143114983969669,0.8870790383624173,0.28033557825982436,0.32776712643008155,0.76635780816962262,0.1866402476654877,0.52322705029306371,0.23430378218475645,0.81660644842734464,0.94575143381655913,0.77709836536744525,0.66359422092664544,0.15087711410430493,0.64406451296300693,0.16342438890147415,0.26541506236370549,0.17154352355882463,0.70634644240199229,0.24007780385552713,0.85890649876883285,0.76399829981397649,0.19888525906795884,0.45058449767280051,0.99235435383904902,0.82182590897641583,0.57716507714099341,0.2785651137286369,0.40312389701466989,6.5015470826931709E-2,0.76343157314288868,0.57867651369599626,0.75014992623380861,0.10543469177778608,0.9379165789393914,0.91572201363527916,5.2131018613013391E-2,0.61378009263076927,0.96905946751317451,0.64398271079585423,0.15141481681613389,0.2092044621948016,0.11838264105409491,0.45161884017298926,0.78767761223388288,0.79040351512119178,0.22019253986015652,0.56905649839776451,0.58266907228671394,0.79108731899111551,0.80212738872959854,0.33269904727052069,0.28631495529414963,0.41864483271663011,1.4553315848413351E-2,0.12405159297677215,3.760061274322668E-2,0.17760941450869538,0.63092868105292077,0.70761744113561409,0.83919780420748236,0.25164290749196105,0.92231093081187487,0.78044679549277041,0.73956880332090225,0.9525339540288924,0.10749546953538902,0.40974472939452855,0.91646793623356826,0.85511506989262354,0.57908158162373347,0.56941504659667608,0.1571954620336149,0.68130417083217998,0.16604097495109182,0.44074506313936435,0.6123276263834625,0.15128863544348503,0.96628289038140658,0.13299888256738612,0.87564867580054373,0.96127667073296308,0.5260922798473977,0.9387316376703172,0.68466000495095936,0.72737253601747509,4.3888914344642704E-2,0.62369262804330605,0.98389253429403445,0.17539841813832902,9.220149764226282E-2,0.83922841183376362,0.50149411470671079,0.44506973777299996,0.88835837192839273,0.6555252019010287,0.35166174372267356,0.72871929726124174,0.34387285838996373,0.20772723981567864,0.67314999076008708,4.9199122409555374E-2,0.13757035957555452,0.97620838717515745,0.51702170891672994,0.51420556743202872,0.25788575087133414,0.97488851153165557,0.58729684819281425,0.61368145702019727,0.211758903817445,5.9231581164031932E-2,9.2786320476134665E-2,0.86795277104101176,0.42434055255499137,0.35462322302250904,0.82444146321600453,0.14723150761888937,0.32962786913384567,0.6722409400607644,0.9209945537253339,0.90162303622680517,0.99356966616028808,0.37589940322211068,3.9029102763775803E-2,0.28088793818433511,0.33737889271475152,0.36624531663723359,0.36558456412668161,0.70083565685331928,0.70788298565211227,0.50977232703382125,0.90763375004469804,0.55393006548508894,0.64561351262921685,0.41735732993916419,0.34499463131551411,0.7712415992503554,0.21962356784944326,0.84335547317358317,1.5753340381135961E-2,0.48222793023012311,0.49307319285763673,0.39742909829419748,0.76457227608447698,0.97923232448805675,0.83143853160911796,0.55349427096936932,0.12504909435698996,0.41716341446161387,0.3249107107736986,0.94394607699320621,0.56192550399416574,0.88736908453228291,0.48508339499809472,0.91672813311214851,0.88520077751847148,0.99423022670009764,0.6692185484583032,0.54407081376181543,0.48565578989746094,0.74991292781322927,0.83863360487634375,0.34573554409705309]
[0.2109918783403163,0.66343375383661762,0.61111737887732476,0.97857923793332813,0.78153188710582966,0.86901742834694096,7.2599030807503184E-2,0.93531917697773803,0.26948533876800962,0.55051989817194025,0.9715097871306666,0.88121308169795054,0.74304185021208569,0.4177041728975005,0.3669304361776885,0.65829167281458223,0.30431783358218212,0.78603330827813733,0.96953067434019435,0.12602262902676076,0.83884421702250256,0.18875320811343244,7.9112997786339512E-2,0.25776460424462422,0.96135132204835083,0.24441741496333069,7.5132094106764025E-2,0.98468862220563469,0.92051885550858781,0.35282265740814545,0.92820492570901847,9.7351031196407756E-2,0.51016178722434657,0.24121493305715092,0.55821114282850381,0.20848745691632231,0.91990702699033822,0.22806037040279847,0.48397840455724161,0.886729708473731,0.57945545828653544,0.41710881283951229,0.77263006258015343,4.8343349201687258E-2,7.2139315563766293E-2,0.80409354495419805,0.75011544009397901,0.50221411572235963,0.25777081657945244,0.39652373854772338,0.96973018702091529,0.29153702530622982,0.9248575070996049,0.59495992591657487,0.6774533822935257,0.63621276089619871,0.6639126645421386,0.98534859225337657,1.574931333377394E-2,0.17327860250005866,0.82883756304806999,0.9766167217160665,0.72621671258041876,0.7206689537133818,0.85610270523113252,0.20734150707635823,0.67117629132798362,0.80434292055188727,0.25259409387375409,0.43805764779967804,0.53389256250729533,0.48767861191909356,0.62119331267582301,0.77799725549624932,0.47883003274598701,0.74034153053349305,0.50997830463336746,0.18656368821254954,2.0576426642303303E-2,0.42434566275387486,0.93942846203143637,0.31819272736875648,0.69216963404641096,0.19406774172313179,0.74853245971442495,0.11868112081700521,0.33336493729427985,0.20430788078241702,0.57958418290192726,0.13404682892098108,0.24975768159015965,0.45240321711198095,0.31000070461441287,0.3910083736496679,0.35546009832296743,0.13533887024060764,1.081174214395686E-2,9.0296014376460842E-3,0.33572063077911407,0.72106583510469635,0.32759916691162405,0.65340201473390536,0.60954727277073883,0.63449859334106173,0.78846471606584934,0.60653991197247292,0.60528931134119113,0.95295154378490665,0.31135725136321435,0.11680514227265315,0.61941006179259661,0.26009286040402113,0.2463962884442864,0.81636380370253503,0.71460935794537628,0.80275430580662444,0.31317399332016327,0.1399236174923667,6.2543520221748472E-2,0.6161680781756691,0.92597926066540837,0.97878981874263471,0.37125525340568466,0.33765001820734775,0.71959217321616142,0.38264739978661144,0.93171559847169416,0.65484774848667504,0.43698504410685113,0.69162845949357421,1.1239669066929081E-2,0.93551362430154206,0.80706138365443836,0.8269129149957487,0.87071387030121772,0.13885085161101773,0.16169725076773389,0.99011038077163327,0.75391013602255574,0.125129433934969,0.64460759540084467,0.95350434410557117,0.70031344357342151,0.32718377695863199,0.16008307829399848,0.86585210569087712,0.79348966042273106,0.67554180470394831,0.73900688328879527,0.78154236006148159,0.37689893753704828,0.83474919462547237,0.36978510486425054,0.69963578631743262,0.32234043353135222,0.28859732551537165,0.94623257512172743,0.59588901329662047,0.83962439871561834,0.96990184406039925,0.91846637908539075,0.57610141965714523,0.5818029911700161,0.82203299422204856,0.7781237832591017,0.74253124656482805,0.55520123464379245,0.86596857247389902,0.32171705155040453,0.74241579389524637,0.94726216306112976,2.1747638816724368E-2,0.98966613202122955,0.33712190975387535,0.58124283018843392,0.74177108280733495,3.4555235559251662E-2,9.2535255695574192E-2,2.7606435067511925E-2,0.69891390777211215,0.96449499243932713,0.84704568949458536,0.8356578737474486,6.7259250012850158E-2,0.8795206763938993,0.83454383526242637,0.75513279365618646,0.66279800330736272,4.1218147541581374E-2,0.10855812372716489,0.88307275821702091,0.63740613943895752,0.10058853935216627,0.96131743975862927,0.4856751970384563,0.43280300025782126,0.7406626639930205,0.9493079045753493,0.43629382108568038,0.21725223922190195]
[0.14656584908228065,0.78525640101746863,0.50332658679416165,0.72698503232017664,0.86445331047955332,0.39290254973599781,0.13337161181298429,0.90576458248892888,0.77156745153287276,0.10407515408963897,0.85419682043456224,0.54405051885003208,0.61598076784397104,0.24566605429004607,0.46259709454813303,0.76080350969548216,0.971139730483073,0.78561392740882652,0.41123460115988564,0.56504873343416384,0.2442497171697251,0.13114061220081619,0.21249190048667821,5.5045472453227329E-2,0.52565037042288176,0.83700292211168636,0.22149346778365753,0.48739891386007039,2.2866010763015643E-2,0.7935182767016612,0.14164271847360033,0.35196744346263842,5.968971646305532E-2,0.71524193509115452,0.22653244311169596,0.24913096244771338,2.9032373956412005E-2,0.25026376531966288,0.33436938388234994,0.25672735612989694,0.7949505319487129,7.5208269919056048E-2,0.16470767463106506,6.8629362630240887E-2,0.51437669185242085,0.57930974965335569,0.84505339773692323,0.169691207376783,0.40640807295327452,0.36430764336805133,0.56238472473255174,0.85550504501517866,0.36308776767247386,0.62642598554664031,3.2433083077155644E-2,0.44538589643265114,0.8354800889443641,0.34876790688276915,0.64675303732481082,0.31166372117909191,0.81744542025863709,0.28013530616954152,0.18070704258296311,0.78464096749641599,0.3501926854347055,0.56094646325512387,0.86140697744423977,0.70272051657325041,0.37119408073392535,0.35428039934663158,0.45700749013885655,0.25149387084396257,0.53547464813342682,0.56102203444029541,0.86704755599871708,0.10200088007098107,0.95362154746288985,0.49094682925046196,0.72775074062096978,0.72382784376372711,4.238723143976475E-2,0.3439865054823803,0.77913676891492512,0.16315342487401063,0.93467026423837218,0.67016255534579017,6.9164342204825369E-2,0.1768429956690285,0.65524458432386079,0.24854324348062551,0.16439919803024228,0.12791103619190103,0.45429275200825281,0.53902517958365204,0.39427139907344544,0.57615880512535234,0.88513857434415566,0.2529175707971999,0.98089987330881523,6.0240147449046377E-2,0.36739860101871313,0.99104929481190518,0.13069663474630333,0.18695460174710898,0.70109921150387444,0.26400881063964565,0.58445087886124147,0.16933661493546193,0.29758465765669828,0.70014439630687575,0.37709600252368669,0.93666706373636177,0.74285182765543656,0.22451407887892905,0.25399198869752349,0.77901859301520515,0.37802321142030293,9.8760745964088126E-2,0.51765448835046135,0.48184900190983115,0.29634302220204944,0.81840530094959174,0.10711981234160117,0.31396944472294341,8.5196416785390583E-2,0.18865471227906605,0.55579804103469899,0.18644580677581013,0.56849987669476032,0.47631065930080496,0.86718359580312021,0.37344686902928548,0.775378060690883,0.82964787469234402,0.37121451155524199,0.65535593323953367,0.29829107883060035,0.47458863167026488,8.3877358869162033E-2,0.31672867221672685,0.15229638554672542,8.1720821968575219E-2,0.61682292137172812,0.65922159327081409,0.48414492968083189,0.5761670668372737,0.56620368618355266,0.40662832632379831,0.58466241441672051,0.76292906994908694,0.65836370435176428,0.16722465089480187,0.82451349167312404,0.34358120642861745,0.72785654615218165,0.89689755922416603,0.45564445853826208,0.17750577184263294,0.91312883192542071,0.2887633046496888,0.31128114066018131,0.65871061215495252,0.17739600805123346,0.68046111974460421,3.582342750538936E-2,0.31261080397110452,0.91727251590420067,0.55595949917772458,0.8182005529740124,0.2502441647941579,0.47713171014255529,0.44266840885327552,0.27454939022230207,0.98834258525906327,0.62443308933837782,0.59195515623069084,0.57832562025474199,0.97521216467463123,0.61192831575823181,0.14615850449995715,0.33512454965335425,0.97038733100110164,0.17840918818770202,0.69666336137074669,0.85714880453276276,0.7895610034175653,0.8873564827832614,0.83886403787500707,0.29404284049414253,0.14155114043785622,0.72530548892238889,5.7718402034787175E-2,0.81162807639249057,0.2378520467887667,0.61502455352479934,0.84912114224636537,0.19450692241489642,0.98931810875734183,0.22129975434227378,0.87898949268073079]
[0.39664762744395587,0.68487171104922417,0.72755257737765189,9.5724583880706815E-2,0.72833579237094659,0.49087350291680076,0.60518402418995942,0.52822338097317467,0.53108520305983131,0.82837576392261036,0.7266326379919491,0.58457416630571779,0.45689084623584797,0.26327703053442042,0.3158983229744412,0.9255459990776258,0.8794147468480995,9.7150121335467299E-2,2.8177579485003101E-2,0.26314017003899826,0.63075506154378258,0.14867363212281881,0.32299242972992914,0.34966137841377831,6.969593576843347E-3,0.18050113429800274,0.62145004103029156,0.46394093052121077,0.32702156092218204,0.31743186888218289,0.78364976384301599,0.42761818242425609,0.87178865404288985,0.11575754519936132,2.984377132931082E-2,0.17244585303465798,0.54839586859446487,0.29243705012329424,0.33566369709614641,0.79462132819035258,0.59377638172931446,0.85677911801052831,1.0836985825797285E-2,0.47520801497545895,0.41699258218611079,0.47198858806516086,0.7952256148269552,0.74926443153265121,0.41365966084688777,0.36882328164025213,7.2289582848406808E-2,0.851651331075444,0.60300440113565756,0.84099885753751025,0.62524685519456391,0.18989425576252295,0.25730288320580752,0.55768636394208204,0.67390537983751864,0.5151626539784796,0.36340465538870104,6.7281909110690763E-2,0.75420951806823855,0.91189871171622361,0.48168549111835424,0.65271902204751175,7.8339314591477471E-2,0.97250478125614137,0.45091353435525161,0.36994045685135613,2.2161962014584424E-2,2.5323070109956713E-2,0.25477219573793075,0.91675479845993746,0.14880898999715919,0.39164060211469709,0.23512955005995895,0.43276034553651643,0.98940943703178652,0.55427893418597185,0.58616496902994386,1.2403101833788455E-2,0.52253070471647378,1.5095490310793269E-2,0.6129593042520346,0.69706778434496475,0.19709548872879135,0.36586814602246565,0.43458735069573018,0.52001362348168556,0.75229577973699513,0.28817130349453013,0.31731438829841307,0.33638440996199936,0.84925813736017985,7.7587648011048116E-2,0.82321750560452911,3.3884592481539966E-2,0.48215415393065164,0.87919132758865792,0.75346226572876251,0.15445755473409062,0.84906387876528255,0.21245835032488869,0.24765153998548084,0.3150167629572368,4.5970163575234646E-2,4.3939443358947616E-2,0.18563309473198175,0.95252835072737285,0.10340850422242476,0.32094429809503211,0.18323593350078626,5.6811923532020248E-2,0.43141192904297831,0.37304824949707815,8.9543703510568173E-2,0.2811087589562633,0.59804542272613481,3.4289478377727112E-2,0.1000948847417199,0.36422742961100596,0.425418092311042,0.25798504797555333,6.5432282802649788E-2,0.30976874183143022,2.9198212843176252E-2,0.36903016604898609,8.3977969461026314E-2,0.4634747357421154,0.52813001404315119,0.13810573105138269,0.26046105073465653,0.49867202234625796,0.20463867463754226,0.60231760695392078,0.26405862399586877,0.82877238801405184,0.43217782860402276,6.4245055839583953E-2,0.40001869553882397,0.37939883229820814,0.93534326333781137,0.25401188273417519,0.29710093710732854,0.99028063119190779,2.9670637592669635E-2,9.0021653657927136E-2,5.7857086451987838E-2,0.21104046455367109,0.22964946044468304,0.15682123459271269,4.1534171412686005E-2,0.4005034068307004,0.23289305287629714,0.41687882354687378,0.28789969845755947,0.19328821060341561,0.92430659322310726,0.44366010077753948,0.23237805758347929,0.44147573243500304,0.44486959656938996,0.22725533570822021,6.0514403046094123E-2,0.9524871102328385,0.59403582081529738,0.90950320632664694,0.56463304597377484,0.66438499145093466,0.71131136647490245,0.46002683402495681,0.90196182729171159,0.54275598352474697,0.75737193098159339,0.26261674767243626,0.23656587120764605,0.94659722165938198,0.39190239885137734,0.38835412176024853,0.56493058444115363,0.63398459143450403,0.60406020936490246,0.87706333048503826,0.58200086775290361,0.48226381123614415,0.77601790279117644,0.59859196985275698,7.3262716360765645E-2,0.94866765911424467,0.70508324629537511,6.086683524364811E-2,0.14471089394058678,0.74503449059834204,0.12669673696278283,0.23972094627304752,4.2964454477067426E-2,0.24745376794760776,0.78337694927869383,0.26624094600799553]
[0.2342892871833604,0.19547608413103479,0.70735255507725248,0.61904016919908567,0.46295405520710631,0.44194373487305694,0.58455694772978917,0.40533263505345229,5.5850094883146628E-2,0.10053107465965105,0.39357731335788204,0.88945022647158012,3.0013490069315085E-2,0.10527971395237246,0.81533296859402582,0.7468943652425466,0.39792714073386048,0.46110887803547373,0.97785788600137302,9.5431914194850864E-2,0.68816774429259864,0.14845023088765963,0.23363919345900452,0.98247324390165536,0.36067488494895439,0.15629051320789689,0.40200409805071202,0.17371567140235267,0.52760888120792115,0.55334559525320381,0.6922639754098292,2.6479151907107368E-2,0.52828344005277528,0.78320148702509285,0.81697779469938814,0.30797294291797872,0.81227462695107677,0.17359889272760187,0.22899043028172694,0.84748824786033961,0.57927359453298322,0.85640543243323486,0.91038831417661026,0.44457846577036664,0.53241585789368551,0.98931277074141499,0.1717489066833956,1.5434893482626499E-2,0.34673895109126551,0.40716446586349919,0.72993707157526311,0.13299645347412747,6.2812039147818965E-2,0.23386837660257953,0.35046950507892716,0.34433802274868608,0.7450677592637881,0.49805347586886439,0.77912660428503733,0.46279645692868954,0.30619028900834522,0.58622292179497382,0.32545219566707695,0.40867747806228483,0.87596957181749069,0.91612401537456867,0.40474016551129099,0.68515392010665055,4.0231693446154959E-2,0.98824346524294426,0.25827076576393204,0.69280189062470909,0.2585805166730577,0.14884759812926485,0.84493893501094153,0.33149736430315913,0.87906551244954789,0.45633471357849364,0.84555993521878647,0.8610768397030294,0.92455058461688522,2.4934706335313028E-2,1.0374031261754846E-2,0.26686827802556545,0.66890288992482949,0.25726556924637223,0.10447085073523232,0.39666255271194573,0.16138878673714285,0.83003076541137377,0.61373882040391603,0.19946729146174913,0.1228081778230794,0.20577921644684549,0.80563853262548624,0.36959301813614176,0.6808083811724881,0.43920821353515682,4.032269731334992E-2,0.29475947321578067,0.21647092034048521,0.30459414740706048,7.73505601108051E-2,0.39642591204905109,0.52926349043805954,1.4286847338329078E-2,0.66438517198686575,0.20486057570172744,0.28345626193169304,0.36083919455138014,0.64593379771456838,0.67978617947091979,0.57674037151427793,0.48618255976626157,0.97966237721048077,0.91229444250289016,0.15462691823656005,0.84016545734862469,0.57456994471172695,0.24218969560175563,0.61033299020051235,0.79635375055110924,0.73336255154181751,0.29007076858043002,0.83172366476427495,0.64995886454065477,0.28846530157154859,0.27169180507758317,0.36727212377877116,0.90677395228590374,0.75536652030037177,0.13359972303753154,0.71337457784987734,0.72016748204450687,0.61220136400255898,0.78612324690035618,0.60904995492460678,0.25312497715756688,0.45135531602706536,0.89560141192358012,0.68066085135837828,0.44012819334875675,0.45066348619045749,0.69988005407863696,0.71816935078975086,0.9483256329781401,0.67683127865374304,0.37318926252198992,6.9141781894070609E-2,0.1672006567679466,0.9240820182738303,4.5753039458591993E-2,0.44965311484510007,0.65875165390260793,0.8624845180335915,0.49911128185148146,0.4462937123102243,0.31770280421690511,0.14040110926846794,0.63712140670892525,0.12277658670401359,0.32129404676469919,0.58404786838621947,0.965041549126196,0.1464111520104997,0.94033628896962684,0.16766866251972434,0.21309059255199148,0.78318326739048794,0.18848923128389428,0.14758342677516956,0.91326259496311024,0.44055135509881904,0.74514563792192023,0.82193809523148864,0.69659284581631598,0.6737976862102959,0.54076125156458499,0.89764557023115932,0.44892680292671827,0.18404832112596703,0.56946932783144022,0.15940957420793267,0.11231203740714324,0.37363247721474557,0.34215805539304256,0.71058042146969824,0.10318431586256482,0.90614648571020784,0.3740080844056497,0.14135131632577436,0.14139329708240445,0.9210502714288169,0.52400971588734369,0.92478401404718202,0.29364699116315962,0.27578218157998868,0.65047878900452283,0.32620885776222819,0.36610135843184077]
[9.4365336824386525E-2,0.91197727065464984,0.74941076455161526,0.21679351703225147,0.10870719447063337,0.2542877961638107,9.9134717147047358E-2,1.6273615844288214E-2,0.74058024216005158,0.36747610678425646,0.23642210861074919,0.90135291757614044,5.1476862678565216E-2,0.31753455706794564,0.13990068935873212,0.12340803661878197,0.19832917052281995,0.50338625270628401,0.31268691269722804,0.82156672097134498,0.90122115092335076,0.9458267638413993,0.56227640319898053,0.69880937511803198,0.53263039684615432,0.14045782052588718,0.5563129838236599,0.10447318055475519,0.55278001685385247,0.11642568729372038,0.27251373216196295,0.56830084221289956,0.46096220862198045,0.22646343534908453,2.6091966384934384E-2,0.62828840327284541,7.220796660268225E-2,0.69707623607383407,0.42809436032596093,0.93785547470030339,0.84518915238793679,0.44220553358292025,0.68312584398437404,0.10869970887363634,7.8050277731176232E-2,0.38136984777913996,0.26869769569143842,0.94017482679971953,0.72207141483348614,0.47308198939869361,0.97116730081882829,0.27704023885643159,0.11061286823343375,0.82143670864210661,0.45571411246576188,0.9308509117737277,5.7282315279917562E-2,0.58364103875223772,0.74790704101007288,0.22537111035382884,0.69176931467192893,0.35215913885387096,0.59650450060160809,0.47875659585087027,0.63938079731660236,0.53703019909654692,0.98534664693612428,0.41451769959555351,0.585766943394333,0.46767608935919169,0.13987498515367935,0.66144330673914276,0.62522740526505449,0.20316518186766264,0.70077666455129739,0.10133628232729586,0.57758901575786992,0.48624262104265337,0.41808423681726536,0.6545136769155474,0.19852170743223396,0.29687989731564102,0.83486691396750423,0.51871833937490597,0.53483534928901,0.5423882448295404,4.814817568976304E-2,0.868555521485459,0.21291346324628835,0.70308231836354829,5.6954842828133678E-2,0.90865184963313339,0.77409930743592215,0.48626376593426757,0.63312450385927888,0.99237597620526141,0.87653062900447765,0.57291531616527047,0.94454113143984952,0.94369163091729213,7.5203363465435658E-2,0.2162484394718267,0.41504799814776705,0.49431176424425871,0.73863411364934728,0.39344715578869061,0.27998342868768367,0.25345617340771198,0.61749733849027222,0.17063751324811771,0.42107859375209555,0.58179820320494413,4.3396340352783724E-3,0.55047200065092883,0.97536373698648537,0.82260657044623664,0.22555707877172992,9.8542628422077727E-2,0.40084748055293873,7.5534629791457086E-2,0.23044650793585708,0.90687649985808749,0.42002351908992175,0.58568968034620827,0.55310386997595729,0.87250362343477317,0.80234292468879354,0.91161777193175897,0.65356548648825707,0.56850858564449769,0.90749374070663902,0.18079420173539706,0.74829615775055047,0.90428810317104313,0.56477998339678537,0.54023369433663904,0.1045912893717883,0.86126986527907146,0.21016288708101694,0.34058479244455409,0.99969432239405553,0.65554778260629365,0.91513230889264252,0.20543975451728458,0.77988584665796801,0.46224315107902525,0.93765871775982412,0.73505673949690153,4.3260465757734012E-2,0.98034383440794182,0.54299891626903929,0.76086722242146454,0.86869261854719648,0.44676239811730423,0.91643781028946714,0.25893262614317702,0.34043903283989707,0.54697318036871945,0.16836226869870441,0.12412886204610929,0.62943405376066652,0.19226496980638752,0.11857917556464381,0.34432425515827469,0.5345364608444042,5.9624273630241809E-2,0.62985846630536324,0.57688702864339725,0.47402751955871636,0.74836407911371294,0.74888366438551468,0.29915938812601939,0.62539203591474424,0.99311806619902609,0.43188179540798144,0.71854326530370316,1.9047682734141036E-2,0.89261685748432695,0.92175013658718663,0.64168915915813429,0.35643788560645306,0.88691612634526207,0.14223915916694763,0.49617094356380687,6.0873646607039644E-2,0.64044116676332108,0.81848454580788943,0.46556965199342981,0.26666664313143473,0.17766400718552267,0.67452804181202264,8.5417073976176039E-2,0.45190641530045217,0.41386914322102009,0.29083365658263916,0.18128458089520705,0.89596948436287616,0.93168171119415699,0.61182095105602297,0.89558453283947392]
[0.63858098549853914,0.67021085169144223,0.84799160774230431,0.47492772635529346,0.26931933793049534,0.26232100043997997,0.17404090043470155,0.43969524641039015,0.44228736730387586,1.735282626885204E-2,0.10367272370359948,0.77981500311612306,0.38070927106854069,0.1125494627387621,0.98873734162168869,0.16173525885168338,0.67935071407115699,0.58988817826913065,0.55340222818376184,0.36309464095689237,0.83892615195594467,0.41908154477380544,0.60637791689915854,0.49410518042149842,0.4076935011340872,0.64133731577410791,0.47016171551404728,0.48314419869213665,0.7662861933341103,0.89259081647042793,0.5238071291886145,0.64091365520987686,2.7114010203558525E-2,0.71452882091437298,0.35649786553626062,0.40728213318235917,0.4927792180413666,0.72360022167501614,7.5860878018658151E-2,7.1471896554192837E-2,0.28462938986060948,0.18059394642638649,0.69870426099357585,9.9390454678556228E-2,0.16445153190268802,0.18260044086983684,0.44871367740440449,0.24221556936402022,0.84541654256501186,0.54179283207793294,0.26987439649908374,0.22135077558138483,0.59082671188671965,0.26155774007928601,0.53219198852149974,0.51194166180072398,0.71495478249795708,6.3855293055955387E-2,0.11167643127559568,0.19433101523288354,0.4579059094141229,0.79393944161271579,0.34715255861122929,0.69953543552975306,1.2723079147757832E-2,0.58066063962062087,0.27399444139862239,0.55354989150662315,6.2366401840676766E-2,0.48812901415828491,0.90643788099920486,0.57951509445216476,0.61042276636113746,0.58960065712450438,0.22900164388600774,0.15237727939754597,0.58645528072432485,1.2987850468765716E-2,0.77455015069767719,0.98766054082697752,0.44723100277352745,0.77963445988494839,0.65368297375865303,0.22889249227379815,0.98221094397813669,0.89174877312318146,0.23154833852559464,0.12696267893892921,0.35380872439702082,0.27398038642089895,0.5356559816249894,3.4894727588758445E-2,0.73730752522010179,0.6326477917154183,0.39150764736118304,0.58999990404187541,0.64235603504321226,0.54063241843440168,0.76445150522738192,0.94413291277640632,0.54890675589488991,0.67468632904092074,8.5928587986186189E-2,0.60962594779089962,0.74325190405187336,0.48331943930995414,9.4336478981442484E-2,0.40816109504525555,0.56199994439085299,0.25644987771054661,3.3202263876204618E-2,0.98103589985112305,0.19681043114682761,0.56847463137184273,0.14448924173252375,0.15892887517727594,0.85084024357885946,0.26535598603102228,0.93322706343051232,7.4032033583366408E-2,0.7764547793030433,0.64066912277774635,0.25699219449465938,0.41002494732844252,0.8999394319497992,0.12251275712787579,0.60749429627134544,0.99957288139262113,0.64140077838101606,0.39390240541068711,0.80860667395632324,2.5983405668672521E-3,0.56511914062840762,0.9365503029075043,0.43832774122371077,7.6535164405266642E-2,0.73613587692067806,0.77967636435085419,0.35867446963746252,0.332457240370436,0.25454863237293712,0.39722009491362054,0.1473860891626011,0.86407205943279219,0.1907995131611091,1.3922187445709389E-2,0.69597051899874873,0.66241596062267405,9.6794395463682958E-3,0.62389650989369172,0.90219305018738283,0.95367451181503904,0.81290305187204781,0.75843876663210053,0.1292792111626988,0.80420663287156957,5.6763457357380864E-2,0.16041642858752958,0.79417509020529642,0.64674681436724413,0.58650670230403512,0.40223840837155922,0.6846383270502362,0.19316151282582694,0.87194322775338851,0.18031756936013499,0.13593068284132148,0.87186080757487294,0.15429345873333722,0.88871349521138199,3.5038680230844665E-2,0.28170857099562807,0.53568868835316441,0.66930307025254088,0.98553275867944667,4.5047295833393952E-2,0.29980954542281135,0.56152604512605164,0.59062756393031901,0.18440636673190935,0.60346476391220361,0.87801401793128875,0.84458483588329125,0.3414404597658911,0.15771738669686752,0.39761373031177616,0.68385310749507711,0.32961824986422772,0.4125275103042646,0.3897473425398521,0.23117545796585848,0.54832693630343055,0.44179072649039874,0.81166555401882379,0.39518389520338859,0.33051791714691436,0.54057869519485591,0.13005010696764052,0.23241955887559262,0.78579888005324738]
[0.86084276628098932,0.91916313279006978,0.13261192383821852,0.74547087127291722,0.33523767640606994,0.428680499073536,0.78832578659162622,0.34843976441035029,0.17407395321632679,0.14411603739137269,0.47585912972361644,0.82749912493948596,0.60377132786379784,0.94359023472915438,1.4159374401498281E-2,7.2535456921519748E-2,0.77633477023057096,0.67216760302027267,0.64085434371539607,0.86960958385421772,1.7238022492798599E-2,0.56807212728135259,0.59135993235345319,0.12173093221145792,0.4094199314159348,0.27475817886196774,8.4036798621221598E-2,0.30908694692420635,0.31473545688580962,0.24313596415429728,0.60779506250737692,5.2423161426140563E-3,0.95376370934139498,2.2338430363427864E-2,0.57933235750100232,0.32819402343891113,0.13828883181396734,0.85699119831844295,0.48087880052488252,0.19619041816132965,0.22883410779610791,0.85612458852623596,0.69286099803530354,0.62762216610390709,0.7274657910380834,0.42916577486742358,0.45935159173615192,0.13286461139266059,0.95939290812845157,0.74721984876230341,0.45914998118235417,0.58650181233498688,0.31750127608042689,0.75138276869011811,0.58291061123085264,0.24676854489538769,0.27488324887460835,0.27211249004494675,0.58795318097655802,0.71580851361685494,0.23108220827952153,0.47100568117149122,0.37652595517999443,0.95138964450240238,0.63051041284107046,0.71941822845821324,0.23388152759801717,0.42887759061465502,8.1775664995138109E-2,0.36558313378023388,0.2354522817358623,0.82463526873416848,0.85756192253699515,0.18249991790689502,0.8393743500697266,0.28783324196724935,1.4420188595181016E-2,0.64333753748033473,0.78269435541607701,0.91058552596473941,0.97103047504073836,0.23426568495015809,5.1930297296568062E-2,0.93653275268378011,0.42982139455680868,0.77761668789291394,0.25124122637001622,0.7833621169289714,0.51046534855783765,0.55883456002523546,0.6615859897018429,0.61185009593791906,0.15258738565971064,0.77034429153024364,0.34787306475641555,0.6656411056895708,0.54621217126051991,0.25650709161906904,0.69999930054680992,1.798074452754661E-2,5.1261347464156892E-2,6.6504342374297143E-2,0.37944350322051401,0.11371181815739972,0.96139052365960342,0.19830139266151225,0.25276327311255009,0.10367435580552431,0.20702461652552662,0.5160921084242549,0.55834380680977447,0.21921509504289727,0.68784164987535956,0.1291668781135169,0.91780837541308724,0.51404341898242201,0.43210742462564333,0.19456311148935423,0.47387045931360827,0.39408417095740655,0.78737907437746624,0.51131805773252104,0.58861392884522734,0.60183606842635895,5.7216407495559674E-2,0.97195686537886306,0.22398653226215981,0.88451317251869432,0.67394081652316307,0.64601213664997748,0.95892054408317551,0.56467704212020975,7.5720079971598575E-2,0.90541022184174402,0.19840131732180233,0.88940237408415801,0.10603158439117688,0.34516097375724564,1.9432660214830366E-2,0.66851528441560792,0.89702877277091009,0.11901883110175437,0.68878356244210537,3.394799532717685E-2,0.13049377095220294,0.89581326924750426,3.5219427821195359E-2,3.009528941157269E-2,0.84471779147904047,0.68959431917670311,0.16665353054372112,0.11261471298998293,0.84790461956934904,0.70711183101903863,2.5308795160438491E-2,0.12652346987067242,0.43509056906160604,0.87338840176990895,0.33127104157640508,0.80986553658444704,0.65212019126471621,0.17313317629419667,0.42815212498483601,0.41395505528415022,0.75416066963669759,6.4011239496179262E-2,0.95443408018346132,0.91149876510490169,0.42377113750476847,0.24892032634951611,0.41303559263052048,0.45305972697005381,0.98726664615771242,0.3406605587789604,0.42241604582205894,0.62710181766217288,0.30193255567933985,0.29895893374661309,0.63726886228902668,0.56409550951982101,0.59180423967194096,0.73090525976256659,0.25196004676134665,0.39038616984043428,0.8138936701686621,0.61718392061757466,0.18985442162785982,0.44858985658252437,0.12146643729119422,0.96908605287312044,0.69788397190502027,0.37335564262124921,0.75225285126789021,0.50939070647573226,0.82055466580432668,0.97890879819146215,0.10571884004200405,0.74342751129907092,4.5685133498088781E-2,0.43443213864894636]
[0.24777252269503447,0.23134616641820671,0.5400268483733478,0.45646142060098116,0.62598909687634807,0.78702229426193704,0.7401357268655806,0.36285527749876079,0.21293075271227624,0.96041917057761494,0.61011885091310369,0.55896482397057734,0.33790728375920276,0.35293106556185083,0.16329980669740352,0.81629763795631383,0.89244132904844287,0.85143366588506642,0.72608105806819379,0.87490573481926659,0.30316244524561997,0.77410896020341913,0.9727016442326154,0.44350356292783044,0.4406930493300486,0.13707954073029838,0.47883881846464771,0.7682170201622408,0.31877509092630041,0.94889425310442577,4.32637745575285E-2,0.55780889812899337,0.76191959235551032,0.84109128477047845,0.71624650062044237,1.4501413340942793E-2,4.4800643417796548E-2,0.46927328039209437,0.85824036715307594,0.48500055784940699,0.5794207156470923,0.76866817451126812,0.86381693585396846,0.93972265116570564,0.10644910060931945,0.2970787948682494,0.5390759921309124,0.75313592352776892,0.22785123128252016,6.9942597339530566E-2,0.76649543386625341,0.96262996588588978,0.46132639844788337,0.4227233786674105,0.28427707439038663,0.94733151595238219,7.7028942296943015E-2,0.67232668767985548,0.28784595125342305,0.23245819530666023,0.3644232645400195,0.36429443645947579,0.24118180292629898,0.93655529497571499,0.71111109101337611,0.49632156188838183,0.54565152250775306,5.348290223361496E-2,0.93136328751706432,0.72764856975027181,0.72651769750677009,0.73043970249374224,0.8969853785813896,0.78405358930263158,0.36316939449554908,0.38019094028788358,3.495680788194544E-2,0.21214301111232625,0.21994642128022257,0.78555532796446703,3.4748868813206157E-2,0.43009234954193165,0.90537024375304342,0.44832807836370747,0.10258341049580022,0.40755813399218488,0.9286473601397307,0.92737595281951368,0.42275382093322911,2.2343647397198962E-2,0.38201836409688505,0.95447308704877809,0.25830895779302998,0.30657105073377333,0.33912693371445657,0.99537886679388188,0.62528825902198304,0.62776525225072721,0.31367134258800766,0.85174123266698232,0.97752638438316863,0.32644654555558261,0.6940688793714882,0.82931338902603224,0.66569748095527259,0.32674902664853223,3.4566535936727538E-3,0.28138775184064124,0.28516643790467278,0.50939523744359549,0.5733199468483513,0.21123436789431083,0.65670583919316095,0.4084909498336301,0.43773936902412203,0.25578000801741441,0.99870136289565647,0.92259096699921883,4.4631974632584059E-2,0.64977076193980732,4.1525244488648028E-2,0.14074670134730694,0.22992301240654633,0.77047212163901835,0.73960974398571933,0.66946118018224521,0.97213449221463055,0.48568903463855273,0.59990414511070433,0.95886726653919341,0.67990732980124724,0.12160729977649942,0.95517486934084594,0.33570588092443288,0.15711172115028604,0.93668541019969154,0.79005749428938976,0.79218112463880563,0.43474253883279224,8.4700181043747103E-2,0.87380933556162166,0.12574443075073982,5.4201895458472205E-3,0.36095035327448488,0.91823269112120287,0.57487652400822098,0.15120013712945768,0.37508842226783556,0.57313483944478893,0.39599347939248308,0.82719597791351185,9.0387017077306897E-2,0.64365480771650496,0.64128428747990163,0.15262074108810431,0.69765153427483795,0.7744304543062287,8.0241985213008515E-2,0.45342871944320873,0.89030554439557252,0.18447155166213702,0.39145977888814254,0.6839998206942135,0.3099539428518634,0.89792867077290595,0.15953252647070781,0.38438677874266547,0.77731623169720487,0.46386537336399603,9.1649832786529162E-2,0.96892571909106384,0.12999585781631784,0.60372592758141952,0.939585944265795,4.9839640631641258E-2,0.13874779570787432,0.51631051976574316,0.96756225576539145,0.49186869828771917,0.56211929235737856,0.11177900457561718,0.68786011448321227,0.56970093319456927,0.4471372795130979,2.4759807323737615E-3,0.5822894876193544,0.44976465318101477,0.92191617021250305,0.91401447563076632,0.15151825854189849,3.4769039338217622E-2,0.44827444014222195,0.44744504284075992,7.8691619042479233E-2,0.24620724421309959,0.80686070079189154,0.56537901943665803,0.66685484109632664,0.4795554359196802,0.35757797957024395]
[0.3897465519504506,0.23144245103872585,0.42456084597056509,0.93548229628127977,1.7394243516930641E-2,0.1335792030408306,0.8575859084918247,1.8346062429765331E-2,0.21408282370665821,0.48544284151584804,0.44728899893261798,0.48315120033995129,0.56583236983798368,0.77499361298094305,0.51284068457618603,0.43607668243377451,0.93647108517394961,0.78676629837396317,0.51996579357772343,0.23320366221706967,0.51994079364664481,0.52858293972333292,0.79079048583452061,0.50194652138952656,0.659659009455277,0.86136720776548281,0.73201078065271774,0.54366459962787272,0.73291178800779533,6.8920862663947591E-2,4.040425495926514E-2,0.17901634940819622,0.20617952802556694,0.61064840231956452,0.99243864675772109,0.65708663267293277,0.36591575253713149,0.52212327285548354,1.5863153378485872E-2,0.3420356711552851,0.39864586032666749,7.0377365317696006E-2,0.76044922442883844,0.1348886284143993,0.62359180131969216,0.81067172092237316,0.59396508622765343,0.692858757330445,0.81679420350953313,0.98912794167080464,0.76924622907143059,0.61885852561051946,0.61972390362301399,0.33869628891465642,0.29153812280945379,0.47329996494532622,0.25654192123275421,6.6405563513224797E-2,0.60415503365202505,0.81258336415025378,0.77708980077861223,0.85575895256164058,0.74652280149305816,0.28854347640439049,0.15459299094718193,0.55610909183184654,0.37807998863504244,7.7288728295378584E-2,0.59977594312677207,0.35930646805849886,0.24284747708677556,0.8664729475475591,0.90014736117984384,0.82950330611006529,0.48655980423808143,0.81941465430254268,0.41818359020234164,0.46103695577190074,0.85579307431303442,0.30264128422990666,0.4649594809907166,0.37641014446810506,0.70695006625683376,0.92226365350106332,0.84187674909347932,0.14666257395378979,0.67076032329138757,0.62741943567743852,0.77059558242727932,0.96236805885207111,0.6829627923755881,0.42918297207302969,0.76321540862354142,0.92391161041306968,0.50431892838111481,0.68028295711474063,0.92097618423195227,6.8129390392620337E-2,0.22561138061544139,0.19406040723538154,5.227023464224656E-2,2.4091100151594103E-2,0.91923444033837887,0.14162371044030686,0.6493920547153279,0.26171975030596262,0.90314974394051173,0.35302179095871278,0.65351044459016017,0.50535754361059881,0.65031916426053149,1.8438615250730317E-2,0.86818314596917801,0.93375443016515913,9.166640619391031E-2,0.40799776557294576,0.88145682214656673,0.36384053396422422,0.53783440070286503,0.98670825654395444,0.13104986840436794,0.6128359998762789,0.41976597767568524,0.84076449819647969,0.89294232421324582,0.92090405600969683,0.61789416276350373,0.9303271947886631,0.75365768451480197,0.67640033264386357,0.25806187364340727,0.22252887219503437,0.11846809032377159,0.85827098889036868,0.83758290648771816,6.249678841274009E-2,0.40782261728949465,0.1670335849918505,0.38591910020810039,0.79565421920777379,0.13116613574772462,0.51296945854640008,0.7262852055631922,0.31634655313831017,5.7411056977255237E-2,0.86291930666953809,0.90269182498250589,0.97995177820009471,0.87890388611162906,9.4628841036487166E-2,0.80413352373783553,0.46399719723415167,0.19934956660073122,0.86575869682718953,0.45965709745344097,1.7613072762156179E-2,0.9549745708607299,0.9722543008324348,0.68106176867237278,0.60946316836528192,0.30605986785333306,0.3556055021386525,0.70749175911064843,0.165845669130536,0.86433225268967229,0.75424344336866556,0.39860208582153756,0.781845679769121,0.30146740596901389,0.65759149450037435,0.51047837270225005,0.95761965373856817,2.1392456825391704E-2,0.15136888478507149,0.689471783443946,7.0145005273142935E-2,0.70316278308761537,0.88050098268257315,0.52992765278026877,7.5859406773917337E-2,0.8025638098816289,0.94290373540953853,0.6253497544155634,0.68654236806925517,3.9811521964206231E-2,0.19588047346464965,0.5219721302510909,0.64503791024640944,0.9264433454778388,0.88112246502267988,0.46774602601396897,0.57875270650414057,0.28484223959923927,0.93204620671168392,0.19319239350123163,0.7851881683133739,0.31478025237298224,0.16923280723493273,0.26178337466088231,0.88052133376114938]
[0.40402305270072969,0.24085744249945673,0.12168009476055885,0.57109952780413853,0.26457143028652153,0.27759599238196486,0.2261024520758026,0.59767327091515887,0.1939987424270091,0.44697018525433563,0.24394781408294064,0.3273105413504197,0.55183977922418626,0.4065107617366106,0.98845794675379195,0.70976960925088073,0.20710784124776616,0.7521831598332348,0.66935735171664978,0.58963178751230372,0.46276286689479673,0.21331062372509735,0.16652894957688003,0.26318551400859025,0.45617036257771271,0.92016436225858866,0.18657933911364921,1.9540245385040067E-2,0.17848199724646008,0.93413029376825152,0.37013472578986462,0.7140338868887407,0.53831379936181312,0.96066718253797745,0.43333075269519916,3.5220974973309782E-2,0.22737573338736261,0.35233248135265105,0.49318610247330141,0.47232664785113176,0.29578980932451027,0.94489258755328831,0.36518001658831056,0.56248095264230524,0.45769645177011453,0.89036216602653495,0.8473429477818073,0.37385478034563691,0.46593248116975161,0.88838506408884244,0.10511062672973714,0.42592615687454016,0.5248714703464874,6.0876896949251247E-3,4.4008842364578915E-2,0.33415919494361412,0.84061588316040248,0.41239067339153168,0.61374305411096297,0.116356674924745,0.75510423944752803,0.73904547158247003,1.7257560528162186E-3,0.88569565262945815,0.88316459149089044,0.18813385006147865,0.88942395702410537,0.57780217998765837,0.43187566016302215,0.37827377719317068,0.24951618457362301,0.38524285383212187,0.96627998563451611,0.53243382955593921,0.43752793326833406,0.56024740739004497,0.59004186862430541,0.56675201191836766,0.55761448607207353,0.41164477528469956,0.2646985048793532,0.26273599035024164,0.94808727910510926,0.213188320682835,0.7191962862013922,0.72693144415829247,0.9100685844026265,0.41122244416091358,0.16063270562302889,0.77874973522757052,0.72163008400116058,0.81042216338464834,0.65546481864512807,0.64047678461152524,0.42448643969854671,0.49090815791160336,0.65029341860838596,0.95448858303473916,0.19285609621308708,0.10056860531207867,0.75448446567927752,0.6532766860305802,6.1328743663566776E-3,0.10426407525216197,0.75349197808392487,0.18319470459919229,0.77679342200418888,0.21650221768244549,0.83084140685892216,0.93624810559867877,0.52304375553759641,0.82529885067735742,0.9376599893559352,0.82702882176809445,5.7978236949611572E-2,0.66569679985584684,0.57450458689327499,0.80017404128100356,0.28513527451316567,0.14181127961706874,0.89479591818885973,0.27690372990725565,0.54627344541449807,0.82590735542822069,0.72998746081874877,0.91001026721990685,0.46441911755758103,0.10027326877720133,0.81235257563936936,0.33673110113641413,0.41847251451768275,0.24154675886463162,0.81418695571691824,0.1478946732016575,0.54829464686845708,0.66326613199457218,0.77406756003035693,0.88279284629200738,0.82272996508976159,0.97569042438995657,0.22497994514370789,0.73611853056867849,0.57143807317135697,0.25952228740711081,0.30518760160631553,0.5164164494512048,3.8770887888591288E-2,0.39080654372626888,0.84001762483392517,0.79066887243834394,6.0154886869784541E-2,0.51518630517065767,0.76081821039434838,0.25957205289398688,1.4744367885884513E-2,0.24244021703932961,0.28279508573828582,0.86401406249274693,0.74346395778256824,8.236018275457313E-2,0.80233711308246125,0.73109948660092616,0.47743102384483693,0.32407813056186452,0.95188178608268881,8.6481294049071566E-2,0.53175100848400525,0.40828966202761263,0.54168690341776493,0.65990810720671644,0.32841446758976078,0.69410683787273353,6.1851111403046555E-2,0.44016843017982199,0.16847482213832832,6.5055513811223764E-2,0.74723171661121823,0.96805572185018485,8.4765178908567718E-2,0.46468901860956346,0.16028058988543281,0.47139208070821925,2.6186226414592895E-3,0.2227173025861795,0.29215276626784004,9.2925841179812285E-2,0.91870175631595019,0.27791751801718922,0.8657162761397641,0.78814625857981113,6.3977871375395567E-2,0.51895561668513923,0.66927092504209906,0.40418407725771566,0.56616840583364392,0.68430376877360855,0.21097176447996724,0.17293490072115991,0.39790693140198763,0.4033509655615326]
[0.56217263041773591,0.50785077241831367,0.84070575092819222,0.39617933709775066,0.98091117882964074,0.99102477317245063,0.82809180703104968,0.36016378540449323,1.2883220800865902E-2,0.80814170557494347,0.36842388423841943,0.10826044192069117,0.76441137324695163,0.81829117247481342,0.31147714596492604,0.38719395901921894,0.20100653600345231,0.92044786913230181,0.89508141570906874,1.106230074573733E-2,0.45596334157490304,0.61029717145314899,0.94731535231552666,0.8687141092087971,0.26580118025228161,1.8021859104922822E-2,0.94257843525599838,0.83527264957584368,0.97824847220350053,9.0417056373808924E-2,0.2646763608579985,0.28206892592484389,0.52931685634985004,0.66940411477769701,0.69321153507055211,0.75483852197211465,0.77077992678898477,0.62817536283463404,0.1061201586010021,0.86804264923422625,5.7614337156176809E-2,0.79771003853345812,0.54818921173357527,0.79923994795107378,0.30452456473282241,8.3188350386498411E-2,0.72754711338927558,0.51220188298805125,0.71901980360459972,0.73777603517332702,0.11702798999169528,0.94437697589646119,0.45588913618170912,0.91310516375367456,0.97445412940256382,0.49092339457835832,0.45907994530811114,0.80004859971534303,0.42367065552100203,0.42239008217879093,0.56026129023612359,0.91046084720938192,0.10992670002282023,0.24505197635255771,0.68120547145520449,0.28022084333544861,0.14970553035593648,0.60386765146778076,0.48634857298855372,0.14078461352790317,0.5471365653304836,0.60247756265022356,0.72528201904547895,0.29364966871155085,9.5506173179397802E-2,0.23615527663897307,0.80069562200547628,0.90687231603594809,0.30250980224276902,3.842506564716297E-3,0.11328051071084455,0.78757640256036621,0.70566018019986609,0.16278006945233336,0.93141390027767923,0.62818609954377902,6.5735438118113443E-2,0.95571152099700385,0.71389724048738368,0.68140769145265589,0.37170666988207302,0.4180647240637827,0.57669152494921261,0.33459231750876794,0.58912012083082177,0.1325049394093093,0.81365655045763408,0.93213138614947255,0.56237362642820843,0.57175414143907055,3.7489439711963168E-2,0.99907517135737167,0.16319655352556039,0.43610588470141287,2.1433416706604147E-2,0.71331737732747558,0.40044135651821078,4.8791778707344413E-3,1.2267222811452427E-2,0.1821936417640091,0.82853547930385307,2.7797616469680264E-2,0.21875509248011937,0.40275179747781087,0.44735755469659633,0.9923141360267721,0.57355066839832269,0.74449850879975266,0.48531595280130935,3.6610204813842806E-2,0.96703797450603934,0.39371369068850337,0.94792385722012928,0.99559758435626855,0.28422334830289353,0.32178590987719746,0.6810061536113492,0.64606296198875157,0.7456117002232755,0.97466744336893274,6.9732753342521936E-2,0.64991003480484211,0.54627890788520717,0.41128691774912796,0.35170899855620974,0.68579286492809266,0.91675869390853815,0.72690497823045797,6.0962210956930996E-2,0.66668534345924357,9.4303314913805947E-2,0.28484850500321079,0.36835353578513719,0.87731066649687772,9.2792429728925763E-2,0.4786677128047343,0.57466094603801854,0.891108135869356,0.6487412622629577,0.55852814491786529,0.91765493988052127,0.11767121024606886,0.56756642426744586,0.14210243616325802,0.46523503283963619,0.40907731689593685,0.60751162859662244,0.5166691375709328,0.96461491992326742,0.31981766080804097,0.61332255983242645,0.47089377294262935,0.18082216181099975,0.11646631188648648,0.34649222963968573,1.7404438172609615E-2,0.62516579613122281,0.49034019936364892,0.74519714741288434,0.98974644092734709,5.468889465889315E-2,0.3179046691669114,0.60263008394219764,0.90311802378305894,0.30369709825790514,0.53795819821560065,0.26284885120055146,0.7017471649794742,0.65404640522032809,0.51454918662245452,0.62287123476844131,0.40133420374572293,0.9652862659055117,0.46187440278721348,0.34320767789051909,0.43254163679456992,0.69236992397432828,0.55524379483905462,0.10591074691701774,0.76217213101254844,0.99055059136421397,0.72925034062997718,0.49257823498876996,0.56689377675534436,0.86237314476559335,0.42500167778004661,1.1753973870954892E-3,0.76269305809787691,0.98943265392382784,0.10160312438608921]
[0.36756435343661031,0.59023277679180153,0.65549076612675439,0.88706595283705292,0.32278274175003652,0.33741997864423845,0.15141989575358905,0.98159073010948128,0.23872487414654142,0.66219243404705064,0.91660386626980184,0.96463411563852408,0.5456300322566251,0.41738367505110752,0.48527070574004216,0.2774862959715434,0.38232690133181402,0.64187400184146493,0.87838554434483596,4.4706717824004039E-2,0.83568239869930472,0.17169274672578494,0.75972550859633492,0.47590406023683862,0.11169431382572736,0.65949532771009134,7.9261652285693818E-2,0.94889415645569597,2.8284087163146232E-2,3.8292347132015014E-2,0.61557221375585514,0.52302196157139069,0.67482603781652539,0.79034750947055865,0.7888015742097475,6.1382342089751907E-3,0.97256135208943328,0.23609131372830172,5.3608260535904395E-2,0.83306149817300179,0.8323124388503137,0.77910671547689603,0.58998278545565741,0.59435883911662823,0.28666444940711078,0.61482845932557184,4.3462774439429586E-2,0.89454789831223513,0.15864399731954926,0.14749946273762837,0.88128906789952099,0.88689697604294337,0.15128701639442632,0.54465182606648477,0.30173982812736722,0.11705220186423382,0.98203748826945747,0.90709453066120749,0.19062642222439563,0.20714468252871709,0.75210590133362798,0.2393155754087003,0.82623724879965976,0.55452551567117425,0.91707937144998508,0.13342723978150939,0.74551840622848586,0.33894261991154395,0.96150661140877625,0.89899728884497854,0.52474048902528825,0.60533211081554594,0.11123078831954891,0.95227735708438299,0.93557773744453609,0.8817960705668334,0.75155269520351853,0.986474681634679,0.80184808059681079,0.55366688154193644,0.81223535537442726,5.7962075642461586E-2,0.84499934657470255,0.42822278114680079,0.84944775222303548,0.45091732903413728,0.57306235571651531,0.98693263484539484,0.19525001938518161,0.6805688335187412,0.61160021121117747,0.73461199247478937,0.96956383892368436,0.27867827194707351,0.17257325539021118,0.35703577802906572,0.13133065691980805,0.14682263869503764,0.65401375028152031,5.3510233331479862E-2,3.158105645205167E-2,0.94023097458899763,0.61535778952393683,0.55120574668459776,0.84844656309169331,0.33911791879594544,0.60511981039413654,0.65023924546982603,0.49019187884788806,1.1874766903699596E-2,0.32738725131205682,0.20895870683648676,0.61937180738090569,0.87840667858748489,0.99039371969182599,3.4606823872980419E-2,0.83427797464802667,0.30853559706170508,0.18769167364908979,0.8705072807992883,0.28685768082135987,0.86632562603529062,0.85573301209873276,0.19911270518700563,0.36513690709178659,0.39716599316804468,0.60424641777785892,0.11649648353825304,6.8536978238839752E-2,0.27636812471706385,0.60738685684356131,0.52830586114631739,0.97209336318562556,0.85553730804533323,0.51122293830247745,0.8069680223550012,0.60068926880670281,0.5345461686587949,0.58951465237930623,0.85302465674660266,8.605652429112931E-3,0.45181319070698922,0.68633683674517432,0.25391622696642213,0.44197357250714286,0.30110047852099453,0.65710533440885643,0.29620618249925168,0.66612181572948936,0.52986052733616151,0.93458871500681528,0.32190617322575721,0.42699880500969023,0.91943916878687337,0.56734795151780237,0.11123926275337837,0.31773920781876885,0.53929158743749916,0.83196382978531458,0.23399170685641679,0.28261913961559548,0.91963228447754874,0.4776225567487743,0.73726722552008106,0.36288515978721325,0.44571924543200026,0.57790929542954927,0.83102780473289017,0.61301112136934421,7.8110914678890531E-3,0.84856708605617326,5.3445441349452283E-3,0.1246478397120433,0.29915728079347348,0.85088679549697432,0.31250997061541896,0.49201561998536425,0.32339648282972921,0.62915602629963263,0.10474127708159509,0.48162521832248739,5.6830093129147108E-2,0.72538852320508707,0.98606741881283222,2.5252420759132366E-2,0.94580900116307243,0.18757215260141558,0.42042995282001738,0.80084897567724789,0.25202952509409071,0.94963988039242919,0.59822703047928472,0.3460325158430706,0.77448495661221051,0.5426061428939819,0.38038140775713203,0.69988712947957454,0.28229258998747653,0.44442275214412452,0.80648903997614496]
[0.94468380028877275,0.71586840226984383,0.62398147007119864,0.36741755539436149,7.6836600098139307E-2,3.0106766081905323E-2,0.75865594761896304,0.82264368343784522,0.54774367794606127,0.39000407232520062,0.81789516509259952,0.51685092246169551,0.96313282890666263,0.94309015617422076,0.89123312008059818,0.72857960452134152,5.9994268532111206E-2,0.5430835106690951,0.95398291023487536,0.63611667368764568,0.72766994538056806,0.9826746984956175,0.28551711537239011,0.26879262875297638,0.64166264408781315,0.88735210238828188,0.49290536645856209,0.5028379945777236,0.92630277290742913,0.18630624121014572,0.18658187387056924,0.28963717803978606,0.51109119792458468,0.50581678012561804,0.76177599512410132,5.9769176626169762E-2,6.4800542090273416E-2,0.38590882412042304,0.8189930234417605,3.6776300144343188E-2,0.85217201527087727,0.92292853754191917,0.3780929875615292,0.7040901565839599,0.19479483244682616,0.41483237080458613,0.63155860281164333,0.77613890442330602,0.22592306292487374,0.10816410167010115,4.4366516553322133E-2,3.4896639982706867E-2,0.38885467220564418,0.79212642089492591,0.15460394141061351,0.38786080765465869,0.39184676118364703,0.21570904071841535,0.10739063124387838,0.89014980507410046,0.66369126218234453,0.92580030948654091,0.52697945630894549,0.26093880493267407,0.14486891152848813,0.53115656713939763,0.67866234163777206,0.8227934503751968,4.551175955987552E-2,0.21658391834624524,0.33332195408351128,0.44621510858997315,0.38301070832065787,0.77055007450228019,0.24592794471682167,0.91190583330461883,0.34365011415306124,0.65714727553613206,0.24810740395117303,0.25965187375128373,0.92889187698293563,0.30712855095351677,0.96515938588061512,0.94796685586325757,0.32183456462320548,0.34898034348794438,0.1704644420827981,0.23525163723517883,0.40045917607958059,0.73046143625682802,0.87472200574345915,0.70137730991092051,0.23371491129383115,5.9133189202366876E-2,0.98648138713601363,0.17360958699288975,0.31466697124271636,0.72172655333593805,0.55423345079787478,2.3468508611545591E-2,0.2694398154550891,0.79657528164218305,0.56760539246112141,0.76759870856902446,0.99352594068752531,0.4432675181470489,0.19776283041555121,0.52626988329987623,0.17824929942815038,0.11745146142396778,0.44730616186825678,0.44483620256755629,0.49532751906937666,0.70361106003107099,0.52028015715552145,0.41960584233633569,0.34389343044703369,4.4734219074804571E-3,0.70819223090917294,0.34280558162568431,0.62231966375862191,1.9093899217858534E-2,0.26988174751846128,0.2793571373953011,0.84315025708795821,9.6573682064350685E-2,0.86911243671219862,0.87962911765769447,0.58567073714651574,0.78757440580199145,0.30393527052487346,0.97127024338401569,0.57805378315275646,0.24306142474859949,0.98374120367365558,0.63721722591455598,0.77858938922665355,0.52241774769445259,6.6471446194157568E-2,0.47303567590821927,0.21803605818081884,0.14976250050438289,5.717617156709387E-2,0.81094357084652713,0.99800024179958025,3.6795008430168585E-2,0.38286198504728852,0.426534659376827,0.69955841654447448,0.58907795078550973,5.7978407206082494E-2,0.36157174999870156,0.16255115481813787,0.9367119864454585,0.67944080216922564,0.30017176117146849,8.2198912348735775E-2,0.27336016271690478,0.73724891832354966,0.33179562390368789,3.7912031166072557E-2,0.46113109302440247,0.56314320467806522,0.76998628092107391,0.63417182199301914,9.5017261074392789E-2,0.42746791690711095,0.53925735682346143,0.15945870751949487,0.18720211776519258,0.36973139154494561,0.71438221195531559,0.39679022521893681,0.95499121244210683,0.84109234741626315,0.47008079114277868,0.80583672371814519,0.89095029111693547,0.33744439447004237,0.79810891447120713,0.39375487667904829,0.50179687919734584,0.26693280501765515,0.93647609036176616,0.60139097523572072,0.2497593972896025,0.72883270315257542,0.32614180155547556,0.10535859394669267,0.79244452083798989,0.68823487521747451,0.92292154328398035,0.74531241092825407,0.71094206590519027,0.56647299791701089,0.67848947313181363,0.62815355543820084,0.65104676068136391,8.4561577475259941E-2,0.89582253777261056]
[2.4185910692643087E-2,0.51245273390200385,0.61350062681606443,0.27324872183087956,0.59131619263905655,0.69705440175928213,0.89760148684936181,0.77736157307887466,1.3680776092292901E-2,0.53218713584953159,0.83756317514915546,0.47479662842307513,0.64170409279810414,0.77937183333046145,0.29316391228861838,0.67023080301455262,0.69152363393074712,6.8366037534710045E-2,0.28550670306126957,0.46193625804193861,0.24411398251236693,5.4465241527607566E-2,0.51606564770483077,0.82438146769247356,0.80789840077317243,0.92372513292994951,0.81378414914597952,0.94921501201520175,0.28284362235256111,0.25890794111176973,0.5881057371289411,4.8492325286100257E-2,0.36634911650714752,0.85471117753541914,5.5219030381122858E-3,0.80657024615340733,0.49759729024582666,0.14591885035284413,0.90606421526268399,0.51681171398968628,0.78344525025952438,7.2017081223766155E-2,0.69838059038025746,0.2434511125597929,0.48638816906537008,0.89693862878407715,5.5998130970279281E-2,0.92360070667879879,0.79849879324149309,0.32250267956661427,0.40659099498565032,5.2210495297612125E-2,0.95344950454922373,0.32346602999911134,0.27115700852217839,0.97073101208475077,0.82316561415311396,0.35839679213150122,0.25241782297972215,0.72320892871590714,0.76406809781782459,0.60478369794142262,0.80761547368852038,0.54531501560765971,0.25926193089986527,0.52313280356862712,0.60155574265585221,0.10739953744806363,0.4329107493097768,0.87457956435782347,0.73685018827491711,0.71817382047718514,0.15564805413131733,0.76215567319274014,0.67501850689792076,0.22725507155699898,6.3613908907000027E-2,0.5402396788039503,0.81215875363357326,0.55301208253384881,0.7738713381556771,0.96112549056531316,0.92391659277316307,0.86190812137062667,0.21376988276740927,0.58851909261124602,0.98093846169244514,0.56179876485460301,0.89775349781397173,0.5912764587421524,3.4684620034229674E-2,0.37093572021995525,0.1628790106506055,0.34140331595955098,0.5172070612260794,0.3510038766834036,0.33347867380478113,0.47606947465574578,0.75521538362955787,0.24326286053437074,0.7421455500865658,0.33740513390106286,0.73495163402207808,0.96300639611624439,0.89998239902643284,0.96522229513070157,0.23599505530027676,0.86527956978516241,0.33821210393770385,6.8516986328366669E-2,0.51786403501813061,0.85016764401590894,0.18231458516519206,0.81032516046276148,0.24256017088964377,0.71323888194211349,0.72736660038070067,0.88954289830597666,0.58915983272802142,0.13554042361608443,0.4759828629239421,0.51863621377905467,0.20532921836459428,0.68896437398844956,0.97075585348411009,0.91598801321251822,0.74655254337612464,0.57945897967878568,0.30380334058288572,7.0099665065596284E-2,0.85391169742486639,0.67336968298151234,0.70368020938613851,0.18839816797491671,0.83136090131415785,0.91301212629536921,0.4015535357730472,0.28847400238948862,0.81511327298683345,0.59518395472480523,0.26188111315322282,0.72949684970368689,0.22102747167284886,0.61713304825564541,0.79676939516463663,0.85739162615534581,0.66522514478177508,0.60852614832451679,0.65248444229639979,0.61357334196255975,0.24165902739828649,0.58985371445810297,0.12847517893568239,0.77867789416064337,0.16390392918795271,0.93286750405019403,0.9708572666227393,0.5439296204922397,0.29606974267697517,0.38767625263434113,0.79118541416423893,0.51796111236036391,0.28445191779392565,0.30521035592940049,0.92721456152643855,9.6644574425775787E-2,0.48558091882295951,0.82028736013169934,0.37846358519412882,0.13241026847811366,0.60622827166827553,0.81869935822607898,0.70164259579079202,0.81516536122171412,0.1103899127211353,0.24598274678598242,0.41613084337873396,0.46931368746762459,0.79474223204040251,0.91923733677255837,0.23217386214192015,0.73221124725560416,0.29883713462782446,0.53631120311533043,0.50919779431612067,0.38248902208272317,0.64272750743092111,0.30664728726120583,0.36179261915505501,0.81208363465563127,1.8174036538299743E-2,8.6206715279580015E-2,0.45036772378836176,0.23836878076703638,0.78101538864818443,0.56203680502582309,0.70236444137241738,0.52991912118421503,0.24404043083272486,0.6135842332159871]
[6.0827371871649882E-2,0.86755134052430716,0.71493134876045117,0.98566696110954444,0.56191611505615191,0.50395413019029467,0.76266313440212852,0.37739735576839051,0.62325126200221737,0.70397957371264519,0.37693077789240104,0.26459887912332503,0.50386577545724365,0.19413813051930362,0.45021614504738205,0.69853459422377873,0.2339560400246099,0.53267160034017191,0.79242088463801696,0.5067673784516421,0.27814224307962665,0.87650531558264611,0.54642950614212837,0.60914960007971786,0.83700218534022053,0.20874631090412765,0.3154059391503784,7.1520727605844159E-2,0.59681307742126655,0.95085914709527641,0.26693334378795419,0.51354364466052671,0.22459706978258409,0.31565044242788542,0.4634921391980884,0.35167295455602054,0.13737357105039305,0.24801942260895993,0.46357149739432413,0.41803012317333865,0.1361872538485821,0.44291888857063499,0.9637385252513293,5.5715821665049958E-3,0.75397181756388587,0.48557565613147058,0.98536579508641731,0.30003048535030741,0.82420909781396423,0.85281723838954004,0.33656426751396062,0.39263918245698315,0.44013634870570684,0.86863773677019052,0.37500704808029206,0.94135564918781789,0.47664509552177625,0.82929885693815253,0.15077750488905273,0.90521574006889793,0.25205103840549792,0.11598913232989905,2.41287498251056E-2,0.47678934183209554,0.66024819718208316,0.34915439562326134,7.5400543514550389E-2,0.7933484542437933,0.22041863439659271,0.53525728395081018,0.65147943078121562,0.24881228364888874,0.18349747690057117,0.97894748579392332,0.46858573115046809,0.78207031274245453,0.37103133902305396,0.76195621006048897,0.35144706751498833,0.27767619663336418,0.14472588111189899,0.94270104271922528,0.29711830237590919,0.11057737118708333,0.48914470156329259,0.62474388776904743,1.7426158628738198E-2,0.62364167385596292,0.81195303144552211,0.84625278442263852,0.28094133998211801,0.10626795074408535,0.15322582043859345,0.14910058304476093,6.2252702584707054E-2,0.13818709314054756,0.81451723716165347,0.15309671294472171,0.38505893744861852,0.40345348532255154,1.723631911471557E-2,0.40171633442187549,0.25477438494675575,9.8601285962720331E-2,0.65802206395609431,0.27521442545587771,0.39387297262039156,0.54872641112341747,0.7632880963009242,0.92718681185128771,0.50013350771631282,0.56608148841583139,0.98808750120593969,3.0821924978364446E-2,0.20149259233236183,0.81081543285960478,0.53106246892670028,0.70173049175379509,0.82518548287873217,1.021271119096101E-2,0.77492932925465474,4.396409429823156E-2,0.75229251405283926,0.93255392119253222,0.62492231945793841,0.92145958596073441,0.32398672744396562,0.31841549820225601,0.89246866120536017,0.45855744394136544,0.70296390683315313,0.72813815139222948,0.19833869218546651,0.62179587205597597,0.11441837123750864,0.6862028676290608,0.67287539442030109,0.5710706850472953,0.54969186647163648,0.10162239390615302,0.92013978575806887,0.98763224411841521,0.33566111986667257,2.1368331943974805E-2,0.64365565962436599,0.76718615269342227,0.55307186141068743,0.39098792158699192,7.1707767983048454E-2,0.40661053541446079,0.96015149861735694,0.83366889161501923,0.24349579135170851,0.41023953271447267,0.49708297017342162,0.63765258689685467,0.14680612718793051,0.45353664639024716,0.79797986589559844,0.7875338064063313,0.78832695240410944,0.58658671445701183,0.89815400426600933,4.0441125272971501E-2,0.28718563612941195,0.68687147705778684,0.1882472937548878,0.15008140379119872,0.97061057876505208,0.89288050140347675,0.93211918351519596,0.32877362164490287,0.52729893336237166,5.8145028760061224E-2,0.62311539897279333,0.89050729962191155,0.57206934418575106,0.95390246332410533,0.40377258531643201,0.17890922205212378,0.36743473884424949,0.75463819142515265,0.86073608391790479,0.50659004534499119,0.33119509664169777,0.24634572816003741,0.22404841935949438,0.97205424349210723,8.6729265810037814E-2,0.16071519247852484,6.7250303730032046E-3,0.75414059046531312,0.13297560774146144,0.57387942060713659,0.82789621921428203,0.9439036675442084,0.498578511984058,0.70065181550209155,0.1308316774565822,0.27106407134636135]
[0.31526266761186084,0.13997421054666681,0.8213946741106497,0.56666423519031184,0.18479490738155346,0.67361186273387097,0.93758148919845141,0.74719015587447768,0.30063172508541625,0.58999262473649949,0.76916333646936785,0.22793670667488175,0.68929210049535727,9.5935591411219878E-2,1.0192742156567292E-4,0.35223984891182802,0.57102330855640804,0.73403562881001128,0.52694104665262775,0.34417394377884913,0.29306914044087218,0.1271644933296735,0.12630754892124929,0.4640634796251345,7.6597931705007172E-2,0.24043439342219364,0.92561598320692062,0.43059878842194754,0.8173651510248976,0.87091809821026889,0.77956458267803175,0.55622842714569565,6.7747880672481386E-2,0.97928580670765564,0.83381035570993212,0.22295643972403378,2.995991847140711E-2,0.80052517510061849,0.60679022750214773,0.1460655513387541,0.31005711403050273,0.70754947171350346,0.18487142097838649,0.98472138790385189,3.0395343742365299E-2,0.93647456328114087,0.43926873461680049,0.16955168179594959,0.62327642302500952,0.59788114113643265,0.81418004887451334,0.29046683353292835,0.5882034112333836,0.39193724160341636,0.39066182178628117,0.56310853774453706,0.38828993743925333,0.58024589578963004,0.84632280169869667,0.13169328381051149,0.61738023716043322,9.4569392142699549E-2,0.50815403275140647,0.31294719363703449,0.9873250015109889,8.8559244802722925E-2,0.42095246071390491,0.1760089484221492,0.77328766359768197,1.9896007548270922E-2,0.51292180443105317,0.28681787785109003,0.74078219220165853,0.31827690462229896,0.92438211070474563,0.49882167846816994,0.75774291357274171,2.2077546548614713E-2,0.53668223395569081,0.4940261968493459,0.58052827461764789,0.94361403789269604,0.13487705096189428,0.27860939895688919,0.30539504313864196,0.5844931173776996,0.91056797083250673,0.67278237927145745,0.58764854873700745,0.24071295913713575,0.69903242712222446,0.453149076729772,0.61675631625603156,0.4688014447263511,0.32576919688487516,0.95772033017639313,0.72730587971791638,0.38157365192301429,0.11303086465289403,8.660448032256518E-3,0.46757480179882327,0.13438339386257803,0.54995519684724814,0.97439286997698582,0.44583338276036133,0.96310292537532638,0.58227267800043969,0.79508757239685635,5.3345726305403129E-2,0.42316085075640197,0.13010799512335058,0.29754609616667105,0.28613286184580711,0.33581165700077764,0.48433269293691872,0.94912215511569387,5.6817467384872145E-2,0.9596410103757339,6.5438446775343939E-2,0.49868765773396373,0.60707907764325186,0.53677843220058641,0.48896817882387345,0.24786811752716165,0.53104023097979147,0.97777352614108104,0.71132133404912024,6.1217751231343875E-3,0.89841908511472679,0.52202931533915764,0.61135512030799544,0.79757377415762709,5.5224407890248517E-2,0.26528928469635571,0.32609164774349397,0.8963337519760155,7.2177573721213917E-2,0.76111555016748111,0.76024469120130367,0.53541064156627627,0.46405979431732536,9.1378187212652673E-2,0.62206354063836056,0.31118373215796913,0.40970240678926384,9.6822633188744178E-2,0.99301847934429044,0.42212486427420437,3.8488841385453165E-2,8.5668879520615082E-3,0.56698999905928626,0.34171558242587941,0.39780556245879028,0.37486266641136679,0.20651411569429901,0.31278797055348084,0.17896558575313937,0.40358416320442947,0.94512847837909131,0.32712887991504347,0.15724466459031161,0.75969757320464926,0.59368635954295446,0.50668644529610485,0.65899266865094264,0.42884558385690308,0.86677075055661956,0.76601869869014472,0.23936409899055566,0.61081108406435614,0.47019825497213374,0.92124619802693686,0.24135994340230393,0.69646055448464361,0.78980921130778037,0.74251405227484435,0.39855426106562675,0.53646940149765154,0.33282382197532545,0.59646453007180189,0.79636123263250069,0.86719980896961069,0.23995661162809534,1.8097602754930331E-2,0.6035190512955374,0.50454269890427106,0.65515183891934492,0.86249228217240825,0.88255714553857789,0.22822713967555064,0.80855441640456205,0.27936585499620248,0.85604100235340175,0.41390377385561439,0.94849985314622831,0.32323050009975629,0.24379280424313188,0.15800468766152476,0.97299171257977979,9.2989209625591984E-2]
[0.94990898174804672,4.7739371790300078E-2,0.64718589999745735,8.1114362622002889E-2,9.3306258624254568E-2,0.3382030680937097,0.59959561016362828,0.46884401775097362,0.89470134210343444,0.66516805194065232,0.79487588015053279,0.35474909261314658,0.11085782835368119,0.42507401400040823,0.40870373099520052,0.37990600940403907,0.31037759970731427,0.32774345266699612,0.28851844398595228,0.77711284294953342,0.9722853572817397,0.35974037528484504,0.28603392021711049,0.59247789601882495,0.65016148326087408,0.72669435026444984,0.80149890321204043,4.8040482686763974E-2,0.84606104579669517,0.63275349336706532,0.25437084829689305,0.11660680694221714,0.43333936176763299,0.74540645659199134,0.64933032318840866,0.77364871621081155,0.61503593734016071,0.82643744159472443,5.2327216391130915E-2,0.20660087529192228,0.82870992229926055,0.98776753699636011,0.57541426828900155,0.68714572377114691,0.82479161169737547,0.13756765916958258,0.12257527664870005,0.36212801782520965,9.9725574810359263E-2,0.50982896376130404,0.66137395310320168,0.37991451070395854,0.34295266905648603,0.85306762394516988,5.6211479736493541E-2,0.54009089893040352,0.38654988493981091,0.20105738617805669,0.7478936891864133,0.41118120324721275,0.163009348226137,0.15321950409435148,0.38029001390647377,0.15120431513193444,0.3689453551315387,0.72658834780136072,0.29327553004507745,0.59234005102734899,0.1410508731701805,6.6157122339277508E-2,0.92212400194491861,0.15333636459379985,0.28235793875420256,0.5138180497804562,0.82445567550255827,0.56380004769190872,0.28484506588787173,0.7047308220189058,0.63633707442633769,0.73510701035884052,0.75462008949570847,0.96893172006692407,0.84141771360943585,0.85210337522313728,9.8632962553980463E-2,0.37759637732568629,0.23082151132940887,0.50629622683838416,0.24761584622312338,0.38765316398892635,0.99057795665271919,0.9761195678213499,0.65928389550223787,0.6393971371728977,0.80631300074982493,0.61291134015333759,0.56893022095756229,0.58184625942951718,0.1831678796887366,0.62465297766461536,0.44721926359969355,0.37217745795130752,0.24910059763639292,0.74990756365226163,0.60263109725548947,3.6488164906066545E-2,0.25461132380592877,0.37473994833427449,0.21367459467699634,0.37362465721537563,0.4290583105709681,0.23221032371252459,0.1123666630926109,0.99558459610473882,0.7095313247573336,0.59882263811709091,3.7465160722695678E-2,0.48793305504064133,0.56460181306268009,9.859164849725377E-3,0.91010996304622205,0.37450507718045978,0.31225018767453017,0.63232878481181165,3.2526687977553537E-2,0.8410452077837467,0.39245616148015883,0.60039961867739966,0.70784466242035449,0.67378780694127482,0.35576053152040465,9.0706341928173395E-2,0.20704525349483638,0.63597389943438465,9.2728336417051249E-2,0.33403943955116266,0.95025490028356607,0.21613910489855204,0.49645807611526649,0.90061310894501556,0.38088862118454181,1.1419897347575092E-2,7.7207620569423208E-2,0.97858659968763007,0.48414758032510874,4.89927750197513E-2,0.26094756714479594,4.9278266314845443E-2,2.8440544814810842E-2,0.74468586632376854,0.4271595947405411,0.49698096452126295,0.56494655536284322,0.8697652303381701,0.68959276809678061,0.228823902074764,0.66938268008326163,0.65202206030495224,0.69712636900339675,0.37899172101938228,0.50833336247946315,0.55216699898043031,0.34396642694546642,0.13993917697861302,0.14652521805647867,0.40649319960441055,0.92431600626274035,0.27709906314452415,6.737466244719259E-2,1.1146416434042239E-2,0.57634826707753295,0.68616038525211509,0.60972534417711077,0.49224595904198476,0.87631761409475928,0.57862089241724424,0.52434061427536049,0.39839332712839615,0.54831631119382918,0.38877010242945786,2.0842318519028513E-2,0.73556159462989523,0.52983400281456794,0.46138606441128593,0.26955706082323261,0.40940887608886367,0.44835374630933655,0.60120243830175613,0.57897025214263165,0.5936086726983747,0.73789372842500334,0.9159782793146436,0.99549105161733831,0.19596251572714518,0.6380774887239179,0.25120421477091859,0.14493904575145167,0.56945594426249002,0.37852018883672667,0.30370106613940884]
[0.37077928486473855,8.3396999927422888E-2,7.0068613317986861E-2,2.4937043887962584E-2,0.45335076727033774,0.806858558050914,0.33532124335609936,0.91284607337115109,0.64810513966717331,0.37323818658354924,0.2459819872201211,0.91837155972291828,4.6721433216452835E-2,0.36625425020506475,0.44931745156676406,0.69310115832489649,0.85280025744633914,0.13136053874018927,0.86193704258941828,0.81338969554776985,0.92465181758329096,0.21953220407344798,0.77364678569739675,9.523187458002913E-2,0.28669227985889378,0.38066948923180732,0.18423759541316875,0.27119008081260598,0.95637245452248809,9.7740946758245961E-2,0.16676577518374436,0.47412943268830532,0.11689134190965211,0.39811501026792429,0.31469498128788587,0.67108446742228722,0.1235026457699685,0.13529160012688335,0.69194964656036662,0.18388103860329186,6.8644316804739369E-2,0.80231332697194391,0.28937413169756188,0.74399505219047846,0.65938371380126681,0.55113037673122145,0.39439241531684821,0.85723446028717409,0.17545643660825561,0.51736773282384663,0.27033573589367443,0.91759169013664832,0.64806019863670916,0.56902108114463124,0.20790537893429861,0.18563137424980358,0.75605606869167374,0.51991119041255862,0.68813131494974789,0.52594253913575106,0.46695699169130844,5.4090174310739925E-2,0.43640373098639129,0.21921217041419894,0.35376901008670147,0.31036271457765674,0.42727241980289521,0.1698295081863177,0.64351928645117651,0.6082299867185238,0.70206355074185312,0.63206747309303213,0.89256883908756313,0.61839794553887195,0.58994542095925562,0.89617944611091582,0.32899196666276465,0.42964613292962583,0.27236742179066631,0.25383710127059811,0.65431801884485008,0.29859384360408703,0.3646277460666858,0.12411224620331562,0.70630138315942559,5.2702118534077802E-2,0.43103458201125266,0.59040856350789961,0.35900962853698259,0.44437815656365298,5.5132359238998951E-2,0.81231195766880337,2.2389348264466147E-2,0.32374456337573798,0.86522138844323948,0.94466467562183587,0.65888198765134698,0.34143100025781359,0.53622520757456871,0.47156521872787605,0.59789124229277268,0.66257338700166002,0.68639433881422374,6.6964236170135472E-2,0.98947359818181091,0.29147574894423367,0.99930294842366929,0.13944062545922054,0.25237732722463346,0.94863168514986762,0.15423282597654009,0.41403254074075335,0.64944333920628861,0.97496856735609094,0.63247740683462894,0.37489783184656622,0.40789495584744484,0.13431607954987712,2.026368140182333E-2,0.21882779774838013,0.78806176371705616,0.14331765391562545,0.46776679281235356,2.157775373535753E-2,0.56441795799693861,8.6920801652744406E-2,0.61871165948471285,0.62173712098844325,0.5687088598535045,0.62775663109022184,0.72257902143501263,0.88943209499465847,0.56001269467409276,0.69730037359645947,0.2140086339209849,0.8429668859209436,0.37603246589100048,0.74152463613452457,0.90480881072066011,0.88636449764356373,0.37259216809201234,0.7751196296348023,0.17633359452865882,9.7887128429684722E-2,0.5274302795570458,0.1135470804400891,0.51584509397862166,0.92567060996484041,0.66225425156185858,0.79907395669885617,0.41732755030778745,9.6989146306723284E-2,0.95794934595478543,0.1974740660955886,0.72114363830809625,0.80250223571884216,0.96557585473402563,0.72715514817373961,0.307410156020956,0.40371444338701168,0.77591203709965439,0.39042811523126142,0.77990863824161571,0.91299464983353928,0.79361877453524443,0.51230271947064221,0.69044649178981055,0.95854514874610131,0.72994118116103213,0.91902802752673585,0.85603138934148493,0.91537792857946054,0.49779922137737842,0.46329573151499304,0.32401667416831681,0.92964316446160966,0.31228647840458967,0.42086735464685121,0.15869351069927695,0.79426900079028762,0.50714880438849841,0.85095916249623571,0.38149379929259974,0.94581955506521131,0.12694369164454355,3.2007045702776571E-2,0.97034442439337021,0.41980797365209033,0.66414654875539436,0.59202479615478298,0.78154377427188193,0.61365810239517848,0.57729881132114169,0.42623137037766667,0.62066662511058213,0.41811553070933882,0.63740708580681438,0.81449792534397714,0.85061014591288742,0.68410220780411712]
[0.67416909520142054,0.17579502034956707,0.66212278117745671,0.25695918442876808,0.17209896928529533,9.5704908113437459E-2,0.62367218287196402,0.81324637283919377,0.90082178323708462,0.45282148216830953,0.49218623064936096,0.70621331264581755,0.89546376214559176,0.8570558551804548,0.14054402384579134,0.31710731801352765,0.28667257008234281,0.6718538962611682,0.28954648201030808,0.13965174656624846,0.63183203581906822,0.50094495296298613,0.53860036728676564,0.10885234562802515,0.59573642817011996,0.66064729848622217,0.60587260564724477,0.71625537149559393,0.35697329842888348,0.26356439892886485,0.7184485360709999,0.81517720295878171,0.36940397189445517,0.22289303892458989,0.38531414786642615,0.93259122363442004,0.1062129419888892,0.20751736502566842,0.97443996935069321,0.84002865837525897,0.98376964506408804,0.44488354095881655,0.50974900219112629,0.2129374185348184,0.71716821514790463,0.22518732315974632,0.46599780919099021,7.2461731771714666E-3,0.99946333999658543,0.37579668459701976,0.1029931803412949,0.38593829846648064,0.79917531740268566,3.1301289988070358E-2,0.97805094968128958,0.66724641251762373,0.72874854836525893,0.86617012824832529,0.3647467692567542,0.35731442594739571,0.94292143073120682,0.12890538365662541,0.89275349472085519,0.24817830064240032,0.63392762525993984,0.51270836404520959,0.32219574143619067,0.33091371942621239,0.49308804967695841,0.68224289634777391,0.56342335815399802,0.1187103911302092,0.61711928596649646,0.64475047238973004,1.8862727208539209E-2,6.4290610961189931E-2,0.42105991401079146,4.6194337748808323E-3,0.88583899660638865,0.34587952236329422,0.59976487474493334,0.56342782120837986,0.85607976335775515,0.37977358791440718,0.29537444330897167,7.1314784129593467E-2,0.895711463516492,0.31087332319874994,0.76578605539720712,0.24583870107919203,0.71473066599911517,0.33005359208197604,0.38905780204253926,0.10729861455622314,0.22016387996558295,0.59786870002677495,0.33595461644774094,0.80600740453484221,0.71647630386010797,0.24363914499696859,0.22963562003946947,0.89456992582921147,0.99806033231021818,3.6713672747514026E-2,0.40586581353977458,0.39650819338114596,0.62083593559343608,0.76809069600009372,0.86391058837049195,0.83846833110605579,0.41827667909879906,0.97808409036894328,0.54885543257990232,0.16519861008804515,0.40940034368540579,0.96913937592243826,0.18535032346432445,0.53035374723241724,0.80985450099317635,0.13588843215630275,0.25366472287984032,0.95120262891056662,0.75224832655741802,0.25217632852154814,0.74037469975508752,0.87566879469870063,0.84211535108287283,0.7568072199533008,0.13766839382800322,0.56158485701503602,0.65364895946709645,0.61647038592682213,0.76745211828659754,0.67696246464056231,0.62916252570249187,0.10957276201946742,0.88336387600441757,0.43722018671281815,0.92535948482551733,0.32280205621646896,0.37780572441700977,0.80058849908292795,7.2208659068916825E-2,0.42601207768924787,0.95504493306452187,0.19773312837288792,0.38703025322285489,0.58345985792859612,0.26006282101545586,0.38370268636923033,0.35402977811721226,0.90584574049397659,0.60956084877477734,0.85326044993805683,0.15506705235012708,0.9823942571402613,0.11341194853407754,0.45142716835587204,0.23954604565213211,0.73166886431343836,0.98552528011106066,0.54113732374047108,0.94179663337647446,0.80247140659481542,0.57216397258911222,0.15709710867332483,0.82887127092735036,0.67489182732582209,0.37489744612871034,0.35404093898455258,0.53348830829049121,0.39025726543849015,0.31852555867757582,0.63195693461932034,0.89341412461231162,4.2546486744635681E-3,0.58332493894129689,0.9319784549843021,0.30295217029960841,0.98448907391098683,0.21906708986751078,0.74932087250108337,0.66374754022849658,0.26980686415546784,0.61900561481302241,0.65400923916892661,0.39906968342623383,5.3064856279734007E-2,0.67031185056077081,0.39863168020485829,0.25181620551141359,0.89883100475586619,0.74381542936516587,0.17039845986925839,0.9312274473479708,0.31006165726085022,0.74166006996707434,0.62842320760455472,0.1775232475762214,0.9529836780835611]
[0.85601756440655286,0.20518128410897174,0.5178313304351384,0.72881949276476055,0.60253047265709958,0.3855489274384154,0.50935797537312288,0.87125948839429324,0.61074877606476197,0.47062341463184532,0.34362934971939485,0.54690164565185195,0.48645019040237802,0.86497012785047922,0.16754589723539082,0.98082803446745814,0.46920696199632228,0.7813830864452298,0.97226285400401535,0.24040008222002252,9.2018051378836785E-2,0.76970745937165475,0.75993348209079858,0.64046724934560484,0.88810010438045806,0.8014503394471334,0.88381806167987131,3.8774200566447314E-2,0.66201796218631548,6.2185956419022248E-2,0.83204457311354174,0.91111405953288105,0.72615698799223316,0.23614659418869255,0.70663386433600406,0.42055170149983268,0.27236233615345007,0.55967651206617075,0.23135606122701402,0.80055075182258062,0.57858309777268424,0.91139777668279864,0.48344490379944194,0.48531842226945276,0.82950374459002518,1.644235888318657E-2,0.43026830006152594,1.1830253716049843E-2,0.61498630310226643,0.50029753846251823,0.5673588480512326,3.0166996871299867E-2,0.41195029650923731,0.27081723337842523,0.33030127326708592,0.62276633686262062,0.21194936564391509,0.19125166475922495,0.4195542832053184,0.94929796935106547,0.99801955003283882,0.67851561821360995,1.18941465539113E-3,0.26330367705265323,0.32707325415734434,0.72661099758817649,0.38425547865883491,0.55257441656950901,0.61475668245266246,0.44181237438874432,0.51210680762530381,0.73315544769160823,0.80629204489397677,0.16629764044823492,0.86393040330583049,0.7221741417280243,0.3579411977844057,0.84748846113804266,0.46282642969123367,0.39098302819067199,0.63937917338310579,0.42176873203854193,0.48595792424238626,0.25711899265653382,1.1990955629438749E-2,0.19648103537861117,0.85227902749887374,0.36737189100271095,0.44850161537375133,0.96274634609816301,0.5844944356333418,6.7454856382448192E-2,0.11576658888418712,0.96507189127910975,0.23355045595088375,0.80045536793852601,0.59119803476750687,0.8711947509471748,0.44820514597232308,0.80899705053035575,0.11649370675579551,0.1734969811678575,0.55864405507284298,0.10593119037356069,0.93039732058093427,0.99102804624222152,0.41384939934522824,0.85123269806953838,0.89306032927867629,0.84629171690972194,0.89277635541999723,0.35524845467396471,0.75197329851568995,0.30331038671020449,0.74391545581001817,0.52038079551178218,0.44230039657091269,0.76695164019956663,0.19274583787811506,0.8249611911667154,0.65632566123457281,0.8210359084848331,0.54136081778736955,0.9566095609178682,0.33523536877133953,3.3200200813063518E-2,0.38992293162543201,0.16820859505070052,0.19771523141020853,0.81455170538320443,5.3680286766435437E-3,0.90534298101512334,0.75547262859026187,0.1863159632500816,0.31152841195169478,0.57525198345396367,0.99962559056422218,0.11136979896993016,0.69330131628248992,0.8112454426669935,0.60338229476590177,0.86762365036331457,0.82479436250297811,0.25992451754735835,0.11967554553777382,0.9737663966510689,0.67420549242936878,0.231487892121223,0.78712943385842404,0.90165907299850911,0.23844852795884797,0.66149051190913255,0.16849092036568791,0.31223306898125824,0.20624449929294941,0.90990843648177488,0.21151165030975827,6.3029801753559433E-2,2.8202844762331147E-2,0.21174185928268474,0.96370859405097598,0.24389007909167859,0.46760038758434841,0.80084564885572285,0.72329776469205131,0.60085665638054708,0.9525703716504198,0.96991429991005251,0.23322328944644,0.12728790457608807,5.3003577338790242E-2,0.39335210444721491,7.3800939276371103E-2,0.54810995070822144,0.97848619555330274,0.33858096829696571,0.57233088068567284,0.16580288965740297,8.0167572864933923E-2,0.10539068982875599,0.98988859319906275,0.28048724052067875,0.69939843266097712,0.67416850142065099,0.60115522481266914,0.59287962127980753,0.94293705172864684,0.7703288510128089,0.71369598368293807,0.41740121395599405,0.10538653365436323,0.95536050502999681,0.56282111527430856,0.40891858265036951,6.1883739262134974E-2,0.31308092942483345,0.85090059312765376,0.14541146199964516,0.54900895863875299,0.89163575160112385]
[0.98116874544028021,5.9896548931489324E-2,0.83412544795096444,0.78701519856783964,0.34505022659725348,4.7409794480422707E-2,0.6028183414237942,0.36841758929020252,0.58397962209965493,5.5788758149991624E-3,0.86027393207698744,0.67218378569521775,0.30169404732078342,0.6590616577536571,0.1915390559476926,0.33526922969724504,1.5743166488744187E-2,0.58459886752079104,0.82746857559317777,0.19272737843354915,0.5476079453993955,0.96190098644893729,7.3968912352941896E-2,8.4299486487608655E-2,0.81444907245151132,0.27538742695597296,0.42696904330961094,0.38012684086829718,0.90306471196034355,0.16344454471676839,0.37759520319669782,0.45789661623911893,0.11660495663152048,0.26290210029286776,0.62503600962136185,0.50848664267901,0.82036967192585863,7.0604048872627057E-2,0.2051914647730676,0.17637241260560366,0.15232891483842848,0.85892273707245481,0.19041316468943126,0.47167020542641325,0.98342700036028086,0.67869762373869791,0.41368569943591027,2.4133724224844055E-2,7.3123702165654003E-2,0.35840046599136033,0.87433172756197552,0.1451044566723686,0.57482862173206439,0.62092422193305341,0.67619101036236884,0.84434692963268831,0.61453192670851764,0.36859157498628903,0.32017433738660461,0.43638136845091502,0.62386963011102281,0.67597367924375862,0.34316148256156676,0.14129517821167903,0.60616126237657875,0.54831143974756136,0.28374088464552283,0.7016109274543324,0.26082243236766611,9.543525060328828E-2,0.17632601393270231,2.5912756175323626E-2,0.64708860752489572,0.64270446757347799,0.44535855724180196,0.19216955179337936,0.7506098156518064,0.15251319337062041,8.4784884191151155E-2,0.66571589454583324,0.4819150832014556,0.18668994703895214,0.4469972460897722,0.15880425633232287,0.16403336431066684,0.24910004611405545,0.42575879644187054,0.40396702086623437,0.43967115394553635,0.20375132353098457,0.56627930145264405,0.25032218561614072,0.29493097868459572,0.16303861913972351,0.89279513615095918,0.93681734861592214,0.57661800990047585,0.16338989939955906,0.91560323551537415,0.70297601366105544,0.68576455736791964,0.89476745499583865,0.23640710109930618,2.8068800011965545E-2,0.7648691800130295,0.24163630143474302,0.17235176105213645,0.37946469916378456,0.3490710844085434,4.2356549013353173E-2,0.26788683381171841,0.65047828006671415,0.23955812994215508,0.38913650023764568,0.60898464071711511,0.54700995373466199,0.14784761537475821,0.96604005989187269,0.87974073426793875,0.97433225985529071,0.92390703380471328,0.66875527012069458,0.58671344544909743,0.46953978945400743,0.18494285788987119,7.799344486894455E-2,0.55116215559428727,0.61828590217073942,0.5401080611141269,8.1769810511386654E-2,0.77280798212146284,0.57008715965107271,0.15656309195570162,0.40850955689539603,0.96932381427552727,0.83349981977021259,0.77103869918079648,0.58168594787876304,7.2680905519001637E-2,0.7029535489568004,0.5328664343809878,0.45548511927404522,0.1732772221764064,0.53289655797549207,0.79386952368731023,0.22530280720803497,0.5043671534756986,0.15672636231582726,0.6644338560919697,0.2183306923386108,0.62807566196829778,0.71862965978582904,0.18499698231484973,0.47658398353193876,0.95560679279984706,4.3122727574902542E-2,0.66551369266355442,0.890565284498259,0.54648838826729429,0.18905646639416729,0.92882768593577314,0.36146063029008468,0.3716347870832003,0.31223000927559563,0.10061300884915114,0.52374489144397296,0.98187662020040345,0.64433819069550158,0.3319223409372456,0.91838259821980928,0.98848329336419249,0.23161937988795167,0.72593093377424833,0.69145404680949429,0.78563832323943883,0.5262301326780997,0.29815257335124046,0.48792905454474811,0.70541066433474242,0.59280238089344783,5.6182638750624347E-2,0.23935004499463641,0.34012394721474826,0.90850749407490872,0.66343012625270115,0.48057090441084782,0.66233591873637421,0.62348067413774177,0.11517443610662037,0.23101004800507008,0.17597524000723375,0.80534517648137216,0.40431870525022529,0.70970532925547081,0.93987480352950825,0.49949716975432523,0.18632407583691735,0.54402961625483071,0.93740608410793391,0.81510811519071347]
[0.98106863062580441,4.7737251757870802E-2,0.91160167040257123,0.24366675520324732,0.37861462415421709,6.071590952484196E-2,0.97924722726703672,0.78529087037326362,0.82572545277598397,0.77986779292278208,0.8601419025197744,0.18922989126689571,0.3639689572137611,0.57114811664409126,0.72035240022883196,0.13118892472783272,0.15796459887506442,0.42196569543578444,0.14757670155685643,0.15794419189668463,0.88241361914147209,0.87749866637585838,0.26855144182929613,0.12574416705376945,0.61974675866486983,0.52841976838357252,0.81344868795236103,0.16079262622048907,0.40767650182646409,0.58420774220765104,0.32848811243915099,0.77634760827431792,0.88107725605101705,0.43405702725450168,0.38083840851703588,0.27135517139154552,0.48629987189646273,0.32372389500455867,0.68727256482897847,0.81763314506260243,0.37301563227460477,0.8784670108273267,0.89086674077863781,0.66008977529244717,0.58618189345719096,0.84875638250881202,7.2992970674469526E-2,0.74204100380086835,0.78602859876653064,0.77500848896509367,0.2073036085653589,0.52899891270784372,0.18811705596482375,0.23133520989093459,9.5395310385106957E-2,0.49907150154846569,0.77243208848070632,0.91331639850740709,0.37345466681651041,0.51949613324285293,0.21001426714957361,0.75104148063185183,0.17273956374177823,0.29934651629977571,0.5906357976323261,0.44199390103006775,0.98939885460543786,0.38860755976473227,0.94177699291331285,0.51129431862062347,0.73946348122958927,0.35125100301438217,0.23364865317079719,1.3141178812720367E-2,1.8073919315095832E-2,0.57213488375001131,0.11857992938366879,0.705155320355069,5.743569960901973E-3,9.3338286730901165E-2,0.67192816636440333,0.39723328839219496,0.6933273723894845,0.88672910004814054,0.66232014298032227,0.93837120373725835,0.15755466950717023,0.48125157956592346,0.35717575207258467,0.98654674768978934,0.13712968409718573,0.30574759527228257,0.51517637197521449,0.32502627384549432,0.10101679569050892,0.59692011039625148,0.26520611375229464,0.5831476493937876,0.88376044250276109,0.96407956643185555,5.6607064337323432E-2,0.78763035795790137,0.40728057795710348,0.70828659975042541,0.37815931198984132,0.68909727603978665,0.68803010859726643,4.7624992217725204E-2,0.48730676381323801,0.97308796523377483,0.79147697385014848,1.4120472970763354E-3,0.77791284280178419,0.68569788842247759,0.92381259872184873,0.89853902906757688,0.54646352145337229,0.42660554595363509,0.39738976484547184,4.1829505804289124E-2,0.77342609212824387,0.34128854764271577,0.20290230807362319,0.4410117518000497,0.37931500896484949,0.65302417748571606,0.19885411231875849,0.33520833133590855,0.36969932686549989,0.43139761998334647,0.69407604060099182,0.15149085831405584,4.0372208236367668E-2,4.5941955251128985E-2,6.5588732862906785E-2,0.85980580628115721,0.79644269247636368,0.56111449543501513,0.52805934406707089,6.3004691247087741E-2,0.79897325203760827,0.32011054956202389,0.30417075724437326,0.35559391704979726,0.42736200977367722,0.92459385757971013,0.6369937290746287,0.44500293183333817,0.97257426514571932,0.2622207627930625,0.22775198323412882,0.51859392592566667,0.81741346170245011,0.20351863985523544,0.95753069540680291,0.84688049967752499,0.61607169979883736,0.41952439265960972,0.20260898791053572,0.92666291971592873,0.39816190421613473,0.97876361636890064,8.8135617982346259E-2,0.59531144099566335,4.4149850399754276E-2,0.29953619636432549,0.69357825621170588,0.30597233333588969,0.47300013114631512,0.12514802550364579,0.43321916034603014,0.47780934971169819,0.68052874632985516,0.24439390953340923,0.87815825466641428,0.30262287959704526,0.52427431216154408,0.14445702058661469,0.10421495151640303,0.14225194186617152,0.13449649196681013,0.81119045873618634,0.76633966263347952,0.12379331477966538,0.36967592631489488,0.57241525378006086,1.824771153843463E-2,0.93659654357855815,0.60037374341318972,0.6296476060613776,6.1665637193646816E-2,9.3912449427603573E-2,0.84651517690203792,0.59503870052697616,0.6600575932365853,0.91697823755547847,0.43159096838853273,0.61299452221280515,0.13170628139008644,0.84169412632699558]
[0.31960754614349307,0.71418325253528436,0.15874408013020092,0.30838953837544258,0.59642022563858355,0.92141382950024819,0.66503794508810277,0.75863959915333656,0.11790006694921984,0.71343539543239642,0.7288219227471352,0.91304083385002732,0.86964513792019948,0.92174316724874983,0.19694101681766696,8.870457279204369E-2,0.34703781902488939,0.21648002243862019,0.94580373519815431,0.69065204440335148,0.45377677747390666,9.5305974440387575E-2,0.65521171889711904,0.50726487612682658,0.81147295831059629,0.20504091720014672,3.1479661273045134E-2,0.56368638346888078,0.85019516184769695,0.747182548864466,0.21826543336644377,0.24239775701576349,3.5924063492104197E-2,0.79008788754596571,0.94980685860577363,0.62693632585141079,9.0108602755712863E-2,8.8626594466391095E-2,0.18246172683294049,0.76167567377384071,0.43835206393162296,0.32223605166836367,0.61461487818179417,0.12448195063118506,0.55698687348740972,0.40340274826279454,0.7508774246517067,0.54266756483410272,0.66866432912353313,0.54001695033524555,0.6634893303252738,0.48748300320119065,0.75947392673933511,0.96503848815868143,0.74867440593069945,0.40977491723320825,0.77749390977403121,0.4828156534468443,0.44360220292111785,4.2298321325084931E-4,0.72957002748887601,0.10086629871070696,0.41038367717516833,0.28641381585579162,0.12769133036826141,0.55900500470331105,0.32822249204605847,0.40396318648041207,0.42968596914965718,0.95894533399068738,0.89759682145600939,0.1603792133773646,0.52515623687182877,0.56020419837642077,0.11565334811236949,0.22529910404153741,0.52533441568049755,0.98888633306068585,0.25172735305947114,0.27884344248373416,0.3384034408312685,0.75829007499367262,0.33800875290102439,0.88174813942782848,0.39558443934040255,0.86667521245833867,0.23517749556837453,0.9649482559528606,0.63856103289381527,0.3730316921799095,0.42350811741144923,0.33357184692892805,0.81150790963275499,0.29450371792684138,0.89425263570986213,0.54071206061725807,0.89804632452674593,5.3218350449799057E-2,0.87356451724756623,0.4427194039147897,0.81869970472451159,2.8976822958095561E-3,0.75247382566371368,0.63014051844554098,0.78131378603413559,0.91835340625651107,0.98114520113397474,0.57529724101269386,0.17066020545592686,0.52530464639943131,0.19677503582642786,0.26704807997686597,0.29920796962350971,0.21136534568086618,0.37172332658525964,0.51403880703851579,0.8321135917392124,0.6052683700437157,0.14904831836548182,0.28086085476713596,0.26103129500554645,0.46513525135330014,0.59289312980628628,4.0156287996159112E-2,0.77225022968443358,0.54665844514276518,0.72904306380246287,0.64199064680003592,0.89780506007303706,0.22011226496929104,0.66649212913204059,2.1726878527820515E-2,0.90943117426141429,0.61565627427285052,0.70653609073561119,0.73680664370331905,0.86519406566972878,0.16136964219071137,0.89350960412199387,0.12767477397609406,0.94878729234692871,0.21723843126467302,0.18639415938504689,0.57480862229115492,0.8876047898699847,0.12761922726632446,0.93845290361954536,0.31897971792358448,0.33926611875618251,0.35370102166861839,0.89160139765481183,0.93275147088114463,0.70929869603692042,0.50157039875770315,0.73494600736180049,0.80896631430143162,0.78361563207985807,0.57148030800407101,0.27433144590534986,0.56664041874049431,0.98690802199032379,0.74563832486129422,0.79364662887025483,0.62068039685917498,0.15263180091335937,0.81595538771127707,0.32345612749078734,0.79025578397254581,0.26897021011916533,0.88192177949176132,0.20217614473641443,0.5123797131899861,0.92627271242570608,0.69579025250097604,0.91320049696494654,7.7794873242993501E-2,0.15976147062845125,0.46473067459112027,0.68244310020575638,0.28120922256844183,0.85297945407116849,0.20152801864486669,0.10098002709181453,0.49360947939311828,0.14812380584502949,0.22442134444440687,0.69968055624911385,0.61228308138760068,0.61082192825153125,0.34007104133033783,0.15868773281433701,0.29380582693005297,0.92606956153021946,0.49370009421644612,0.39875829745423841,0.26976456149266104,0.26779475714176526,0.98758823585612421,0.39987512602590924,0.8010666810203152]
[0.63077330617035587,0.36635429391730812,0.3870737274989513,0.21024371006010067,0.56331616974213139,0.42009143652006964,7.8586740476924932E-2,0.88889190478093993,8.2718268560660668E-2,0.63917611097748861,0.34194551405124918,0.22990830338718382,0.16900914100687481,0.39627623922950872,0.80893045522357965,0.10325121809219018,0.65506837623374758,0.67979515942109081,0.85142968538257224,0.58540375743738848,0.74867248215065907,0.55248410973204354,0.1137033874824469,0.49814009674849768,0.58878341252980315,0.52486579248166432,0.42078203468211095,3.82413767060511E-2,0.22830293156711301,4.9834370241179649E-2,0.57246086984213462,0.23086475493119518,9.4316394824894512E-2,0.12231763422063024,0.19308658535861833,0.49330442759740645,0.86107787533897417,0.11887718020500537,0.17359516512655981,0.66333438851276627,0.63832650102538224,0.71647223422546225,0.16399646412134083,0.11955165916467725,0.34929357378375636,0.47472650992896337,0.73726760742215192,0.21166788048365259,0.23380040634893051,0.26714941436852202,0.43156069961102284,0.9966027017473319,0.99320780377800266,0.88973990327297481,0.88558118911564787,0.49143537558217998,4.4677306670304895E-2,0.24025338614662262,0.91867900982185591,0.9342479958322365,0.84155770713680589,0.42465249792907966,0.82690553419249913,0.13331521462711959,0.88725095933360498,0.31904641088208163,0.48344091937485545,0.23722466436097767,0.97711107439301448,0.24552943226242785,0.78582422001611374,0.75061030624689618,0.93447540574021426,0.3523105740881477,0.12895727464135176,0.80289346787808102,0.58777999629522437,0.87040982224719321,0.59413672340080836,0.37980247905795173,0.41847574020584122,0.61524026575745183,6.1389177526857686E-2,0.27919535957513397,0.49947128079490211,0.81434036574968605,0.2939707141875807,0.43785155793443209,0.13268447651457971,0.51778752044418141,0.3018560572101977,0.5466984726321672,0.44029407861336145,0.62016318364937773,0.65796300635469773,0.95123157231935229,0.70030871350795376,0.83488662920405887,0.99776691106123527,0.523859523091879,0.72780542984455932,0.75499893041035226,0.77000466647906884,6.9116140578642016E-2,0.64986940129553028,0.3347943350266388,7.8879997956656789E-2,0.94048752890551124,0.56251540762288887,0.99155548311667807,0.54941618364919387,0.22698237358491524,0.20415717849582082,0.19933597453222984,0.64257417713331522,0.73398304158473737,0.85539496036454921,0.73422952203666481,0.22453655025388863,0.90764958271330609,0.79901289550312504,0.13310251158940412,0.91432220170784728,0.25442175735218131,0.37095200646102977,0.94021818374233945,0.98099690675230367,0.53978995384605488,0.50369630714967839,0.30882179253441722,0.82777859885035587,0.87155540939637466,0.36788613092558486,0.55229914134674618,0.44536835061965352,0.98221292210311406,0.71085068581593458,0.88597259663281958,0.97856362236124439,0.73224888222068329,0.18833248211659259,0.20476488436112228,0.72134958761783841,0.89179422412204856,6.3611263668035045E-2,0.34359681754711302,0.65638609737378006,0.11354027223483998,0.25240460983340229,0.82362431032769079,0.75870143511232047,0.48495120773151823,0.15934779154095347,0.12608544089415985,0.33610845476954243,0.81623827974471153,0.11244925924165228,0.25550497258908755,0.51491978537305383,0.4054756999503637,0.63432464069972705,0.83858217067937524,0.44369505209615823,4.0348066437769781E-2,0.27951188720801068,0.66551985217217269,0.79973639248639095,0.10441728667603389,0.15148412625284169,9.2999561751521687E-2,0.29159459698361467,8.7368231286977571E-2,0.22428563363537002,0.45236615896150378,0.58018798276259986,0.75829403894474057,0.7587416412348903,0.48990534809201025,0.98106487088975936,4.1501463087659785E-2,0.10127768273447935,0.90769201747314887,0.96849039034501705,0.59887252203733388,0.11942477544603791,0.61933195993397561,0.30849054783580165,0.81697727720029933,0.41770582006424917,0.808621467963622,0.18221620113449599,0.11328418429376264,0.68499193215699605,0.74161934804532259,0.56467785195143472,0.56855506154606972,6.3272735907439981E-2,5.912471976264555E-2,0.22605616246760585,0.71588870134135685]
[6.4468180218122728E-2,0.49046498647288428,0.36614992620385178,0.8144725652056638,0.93050011582503644,0.84290779868438748,0.26401263498698413,0.40206310636823295,0.35034369825280653,0.45606507987187628,0.84199221872927321,7.8290885237925933E-2,0.72674091661466678,0.5182908695756091,0.40028041596530983,0.49133328961806211,0.71422396998948579,0.42890404111272462,0.54898898644223615,2.5436197867228061E-2,0.67717531132089492,1.0220215092425433E-2,0.55929537158186493,9.7144640312330943E-2,0.38844928878685081,0.53140845633260003,0.78492329936252081,0.7834483938770429,0.14664859128659835,0.88259999997579697,0.82367482082272414,0.64359580233934466,0.66246097151904881,5.5749965601268103E-2,0.14953640445677752,0.26944987245423258,5.3115488553549639E-2,0.9857501170662164,0.6607242050880604,0.19856489733350424,0.11672044580038687,0.9993596121782371,0.21460715053440593,0.82909806817731369,0.77796175593613481,0.69009799345983858,6.571498260107278E-3,0.13201839014267625,0.25684515522159157,0.10077053597219465,0.93064311457829829,0.96635418239276782,3.1977517491818652E-2,0.19077473883038443,0.73093087080818908,0.47060244554289177,0.51784121760780588,0.60595382015144883,0.39754310018268424,0.46943757240146933,0.54321668281534718,0.39573808284545964,0.80270402333973279,0.48874660037195983,1.1270420057890362E-2,0.10011488488105014,0.13024736660600789,0.18840962104610526,0.57093265613524369,0.71590402339171144,0.88572048744018539,0.40003856617267441,0.41222241635912282,5.0330809128161791E-2,0.45959755131895896,0.53131653479239649,0.81282269270395369,0.36225095794801132,0.25776876533345472,0.95945015731439975,0.92808236697325397,0.66090705787519433,0.83695973070322427,0.39987789687501063,0.84141517639180508,0.15608542116171031,0.34944278809279838,0.3473015941090698,0.71766249633846879,0.57327975961650257,0.36206836178205359,0.52427185666247278,0.92326553257996991,6.7440243866385141E-2,7.9392152661179605E-2,0.82435544553319873,0.55749072727971805,0.86668800351880171,0.3077583903236355,0.34219249351812453,0.24520716912273588,0.95122783346939377,0.50734034330494682,0.51772828089630463,0.85041000135962141,0.19690334655451736,0.57603230235828284,0.42332199238636603,0.88806915739037695,0.13208547902112155,0.51290554836288693,0.27609784145746374,0.7529529807145624,0.55279623050001114,0.52322542029743135,0.23782093345511013,0.50779509334691608,0.74988458049815843,0.50138041500981012,0.11403956004732796,0.45991853997343157,0.14409995316286894,0.19768364910749525,0.74325237887772189,0.2660873832153573,0.38850594919626036,0.21984680439781623,0.27285422714659269,5.3647584365050127E-2,0.23565197294598272,0.87254941660113694,0.25470945069867568,0.25420027078273311,0.24194541301664962,0.94228725933763968,0.69102553120015286,0.69629382434395537,0.41708600331119883,0.59687598729361435,3.8843432612956197E-2,0.44845498518251459,0.82011333468346859,0.25055535678027407,0.3862688904838949,0.1491813219081165,0.32393677806560917,0.46734795186050293,0.61301328880107042,0.16066008779805463,0.16172123642880287,1.9994066670615873E-2,0.97193292636034589,0.99012812341641832,7.1316575370521385E-2,0.76287774569119282,0.52623960333334141,0.53128997633474728,0.1726970725142748,0.62754639317023397,0.65169321127026303,0.7452537561688255,8.4545259095169079E-2,0.46664610669906637,0.92323313977377641,0.83129639749696571,4.3793232795301673E-3,0.43134185879451359,0.37572577542640695,0.78838289391128979,0.15538738570125854,6.9404574007211783E-2,0.22910570674500264,4.5887777515518646E-2,0.54925910796922017,0.99692204021721986,0.59232531105695652,0.4330597382261997,0.92531556173219787,0.405380319968349,0.12849098630640687,6.5476286009842233E-2,0.48153897206239571,0.4738099539663212,0.78569402238710462,0.22401551891129778,0.44694756466504093,9.7204144200669806E-2,0.69163388171562801,0.93584937869458296,0.23506761266060272,0.71492470077262926,7.7586862571750959E-2,0.17861553234375749,2.0352707114727031E-2,0.62584942398195686,0.18212539462125255,0.91423686831225404,0.78338491607809624,1.8755577436242121E-2,0.98945088594474406]
[0.98696660591726715,0.36288943873130775,0.95915810450367989,0.79270709192103816,0.98889374639550798,0.29334140512730944,0.29549773881558838,0.21757238493969944,0.50831533688933472,0.18186431731411468,0.25964750848170981,0.12234726725003975,5.2998642732259293E-2,0.95533098350984746,0.41695650293924402,0.94839118827548508,0.42267692209826557,0.81210675339985605,0.92650862339684215,0.74722979079910512,0.98605696764523099,0.1011863876967698,0.2941680493412101,0.80921344878957657,4.8754840992303539E-2,0.22493189897773613,0.76790089180658472,0.97043074581846112,8.2079493049369789E-2,0.56452438745594891,0.59437259256431385,0.23406189497171759,0.44859388502213204,0.93851616206099808,0.38510913791676737,2.3652655508260567E-2,0.48533305418488915,0.44475239170092429,0.90505604465677691,0.17832558706098889,0.54573330366158423,0.6114899118081063,0.50793521119966489,6.2890161871028138E-2,0.27102699675049857,0.48737823952599513,0.71715540703264957,0.61201757646398602,0.53343119778536541,8.6315863843390073E-2,6.5268654738100729E-2,0.43736829952225864,2.7237867156488682E-2,0.41392562276046652,0.22066639279414069,0.72525038518946428,0.80233035569178635,0.11269384462164644,8.1568337066557195E-2,0.21542460688819842,0.18189041682203444,1.1910815382191742E-2,0.42264608693931782,0.14341540865803848,0.75596835825632713,0.3180640252051351,0.10655030954699163,0.80100147111520814,0.96365899662893173,0.16309851376381257,0.41715802249979306,0.11055159642312506,0.20579436867353706,0.61129958903575732,0.91239887243820939,0.43370362127692874,0.31135000563210569,0.93725070486644324,0.53450930619334447,0.1685647725270436,0.46908421792075861,0.85783512791694327,0.56307407411046562,0.42406896759241552,0.15782364554232009,0.67032884611999055,0.27846846346946752,0.62394068769688904,0.27969469264915137,0.9789252857328643,0.8573251469552825,0.1219152436181955,0.92669072887232595,0.44571055413822958,0.78407007160738074,0.50316418023258525,0.76001232064029844,0.90988859821058332,0.38041130375605103,0.80299216006352381,0.35228586384458638,0.75816484974169007,0.46283085797548928,0.73900527640677294,0.68859934803956979,0.78638531392672339,0.38022711435682521,0.84860142735491151,0.78662537549046774,0.86019001110119508,0.73948945038230507,0.98646855486478935,3.31774571839063E-2,0.88100852174800737,3.7110413212664617E-2,0.1645639393724927,1.4562021793746327E-2,0.66590642205017336,0.76213378041645718,0.65250984875252238,9.2090606829090982E-2,0.83959352620360095,0.13921175249384465,0.62279149231541597,0.66149504926215918,0.80627048989514938,0.30152427763193246,0.30019235206387007,0.87227412452665165,0.64846451842433206,0.28175194205698884,0.60962573423126842,0.80964651389136055,0.82305993568913827,0.93212202483430828,0.68964693407211675,0.42947787560956907,0.39066156230155713,0.73227220115838432,0.35633528699175188,0.1642895950490415,0.84237202189917926,0.66918243228070429,0.2412267410449731,0.3504023477728907,0.14261881167223345,0.7247984214740596,0.69722927787354427,0.14097970661038761,0.38912864179783679,4.1408800444803884E-2,0.87334168037035098,1.2562347640010518E-4,0.64262683197162396,0.6765651408611002,1.2036730051019351E-3,0.83454635481035888,0.98187563742420325,0.90891607581984513,0.27346391930016201,4.0831313235481059E-2,0.28842307115725152,0.34774792680560074,6.2920782157877664E-2,0.6687609242731668,0.26235509420274883,0.45920392079636818,0.32042414081524528,0.83643756603899122,0.35021976718539294,0.41856651238479792,6.8082396703231796E-2,0.22733214615619601,0.5955202316482584,0.64778051318461338,0.6133655101068195,0.83163629478918843,0.76882594846328789,0.19893328580795988,0.23148437512546194,0.29947772701608621,2.881013629255269E-2,0.31332795016134818,0.4694422097646147,0.45475350822130334,0.13180240864104642,0.12560708825660505,0.72480964853550711,0.14329319550496777,0.44158614131911522,0.32039632241031757,0.43097614639059312,0.2910284827439038,0.23593486210658032,0.44164191038849199,0.26320599591488625,0.54159570442051941,3.6192725215991595E-2,0.93283773092740896,0.43050979190767646]
[0.48149474209715415,0.21837662033047123,0.77366324807378661,0.95469051278190198,0.45703087497293249,9.4544174875563325E-2,0.43293415083712317,0.64399451336958824,0.22011050294305812,0.68794412640308567,0.80294238928008677,0.42594711235950311,0.40419271207151741,0.49821774026759702,0.88403489293805415,0.22802978345748615,0.50290024613071616,0.99094737969491609,0.39147466463440317,3.4894358968336148E-2,0.10545043466820536,0.13747008442588071,0.57266498567535418,0.28817576834384051,0.43404650737008388,0.66651270060325318,0.4076471785658301,0.82048903539464957,0.82816453839641357,0.43275737452082375,0.61495734019354187,0.82903262267358391,0.6115403255475591,1.9874585644478304E-2,0.17819543092179613,0.53200569831464961,0.32465901392888474,0.22213621604625788,0.70245936875289872,0.52152416441025962,0.73544152223510206,0.16325318664860378,0.8140500396978273,0.38268688140188301,0.34960622902182559,0.23278796680565528,0.89876539404437616,0.91828408181621812,0.66265997760916762,0.5391376181167914,0.67556230662088557,0.71165569810433327,0.67655343659963896,0.27411136350465126,0.12977709566833318,0.51588015477777482,0.76269880409974267,0.30535703930844549,0.42240203687509992,0.85610798082853501,0.43088995621292336,0.33218659959174668,3.7018710867162352E-2,0.27869170523930153,0.59410744845679897,0.34386334988995637,0.19228688130512139,0.84510327641428229,0.78772471323007587,0.44209383691054827,0.63132265057044756,0.94619843107910884,0.4874716296896171,0.71925264637928032,0.51123000749138447,0.60468127454038612,0.22939713278434359,0.29784791690587886,0.27760236177449082,0.34434350402836211,0.20914619830026626,0.40292124242461325,0.15992878963652069,0.14310444975477732,0.91321683181148106,0.70876598703766502,4.695225378546608E-3,0.51488541820587519,0.55791239247452629,0.27379137006936338,9.818655795233111E-2,0.77873432622240002,0.7806307041488032,0.68152131650256109,0.22595141331755142,0.40377785780534925,0.94930913211340151,0.73524182830765694,0.9544009752093594,0.66664791018952785,0.56658281249379772,0.46068592024651733,0.74642995856453065,1.6654017380774988E-3,0.60342367335994507,0.4173072803975274,0.34723619814565976,0.91917267133903791,0.6894189381140976,0.92242421195531565,0.25238215492495919,0.7231865741986192,0.44520080069477752,0.49721718741847498,0.52864335529659623,0.71277511457457621,0.29187758391353291,5.62166039419284E-2,0.29444378004616378,0.78378995614353875,0.13348654314917008,9.5153829291585446E-2,0.45513065862369106,0.30740069230190115,0.95003182386057072,0.97467637600321277,0.728796633763798,0.25089714125756002,2.1550929185938372E-2,0.25045042565926834,0.10950922627249737,0.7227943639718738,0.68374831410441572,0.40074020327914217,7.0838171769540437E-2,0.50521130224335165,0.44320127181735947,0.97038414642713455,0.34123357961937473,0.36773820952210667,0.99765651400805544,0.1855548118767133,0.14259110286129983,0.23212241332913019,0.91187870361456469,0.67829456609310157,0.24269830009531135,0.85609485894626769,0.93753447422189418,0.30895691093673983,7.7271960771558845E-3,0.17931494117848779,9.6028838608124278E-2,0.67765927121535074,0.34968909862156683,0.54052560724725118,0.38647429391979704,0.46101847036947274,0.20585879102403959,0.93680970569917432,0.26102618111633658,0.44168387235199247,0.9550803284406344,2.9203133690108851E-2,2.1112197489628115E-2,0.22049053271243868,0.65709164383764029,0.99266207032798626,0.7684024607709119,0.49554345993372151,0.30227912973706061,3.6336238049589964E-2,0.93326318051672574,0.46187449492443788,0.92774116912261051,0.32341166724749182,0.41441542520800978,0.43096719677222095,0.37904507557355438,0.99850281048557388,0.86161101160387366,0.25664290812493495,9.0130937768103436E-2,0.23244395244288996,0.57870130518140162,0.49173442220437513,0.97570497010870449,0.53842410385117012,0.57138413761664852,0.94179894155617039,0.52619234979674889,0.34116406736642479,0.71012395131352191,6.7865176347355227E-2,6.9966907364173436E-2,0.63983674353865361,0.41154664666411733,0.61309519372015631,0.53104859816363048,0.61362182663102272]
[0.97510353697377472,0.6316244457154121,0.83607486469126457,1.3111398870241153E-2,0.85391829493968952,0.83951916094119461,0.39830131817150938,0.99734589190099954,0.90193028786573881,0.16843342816232831,0.9183481338986611,0.3104764616597937,0.27330052619705059,0.48460060233086988,0.18573901329769826,0.81140793642528453,0.46872074369273653,0.300095407555519,0.50285961574969862,0.69646708309733574,0.32249386545463232,0.4919186905816374,0.801685964736365,0.69619169550141746,0.75339908496718044,0.1030293482055985,0.84000570556654075,0.70966858413801603,0.6034332452653558,0.56202008085200206,9.494020323487784E-2,0.99150064171698093,0.26497369572266272,0.77037717884160162,0.99334823110713899,0.89199652809877727,2.8688177182685459E-2,0.94264303719080955,0.38401473894268401,0.37302027358565193,0.33823967931302923,0.51483332622994094,0.82635190239698475,0.20239304968786276,0.31645394969926921,0.15396893506926268,0.10104024227306696,0.21161484941099451,0.771791939445302,0.72033448835657876,0.81077380076497263,4.3546703120307395E-3,0.87256932956558619,0.66350723955559343,7.7800375484910145E-2,0.59599097481795338,0.46720250765308491,0.72949887884740316,0.19546253684182524,0.4340723551077611,0.13513084304387124,8.0964378294193562E-2,0.96888797067459698,0.27626128851658305,0.89398714181102812,0.98741560149310514,0.64916643912416916,0.90105597677430949,0.17886773897674613,0.71761800376745599,0.65167019570469265,0.7612968131331237,0.18932564326566337,0.80528527911423564,0.26119589557611944,0.42973066473072541,0.69960878401390447,9.6662671048445836E-2,0.61856954940886544,0.14941143204668217,0.57372080148066917,0.85497270533975733,0.72824639462260066,0.56721983514438135,3.4050237905703273E-2,2.3481397109593849E-2,0.11462240297910276,0.15658261667453799,0.20901208765913182,0.47201391401687587,0.77460673351433573,0.93955968469556772,0.3344329784163852,4.6002032237433488E-2,0.91017488866721297,0.12802254177875827,0.68091064693857573,0.79973628758274529,0.19428658650779718,0.43811718352137285,0.71273983223569604,0.48129580491854285,0.24115570306386702,0.97561522672850165,0.50958116211743887,0.80333347926044596,0.80886803374933103,0.22842292160378097,0.10003795894254841,0.6342513671904374,0.55507491695236721,0.29333540107199474,0.67992817348839385,0.54240253254399284,0.35095359671456294,0.15073995754620628,0.12640043003988988,0.69432349146548222,9.2157708745358891E-2,0.21019547866261168,0.91888962725966117,0.21061425263784017,0.77474119525813101,0.43323236223512196,0.27532521303122348,0.91012386556283886,0.86914559589433693,6.7908341183101739E-2,0.24009847018022779,9.1607645599965482E-2,0.70067718609726859,0.26452903179564502,0.7638478151960566,0.84515515850668266,0.97193169612277086,0.74487067955425035,0.24297888347719354,0.40182839441128648,0.47608479869305464,0.54666791681522242,0.71278523948273453,0.99837042014483812,0.34927266316440719,0.77483896227832749,0.6929536849399317,0.93372447884621523,0.11080020947664238,0.24674664443901717,9.7329250221592445E-2,0.5233972560819089,0.30517520083196392,0.3087853620685187,3.3297325989640747E-2,0.1549011682812903,0.59610375004502858,0.32158735044414521,0.60429929733128673,0.76422213490071467,0.7341274703217715,0.8890444843500932,0.31680572349699909,0.54270230538843034,3.5197140824844708E-2,0.53042188303518656,0.10685757298305132,0.11244552458705703,0.21917098994426687,0.6549741050988529,0.79144725394955762,0.81771181878393029,0.51396524463731674,0.53585346922020549,0.43565775170793752,0.39386226373628963,0.80801882389520807,0.3978559133846763,0.56752500717344967,0.85726210240569511,0.70848501720045387,0.62698803441692685,0.2245921549123967,0.92769281141705828,0.57396711455577354,0.3455485299196881,0.21066920954151946,0.95324259689391266,0.61286544572665547,0.61553581538271873,0.21142493501751203,0.30687751531449936,0.52895484538497173,3.3761260870045828E-2,0.4439175665338696,0.44885192035388011,0.66232706101989225,0.32174435809973168,0.96770383848046027,0.87327806781417305,0.71400829253839859,0.29307287550446537]
[0.42359590906491784,0.65788132115725617,0.90906790299720763,0.5456995921159834,0.34751335116011128,0.64827710466259192,0.21807635660128177,0.24855639834572785,0.98923192515631575,3.7887635026589983E-3,5.7321054750943179E-2,0.74836804894761499,0.64161079467132387,0.37598678927521478,0.78544045792019257,0.17143206110473819,7.5169405351886764E-2,0.68239950023365303,8.2032160904881968E-2,0.14559753587583679,0.83628643297205163,0.49304446080003994,2.6775420031961872E-2,0.56631252918368458,0.20167327361199816,0.67717205313568796,0.82423056826828833,0.97943062431455608,0.46354262479053576,0.41262523461036449,0.10216344933050425,0.86292203141672186,0.10549120478653129,0.87659472819117468,0.73554175419230361,0.7277892406876485,7.0161944049712766E-2,0.38165519276895699,0.41004348042764238,8.8314336555594952E-2,0.49274564747499849,0.47559239875873704,0.61156456557708283,0.58442544022825393,0.86677113104656001,0.36151718625979479,0.84724080139520708,0.18439519757510758,0.50307881603419513,0.79073968064064781,0.6362070269773209,0.92137513453432818,0.8650695097043043,0.35171245153381769,0.61398538731028041,0.22600245194214963,0.50278852402987761,0.71912792802513581,0.80441065306652404,0.1488696175908768,0.18619898021846626,0.46620094163700909,3.1555722757273919E-2,0.1243210895190302,0.18939399644653299,0.92233723152482161,0.20034040493731609,0.16351090109123112,0.60633328380796458,0.82743817305632283,0.99980372302035037,0.1538159561318958,8.3756297929766799E-2,0.25454132976921773,0.91062934536512108,0.63594930167059571,0.19100516348724472,0.22204849662639348,0.10032768086570309,0.74583849386821777,0.74825097530879281,0.74661026729116686,0.82400792505100018,0.32450381975261566,2.4217388633911097E-2,0.69381146595575172,0.77861681154919238,0.3113825961293003,0.56093173280865594,0.16606501462651813,7.3172666843807743E-2,4.0621157006009656E-2,0.82420109574150902,0.61011140867463043,0.62410181201805071,0.3113339144486873,0.61888754161770343,0.58097009173055225,8.6097535195591823E-2,0.79031735172166262,0.3829621462008227,0.35792060423891314,0.63173251146142351,0.21587924169224793,0.33102336569337854,0.72601624912045237,0.67711386041660171,0.31034441876703311,0.48861977620703856,0.60923890676520231,0.66600259538657969,8.4610218428405326E-2,0.88657326186613816,0.74067335062604023,0.66535925041967836,7.9399604219751896E-2,0.11052663973307508,0.69621554369247607,6.1164598117298352E-2,1.0224756374967114E-2,2.3805712046492622E-2,0.23494676797387315,0.66892011825785691,0.91167622761248002,0.63796232903140859,0.7997877662743923,0.17285166187147027,0.77109697397570243,0.41334928332484921,0.81799736638060583,0.84035900661590879,0.51398396502850319,0.9523567423711522,0.36660881846115034,0.47506664625939599,3.4771189620170673E-2,0.29391389513580302,0.67501392728144749,0.96638047140059113,0.52828803072502795,4.4076648864511792E-2,6.313135140893178E-2,5.2402913025787812E-2,4.95397303936852E-2,0.80551696990140886,0.11765567875482263,6.1074327000770201E-2,1.493687863894877E-2,0.87567465771147102,0.25451305509201072,0.68698637586724298,0.48498162968578862,0.37641945047241465,0.20249469981567148,0.30000092091724773,0.2972243191288273,0.39425279255790346,0.97699870136396061,0.22326249886563343,0.73545550494459078,0.90492010279419088,0.71936717030135666,0.15893716804082592,0.39359072163799325,0.94280891200604733,4.5124531357080833E-2,0.38228070712603268,0.97672397116413578,0.12849676643513963,0.72889390974932977,5.5965019215114431E-2,0.1223378298704606,0.4917538993620244,0.98833748265646393,0.91082012259186329,0.25763815932422995,0.79984962770001045,0.32865035379538488,0.78313967596728051,0.19105233538458155,0.76373683725818609,0.87513853621005244,0.21375536537778028,0.2622618584797749,0.7291627228358406,0.49592239345812383,0.14317870572075619,0.88639659355999645,0.46713360545123894,0.41102114871848017,0.75100175935540381,0.63881528064676119,0.53897558103435239,0.3611917823472699,0.83582603471513206,0.72968328259563364,0.9202629690757792,0.16866707462778063,0.76887558975525772,0.76822892301789114]
[0.46973938004099014,0.50378992848641413,0.35536654271380352,0.11336158577819133,4.17786385460448E-2,0.92076842534619563,0.27693144654380331,0.85550756175780007,0.95542114102659892,0.8533781890643275,0.77661252896204425,0.82699014571640839,6.9193927521227216E-4,0.30557930122922405,0.95909473796868616,0.15497619939294283,0.13358377364330687,0.98325769119352979,0.66744182015511067,3.3648118961334239E-2,0.74132421403982651,0.34572693364909879,0.19377817100665251,0.65981619742760322,0.77834583594663731,0.92086534951637122,0.63262456012629409,0.52960701662611098,0.37942462988990577,0.47151316554468115,1.3153439722753624E-2,0.273652055401163,0.27861609789298758,4.9241693582833146E-2,3.0193855359247568E-2,0.77813011822212919,0.81337464572285223,0.84917207638709369,0.39629027563820174,0.86917559123879706,0.12697020776951928,0.73174064273984119,0.97423871591207511,0.99271901783696126,0.29609270208334604,0.39561902978148467,0.24148410445990776,0.59724392869465825,0.95395726642484757,0.60890117681245504,9.25449793002594E-2,0.1459626142582785,0.17242526085974352,0.67628988731941886,0.97535323059054335,1.9146613266352919E-2,0.34163622951260098,3.6764945463584331E-3,0.49199172977688899,0.58894895735590513,0.22402960819921369,0.54574037565676248,0.17600809903907488,0.26678840907730095,0.82614331125114693,0.95845472729301218,0.14006749507234018,0.23677776558286912,0.88709948958657503,0.22516589861880509,0.80187152219883207,0.19393339706869273,0.87725988732697402,0.33238640309338852,0.15202656267792747,0.87277166086847069,0.10077025625130942,0.46535096879860194,0.68038744905957627,0.68888003691764021,0.26819136308900271,0.6129384732098333,0.34367701036340481,0.39141627479275531,0.94987514325769984,0.51876573447846608,7.9189116284441141E-2,0.2892648547498895,0.91233554681706697,0.75533847841219526,0.13375965650866073,0.76943596523598734,0.55672463602472,0.54117010066899296,0.79226331017066132,0.40726603804920702,0.73841731890724704,0.9896849627463058,0.42909553524591537,0.99118517810691187,0.33370825901179246,0.58978404065507495,0.91384008498122427,0.65218447986752415,5.2375601198728305E-2,0.55110647725029571,0.94652941176697591,0.51146089755738733,0.82680476446413331,0.67202808046697304,0.37598162034294424,0.58923557652079495,0.42386694149626114,0.41815803647577665,0.35610749366208583,0.90493263920098077,5.6809840214400831E-2,0.16361426929206113,0.21528532791256294,0.79251977712689203,0.37718689126047011,0.22988701945361345,0.17172912134011509,0.97095196281391971,0.26574187799629179,0.42966162498467542,0.18814964899992348,0.35357425843811263,0.87097993708250843,8.9032513662831492E-2,0.87809072176302849,0.95163558996663511,0.2058922389902974,0.57700763108128161,9.9113883608028197E-2,0.66084917699465029,2.599687043109411E-2,0.39051451309491725,0.54983840527803829,0.16785216606311937,0.27423528218912396,0.42308886967687109,0.66497844839843678,0.55454833817994997,0.18098413529934709,0.39187884286570862,0.76192877900946621,0.19230222585101642,0.96331853844143023,0.40199907472453711,0.39881144705591187,0.12094126693238338,0.50456630765570465,0.42857058042686258,0.63442481270004125,0.71389874469535031,0.60093857685881225,0.74391590763447002,0.76266770192419786,0.15472878054649164,0.20887563469650183,0.34599397221622741,0.84411222141630937,0.39620350805198068,6.1470662875749094E-2,0.12065991180984093,7.5428485986526184E-3,0.91808656854313109,0.15011762203308976,0.94905653209355723,0.13715195637431343,0.22499138717717648,4.155574218296032E-2,3.0708452337680159E-2,6.5240789450475623E-2,0.94869683038407238,0.36786913534026511,0.32874326690069866,0.90472129495718567,0.7670716964979114,0.45368437131397299,0.14367392751913766,0.78631462527338547,0.91926179129627339,0.81846791928828821,0.87084073662012906,0.51536738483753075,0.52795084140452464,0.47534588294638647,0.74414968284407934,0.67972573072860687,0.62342005511403586,0.14664751221292416,0.8475383370223657,0.73290133632521892,0.50536541835754556,0.617117654979918,0.54078203556809346,1.6583092457556847E-2,1.3150110559781991E-3]
[0.60092400588574868,0.18249279086530723,0.37330878236705867,0.30840142887054922,0.31253015731864442,0.71328515820515037,0.44361094043924576,0.73518766220687537,0.57242890233563248,0.75915375825635512,4.9453055510197963E-3,0.79338449889364027,0.87425518354775422,0.16111472725421949,0.59971709117302263,0.76847373921361295,0.86656785306377526,0.21292967440943122,0.97438949666846875,0.52690207521557342,0.77650459937949712,0.6119951845638858,0.34712352951374259,0.25725996824732278,0.43864886009532811,0.58185881972493469,0.12946652271424053,0.25861600128449636,3.6713051474862812E-2,0.15681125065011325,0.49939164018431392,0.13495194152284862,0.87625433926032481,0.54729626641726981,0.91157749289389356,0.64848802971205555,0.18217042347144918,8.0808249298005563E-2,0.15482994610737399,0.52797446529300318,0.92726846268866092,0.19596613480170488,6.170779540154181E-2,0.64648068169782524,0.3678452373847706,0.83012886250902218,0.78752511629729716,0.19712034159123859,0.14242506702856716,0.57051287437641285,0.12660570813345617,0.83470489883830723,0.3744183585272165,0.36511391511692948,0.13999818983581169,0.40972003792766609,0.97885116653824311,0.31642492103762343,0.10172307448244866,0.66603640922427343,0.26347756334769634,0.17850525075488866,0.9750579711651487,0.3009470190971143,0.25238938677001022,0.26258743119105954,2.5414269448089111E-2,0.7083902186098453,0.42293884296703721,0.94416245170059876,0.57239905289801829,0.85618301881683745,0.85912017474409685,0.40759892998941671,0.20570777817334318,0.68440241186211492,0.7386536338029448,0.821340354657776,0.94198192068942688,0.69303662358429363,0.24870377987874837,0.36056507354705947,0.15633703603157822,0.50367555087456917,0.26515900863969344,0.25092403751652159,0.82896187748723749,0.18845413840000691,0.47197875688156943,0.11649721932810231,0.98530050217394727,0.35130908294509255,0.62435922257583876,0.57866247742611931,0.79328247564531984,0.82996544610982281,2.8426973825472102E-2,0.58935290657232964,0.14598746642283833,0.89207324845838487,0.14088666610540901,0.44908783283605591,0.7972794882396318,0.54571242240317741,1.7085578496712661E-2,0.95625011097235191,0.61185338790072707,0.65135538578581653,0.56662492377909091,0.64086981308909352,0.74081081291906103,0.65622517260944202,0.14433809561934985,0.36441422341006247,0.13426687191047948,0.49539420469386919,0.30054679563601017,0.33379313947179001,0.41315602620786851,0.17199744565649944,0.1536216418100792,0.5274378273336916,0.7231627686925084,0.76871649859217139,0.82677552374591035,0.66626875063800794,0.41606298435103473,0.78169266510592939,0.88696032536958669,0.17626069701939284,0.95755223513023813,0.91600747191500353,0.51946324783169817,0.82064404186493156,0.65311185573927788,0.52221034141401856,0.39722546341346376,0.68577195019241299,0.21106142156555718,0.43222032697863866,2.3864315247516754E-2,0.52991180717857145,0.88512672327081732,0.13963129305992306,0.25774960842914774,0.74008886422965514,0.93135686534328832,0.1184849641774226,6.8525731966048942E-2,0.61722085048179087,0.10605109816869651,0.45035640876899719,5.8972617236537794E-2,0.32964185786689981,0.91563347286326735,0.10358823365048497,0.37042847783040966,9.5695472068009768E-2,0.70899695646970329,0.49736434939413066,0.38285243120576684,0.85571091982024505,0.64667040797283237,0.40580267806887571,0.12896846645719684,3.3032312489466031E-2,0.24555287123736813,0.80187418397673116,5.5927606870705193E-2,0.64017044469807249,0.89190229166805213,0.88255489678036469,0.84850822887814403,0.59825150918116399,0.88974980833644579,0.6412539788976942,0.84428768286456002,0.37961404365399232,0.42160934888912593,8.4548752239340774E-2,0.85849509811244684,0.1967494606801985,4.2487549679674053E-2,1.0170685501792565E-2,0.99435017217510535,3.4298459897256883E-2,0.59109988289590132,0.71563005346529518,0.85558614640770292,0.12217551961196094,0.36547101840826268,0.98345263930075622,0.17571497970154937,0.32107907953350656,0.8988138357720743,0.79986179490217202,0.32719479462518053,0.7471197495445191,0.57990820957004452,0.3509646274159014]
[0.92067576222898906,0.59179958932640564,0.75339395836845446,0.67978743861275281,0.84134540324279627,0.48959024635018999,0.64783715568054934,2.6593429962336046E-2,0.38931820033987741,0.63402734603396882,0.78533067204534734,0.35310600896012456,0.96068770470638332,0.28829425375396767,0.32335416064177769,0.55834068929539926,0.19061905450471861,0.54693179526196045,0.90553683067013735,0.87921050528000655,0.82099582044597941,0.23959106003427943,0.81597704459066234,0.44731167589271226,0.57677037399544995,0.653081238123985,0.65342352844984508,0.90011153166310998,0.68471366279069845,0.80513036134699734,0.37050801322484761,0.27882907312662886,0.34916012484209213,4.5832314684275954E-2,0.87173780879747587,0.27302109120645235,0.42766718586870955,0.28036687395458659,0.56057077701986446,0.74729377410351649,0.8388752909572772,0.25591496935518776,0.42329421167772641,0.61095968264644196,0.1191754594140314,0.44446637110812892,0.97223694681529149,0.11847567203819775,0.66747786603487835,0.39543690585959757,0.52237104078787167,0.89314356789646743,9.6199830093405936E-2,0.19162672798350078,0.81547090869066508,0.77645437093045933,9.6137826913706537E-2,0.69553169598123432,6.6657984835602591E-2,0.9494260505757468,0.8316939179669337,0.55463195708953739,0.98361156870165778,0.39810166157805227,0.59222907411593406,0.33876206918968521,0.374989813441165,0.84796212143211303,0.14678805707649234,0.7197563538467181,9.1014050993006523E-2,0.84795649914039217,6.59753040635358E-3,0.47989527522687003,0.18089396319986573,0.10150656812646719,6.3510982091712687E-2,0.61711463291430357,0.80553617972673497,0.84122160449428773,3.724265087610501E-2,0.1033460582222685,0.88324868973373127,0.60520435179402632,0.3142504305045607,0.87523034615899431,0.23485234663564136,0.46696955336798385,0.24738418229920611,0.75764000453936386,0.97114970397621647,0.39269540845164341,0.83959940006169442,0.12618740650790061,0.92739689492360045,0.60675106780385102,0.72051272037627245,0.78194648262384503,0.2529265240891817,0.32644325523369122,0.62499139783341295,0.23811696859203757,1.1643568674593596E-2,0.70105361590948523,0.28105433561257576,2.3729959523010158E-2,0.2773220612310856,0.56788732728677627,0.6923317199161656,0.47040871478163815,0.58966778378350904,0.13073542447038178,0.74137871944839673,0.26494646167191727,0.27808611447944109,0.29209844688008513,0.81202719105326249,0.9510770950223052,0.20163108120171613,0.2101331864661492,0.72869282156489534,0.27266413549527724,0.14214272031054798,0.31833358085897334,0.19551414136996403,0.42220358298617611,0.52051974902175002,0.26338979488550007,0.43109619046619252,0.57539245299464692,3.0773995023048006E-2,0.87006143558347182,0.47549785174350756,7.7064915786685062E-2,0.84563848543862219,0.13028961121426108,0.16338368202155973,0.44818373654889476,0.5363717137745263,0.19566525227737874,0.25453467467214896,0.64318168806130449,0.41181495840768811,0.21857423790857677,0.64942892400457841,0.55263718150313079,9.8171607948108752E-2,0.13790055652744793,0.225417115312736,0.90068709496224231,0.90324648354768178,0.22319953000137471,8.3734580577544016E-2,0.72855893144192352,0.41503830580655343,0.64407176159917401,0.96847908103935454,9.1466615167676513E-2,0.52760696428286358,0.24687873778578262,0.6889989323962028,0.24644780423769597,0.96716953764271174,0.64260373192289966,0.296161212575479,0.69876649527355195,0.9959596570331547,0.19231010577701557,0.548476556433945,0.48547168252073725,0.29982124541956878,0.40813845086339673,0.74313387231787043,0.54206684756235779,0.97125592337036681,0.94955823028483077,0.2298306742616304,0.81742058058775446,0.26022276734665051,0.97554257133360966,0.49996656166239917,3.2730068424741354E-2,0.10397015898735618,0.74025790071367403,0.90471397174694612,0.68133194774398054,0.46336080746400177,0.4311197101434604,0.31710451075185309,0.50459519761153371,8.2751285865163671E-2,0.75258991059168501,0.51565462349731672,0.83957500965837939,0.15868034074270487,0.59529341298547445,0.45418367536091553,0.46294645523717792,0.10433460761536684,0.61708722131145011]
[0.48362283326517219,0.23028017972040549,0.31427735219311548,0.28374314861740391,0.72991122299818856,0.95939146994616331,0.75690009940178726,0.51375569939435717,5.2623733026405328E-2,0.35856980820927475,0.2613166063653859,1.0989650242068105E-3,0.61687344772541008,0.58039850925772807,0.18230166875869191,0.63620903626780567,0.36426464842977879,0.9675553358315141,0.1859105313275925,0.7655408552789138,0.77793275008168339,0.71566092618917521,2.2272838040907073E-2,0.46917920515975442,0.78128995244112143,0.73342640045752139,0.78714402730934341,0.43797342410716844,0.69131407079419593,0.5818135396533225,0.65801449437643156,0.18077950175820967,0.58361084005331565,0.94677772196345289,0.93124708390115618,0.42444548978038266,0.21441107440674056,0.81016480751646625,0.30042427139535877,0.22270478422956153,0.93844457253215263,0.59159981874425316,2.5477940265258292E-2,0.94005162961091215,0.24168094299354137,0.86593547255493608,0.18195667626333223,0.99053139442682581,0.93464719613712932,0.25213624089858355,0.86320523634892177,0.79872323186912353,0.53550179295779754,0.79683624112777729,0.99945656868000332,0.21923711992016948,0.70501906329818653,0.27527402652031974,4.0509004219762557E-2,0.19977108664986309,0.33925424688136474,0.28016379406559699,0.13148597368724824,0.20680818867029704,0.41709752099137132,0.16639095530430548,8.2471553529714692E-2,0.78315987430756839,0.84339622634750722,0.2224172965243868,0.22813059585950524,9.0699872353980693E-2,0.11148740887673614,4.4663319779856936E-2,0.66776081499101558,0.51111867228817887,0.43383197582733357,8.9149780812464607E-2,0.84760828394450682,0.63166027148594817,0.12451396546310534,0.13175104058569764,0.5019076098423082,0.16719589943874158,0.48688524115280307,0.59199284826321907,0.99520765249159249,0.54577942499990117,0.48814907033319832,0.85018201979796948,8.9161865805954532E-2,0.33084318923777345,0.20492504818405488,0.84538179794464086,0.36082876064112523,0.13255719996099236,0.92784471147139258,0.62002535006482107,0.37342662700444507,0.62227601328745874,0.8414004874753136,0.94374243816747838,0.24230642482982867,0.12697459173016357,0.66011975537796153,0.7372929471129559,0.68708851290932238,0.68389841827828712,0.7646351832700351,0.72166190814241793,0.82207135487748251,0.26853087312804313,1.2645142700546064E-2,0.69983777121886215,0.86464272199061598,0.66234452327860704,0.30443108528149876,0.42174633803754469,0.74218943380330826,0.6614255418115137,0.99214650794719994,0.38689215017331924,0.59235841826170121,0.45557113891938639,0.71952823041236669,0.61731433924227408,0.93664931790730777,0.90997421162119418,0.34871338527466045,0.49170415338447326,0.76482889117704289,0.90877697565221971,0.59156968654916375,0.39070424116128488,0.59510017366873291,0.97829376145114799,0.81020343185106825,7.4320124268175358E-2,0.62851212472574425,4.0590269576531446E-2,0.85551381770801771,0.31376834658074504,0.73046770440623887,0.15947246160308248,0.73911811492424806,2.2444066580817879E-2,0.92064562069598932,0.79229258223035315,0.28937659486689149,2.6064295523029801E-2,0.42893835981923467,0.28341276231599621,0.10642746768918443,0.17743326003967463,0.86826260436156411,0.29573017991784789,0.58443213688866646,0.79148733393529147,0.71581767136098451,0.17026069270137512,0.50942122582075133,0.28938994900276827,0.22172995865621314,0.77480671694429915,0.21189627523434085,0.20413070340354178,0.26999860536566933,0.1465044460830639,0.13292295180291502,0.6318646303794484,0.64506230893246996,0.94254528271543236,0.60810305134396092,0.2567254936014185,0.60114305318369377,0.19642946475777745,0.67721777623167456,0.50949231299649533,8.9376081398858553E-2,0.33100070799518855,0.39430742081360382,0.96395284301018647,0.99391439657208458,0.24899667411424808,0.32634797802270366,0.24263998629445582,0.11164819641467583,8.7735004864146982E-2,0.97595267322974555,0.57617920771143871,0.68595405498591056,0.93261805852681556,0.87055707947333971,5.5429761498159258E-2,0.51394960837973702,0.67993975524911066,0.35009539538776868,0.37854494763301838,0.25412576340579862,0.44772148670940859]
[0.69493669045868844,0.13985399373711838,0.75708277668922264,5.4415973419608132E-4,0.14648213526903886,0.39530795189946433,0.43355046389949581,0.28025414182571295,0.71410254306684351,0.86635391187240807,0.53413078489677868,0.14059343617833497,0.15313024296292388,0.45378184317421788,0.80263524225932192,5.7413411843805218E-2,0.70616386798968178,8.1002426247150927E-3,0.11820038301501945,0.22209652655889167,0.82728234813095103,0.43332049986724297,0.47251768887692036,0.16578112734862527,0.33943437642712415,0.86467843916546216,0.19349068977644257,0.97091052653844134,0.52013169829921713,3.1752137512219059E-2,0.72736906040988281,0.68611005771621536,3.2135805833496733E-2,0.3681820346832958,0.72922751986939238,0.19566534594014895,0.36138329179914463,0.25246163927405985,0.48795533488916165,0.44953759601547916,0.22621855715024608,0.32981557199604072,0.42131813844045896,9.1128084156326228E-2,0.35536604553807027,0.50359340783278206,0.54771337755453442,0.45046024253658701,0.25851221566363869,0.28806233461909625,0.6313569314040679,0.74351840720635443,0.30327063992283532,0.93848048854373356,9.7366699230535758E-2,5.2925355622878478E-2,4.0710529098531123E-2,0.31477792853570696,0.4055305695061755,0.25279044858105315,0.88401359734421403,0.43368197704408562,0.14668527352238159,0.99966837588781365,0.98978420172955062,0.10029861559977393,0.44908255232132599,0.13845341158861668,0.20866240018400395,0.1967306629444161,0.51847618378518034,0.9317973274069079,0.80339954474916331,0.39357815304294375,5.0610328799675197E-2,0.36241845239508308,0.15642584649320956,0.64129124912412583,0.30822355308116156,0.56863691419356743,0.56404792479920995,2.5420535626205609E-2,0.21883374310259829,0.2993163737608131,8.0949425038598144E-2,0.44995482312572688,0.79224303427341369,0.94556219682919196,0.7719435572974539,0.80999809537237555,0.2039416424644428,0.26514656742528098,0.28964118834693242,0.88038842205971624,0.52705600109629047,0.69736310041042093,0.61998535603534843,0.52220855120349186,0.61116736214063283,0.99463953233766633,0.46138390133125529,0.17279019739803281,0.54096609575193044,0.14521316265773665,3.4622854675927073E-2,0.92743251861425779,8.1281828706947223E-2,0.13422094496284431,0.59551118268494285,0.99036397268187182,0.59617926342820138,0.92441623765346392,0.80746131477697569,0.65712817058617046,0.38706195528449416,0.40140823102602941,0.86383326122030268,0.68160787876062745,0.53623186331644301,0.69552642719576641,0.75576289637590199,0.1645137121183512,0.45410931598862658,0.75506362339574995,0.47215350220732755,0.31919133742047501,0.21531764819067034,0.29843363193488415,0.26385265611635866,0.92217855963022466,0.49272512569085392,0.18940686219896719,0.4518719460362921,0.96283662638455414,0.28241095063480548,0.11496081620616372,0.73308687086364921,0.95277508633640851,0.32457815263384848,0.9800577399059851,0.55162338915326903,0.46214375141776887,0.54359976859886516,0.34419580845406128,0.51667033039023491,0.41101945337712509,0.48663946344024178,0.17396520106762015,0.87617298319640335,0.43886380358921373,0.9351151161250133,0.41673860076049929,7.5974272126401732E-2,0.66484575728744344,0.79800861623126529,0.39643309812263117,0.29769671377100271,0.33393568097236392,0.95224785165424275,0.74600024167793233,0.46620346131757073,0.60822770475498189,0.48349829451173298,0.44617486459249567,0.62761543486253313,0.65499238781229041,0.24878033404339317,0.38151931989175369,0.63331312392703765,6.5722421742316794E-2,0.46112844316415924,0.1553680860063833,0.69440948511519052,0.61913548750533187,0.28833373777023164,0.15573081244643583,0.59654808221357147,0.75210259347077368,0.8405598519977322,0.13721493595424972,0.42054415291279146,0.44661104274208951,0.2006151664755732,0.36466360557785649,0.53293758640182853,0.30127313919367837,0.45722589171642447,0.48301775971023808,0.60569950126696359,8.0418679789956315E-2,0.51197878097769556,0.10958792334181466,0.58374165019540381,0.15072415123400096,0.58177469651388103,0.86092708944335861,0.72498827878335159,0.78924398999232637,0.57306446267894906,0.47026563970998081]
[0.48106706268487276,8.4444756601522841E-2,0.5887943195559725,0.26138823841050729,0.86637584752547037,0.68854687990333485,0.37129833706952386,0.5457496847681178,0.16893876256125384,0.15395127232993921,0.95532567607020458,6.5757297093836153E-2,0.55213714865169849,0.3299932296305168,0.71331479007180343,0.1815216260983904,0.52172274299549404,0.12852117818817621,0.29135393535156839,0.90347144033106497,0.74542201570534683,0.36873538313218235,0.24595350281943396,0.70196232431735972,0.73502864345529095,0.64447319822549132,0.90199923564252527,0.31184185821232568,0.94422496808006151,0.96800794544114599,0.11489814461350678,0.86134859034847633,0.93359770357024718,0.46771488754183999,4.3627765971076204E-2,0.75954392879097465,0.11276479582909094,0.6752474608836434,4.3472510166782774E-2,0.12455494677007739,0.17887924653579945,0.82119991124227087,0.21809038503813272,0.5871246551424143,0.58042189884104056,0.75857410028937977,0.83445194742829887,0.7367330520026959,0.86909077584493677,4.9481334374344543E-2,0.48102731600374726,0.55857620916068063,0.42161289763812826,0.18503584567831854,0.86032532218850688,0.56391522566436492,0.79129628782766215,0.8203696506004452,0.3263922772723491,9.6412739449819318E-3,0.92407319808989263,0.48112830732168177,0.42566388991756254,0.34956325100401386,0.77736528107690406,0.78859617280341898,0.82253517055935743,0.22579030405259126,0.10068436203448772,0.7857936239546921,0.57085603531122131,0.81266627075233488,0.89370762023987749,0.50959940033948736,3.1781617354070701E-2,0.1997642122753569,0.23909725052839026,0.59031656427577073,0.9072723703485629,0.68235093673573943,0.61189439594555772,0.75843336645763848,0.54422236094553333,0.74830721066880357,0.38944369758182606,9.0659169373806359E-2,0.13329983405735391,0.58679698305186079,0.6120141296256254,0.10912096378772518,0.57308270518472459,0.31703469603299961,0.39929309161121262,0.23001622303019365,0.89104968080914648,0.76110918932540683,0.7010871904901238,0.88019724735230864,0.70165631777108661,0.54374907045248122,0.85276663062922653,0.92439189741467565,5.8934692334170813E-2,0.33402882790761634,0.47823271232239839,0.3287158910675464,0.50225904657232512,0.24246469807063697,0.53515233881229829,0.65717514157817958,9.542435114248693E-2,0.77070891180634149,0.58748026110976204,0.9688525426136535,0.42809956282939132,0.27084446479389801,0.88638215653295216,0.9542426747446624,6.8259292930114124E-2,0.39397343078178393,0.91521100732002658,0.2911965971052608,2.044268169476271E-2,0.98895485171937003,0.60166131877509432,0.89359547025498853,0.37123010719045779,0.71921313181876301,0.54668047254992558,0.72057259440909549,0.27595783945301056,7.6586381223399891E-2,0.13184654738186441,0.1708417746244637,0.46927461226777045,0.61843192255133594,0.97012994106264816,0.47941882737046237,0.96740417197470729,0.97330802428843954,0.65960577137938547,0.62285960324500078,0.64740419042421737,0.21346250854850979,0.45568580745183895,0.95717190729165935,5.3231427635715756E-2,5.8513180233497053E-2,0.25800617839435736,7.9387828079741096E-3,8.3198475219612766E-2,0.10852803906982456,0.97654338865315604,0.90810519040824922,0.61135052275152713,0.2228939990135187,0.52593540550357698,0.77625755509719963,0.30874137868721363,0.95808467664538277,0.97916431128464732,0.11126265741820462,0.51341079941940149,0.11737980403835802,0.74536256512304677,0.55581577217017863,0.71007820614253203,0.1160607223867951,0.27480939100579338,0.10468080263404611,0.33647973576928791,0.48451860423952631,0.50953872127023359,0.34110625860427091,8.6682123022031599E-2,9.4904197476701535E-2,5.2678201272573166E-2,0.68667544576553008,1.8901389832045035E-2,0.74652097852381905,0.22442301122195951,0.21101798880371647,0.93692377759016965,0.35958450100228345,0.11464015860521293,4.5331072886340973E-2,0.79475547660891765,0.43735683349484233,0.15667952127033291,0.41745534048288158,0.96107663498616291,0.12197913498648061,0.54527412562383937,0.84854223149671537,0.22234210248931785,0.69201825712962917,2.0258299833303295E-2,0.85231787722670149,0.45593167623536346,0.85518562897531891]
[0.68107880658157827,0.51655102306347034,0.13444049654525081,0.33208703191391575,0.5759440699390016,0.99828950666956939,0.38389391313269339,0.33631303671445745,0.40124610137601024,0.11794411676217753,0.70198249722846839,0.65032041811542551,0.94269247931450328,0.33751518312913942,0.58454987954616411,0.19493382615884836,0.29839489647520856,0.33379163489939601,7.3132411241564332E-2,0.99673405239973956,0.26392901052164464,0.10609388663014296,7.2271693468549669E-2,9.6381339167225133E-2,0.5614048051339694,0.8032132158261811,0.42153733428121309,0.38555800197378087,0.86600969620286095,0.79191574906511997,0.67634186587002976,0.78871855793221024,0.21047969637195252,0.19758842596940163,0.23176377575950446,0.51692569710768754,0.9903656544515772,0.63154016014486969,0.36094019181865222,0.1349425232777387,0.96778822218077409,0.73498972384392292,0.97146625047177149,0.39565865084736729,0.98629963975104984,0.65087064449306409,7.7216878409967937E-2,0.75764307486009641,0.82307560684716541,0.24881186818414447,0.98370242965587162,0.90095233258029939,0.67809781307276062,0.86028612953912753,0.49677136125401189,0.40161290264620519,0.68802479201681455,0.883681540836177,0.79564348682221842,0.42700950043096331,0.97949773810834062,0.13857520346648378,0.87232922399259916,0.96262702844875403,0.82319643266037179,0.77873221234886303,0.43753274071837633,0.8003908405120046,0.79725968485638876,0.95589581159884962,0.78319115050119292,0.13098142852486827,0.35060741567748399,0.51870110167504124,0.19012688409175726,4.0618284740829624E-2,0.99590887294026564,0.98304002648416877,0.9925916339542451,0.39424836286919607,5.5643483671018457E-3,0.60405758671392418,0.95563497213095916,0.1818265748492619,0.33592206906734701,0.31996120753367885,0.13212820128377889,0.1299335304753485,0.2999124108378215,0.30003730857993138,0.41240711652583517,0.54361966429247366,0.43634933343728544,0.46134661287928724,0.99400787186765682,3.987896519115619E-2,0.35245074213107963,0.88561629900948824,0.70332204517080743,0.2160866400426642,0.55649512493654796,0.93802021405929936,0.93083395687362036,0.83543132205308013,0.70542617322905143,9.7220330134333399E-2,0.822125305049627,0.46404120711933039,2.2949966611203187E-2,0.18610243025213391,0.66927707190142693,0.2231704600956671,7.8698671438762968E-2,0.17289682069257339,0.85687338664203261,0.35959554160082374,0.43514507651906675,2.3922137082361572E-2,2.6220499406152009E-2,1.3397600955911138E-2,1.4219861231337561E-2,0.89626046270180326,0.66364117360716013,0.8444197009229667,0.19286098335551061,0.5085567873814687,0.31805606576630208,0.66456744735719875,0.63010405508977174,0.66369947830193032,0.81836385212366658,6.7941286770287102E-2,0.48332612296117605,0.65827007002389615,0.72910521444575327,0.2193949941712976,0.74533135646809789,0.51866779250460582,0.97922492044793574,0.95651635417419512,2.5517025280743622E-2,8.5443125958122423E-2,0.74195493481494901,0.43003600946833875,8.6544927883076328E-2,3.0334063561399116E-3,0.43143214952747233,0.86722269823413456,0.17860888927194274,0.63935859271093975,0.81179518493661484,0.62145075023400476,0.49886431033327949,0.29586140912295067,0.94651375876267096,0.77374373591804613,0.15416657500007191,3.1593670917166028E-2,9.1496791599885885E-2,1.3163926661802661E-2,0.83947985165039374,0.80755070719030408,0.41187903790511915,0.83572241419568571,0.61775872108130192,0.31309116477437016,0.27590505069373195,0.16106334124974386,0.95892933467381436,0.66558693523825263,0.73499591458867697,0.75560312708863953,0.57194056998369081,0.80013794702292951,0.43019029342646298,0.16194375459426813,0.6104752639217359,0.51597740528542602,9.9175468610731121E-2,0.89160123074641906,0.44322621103022364,0.1818472808280116,0.62546626603684996,0.59469759808907097,0.55739412584202419,0.97449814769901599,9.3107094115067235E-2,0.65756088316197214,0.42511267823377119,0.82447644111522156,0.30910019253693499,0.41562026687535814,0.91311746313505016,5.669389097038402E-3,0.51282508074689426,0.132843850893413,0.50580329298964333,0.81119630579085367,0.22716934693108581,0.80451805723457503]
[0.9839683225594833,1.9325847904062665E-2,0.98534700597346325,0.8443590113565641,0.2019604922274969,0.52074180649596258,0.1717034491020204,0.24765064783501889,0.85352993870874527,0.48515083980110929,0.69964610805172034,0.35598224468215023,0.93540209490228476,0.73004737727338509,0.58671896232644705,0.87478884446528438,0.43663192125445638,0.79366699746626357,0.67879183407051158,0.28614623421232999,0.82099940158357221,0.16930900328513454,0.64946435811669834,3.9092621399560157E-2,0.37792549159888644,0.19627241846714272,0.14351605359602515,0.9139616137947344,0.98250726685912548,0.39033508235975767,9.5567799828161326E-2,0.31589089008637983,0.47392165242698536,0.27956214498847509,0.29339291358774777,0.52917621463827991,0.88488164421334981,4.9413580940734558E-2,9.8253396745262567E-2,0.41943694815217047,0.6675580779472382,0.18251622581588545,0.76527514894265469,0.31246840214417848,0.66708743638835799,0.73352626726449577,0.65049446712900316,0.52076576203066782,0.96713421274996192,0.33323977981392539,0.25907775806995614,0.78046857792425872,0.10747076937013478,0.5937951069046149,7.5055820547048624E-2,0.64141675351417005,0.42187152912484971,0.13264943656757233,0.60243228860052933,0.60884314972759579,0.80916178188907195,0.75485052124566787,0.47413249690717152,0.40183176082998073,0.76110333198211999,0.70371074179424864,0.39384019631509903,0.43083437637436128,0.39789097720660938,0.42162510138515463,0.60571394185666638,0.17586827808423811,0.68405144020121356,0.32441012594797725,0.14998363350131183,0.45932780890195612,0.92262603873950932,0.30060992078725279,0.46277122263769421,0.54577506328258518,0.7708525359687799,0.20555154218606764,0.8092677392467903,0.12404767903355152,0.29362740832512801,0.83252742022153803,0.98599351852055017,0.61186597048569002,0.92987824051590262,0.74889779581058358,0.52977528966773024,0.11494156307150705,7.7740409014059875E-3,0.91205345477252564,0.26921392338882499,0.1862441252232504,0.61112065884976263,0.53115852251029605,0.58306393926204247,0.47366717742166009,0.73457905157403136,0.76305130331197446,0.11847888259577621,0.78224304063044237,0.18067128381806474,0.33450254214532127,0.1041290914162093,0.60806006224707021,0.74036270028572237,0.44238522836108018,7.2736356211458797E-2,0.27082458224390349,0.70588562870303151,0.14831955467103108,0.10931768584888757,0.41605772106803707,0.58326960850171738,0.26221708859258752,0.76060580371432374,0.28628047118645161,0.28778224484578419,0.99615778543892375,0.82704073987136884,0.42331875822362053,0.98937237143764734,8.1133966001868396E-3,0.16871153197262378,7.9409874046086348E-2,0.46048772914652503,0.8964088568871782,0.20112307844994304,0.62968065869421697,0.2675781617613695,0.6908132109834203,0.19632762989799035,0.41390179667854343,0.49911488870764287,0.14287308636070273,0.55247391663337841,9.5052530666606128E-2,0.29761099822189008,0.73783320331227364,0.82768312863167803,0.27142903419035547,0.29490104979409093,0.7814389381853647,0.5790626348848551,0.88901565404748728,0.13497355068317263,0.78649771939917645,0.25348518403980025,0.34404571356845948,0.53498511511531877,8.1334209212708508E-2,7.5977096702896207E-2,0.9585305526884208,4.791373668048049E-3,0.32511335738681302,0.70014469854218686,0.2133738158069195,0.82619284590494524,0.38162669933095839,0.89310422135466894,0.1658875575895532,0.29413234948290101,0.42900539483959144,0.91712350552281297,0.22489542336339186,0.46783834079330733,0.34745946859220056,0.73861923447610078,0.40292838458802549,0.65711190931309382,0.56681625172534122,0.90241524105363025,0.28630482429634352,0.25592113931490201,0.66979528921041531,0.72995096373214408,0.33491709950224646,0.93320474130660624,0.84495597737913497,0.51978727637362399,0.78039155409505667,0.31870887823746974,6.6716487201050612E-3,4.8960171159859622E-2,0.98974349597609057,9.5466816690180201E-2,0.6671025190860651,0.92173424776961532,0.55702690444671632,0.58335531892231574,0.29846862756779446,0.57785922903663767,0.52754734348010013,0.66624889685710709,0.8361595661884571,0.5957687876093376,0.88660334011046393]
[0.48294000270188819,0.20786104123125348,0.91305084484765497,0.63697582887114268,0.509719368027721,0.99237351265639129,0.73620586885641826,1.5163284443588165E-2,0.25267031459933309,0.68295523612516473,0.57101685611788888,0.53625340578116865,0.88235597912086872,0.19810504112638339,0.35061743318125305,0.25292096283842802,0.15772830168149043,0.49385816123141624,0.93971685125938886,0.53388277695749364,0.67414946453578206,0.8307724190450958,9.8879079387607094E-2,0.45011625193581117,0.13261353040687174,0.2144776558945235,0.53695444561892602,0.39729966967610597,0.75918595033721425,0.52254463853362854,0.28742420884797981,0.17521384105883464,0.85356640994656718,2.9101601270200894E-2,0.38138250544505536,0.43108253357865411,0.10754139354573089,0.86988588856977067,0.98837228926399645,0.1283985200261184,0.59788780972666999,0.40464089613001097,0.57984911393594074,0.64055548078786684,0.35832030492599265,0.23452891456846259,6.8018585173930779E-2,0.46789440054396636,0.61008124302988698,0.79850464487940953,0.80630781710869859,0.66376996725653692,0.95430379001315691,0.72255155256640136,0.96129228140322243,0.41898079545922173,0.53036352821274679,0.47158296665088029,0.15861591336386871,0.86275306059488899,5.1635802075659765E-2,0.63346443340180436,0.41113504632252451,9.1728110340041247E-2,0.8558815678371775,0.6920897150705988,0.10711846773914269,0.42633894875624134,0.8925619317071295,0.56225396182449683,0.99339496355757639,0.65855986160998736,0.81506754096470424,0.23847158081059872,0.58393790350869934,0.62572046824602101,0.28119892203110752,0.48574472594866491,0.64626286333913308,0.94879191795966389,0.27046028741080164,0.10875286712576437,0.14141201876423237,0.73981221828001098,0.39427168937184054,4.1658026090974243E-2,0.76243029527791972,2.2345611244508401E-2,0.84440387872478018,0.59607800281610435,0.84282049561234273,0.84155547558138222,0.47231765873305553,0.51983356197047959,0.16958075666959394,0.22495421785137548,0.75692843913139995,0.47237810400260716,0.38188470698590149,0.50828073997085343,0.44643912305493549,0.36823653392276257,0.52331489486655025,0.12950087859156589,0.20462238359058715,0.31002841865639041,0.68364380323733476,0.23790220229061121,0.52380260734199191,0.80303860776628289,0.72762913871192358,0.67106169830102191,0.32450096731478528,0.46951760320733915,0.13922489154176276,0.27606594302330278,0.54044027701354713,9.9385342502184892E-2,0.5463904370816477,0.83881140454014746,5.7423532625951346E-2,0.28352466146172195,0.3663222690607445,0.40672903902667301,0.28735833125097088,0.33251338712825074,0.12951360330007877,0.42087144919005781,0.68670368831330675,0.48551279152508198,0.43872843604867351,0.49983655557947326,0.8827861483569317,0.15399189575062977,0.68069393183441429,0.41219453517070381,0.83992391128489619,0.65764603175213676,0.47026304595059099,0.22051188686480794,0.65677376570753265,0.7060102499129427,4.5418967846555303E-2,0.45183148775462678,0.12341487691284303,0.41665966371493512,0.1815055796518501,0.99074364449104835,0.51514180879094251,0.9273000255039453,0.99941409247172663,0.78255936022806605,0.80643911473488106,0.95105762372472513,0.88771067637734313,0.8014912567690109,0.54702361383060283,0.30937356748194,0.13289964289822676,0.57700243950999019,4.1950775108224314E-2,0.7464167487704636,0.78318524718761273,0.10061471787744924,0.83654309417126771,2.1972418117424897E-2,0.14637657984438801,0.25540142604537119,0.2545956594945159,0.89673069178926768,5.2496679535546265E-2,0.62552169496938093,0.55641694265565478,0.71241443874118915,7.6588802544128698E-2,0.81512998980868423,0.43631955060769956,0.65807718858366104,0.49527590429001234,0.64782164627753458,7.7765688243693898E-3,0.69120583001017033,0.792131047438695,0.64422555864875175,0.60321335372955531,0.32896455750438058,0.32802049454049265,0.26582757074332097,0.39818613480743814,0.92276192580355076,0.52338002515119453,0.5837502494475123,0.98064041776996957,0.27864711512272911,0.60917239967428649,0.80963206934581822,0.11835360171313059,0.61578150761813155,0.92098374596667099,0.22555594930368328]
[0.52978943915902754,0.99282916685042311,0.64690992273510639,0.36870170115080547,0.68122114268792222,0.81813312575540387,0.14428698234434045,0.84120645488391421,0.24179398599025459,0.21831093232438425,0.76506830393092118,0.46601798238744196,0.87597813712586803,0.24665832542715249,0.31182622662490478,0.47187482041134921,0.26641887371012507,0.10008488787443803,0.81118438074594468,0.40896940543058313,2.8379703225409836E-2,0.63525971187274433,0.9149831027475932,0.74261510127297781,0.43624409456121371,0.31811212992952309,0.57926531811080806,0.57846710727351125,0.48036346296805443,0.50697847871846569,0.17995603162806939,0.59533476458810386,0.58744191307472826,0.13334854453375877,0.99184107037539027,0.84750593892926651,0.17007415535128367,0.11388640419466345,0.65749657369775982,0.84063257376774791,0.74496335455059925,0.2008149367572839,0.34490035171372713,0.23610936244928038,0.23634178632015379,0.45010839709107475,0.88076308951641935,0.29051189780079045,0.18722041892925723,0.89915734463563146,0.61118824740268063,0.65300556647721608,0.94711327855405525,0.10333033048962714,0.79022918169327372,0.94057195347523892,0.8268219985804407,0.60858731233236851,7.7925511937212644E-2,0.77985345832513986,0.44417298105596881,0.53974310670267522,0.87779219563353839,0.2058980856289625,0.19366035880957722,0.42471880470243295,0.83302732894150933,0.75224291823912071,0.77459037309522927,0.44813998680514644,0.49760620952690438,0.95851968193557491,0.34119360833668277,0.2789345556653684,0.61328074385363229,0.15340888887653181,0.40514098810686527,0.27241456784341578,0.89809958854542316,0.43010992469797626,0.43733926924698519,9.2780898419337898E-2,2.2616527425494581E-2,0.33296275995740032,0.30532320912457478,0.13476343431446547,0.781676927137266,0.25213626618105045,1.6029841522282595E-2,0.4979988407497552,0.69429215123910848,4.1911510914872996E-2,0.27131814057194004,0.12820199331388316,0.60985220085077319,0.95827248362729089,0.84944784002495755,0.54655535539210665,6.5084169043683748E-2,0.22421265882903829,0.43801192652505072,8.1569162103501291E-2,0.65612450335082306,0.84659321373765739,0.87005652197934469,0.18173410539080137,0.15494188202957249,0.70418571930782548,0.65788279429670693,0.20188863649558242,0.84638143867494942,0.29594989499914426,0.32781931972594591,0.81088493969664754,0.15529526826325346,0.87465870387903322,0.46480940609183574,0.91473720192235597,0.70958038135518509,0.42991686947270957,0.30805102512686311,0.46824461647286397,0.66671580540703268,0.9569191778225532,0.47772387290348939,9.3615112094121211E-2,0.18968336237524241,0.30801499826331091,0.62832409915245546,7.8997112586846496E-2,0.59882782036833182,0.61240467395568554,0.40253478069827586,0.88281955120107247,0.59280241680493495,6.428372348038236E-2,0.52565999195565427,0.64162894362499734,0.86521106730080344,0.42870636896776015,0.20758147260701776,0.96216696906115207,0.56065120014434378,0.68526762117548046,0.55464703476679811,5.2408951971161022E-2,0.35430607651819712,0.38193571975673979,0.70030717174374757,0.86135739514836562,0.56369549002808605,0.66468176420588287,0.76486932145328113,0.24494892443256988,0.38390198641214668,0.38990673675974741,0.2126744233819341,0.79463212206781342,0.85899147254672081,0.20694947251645679,0.40196338353458683,0.20702762755149473,0.53851563044364126,0.5320231203490895,0.36884950463117583,0.95470200609210609,0.31557965140283584,0.56123185686507793,0.81299844173231761,0.93735292489553368,0.41570037652361103,3.3326729103756669E-2,3.4929983906801021E-2,0.38630725825425505,3.2817852483333132E-2,0.20260921720832459,0.47719274880641127,0.980799737531722,0.51237868418219246,0.18463205400308924,0.54244660717096049,0.97427547823863137,7.4048795530238132E-2,0.12817546325386397,0.89926015278185045,0.44435867481242697,0.7079659412226792,0.4261198815364402,0.2465753928053539,0.28771121923574794,0.96217864054617375,0.92116122336375383,0.78751963305794803,0.11538382913706691,0.1469106234653712,0.21349179789856487,0.35154486075953406,0.91370044706639741,0.28088174012791212,0.3457799251080651]
[0.29939719230881046,0.17972367206318252,0.68775684023394668,0.75254914725739308,0.68992962420138915,0.21344379689758985,0.16631628801101606,0.22474009050578259,0.46399836030111252,0.63568134400353071,0.4687364245912341,3.0144587920840626E-2,0.45406745456206843,6.1244445855558327E-2,0.86205932755345871,0.77906614635467075,1.9295126752276404E-2,0.70702977734231076,0.14162355131306748,0.23901916299861425,4.4485098909518683E-2,0.50777210928011185,0.40886711206072734,0.89989291417318429,0.42098275871202706,0.57751945284050921,0.8071877737766664,0.68741247865268362,0.42012066525656422,3.9919411250789572E-2,0.76896182298982441,0.31703791720166152,0.32699506820689939,0.95850254683998859,0.58362571906873362,2.3800225685617793E-2,0.6018372181256546,0.1162023672210909,5.5115302575842517E-2,0.34530103522605093,0.90108307705702728,0.23752710905714114,0.26381475645478114,1.6042667502334185E-2,0.56150385469630515,0.88170724193408823,0.8660970849293641,0.99599106265867277,0.48114780213286823,0.33327739945285473,0.57552975667200235,0.27736780830766439,0.98395540697487127,1.8663240920372082E-2,0.33885154511609983,8.3815610659576656E-2,0.65721476544928115,0.26736259786235839,0.74675868535248668,0.74087149656638118,0.46589861148012435,0.88675473741624766,0.56292265878353853,0.97404997637985613,0.80379693382287354,0.49859641562536938,0.48525297086272345,0.27504580588045247,0.95545412860942935,0.15372795216553237,0.49358047551613793,0.94027991169494662,0.55524344183163277,0.7439227986405017,0.31514298804122165,0.31454466123347202,0.80796629315262902,0.77573291024144597,7.2109473306855243E-2,0.15031384280302296,0.25985669730697447,0.46274763520845041,0.89868300130607881,0.57896075548867065,0.26727266820907258,0.88601488492925951,0.97415839122170222,2.8298667645225595E-2,0.71780914543966434,0.70437252283418583,0.24648566297092722,0.14050670963171186,0.3396101302875455,0.67908116911523009,0.87757443948423086,0.30766615476801151,0.58176080644764228,0.99302594675083544,3.4433267749933827E-2,0.66493805722831334,0.96265690160030237,0.15532613754436064,0.38707024132941814,0.70360284351992697,0.30810391187609565,0.91797752383756037,0.29032194286931789,0.8175463658181108,0.63347240895205348,0.16465683400644693,0.42587477770468984,0.50369754708213621,0.3423211271931208,0.5570047230813896,0.96843586925234448,0.61192645585375061,0.1404895011937275,0.20549103293350046,5.767750127283866E-2,0.56871045347651805,0.13886678313505052,0.18828270480576281,0.21276906069798174,0.53472215163223313,0.77027601530589018,0.38308268999584272,0.36041792099226244,7.4769518521876299E-2,0.62366756362223164,0.63965520853018165,0.62529418508227785,0.35211615898704962,0.97893748302281924,0.32838582873481781,0.41815883367211071,4.0722039992824755E-2,0.39920394830856654,3.3393428563077476E-2,0.33349804624435342,0.22470182333432831,0.44706400809376634,0.59842783773285302,4.3994571928281268E-2,0.83287436554989358,0.60745761342370597,0.59283319853279404,0.71813926284745888,0.55731415561007647,7.7645929667317315E-2,0.12297996341157846,0.92072664500254919,0.82155326888345281,0.458194568348543,0.90955376980690528,0.63129084070905639,0.19350611374726545,0.17200628293621201,0.29989515393938992,0.71796221221954648,0.52994935659060816,6.7334175549188524E-2,0.92616157618940687,0.23543874215136984,0.79735380704079928,0.22176499297602514,0.61960768969607394,0.59952336968634157,0.63495686832748155,0.86573070900409388,0.5332418809813374,6.5314212637123337E-2,3.2623818063504118E-4,0.47992861554165422,0.12619934762150975,8.5567605164336369E-2,0.65514926884569658,0.2543476031926073,0.9225449429563144,0.84177971461757095,0.38677674281079832,0.75374986501034413,0.45845477372632293,0.29662203061130377,4.2588178585527103E-2,0.16338871295725999,0.88684774352291895,0.97790070559666431,0.10340359200604676,0.71684740874760344,7.3478648204660435E-2,0.22269341959291655,0.54309402183958932,0.37685435177056514,0.11836755929136367,8.7006858382028263E-2,0.26720872500540893,2.6404051559608455E-2,0.26994670526418951,0.4026778980204766,0.59943366683257149]
[0.3856276082119493,0.37041477104212606,4.844495401054838E-2,0.98433365923365779,0.84654032964893067,0.87494074105247743,0.89424793965599392,0.64651316853529539,0.980439361233993,7.4848188022717421E-2,0.25809760587394714,0.76924350080391646,0.53447745893949883,0.89497709484598553,0.41492446151781937,0.27975619118766959,0.20327176312755513,0.45351292953751832,0.43136513851900493,0.17269524513690937,0.51437967766111836,0.70949702074920329,0.8509718998753133,0.98978735312623611,0.69539011712698784,0.75263699709309273,0.46700585085505752,0.12863841095934425,0.27801009306186963,0.37846385198984867,0.16334422898246492,0.1490002622122949,0.51518513847597813,0.96744613494327047,0.56148219058204674,0.46870812117492944,0.71081705585430488,0.43612707148165886,0.24834960286735652,0.35985310175937946,9.6661304463023567E-2,0.99054189708273521,0.7334531744089926,9.3547497833504023E-2,0.95547164722403077,0.18516120708081829,0.72780777614293535,0.31740625476415096,0.14732790278918417,0.37636293391446451,0.96853892072771719,0.17596772255501103,0.81730490015178658,0.51866726601097468,0.66143552922473781,5.2784871469230388E-2,0.16874395242913109,0.55038165357295976,0.72946255149860206,0.70498658968854744,0.14753662704016013,0.47877236202755302,0.82413036925235406,0.33781870138408154,0.96240679215670755,0.43418667499171426,4.1934584707862599E-2,0.64489649377605207,0.25393701113421896,0.84296193931279506,0.98271968161300094,0.54559045807972617,0.20763469163914083,0.86705241614461515,0.3182732262502499,0.32212069555663114,0.90775861503996669,0.42786558330794722,0.70018574976260939,0.33743220108087391,0.78510921533816846,0.25397093261603276,0.21544478052454752,0.16399915871113679,1.3734958015129917E-2,0.17672123093953773,0.67044413932486047,0.9011212848600606,0.3879127809928149,0.68293289920825173,0.90563700311096951,0.96920906511487925,0.69495712422079348,0.47504788187346547,0.81753876341372167,0.57260606662145552,0.29129312517144468,0.13146691285280854,0.46849326891993726,0.60011288390717199,0.74287721478670721,0.83232370482843576,0.33169196997683303,0.72254681372610829,0.2354977000679036,0.89383668311755149,0.83985057748536962,3.6678162783811641E-2,0.52803648525695435,0.24881385726801897,0.70231084113672027,0.34237038522567798,0.81611434731366528,0.90519615351246818,0.89609515541615992,0.59869488970685114,0.43729547350172648,0.84726458817880945,0.92282096596111507,0.41087759537744739,0.66634580235660101,0.12679039692528782,0.3328248869811633,0.24397766669348186,0.82645065852659205,0.52850769690753874,6.755498607020971E-2,0.39545719875681917,0.15572130115880412,0.15849488378684728,0.58076234901076607,0.45021108345849503,0.89027333964048949,0.48702467723382448,0.28142250765636034,0.30981354992251864,0.99420945999378008,0.26535976461846689,1.3089878058127113E-2,0.28886538077963264,0.71430293141391832,0.33904459889861849,2.8626568956818588E-2,0.76023774736099015,0.59133145118070041,0.21327135679466691,0.53653599046561795,0.33323429843474406,0.2787797416641925,6.0917154177845489E-2,0.14474636197516955,0.34356238760152391,9.3995740336192179E-2,0.61517310496489119,0.35338709742248298,0.1957280180641422,9.3822364060460628E-2,0.23909124766798784,0.97104955078115829,0.91097230582042876,0.49419991382812567,0.21922299114958033,0.7816220507797369,0.86268108797137066,0.40471189587648859,2.9016505212936528E-3,5.7910243855203269E-2,0.27607173271605101,0.7421295136482936,0.44203091843205555,0.52814599971685638,0.82159434103317863,0.93245650810295766,0.34738982394070395,0.34859764750859823,5.5038707786664975E-2,0.62167422421354512,0.64094385942734222,0.60815066268598328,0.38747438867382622,0.66332739948983133,0.74592224143882935,0.88381806126815188,0.37027969731897714,0.37209945972017378,0.80954607789484712,0.96193224241390707,0.8387705728233813,0.91822291166712067,0.21515073552483288,0.2978654173011307,0.31310856228268347,0.42531236472003753,0.21622661434107593,0.19287212728104985,0.88525360463670233,0.81198146171969865,0.47319232613179796,0.16249575077850464,7.4736084763002419E-2]
[0.19642985951648029,0.37740066127178185,0.96080092475066847,0.44647626176754518,0.78946394019571819,0.9895685604571075,0.50602400563669048,0.10893310570688608,0.72094122447733322,0.39625219559403868,0.98584902884481551,0.35654342189844812,0.79126473903457129,0.54143766168349095,0.32498174762768339,6.1792492773972696E-2,0.80965976239762805,0.56046060941733544,0.37793444758266026,0.1580058199390314,0.25364295039238405,0.66997635660387034,0.63085858445015208,0.39482004921801495,0.65697320429404149,0.17888455688228111,0.7968653996707824,0.18211514346418323,0.64769994922578455,0.21521832336209235,0.88381237342001817,0.1070963427902375,0.18375607235634916,0.78256765869865186,0.76234321511300274,9.8817986365638655E-2,0.63375192610606335,9.8246279222082067E-2,0.34966141662924433,3.9288110066998838E-2,0.37835927505294564,5.4476878531028006E-2,0.21155639253273062,0.82391768321260106,0.44809358667790422,0.81526083677494432,0.92344049023879171,0.11341284568052534,0.69891057681895907,0.45313608876305933,0.30895919764988533,0.44978910943137163,0.93308891207757982,0.18358235677329093,1.4629747421666561E-2,0.52197145081129659,0.98250983123784763,0.16676663040678408,1.1486257454799031E-2,0.21806132718708726,0.67327200747143823,0.74887828841308302,0.45820026144590742,0.56584787531658409,0.32176773915904988,9.0429458972681287E-2,0.19685839105749448,4.3985940658047062E-2,0.94817896574824723,0.56548763461065255,0.6554836809357768,0.39826084689478225,0.1950395248160659,0.30583963896813282,0.5427906876003713,0.34135402366824463,0.96739996588927246,0.8951198493828425,0.22388573302233594,0.55325576808274834,0.73876284687397165,0.45675976883582847,0.60848233306551447,0.11916818970148979,0.29318299703805017,0.23623144307030197,0.40570425796700127,0.31242152228101761,5.9182780256442191E-2,0.86645210850839294,0.14132721300179274,0.10991484883236291,0.89699739945650336,8.3612245765012805E-2,0.38864213184765373,0.22898581740558333,0.6782887022945131,0.74562489744923466,0.84714032691094965,5.1826454978653458E-2,0.48793340864889445,0.81041140256634436,0.41815297281156449,9.7739865213292143E-3,0.16621383304892501,0.36502537343740071,0.72195381564108529,0.6895749135982463,0.79350483067559119,0.10609376758935329,0.32352411647942059,0.99320368970083817,0.2771141946307234,0.91019344144996295,0.19085614624315017,0.21679134917455367,0.70135368759628791,0.14763224187136792,0.73846542374322555,0.29685053870009603,0.99174856283635793,0.14017715661740482,0.79955744834641562,0.57310754268774289,0.6388655886880461,0.74753076219034875,6.3876737987748067E-2,0.34082316809311297,0.15417314922709358,0.65211474981306561,0.81552653857082436,0.25161435447097213,0.84198802632698533,0.25901901831876939,0.88378759497041159,0.32937269741592745,0.63125323477191586,0.95618755677050749,0.84622488549447505,1.1664279724802329E-3,9.6124518764774902E-2,2.9995329452806585E-2,0.8115237450657391,0.47907430411500718,0.85898678482584123,0.98389693431942804,0.37587494050708192,0.54863737566186632,0.65729321639347738,0.52242535060984352,0.52705793706663306,0.49482345324038235,0.92310652713815744,0.30338117965815792,0.25017233974438158,0.60399708314114031,0.89088666916459913,0.15227802401678514,0.87110342054744827,0.68439449640463146,0.70726158748566048,0.59288824684320185,0.98255872484225681,0.72706408573069348,0.19493915665171535,0.72751479770733019,0.23505865444932617,0.43561059772989852,0.76784419840502938,0.81859447938341146,0.85591241676936747,0.78177116785473777,0.83969277666990183,0.76364674074521255,1.1455501113839084E-2,0.29328666761324307,0.76754880734987985,0.13854576358981552,0.48104767700945694,0.88052281102657459,0.67753305682743148,0.38756580959474862,0.67847340314163707,0.47016504992577801,0.66590930898244372,2.4095490841716471E-2,0.36079361670884202,0.57874558470134518,0.78110767776831835,0.15065973481237294,0.14568224451684664,0.3574684745307467,2.3401688131885479E-3,0.58913418287820263,0.73472911951078301,0.53253220993761086,0.57448250937367407,0.60526964008223816,0.4387128512407481,4.7251132675767638E-2]
[4.0173180568536915E-2,0.51402572203512997,0.77042812664090954,0.40423545131785665,0.25635991676511838,0.3247201637423891,0.22847092392873192,0.98647385235996088,7.893449854087442E-2,0.79186162817266859,0.17957357756193781,2.5249299162097172E-2,5.1712655751946279E-2,0.78529399553794055,0.80975728191223761,0.85874895993461176,0.31358092920435598,5.0711387375705907E-2,0.87829828410770472,0.52973471437668407,0.35304373589069427,0.3024773636394037,0.53968512037644756,0.58874519886763987,0.55387790878753207,0.38807768686544997,0.15308525744330992,0.73974798863858526,0.82642489542301767,0.50707397847336344,0.10083741045220829,0.93226081430931207,0.66734562966189026,8.4807978355032732E-2,0.22428795918644262,0.5600869600879218,0.8307397599626819,0.33498892571541805,0.71049558347970398,0.39331886655303538,0.14566096866369305,0.71324361252630131,6.1304586209715128E-2,0.76442754043646999,0.83196560150667676,0.28328774034604876,0.79373706320984161,0.75856273274895114,0.58435898798564712,0.69931549833239115,0.22125777976346217,0.9301467969787125,0.29180790434783666,0.4839276978315572,0.63685417976100389,0.44054249064188455,0.27851451178448361,0.57216002702421231,6.9105772141840549E-2,0.43609196760194591,9.4121589058938637E-2,0.88062338405982732,0.20360814777659297,0.76916199716513034,0.25925352203493202,0.12145304152101788,0.73013575013603804,0.85831944885506117,0.21162322651213383,0.97294819305611036,0.8236172362650902,4.1540227703608434E-2,0.354264549185488,0.80880629356168143,0.50838031307963827,0.29626613018813919,0.59174406975144467,1.7966233045552116E-3,0.66010273550878229,0.24523522428323019,0.18533616266582176,0.13837529974087792,0.40868289453066986,0.92435038489145371,0.73070720953772095,8.8382676696723173E-2,0.86848781641295192,0.23202811981988136,0.74175998949040445,0.46021825570011521,0.72921903216708961,0.6786610494777392,0.84778106826256971,0.78311579493764683,0.9213401658028102,0.88668471741744959,0.59514755334345015,0.16671878731012413,0.87777629000462654,0.83660734544075288,5.5018183356812633E-2,1.4665218293708704E-2,0.85177354760584167,0.71775731607640847,0.56368225204578692,0.43089918053756338,0.79698629689585732,0.48772720624715049,0.53480069779931128,0.28231160620158191,0.57694816880960365,0.79055808407504724,0.79823784135016151,0.92340214177521218,0.6997455392377202,1.6409539668691409E-3,0.82946130075109803,0.18856233756672558,0.85973733941246422,0.1852235165113858,0.5181524009155597,0.60019800819941083,0.19392800033092505,6.918300237532049E-2,0.88743778872633627,0.75965808152920677,0.85652195528339958,0.67346502947255205,0.31582204024143767,0.89811621053996404,0.39842532737106706,0.8887293695129892,0.36614727503170408,0.31673489229166496,0.81635052406567543,0.33685485028868323,0.74459258521777594,0.61123931517485008,0.65383011594749352,0.60783924410880263,0.33182417826957744,0.13917283374820721,4.7299094288915655E-2,0.99528747593082967,0.25018273175045014,0.91568807875013392,0.61076797270366856,0.32401409172098272,1.0163100126084901E-3,3.1889624459995769E-2,0.18924743465633187,0.36222878685961202,0.16984201806544075,1.5112576081428131E-2,0.90900365369196567,0.80394144166978343,0.39612448938702882,0.37534899448275594,0.77117296147590653,0.99508142091042573,0.53175043706781977,0.12470507355503124,0.68073337171952963,0.17586267626941399,0.29042849141903049,0.85774751990421583,0.54353089699758705,0.427407657528727,0.24556900099473078,0.63774668349906494,0.13750818964092781,1.5089815797795891E-2,0.20768643422767386,0.54703435380214316,7.2136405823704508E-2,0.93497964787718491,0.62909299564043564,0.27179504176117764,0.53378040351192813,5.6268591987131966E-3,0.37350617302683597,0.46348193403584947,0.4950109457070152,0.29157302574860289,0.23436203105294418,0.8102104102597194,0.76380386804777933,0.94388800315329779,2.2072652400407788E-2,0.32109605706800259,0.18190043638647291,0.70862219346083866,0.58941937957600632,0.52337917348487961,0.58070275639521374,0.84915730753808094,0.34884728634620155,9.1115609334862291E-2,0.3668332832766612,6.2140931971450319E-2]
[]
[1,2,3,4,5,6,7,8,9,10,11,12,13,14,15,16,17,18,19,20,21,22,23,24,25,26,27,28,29,30,31,32,33,34,35,36,37,38,39,40,41,42,43,44,45,46,47,48,49,50,51,52,53,54,55,56,57,58,59,60,61,62,63,64,65,66,67,68,69,70,71,72,73,74,75,76,77,78,79,80,81,82,83,84,85,86,87,88,89,90,91,92,93,94,95,96,97,98,99,100,101,102,103,104,105,106,107,108,109,110,111,112,113,114,115,116,117,118,119,120,121,122,123,124,125,126,127,128,129,130,131,132,133,134,135,136,137,138,139,140,141,142,143,144,145,146,147,148,149,150,151,152,153,154,155,156,157,158,159,160,161,162,163,164,165,166,167,168,169,170,171,172,173,174,175,176,177,178,179,180,181,182,183,184,185,186,187,188,189,190,191,192,193,194,195,196,197,198,199,200]